BEGIN:VCALENDAR
VERSION:2.0
PRODID:-//UM//UM*Events//EN
CALSCALE:GREGORIAN
BEGIN:VTIMEZONE
TZID:America/Detroit
TZURL:http://tzurl.org/zoneinfo/America/Detroit
X-LIC-LOCATION:America/Detroit
BEGIN:DAYLIGHT
TZOFFSETFROM:-0500
TZOFFSETTO:-0400
TZNAME:EDT
DTSTART:20070311T020000
RRULE:FREQ=YEARLY;BYMONTH=3;BYDAY=2SU
END:DAYLIGHT
BEGIN:STANDARD
TZOFFSETFROM:-0400
TZOFFSETTO:-0500
TZNAME:EST
DTSTART:20071104T020000
RRULE:FREQ=YEARLY;BYMONTH=11;BYDAY=1SU
END:STANDARD
END:VTIMEZONE
BEGIN:VEVENT
DTSTAMP:20090410T094342
DTSTART;TZID=America/Detroit:20090626T100000
DTEND;TZID=America/Detroit:20090626T170000
SUMMARY:Other:Exhibit
DESCRIPTION:He may be best known as the author of Sherlock Holmes stories but Sir Arthur Conan Doyle's own pursuits  reached beyond a fictional character. This exhibit features items representing the life\, work and interests of Sir  Doyle\, selected from over 2000 artifacts in the Parker Family  Arthur Conan Doyle Collection.
UID:617-911184@events.umich.edu
URL:https://events.umich.edu/event/617
CLASS:PUBLIC
STATUS:CONFIRMED
CATEGORIES:
LOCATION:Hatcher Graduate Library - Special Collections Library, 7th Floor
CONTACT:
END:VEVENT
BEGIN:VEVENT
DTSTAMP:20090622T140053
DTSTART;TZID=America/Detroit:20090626T183000
SUMMARY:Workshop / Seminar:Art of Living Breathing\, Yoga and Meditation Course
DESCRIPTION:The Art of Living Course: Coming to Ann Arbor THIS week! Need a vacation to rejuvenate the Self?  Breathe in Health\, Breathe out Stress.\n\nThursday June 25th to Sunday 28th: An Invitation to experience profound wellness.\n\n-  The Art of Living Course is a dynamic workshop sharing practical knowledge and  ancient yogic techniques to unlock their deepest potential and bring fullness to life. \n\n- Find out more:  http://www.youtube.com/watch?v=HR0D6Ill6Qo\n\nhttp://www.youtube.com/watch?v=M3Atq_bNs2A&feature=related \n\n- It is a self-empowerment and wellness course founded in yogic breathing  techniques\, wisdom and meditation. \n\n-  Experience the ancient powerful breathing technique called Sudarshan Kriya which  serves to detoxify\, and eliminate negative toxins\, rejuvenate one's energy\, calm  the mind\, and allow for meditation to take place effortlessly. \n\n-  If you already have a given practice\, this course will complement and enhance  your personal practice of wellness.\n\nWHERE: Michigan League\, Univ of Michigan\, 911 N. University Drive\, Ann Arbor 48109 WHEN:   Thurs and Fri at 6:30pm-9:30pm\; Saturday and Sunday at 10am – 4pm  REGISTER: http://secure.artofliving.org/course_details.aspx?course_id=4866 Cost: Suggested Course Fee $350 Regular\, $250 Students\, and Financial  Scholarships based on sliding scale given based on genuine financial need for any  participant.\n\nQuestions: Please call Aditi at 813-404-0003 or email: adave@med.umich.edu\n\nArt of Living is a nonprofit\, education and service NGO serving in over 140 countries.  For more Information please visit:  http://us.artofliving.org/video/index.html#experiences \n\nAlso\, feel free to look at some of our international service projects: http://www.youtube.com/watch?v=LbrgNyNGHTA
UID:2631-919436@events.umich.edu
URL:https://events.umich.edu/event/2631
CLASS:PUBLIC
STATUS:CONFIRMED
CATEGORIES:
LOCATION:Michigan League - Henderson Room, 3rd Floor
CONTACT:
END:VEVENT
BEGIN:VEVENT
DTSTAMP:20101111T175849
DTSTART;TZID=America/Detroit:20090626T183000
SUMMARY:Performance:Shakespeare in the Arb:  Twelfth Night
DESCRIPTION:\"Twelfth Night\,\" one of Shakespeare's more well-known comedies\, is a story of love  and identity – mistaken love and mistaken identity. The play contains some of  Shakespeare's most well loved speeches and songs and lends itself well to the  natural setting of the Arb. Kate Mendeloff directs UM students and a host of  community members to make this mobile production a success. Wear your walking  shoes! June 11-14\, 18-21\, 25-28. The Box Office opens at 5 pm to members of  MBGNA\, 5:30 pm for general admission at the Washington Heights entrance\, 1610  Washington Heights. All performances start at 6:30 pm\; please allow 10 minutes to  walk to the first act. Mobility assistance can be provided\, please call 734-647-7600.  Tickets are $10 Students and Children 12-18\, $15 MBGNA Members\, $18 General  Admission. Time: 6:30 pm to 9 pm
UID:2945-920832@events.umich.edu
URL:https://events.umich.edu/event/2945
CLASS:PUBLIC
STATUS:CONFIRMED
CATEGORIES:theater
LOCATION:Nichols Arboretum
CONTACT:
END:VEVENT
BEGIN:VEVENT
DTSTAMP:20101111T175608
DTSTART;TZID=America/Detroit:20090626T200000
SUMMARY:Performance:The Glengarry Bhoys
DESCRIPTION:The Glengarry Bhoys are a Celtic group with a difference! They come from a unique  and fascinating part of the world: Ontario's far eastern end\, where Scots highland  and French Canadian cultures have blended for nearly two centuries. The bhoys sing  in English and French\, write original songs that draw on their combined musical  heritage\, and bring it all together in a show that's beyond high-energy. \"If these  bhoys don't get you a-movin' then your skin's on way too tight\,\" says one Celtic  music reviewer. They've been called Canada's best-loved export. That might come  as news to the folks at Labatt's\, but we think it'll only take one Glengarry Bhoys  show before you agree.
UID:374-909833@events.umich.edu
URL:https://events.umich.edu/event/374
CLASS:PUBLIC
STATUS:CONFIRMED
CATEGORIES:music
LOCATION:
CONTACT:
END:VEVENT
BEGIN:VEVENT
DTSTAMP:20101111T175823
DTSTART;TZID=America/Detroit:20090626T210000
DTEND;TZID=America/Detroit:20090626T230000
SUMMARY:Other:ThinkFast
DESCRIPTION:ThinkFast is a highly interactive trivia game show. Join a team or come with your friends to show your knowledge of general & UM trivia. Experience the most interesting\, fun trivia accompanied by mainstream music and music videos\, a gregarious host\, and a winner-take-all $200 cash prize!
UID:2531-919245@events.umich.edu
URL:https://events.umich.edu/event/2531
CLASS:PUBLIC
STATUS:CONFIRMED
CATEGORIES:
LOCATION:Lydia Mendelssohn Theatre
CONTACT:
END:VEVENT
END:VCALENDAR