BEGIN:VCALENDAR
VERSION:2.0
PRODID:-//UM//UM*Events//EN
CALSCALE:GREGORIAN
BEGIN:VTIMEZONE
TZID:America/Detroit
TZURL:http://tzurl.org/zoneinfo/America/Detroit
X-LIC-LOCATION:America/Detroit
BEGIN:DAYLIGHT
TZOFFSETFROM:-0500
TZOFFSETTO:-0400
TZNAME:EDT
DTSTART:20070311T020000
RRULE:FREQ=YEARLY;BYMONTH=3;BYDAY=2SU
END:DAYLIGHT
BEGIN:STANDARD
TZOFFSETFROM:-0400
TZOFFSETTO:-0500
TZNAME:EST
DTSTART:20071104T020000
RRULE:FREQ=YEARLY;BYMONTH=11;BYDAY=1SU
END:STANDARD
END:VTIMEZONE
BEGIN:VEVENT
DTSTAMP:20090618T171403
DTSTART;TZID=America/Detroit:20090628T150000
SUMMARY:Lecture / Discussion:\"I Cannot Live Without Books\": Confessions of an Unrepentant Bibliophile
DESCRIPTION:
UID:3833-914609@events.umich.edu
URL:https://events.umich.edu/event/3833
CLASS:PUBLIC
STATUS:CONFIRMED
CATEGORIES:literary arts
LOCATION:William Clements Library
CONTACT:
END:VEVENT
BEGIN:VEVENT
DTSTAMP:20090628T030001
DTSTART;TZID=America/Detroit:20090628T160000
SUMMARY:Other:First Dissertation Recital:  Robert Boardman\, conductor
DESCRIPTION:PROGRAM:  Ives - The Unanswered Question\;  Beethoven - Symphony No. 6
UID:766-912471@events.umich.edu
URL:https://events.umich.edu/event/766
CLASS:PUBLIC
STATUS:CONFIRMED
CATEGORIES:music
LOCATION:
CONTACT:
END:VEVENT
BEGIN:VEVENT
DTSTAMP:20090622T140053
DTSTART;TZID=America/Detroit:20090628T183000
SUMMARY:Workshop / Seminar:Art of Living Breathing\, Yoga and Meditation Course
DESCRIPTION:The Art of Living Course: Coming to Ann Arbor THIS week! Need a vacation to rejuvenate the Self?  Breathe in Health\, Breathe out Stress.\n\nThursday June 25th to Sunday 28th: An Invitation to experience profound wellness.\n\n-  The Art of Living Course is a dynamic workshop sharing practical knowledge and  ancient yogic techniques to unlock their deepest potential and bring fullness to life. \n\n- Find out more:  http://www.youtube.com/watch?v=HR0D6Ill6Qo\n\nhttp://www.youtube.com/watch?v=M3Atq_bNs2A&feature=related \n\n- It is a self-empowerment and wellness course founded in yogic breathing  techniques\, wisdom and meditation. \n\n-  Experience the ancient powerful breathing technique called Sudarshan Kriya which  serves to detoxify\, and eliminate negative toxins\, rejuvenate one's energy\, calm  the mind\, and allow for meditation to take place effortlessly. \n\n-  If you already have a given practice\, this course will complement and enhance  your personal practice of wellness.\n\nWHERE: Michigan League\, Univ of Michigan\, 911 N. University Drive\, Ann Arbor 48109 WHEN:   Thurs and Fri at 6:30pm-9:30pm\; Saturday and Sunday at 10am – 4pm  REGISTER: http://secure.artofliving.org/course_details.aspx?course_id=4866 Cost: Suggested Course Fee $350 Regular\, $250 Students\, and Financial  Scholarships based on sliding scale given based on genuine financial need for any  participant.\n\nQuestions: Please call Aditi at 813-404-0003 or email: adave@med.umich.edu\n\nArt of Living is a nonprofit\, education and service NGO serving in over 140 countries.  For more Information please visit:  http://us.artofliving.org/video/index.html#experiences \n\nAlso\, feel free to look at some of our international service projects: http://www.youtube.com/watch?v=LbrgNyNGHTA
UID:2631-919438@events.umich.edu
URL:https://events.umich.edu/event/2631
CLASS:PUBLIC
STATUS:CONFIRMED
CATEGORIES:
LOCATION:Michigan League - Henderson Room, 3rd Floor
CONTACT:
END:VEVENT
BEGIN:VEVENT
DTSTAMP:20101111T175849
DTSTART;TZID=America/Detroit:20090628T183000
SUMMARY:Performance:Shakespeare in the Arb:  Twelfth Night
DESCRIPTION:\"Twelfth Night\,\" one of Shakespeare's more well-known comedies\, is a story of love  and identity – mistaken love and mistaken identity. The play contains some of  Shakespeare's most well loved speeches and songs and lends itself well to the  natural setting of the Arb. Kate Mendeloff directs UM students and a host of  community members to make this mobile production a success. Wear your walking  shoes! June 11-14\, 18-21\, 25-28. The Box Office opens at 5 pm to members of  MBGNA\, 5:30 pm for general admission at the Washington Heights entrance\, 1610  Washington Heights. All performances start at 6:30 pm\; please allow 10 minutes to  walk to the first act. Mobility assistance can be provided\, please call 734-647-7600.  Tickets are $10 Students and Children 12-18\, $15 MBGNA Members\, $18 General  Admission. Time: 6:30 pm to 9 pm
UID:2945-920834@events.umich.edu
URL:https://events.umich.edu/event/2945
CLASS:PUBLIC
STATUS:CONFIRMED
CATEGORIES:theater
LOCATION:Nichols Arboretum
CONTACT:
END:VEVENT
BEGIN:VEVENT
DTSTAMP:20090615T111256
DTSTART;TZID=America/Detroit:20090628T193000
SUMMARY:Performance:Lazy Lester With Studebaker John & The Hawks
DESCRIPTION:His colorful sobriquet (supplied by south Louisiana producer J.D. Miller) to the  contrary\, Louisiana blues harmonica player and guitarist Lazy Lester swears he  never was all that lethargic--and the relentless pace of his 1960s Excello Records  swamp blues classics \"I'm a Lover Not a Fighter\" and \"I Hear You Knockin'\" tends to  back him up. Lazy Lester became Lightnin' Slim's harpist of choice\, and his  rediscovery was one of the happy results of the blues revival of the 1980s. [Lester  knows more jokes than many comedians\, and he'll almost always include a few in  his performances. Talk to him off stage\, and he'll tell you quite a few more!]  Tonight Lester joins slide guitarist Studebaker John Grimaldi\, who was born on  Chicago's Italian-American West Side. Under the spell of music he heard on  Maxwell Street\, Chicago's famed blues melting pot\, Grimaldi began performing with  Studebaker John and the Hawks in the 1970s. The band name referred to the  Studebaker Hawk\, a car Grimaldi still owns today. As a songwriter and musician\,  Studebaker John has long been a major creative force in Chicago blues.
UID:1398-914345@events.umich.edu
URL:https://events.umich.edu/event/1398
CLASS:PUBLIC
STATUS:CONFIRMED
CATEGORIES:music
LOCATION:
CONTACT:
END:VEVENT
END:VCALENDAR