BEGIN:VCALENDAR
VERSION:2.0
PRODID:-//UM//UM*Events//EN
CALSCALE:GREGORIAN
BEGIN:VTIMEZONE
TZID:America/Detroit
TZURL:http://tzurl.org/zoneinfo/America/Detroit
X-LIC-LOCATION:America/Detroit
BEGIN:DAYLIGHT
TZOFFSETFROM:-0500
TZOFFSETTO:-0400
TZNAME:EDT
DTSTART:20070311T020000
RRULE:FREQ=YEARLY;BYMONTH=3;BYDAY=2SU
END:DAYLIGHT
BEGIN:STANDARD
TZOFFSETFROM:-0400
TZOFFSETTO:-0500
TZNAME:EST
DTSTART:20071104T020000
RRULE:FREQ=YEARLY;BYMONTH=11;BYDAY=1SU
END:STANDARD
END:VTIMEZONE
BEGIN:VEVENT
DTSTAMP:20090410T094342
DTSTART;TZID=America/Detroit:20090706T100000
DTEND;TZID=America/Detroit:20090706T170000
SUMMARY:Other:Exhibit
DESCRIPTION:He may be best known as the author of Sherlock Holmes stories but Sir Arthur Conan Doyle's own pursuits  reached beyond a fictional character. This exhibit features items representing the life\, work and interests of Sir  Doyle\, selected from over 2000 artifacts in the Parker Family  Arthur Conan Doyle Collection.
UID:617-911189@events.umich.edu
URL:https://events.umich.edu/event/617
CLASS:PUBLIC
STATUS:CONFIRMED
CATEGORIES:
LOCATION:Hatcher Graduate Library - Special Collections Library, 7th Floor
CONTACT:
END:VEVENT
BEGIN:VEVENT
DTSTAMP:20101111T175715
DTSTART;TZID=America/Detroit:20090706T200000
SUMMARY:Performance:Feufollet
DESCRIPTION:In Louisiana Cajun folklore\, \"feufollet\" is the word for the will-o-the-wisp\, the  mysterious light that can be seen hovering near the ground\, usually in dark  swamplands or marshes. The feufollet\, or “dancing fire\,” guides travelers to safety  in many folktales\, or at least back to the road through the wilderness. For the  members of La Bande Feufollet\, who have been performing Louisiana music since  they were kids\, Cajun songs are not unlike these alluring lights\, enchanting their  audiences. Cajun music for these young people is a way to have fun and play and  sing\, but also a way to understand and fathom the roots of their culture and  heritage. Feufollet has been featured several times on NPR's \"American Routes\,\"  and they have a brand-new album\, \"Cow Island Hop.\" You are guaranteed an  exciting evening with these youthful avatars of Acadiana's cultural resurgence!
UID:1162-914656@events.umich.edu
URL:https://events.umich.edu/event/1162
CLASS:PUBLIC
STATUS:CONFIRMED
CATEGORIES:music
LOCATION:
CONTACT:
END:VEVENT
END:VCALENDAR