BEGIN:VCALENDAR
VERSION:2.0
PRODID:-//UM//UM*Events//EN
CALSCALE:GREGORIAN
BEGIN:VTIMEZONE
TZID:America/Detroit
TZURL:http://tzurl.org/zoneinfo/America/Detroit
X-LIC-LOCATION:America/Detroit
BEGIN:DAYLIGHT
TZOFFSETFROM:-0500
TZOFFSETTO:-0400
TZNAME:EDT
DTSTART:20070311T020000
RRULE:FREQ=YEARLY;BYMONTH=3;BYDAY=2SU
END:DAYLIGHT
BEGIN:STANDARD
TZOFFSETFROM:-0400
TZOFFSETTO:-0500
TZNAME:EST
DTSTART:20071104T020000
RRULE:FREQ=YEARLY;BYMONTH=11;BYDAY=1SU
END:STANDARD
END:VTIMEZONE
BEGIN:VEVENT
DTSTAMP:20090410T094342
DTSTART;TZID=America/Detroit:20090707T100000
DTEND;TZID=America/Detroit:20090707T170000
SUMMARY:Other:Exhibit
DESCRIPTION:He may be best known as the author of Sherlock Holmes stories but Sir Arthur Conan Doyle's own pursuits  reached beyond a fictional character. This exhibit features items representing the life\, work and interests of Sir  Doyle\, selected from over 2000 artifacts in the Parker Family  Arthur Conan Doyle Collection.
UID:617-911190@events.umich.edu
URL:https://events.umich.edu/event/617
CLASS:PUBLIC
STATUS:CONFIRMED
CATEGORIES:
LOCATION:Hatcher Graduate Library - Special Collections Library, 7th Floor
CONTACT:
END:VEVENT
BEGIN:VEVENT
DTSTAMP:20090624T134113
DTSTART;TZID=America/Detroit:20090707T200000
SUMMARY:Performance:Dave Alvin & The Guilty Women
DESCRIPTION:As guitarist in legendary bands like the Blasters and later X\, Dave Alvin was one of the key  creators of Americana music\, and his recordings over the last two decades\, many with his band  the Guilty Men\, have contributed numerous classics to the genre. Now he's taking to the road  with his latest ensemble\, the Guilty Women. This all-virtuosa group features guitarist Cindy  Cashdollar and Nina Gerber\, vocalist Christy McWilson\, violinists Laurie Lewis and Amy Farris\,  bassist (and former Ann Arborite) Sarah Brown\, and drummer Lisa Pankratz. They're bringing a  new CD\, \"Dave Alvin and the Guilty Women\,\" featuring several new Dave Alvin songs\, as well as  songs written by Christy\, Sarah\, and Amy -- plus covers of songs written by Kate Wolf and Tim  Hardin\, and even a unique version of the Doris Day chestnut \"Que Sera Sera.\"
UID:912-912692@events.umich.edu
URL:https://events.umich.edu/event/912
CLASS:PUBLIC
STATUS:CONFIRMED
CATEGORIES:music
LOCATION:
CONTACT:
END:VEVENT
END:VCALENDAR