BEGIN:VCALENDAR
VERSION:2.0
PRODID:-//UM//UM*Events//EN
CALSCALE:GREGORIAN
BEGIN:VTIMEZONE
TZID:America/Detroit
TZURL:http://tzurl.org/zoneinfo/America/Detroit
X-LIC-LOCATION:America/Detroit
BEGIN:DAYLIGHT
TZOFFSETFROM:-0500
TZOFFSETTO:-0400
TZNAME:EDT
DTSTART:20070311T020000
RRULE:FREQ=YEARLY;BYMONTH=3;BYDAY=2SU
END:DAYLIGHT
BEGIN:STANDARD
TZOFFSETFROM:-0400
TZOFFSETTO:-0500
TZNAME:EST
DTSTART:20071104T020000
RRULE:FREQ=YEARLY;BYMONTH=11;BYDAY=1SU
END:STANDARD
END:VTIMEZONE
BEGIN:VEVENT
DTSTAMP:20090722T143959
DTSTART;TZID=America/Detroit:20090723T000000
SUMMARY:Auditions:Volunteer Photographers for Ann Arbor Center for Independent Living
DESCRIPTION:Are you looking for a great volunteering opportunity?\n\nWould you like to lend your photographic talents and skills to a great cause?\n\nThe Ann Arbor Center for Independent Living is looking for a few great photographers!\n\nThe Ann Arbor Center for Independent Living is a nonprofit organization serving individuals with disabilities.   Every year\, we publish Access Magazine\, which goes to 200\,000 readers.  It is a full-color\, glossy print  magazine that is distributed through the Ann Arbor News (now AnnArbor.com)!\n\nWe need to recruit some talented photographers to help us elevate the quality of photography in the magazine.   We are looking for photographers who enjoy capturing people and activities in a positive and meaningful way!   Photo projects will be in 3 categories:  Feature story subjects (people)\, stock photos of program areas\, and  events.\n\nYou can volunteer as little or as much as your schedule allows! \n\nIf published\, you will get a free ad in the magazine and we will put your name on all of your work!\n\nTo apply\, please submit a few samples of your work.\n\nThis project will run from July 21 through the middle of September.\n\nIf interested\, please contact Helen@aacil.org or 734-971-0277 x 24.
UID:386-910439@events.umich.edu
URL:https://events.umich.edu/event/386
CLASS:PUBLIC
STATUS:CONFIRMED
CATEGORIES:visual arts
LOCATION:
CONTACT:
END:VEVENT
BEGIN:VEVENT
DTSTAMP:20090410T094342
DTSTART;TZID=America/Detroit:20090723T100000
DTEND;TZID=America/Detroit:20090723T170000
SUMMARY:Other:Exhibit
DESCRIPTION:He may be best known as the author of Sherlock Holmes stories but Sir Arthur Conan Doyle's own pursuits  reached beyond a fictional character. This exhibit features items representing the life\, work and interests of Sir  Doyle\, selected from over 2000 artifacts in the Parker Family  Arthur Conan Doyle Collection.
UID:617-911204@events.umich.edu
URL:https://events.umich.edu/event/617
CLASS:PUBLIC
STATUS:CONFIRMED
CATEGORIES:
LOCATION:Hatcher Graduate Library - Special Collections Library, 7th Floor
CONTACT:
END:VEVENT
BEGIN:VEVENT
DTSTAMP:20090708T115952
DTSTART;TZID=America/Detroit:20090723T100000
SUMMARY:Exhibition:Treasures Rediscovered
DESCRIPTION:This exhibition features 22 important sculptures that now for the first time can be ascribed to specific Buddhist sites such as Xiangtanshan\, Longmen\, and Tianlonghsan. The sculptures–steles\, full figures\, and heads of divinities\, as well as funerary objects–provide a comprehensive view of how art manifests ritual practice and reveals\, through iconography\, the transmission and transformation of cultures from the Han Dynasty (206 BCE–220 CE) through the Tang Dynasty (618–907 CE). The exhibition will explore both indigenous and imported trends during the period. Emphasis will be placed on works from the sixth century CE\, a time of great intellectual ferment and artistic creation\, when change and innovation occurred in political and Buddhist centers in China.\n\nThis exhibition and tour are organized by the Miriam and Ira D. Wallach Art Gallery\, Columbia University. Major support for the exhibition and the accompanying catalogue came from the AMS Foundation for the Arts\, Sciences\, and Humanities\, the Miriam and Ira D. Wallach Foundation\, and an anonymous donor. Contributions were also received from Giuseppe Eskenazi\, London\; Dorothy Tapper Goldman\; James J. Lally\; Dr. David and Mrs. Elvi Menke\; and Howard and Mary Ann Rogers.\n\nThis Ann Arbor presentation is made possible in part by the University of Michigan Office of the Provost and Center for Chinese Studies.
UID:2331-918866@events.umich.edu
URL:https://events.umich.edu/event/2331
CLASS:PUBLIC
STATUS:CONFIRMED
CATEGORIES:visual arts
LOCATION:Museum of Art - Alfred Taubman Gallery II
CONTACT:
END:VEVENT
BEGIN:VEVENT
DTSTAMP:20101111T175834
DTSTART;TZID=America/Detroit:20090723T100000
SUMMARY:Exhibition:UMMA Projects: Lisa Anne Auerbach
DESCRIPTION:July 11 through October 11\, 2009\n\nOften combining wry humor with a biting critique of the complacency and routine of modern life\, Lisa Anne Auerbach's subversive brand of post-punk\, DIY aesthetics mixes art and politics in a manner both highly personal and thoroughly embedded in contemporary culture. Recent projects have addressed topics ranging from the current Iraq war to the politics of bicycling in a city of freeways. In her slogan-adorned sweater sets\, each outfit becomes a wearable canvas\, literally weaving together the personal and the political\, the aesthetic and the everyday. Auerbach's installation at UMMA will transform the Museum's most highly visible space–the Irving Stenn Jr. Family Project Gallery–into a showcase for her politically charged\, socially engaged knitwear. Appropriating strategies of presentation and display from the high-end clothing market\, this unconventional installation will encourage viewers to ask questions about how we experience different types of cultural spaces\, how we perceive the relationship between one type of luxury good (fashion) and another (art)\, and how both political and aesthetic discourses are framed in contemporary society.\n\nThis project is made possible in part by the W. Hawkins Ferry Fund and UMMA's New Visions Venture Fund.
UID:2472-919994@events.umich.edu
URL:https://events.umich.edu/event/2472
CLASS:PUBLIC
STATUS:CONFIRMED
CATEGORIES:visual arts
LOCATION:Museum of Art - Project Gallery
CONTACT:
END:VEVENT
BEGIN:VEVENT
DTSTAMP:20101111T175616
DTSTART;TZID=America/Detroit:20090723T100000
SUMMARY:Exhibition:Untitled (History Painting)
DESCRIPTION:May 23 through September 20\, 2009\n\nThe use and translation of photographic imagery is perhaps the most significant development in painting of the past half century. At the same time\, photographic media have long since taken over the representation of real-world events\, both contemporary and historical. Untitled (History Painting): Painting and Public Life in the 21st Century investigates painting's continuing viability as a means of addressing historical events and how they are represented in a culture dominated by photographic and digital media. The artists in the exhibition are united both by their use of photographic (or cinematic) source material drawn from the public sphere and by their engagement with questions of historical representation and collective memory. Devoted exclusively to work produced since the year 2000\, the exhibition makes no attempt to be comprehensive. Instead\, the exhibition charts one constellation of positions at the intersection of painting\, photography\, and the public imagination. Rather than simply illustrating the impact of photography or current events on contemporary painting\, these positions represent an active\, critical engagement with some of the most pressing issues facing artists and viewers today.\n\nThis exhibition is made possible in part by the University of Michigan Office of the Provost.
UID:312-910303@events.umich.edu
URL:https://events.umich.edu/event/312
CLASS:PUBLIC
STATUS:CONFIRMED
CATEGORIES:visual arts
LOCATION:Museum of Art - Alfred Taubman Gallery I
CONTACT:
END:VEVENT
BEGIN:VEVENT
DTSTAMP:20101111T175727
DTSTART;TZID=America/Detroit:20090723T120000
DTEND;TZID=America/Detroit:20090723T130000
SUMMARY:Other:Celtic Folk Trio
DESCRIPTION:Gifts of Art brings the world of art and music to the University of Michigan Health System. For more information\, call 936-ARTS (2787) or visit the website. \n\nIn case of inclement weather\, the performance will take place indoors in the University Hospital Main Lobby\, Floor 1.
UID:3840-915433@events.umich.edu
URL:https://events.umich.edu/event/3840
CLASS:PUBLIC
STATUS:CONFIRMED
CATEGORIES:
LOCATION:University Hospitals - Courtyard
CONTACT:
END:VEVENT
BEGIN:VEVENT
DTSTAMP:20101111T175641
DTSTART;TZID=America/Detroit:20090723T170000
SUMMARY:Lecture / Discussion:Treasures Rediscovered: Chinese Stone Sculpture
DESCRIPTION:UMMA's Research Curator of Asian Art Natsu Oyobe will introduce this exhibition\, which presents 22 Chinese stone sculptures from the Han Dynasty (206 BCE-220 CE) through the Tang Dynasty (618-907 CE). The group of steles\, full figures and heads of Buddhist icons\, and funerary objects\, provides a comprehensive and insightful view of how art manifests ritual practice and how iconography reflects cultural transmission and transformation in China.
UID:754-912462@events.umich.edu
URL:https://events.umich.edu/event/754
CLASS:PUBLIC
STATUS:CONFIRMED
CATEGORIES:multicultural,visual arts
LOCATION:Museum of Art - Alfred Taubman Gallery II
CONTACT:
END:VEVENT
BEGIN:VEVENT
DTSTAMP:20101111T175744
DTSTART;TZID=America/Detroit:20090723T183000
SUMMARY:Workshop / Seminar:Art Workshop: Al Fresco
DESCRIPTION:Visit the galleries and see some inspirational works painted en plein air (outdoors). Then\, head across the street to the idyllic Law Quad to capture the dappled twilight on the beautiful greenery of ivy\, trees\, and the carved stone architecture. Please bring watercolors\, pastels or colored pencils\, and a pad of paper.
UID:1763-916590@events.umich.edu
URL:https://events.umich.edu/event/1763
CLASS:PUBLIC
STATUS:CONFIRMED
CATEGORIES:visual arts
LOCATION:Museum of Art - Multipurpose Room
CONTACT:
END:VEVENT
BEGIN:VEVENT
DTSTAMP:20101111T175619
DTSTART;TZID=America/Detroit:20090723T190000
DTEND;TZID=America/Detroit:20090723T220000
SUMMARY:Performance:Classical Revolution Jam Session
DESCRIPTION:Classical Revolution is a chamber music jam session\, presented in partnership with the Kerrytown Concert House\, open to everyone who would like to play.
UID:421-910527@events.umich.edu
URL:https://events.umich.edu/event/421
CLASS:PUBLIC
STATUS:CONFIRMED
CATEGORIES:music
LOCATION:Museum of Art - UMMA Commons
CONTACT:
END:VEVENT
BEGIN:VEVENT
DTSTAMP:20101111T175747
DTSTART;TZID=America/Detroit:20090723T200000
SUMMARY:Performance:Grievous Angel
DESCRIPTION:Ferndale\, Michigan's Grievous Angel revs up at the crossroads where folk\, rockabilly\,  blues\, and alt-country were born\, and they burn rubber through the backwoods and  bayous of the American South. They rumble across the length and breadth of  American music with a lot of downhome grease and not a bit of reverence. A soul  strut is as likely to wind up in the gas tank as a Fort Worth shuffle\, all while keeping  musical instruments rather than electric power front and center. Grievous Angel has  won Detroit Music Awards as outstanding folk group and outstanding acoustic group.  Pastoral folk excursions\, cosmic jamming\, retro rock and roadhouse boogie all spill  over into a sound with soaring harmonies and turn-on-a-dime musicianship. Melody  Baetens of the Detroit News praises Grievous Angel's \"soulful harmonies\"  that \"complement creative\, story-telling lyrics and music that ranges from bluegrass  twang to classic rock.”
UID:1852-916682@events.umich.edu
URL:https://events.umich.edu/event/1852
CLASS:PUBLIC
STATUS:CONFIRMED
CATEGORIES:music
LOCATION:
CONTACT:
END:VEVENT
END:VCALENDAR