BEGIN:VCALENDAR
VERSION:2.0
PRODID:-//UM//UM*Events//EN
CALSCALE:GREGORIAN
BEGIN:VTIMEZONE
TZID:America/Detroit
TZURL:http://tzurl.org/zoneinfo/America/Detroit
X-LIC-LOCATION:America/Detroit
BEGIN:DAYLIGHT
TZOFFSETFROM:-0500
TZOFFSETTO:-0400
TZNAME:EDT
DTSTART:20070311T020000
RRULE:FREQ=YEARLY;BYMONTH=3;BYDAY=2SU
END:DAYLIGHT
BEGIN:STANDARD
TZOFFSETFROM:-0400
TZOFFSETTO:-0500
TZNAME:EST
DTSTART:20071104T020000
RRULE:FREQ=YEARLY;BYMONTH=11;BYDAY=1SU
END:STANDARD
END:VTIMEZONE
BEGIN:VEVENT
DTSTAMP:20090730T092157
DTSTART;TZID=America/Detroit:20090804T000000
SUMMARY:Exhibition:Exhibit
DESCRIPTION:July 20th marks the 40th anniversary of the landing of the Apollo 11 lunar module on the moon\, and the first time humans stepped onto the moon. This exhibit on the fourth floor across from the planetariump includes a model of the Saturn V rocket that lifted the command module and lunar module into space\, a model of the lunar rover\, and articles about the mission published in 1969.
UID:495-910930@events.umich.edu
URL:https://events.umich.edu/event/495
CLASS:PUBLIC
STATUS:CONFIRMED
CATEGORIES:
LOCATION:Ruthven Museums Building
CONTACT:
END:VEVENT
BEGIN:VEVENT
DTSTAMP:20101111T175751
DTSTART;TZID=America/Detroit:20090804T000000
SUMMARY:Exhibition:Exhibit
DESCRIPTION:Permanent lobby exhibits present the stories of President Gerald Ford and First Lady Betty Ford through archival photos and documents.
UID:2023-917052@events.umich.edu
URL:https://events.umich.edu/event/2023
CLASS:PUBLIC
STATUS:CONFIRMED
CATEGORIES:
LOCATION:Gerald Ford Library
CONTACT:
END:VEVENT
BEGIN:VEVENT
DTSTAMP:20090730T102506
DTSTART;TZID=America/Detroit:20090804T000000
SUMMARY:Exhibition:Exhibit
DESCRIPTION:This temporary exhibit presents the research of eight U-M astronomers. Go to www.lsa.umich.edu/exhibitmuseum/exhibits or call 764-0480 for more information about exhibit hours.
UID:1246-914090@events.umich.edu
URL:https://events.umich.edu/event/1246
CLASS:PUBLIC
STATUS:CONFIRMED
CATEGORIES:
LOCATION:Ruthven Museums Building
CONTACT:
END:VEVENT
BEGIN:VEVENT
DTSTAMP:20101111T175754
DTSTART;TZID=America/Detroit:20090804T000000
SUMMARY:Exhibition:Francisco Goya’s Caprichos
DESCRIPTION:The Museum of Art recently added to its collections a complete first edition (80 etchings) of Francisco Goya y Lucientes's (1746–1828) famous set of prints \"Los Caprichos\,\" which offers cutting social commentary on religion\, prostitution and the professional class. Although a number of the nightmarish and idiosyncratic images from the Caprichos may be familiar to visitors\, it is rare to experience a complete set and even more exceptional to view a first edition in pristine condition\, recently gifted to the Museum by the late Kurt Delbanco in honor of Nicholas Delbanco. This exhibition presents some of Goya's most iconic and disturbing\, yet beautiful\, imagery.
UID:2122-917150@events.umich.edu
URL:https://events.umich.edu/event/2122
CLASS:PUBLIC
STATUS:CONFIRMED
CATEGORIES:
LOCATION:Museum of Art
CONTACT:
END:VEVENT
BEGIN:VEVENT
DTSTAMP:20101111T175620
DTSTART;TZID=America/Detroit:20090804T000000
SUMMARY:Exhibition:Permanent Exhibits at the Exhibit Museum of Natural History
DESCRIPTION:The Hall of Evolution houses Michigan's largest display of prehistoric life. More than 600 million years of life on Earth are traced through fossils\, models and dioramas. The Michigan Wildlife Gallery has a large collection of native Great Lakes birds\, mammals\, reptiles\, and amphibians\, with taxidermy mounts\, habitat scenes\, and the largest mastodon trackway on display in the world. There are also displays about some of the environmental problems faced in this region today. The Anthropology Displays feature artifacts from human cultures around the world. The Geology Displays on the fourth floor offer a large selection of rocks\, minerals and gems. These displays are updated periodically. For more information go to www.lsa.umich.edu/exhibitmuseum/exhibits/permexhibits or call 734-764-0480.
UID:452-910849@events.umich.edu
URL:https://events.umich.edu/event/452
CLASS:PUBLIC
STATUS:CONFIRMED
CATEGORIES:
LOCATION:Ruthven Museums Building
CONTACT:
END:VEVENT
BEGIN:VEVENT
DTSTAMP:20090731T133849
DTSTART;TZID=America/Detroit:20090804T000000
SUMMARY:Exhibition:Third Annual Alumni Show
DESCRIPTION:There will be an opening reception from 6-8 p.m. July 17 at the Jean Paul Slusser Gallery featuring remarks from the dean of the School of Art & Design\, Bryan Rogers. The exhibit is open from 9 a.m.-5 p.m. Monday through Friday and Saturdays from 12-7 p.m. at the Slusser Gallery\; and from 12-7 p.m. Tuesday-Sunday at Work”¢Gallery. For more information go to art-design.umich.edu/galleries/?p=296.
UID:1760-916583@events.umich.edu
URL:https://events.umich.edu/event/1760
CLASS:PUBLIC
STATUS:CONFIRMED
CATEGORIES:
LOCATION:Work Gallery 306 South State Street
CONTACT:
END:VEVENT
BEGIN:VEVENT
DTSTAMP:20101111T175640
DTSTART;TZID=America/Detroit:20090804T000000
SUMMARY:Exhibition:ViewSpace
DESCRIPTION:ViewSpace is an internet-fed\, self-updating\, permanent exhibit from the Space Telescope Science Institute\, home of NASA's Hubble Space Telescope and its successor\, the James Webb Space Telescope.
UID:3815-912396@events.umich.edu
URL:https://events.umich.edu/event/3815
CLASS:PUBLIC
STATUS:CONFIRMED
CATEGORIES:
LOCATION:Ruthven Museums Building
CONTACT:
END:VEVENT
BEGIN:VEVENT
DTSTAMP:20090722T143959
DTSTART;TZID=America/Detroit:20090804T000000
SUMMARY:Auditions:Volunteer Photographers for Ann Arbor Center for Independent Living
DESCRIPTION:Are you looking for a great volunteering opportunity?\n\nWould you like to lend your photographic talents and skills to a great cause?\n\nThe Ann Arbor Center for Independent Living is looking for a few great photographers!\n\nThe Ann Arbor Center for Independent Living is a nonprofit organization serving individuals with disabilities.   Every year\, we publish Access Magazine\, which goes to 200\,000 readers.  It is a full-color\, glossy print  magazine that is distributed through the Ann Arbor News (now AnnArbor.com)!\n\nWe need to recruit some talented photographers to help us elevate the quality of photography in the magazine.   We are looking for photographers who enjoy capturing people and activities in a positive and meaningful way!   Photo projects will be in 3 categories:  Feature story subjects (people)\, stock photos of program areas\, and  events.\n\nYou can volunteer as little or as much as your schedule allows! \n\nIf published\, you will get a free ad in the magazine and we will put your name on all of your work!\n\nTo apply\, please submit a few samples of your work.\n\nThis project will run from July 21 through the middle of September.\n\nIf interested\, please contact Helen@aacil.org or 734-971-0277 x 24.
UID:386-910451@events.umich.edu
URL:https://events.umich.edu/event/386
CLASS:PUBLIC
STATUS:CONFIRMED
CATEGORIES:visual arts
LOCATION:
CONTACT:
END:VEVENT
BEGIN:VEVENT
DTSTAMP:20101111T175844
DTSTART;TZID=America/Detroit:20090804T080000
DTEND;TZID=America/Detroit:20090804T200000
SUMMARY:Exhibition:(Un)Bound: Artist Books and Prints by Book Artists of Ann Arbor
DESCRIPTION:This exhibit\, curated by Ben Reynaert\, explores contemporary bookmaking as an art form. Within the artists' book movement\, there has been an explosion of alternative types of bindings and printing methods that change traditional codex (separate pages bound together with a cover) by altering type\, image\, shape and structure. Words\, images and form contribute to the meaning of the book as art in a new way. Tearing\, folding\, and binding are just some of the ways that books can be transformed to create a new art object that brings up the question of what a book can be.
UID:3872-920552@events.umich.edu
URL:https://events.umich.edu/event/3872
CLASS:PUBLIC
STATUS:CONFIRMED
CATEGORIES:
LOCATION:University Hospitals - Main Corridor West, Floor 2
CONTACT:
END:VEVENT
BEGIN:VEVENT
DTSTAMP:20101111T175711
DTSTART;TZID=America/Detroit:20090804T080000
DTEND;TZID=America/Detroit:20090804T200000
SUMMARY:Exhibition:Duct Tape Paintings by Pete Warburton
DESCRIPTION:Warburton is a local\, self-trained artist. What started as a brief adventure making ties exploded into a large collection of paintings using 17 colors of duct tape. There have been several exhibits of Warburton's work over the past seven years. A few paintings are currently on display at the Vatican and in Nice\, France. This exhibit is the first time his works are available for purchase.
UID:3830-914355@events.umich.edu
URL:https://events.umich.edu/event/3830
CLASS:PUBLIC
STATUS:CONFIRMED
CATEGORIES:
LOCATION:University Hospitals - Taubman Center, North Lobby, Floor 1
CONTACT:
END:VEVENT
BEGIN:VEVENT
DTSTAMP:20101111T175805
DTSTART;TZID=America/Detroit:20090804T080000
DTEND;TZID=America/Detroit:20090804T170000
SUMMARY:Exhibition:Exhibit
DESCRIPTION:Under the theme of plants and animals that are used in chemotherapy treatments\, each fiber artist brought her own individual style\, interpretation and experience to the idea of cancer healing. Each quilt has an accompanying artist statement and description of the subject matter of the pieces.
UID:3860-918045@events.umich.edu
URL:https://events.umich.edu/event/3860
CLASS:PUBLIC
STATUS:CONFIRMED
CATEGORIES:
LOCATION:Cancer Center - Level 1
CONTACT:
END:VEVENT
BEGIN:VEVENT
DTSTAMP:20090730T092052
DTSTART;TZID=America/Detroit:20090804T080000
DTEND;TZID=America/Detroit:20090804T170000
SUMMARY:Exhibition:Exhibit
DESCRIPTION:With vision and a high speed drill\, Boes\, of Muskegon\, sets to work creating unique and inspiring heirloom quality art out of eggshells. She has won awards for her designs. Boes is founder and president of a non-profit international organization dedicated solely to the art and education of carving and sculpting eggshells.
UID:3848-916598@events.umich.edu
URL:https://events.umich.edu/event/3848
CLASS:PUBLIC
STATUS:CONFIRMED
CATEGORIES:
LOCATION:Cancer Center - Main Lobby, Level B2
CONTACT:
END:VEVENT
BEGIN:VEVENT
DTSTAMP:20101111T175818
DTSTART;TZID=America/Detroit:20090804T080000
DTEND;TZID=America/Detroit:20090804T200000
SUMMARY:Exhibition:Exhibit
DESCRIPTION:Paradigm is a group of 18 artists from southeast Michigan who are dedicated to the concept of quilt as art. Although most of the art is textile based\, the membership uses many techniques in its production. The work ranges from what is easily recognized as a quilt\, to assemblage and sculpture. Most group members work in the arts – teaching\, lecturing or selling their work. They meet regularly to share ideas\, critique each others' work and organize group projects and exhibitions.
UID:3863-919077@events.umich.edu
URL:https://events.umich.edu/event/3863
CLASS:PUBLIC
STATUS:CONFIRMED
CATEGORIES:
LOCATION:University Hospitals - Main Corridor West, Floor 2
CONTACT:
END:VEVENT
BEGIN:VEVENT
DTSTAMP:20101111T175759
DTSTART;TZID=America/Detroit:20090804T080000
DTEND;TZID=America/Detroit:20090804T170000
SUMMARY:Exhibition:History of Dentistry exhibits at the Sindecuse Museum of Dentistry
DESCRIPTION:Exhibits at the Sindecuse Museum of Dentistry include Dental Operatories of the 1860s to 1930s\, St. Apollonia-Patron Saint of Dentistry and more. Call 763-0767 or go to www.dent.umich.edu/museum for more information.
UID:3856-917562@events.umich.edu
URL:https://events.umich.edu/event/3856
CLASS:PUBLIC
STATUS:CONFIRMED
CATEGORIES:
LOCATION:Dental & W.K. Kellogg Institute
CONTACT:
END:VEVENT
BEGIN:VEVENT
DTSTAMP:20090730T101741
DTSTART;TZID=America/Detroit:20090804T080000
DTEND;TZID=America/Detroit:20090804T200000
SUMMARY:Exhibition:Landscapes
DESCRIPTION:n her landscape paintings\, Donnelly is interested in distilling the details of time\, place\, weather and light into simplified color compositions that retain a connection to the world of nature. Her work explores scenery from a variety of spaces. In addition to selling her fine art\, Donnelly\, a graduate of the School of Art & Design\, works as a graphic artist serving the Ann Arbor area.
UID:3832-914576@events.umich.edu
URL:https://events.umich.edu/event/3832
CLASS:PUBLIC
STATUS:CONFIRMED
CATEGORIES:
LOCATION:University Hospitals - Main Lobby, Floor 1
CONTACT:
END:VEVENT
BEGIN:VEVENT
DTSTAMP:20090730T101901
DTSTART;TZID=America/Detroit:20090804T080000
DTEND;TZID=America/Detroit:20090804T200000
SUMMARY:Exhibition:Nature Silhouettes
DESCRIPTION:Mondro received her undergraduate education at the College for Creative Studies in Detroit\, completed her Master of Fine Arts degree at Kent State University\, and now serves as faculty at the School of Art & Design. Mondro has shown her creative work in several national exhibitions. Her work is published in the books \"Color on Metal\" and \"Textile Techniques in Metal.\"
UID:3862-918789@events.umich.edu
URL:https://events.umich.edu/event/3862
CLASS:PUBLIC
STATUS:CONFIRMED
CATEGORIES:
LOCATION:University Hospitals - North Lobby, Floor 1
CONTACT:
END:VEVENT
BEGIN:VEVENT
DTSTAMP:20090730T104113
DTSTART;TZID=America/Detroit:20090804T080000
DTEND;TZID=America/Detroit:20090804T200000
SUMMARY:Exhibition:U-M Health System Annual Employee Art Exhibition
DESCRIPTION:This annual event showcases the talent and creativity of the people who work at UMHS. The exhibition is juried\, and there are ribbon awards for Best in Category and Best in Show. A people's choice ribbon is determined by patient\, staff and visitor ballots. The ballot box is at the gallery. Winners will be announced at the awards reception from 11:45 a.m.-1 p.m. July 14 in the Taubman Center Lobby South Gallery.
UID:3880-921724@events.umich.edu
URL:https://events.umich.edu/event/3880
CLASS:PUBLIC
STATUS:CONFIRMED
CATEGORIES:
LOCATION:University Hospitals - Taubman Center, South Lobby, Floor 1
CONTACT:
END:VEVENT
BEGIN:VEVENT
DTSTAMP:20090722T143534
DTSTART;TZID=America/Detroit:20090804T090000
DTEND;TZID=America/Detroit:20090804T170000
SUMMARY:Exhibition:Ida: Darwinius masillae
DESCRIPTION:\"Ida\,\" a new exhibit in the Exhibit Museum's Rotunda\, displays a high-resolution cast of an extremely rare  fossil discovered in 1983 near Messel\, Germany\, but only recently made available for study. The fossil has  proven to be a “link” between the prosimian and simian (\"anthropoid\") primate lineages. It has \"advanced\"  front teeth (incisors and canines) and second toes like those of monkeys\, and is broadly representative of what  human primate ancestors may have looked like during the Eocene epoch 47 million years ago.     Ida (prounded \"eeda\") is named after after the daughter of Dr JÃ¸rn Hurum\, the Norwegian vertebrate  paleontologist who secured one section of the fossil from an anonymous owner\, and led the research. Ida was  about eight months old\, or the equivalent of a six-year-old human.     Publication of a paper on the discovery was accompanied by a book\, The Link: Uncovering Our Earliest  Ancestors by Colin Tudge\, and a documentary shown on the History Channel (US)\, BBC One (UK)\,and various  stations in Germany and Norway.     U-M paleontologist Philip Gingerich and U-M anthropologist B. Holly Smith were two members of the \"dream  team\" invited to study Ida. The exhibit will be on display through May 2010.
UID:2124-918419@events.umich.edu
URL:https://events.umich.edu/event/2124
CLASS:PUBLIC
STATUS:CONFIRMED
CATEGORIES:multicultural,visual arts,welcome week
LOCATION:
CONTACT:
END:VEVENT
BEGIN:VEVENT
DTSTAMP:20090410T094342
DTSTART;TZID=America/Detroit:20090804T100000
DTEND;TZID=America/Detroit:20090804T170000
SUMMARY:Other:Exhibit
DESCRIPTION:He may be best known as the author of Sherlock Holmes stories but Sir Arthur Conan Doyle's own pursuits  reached beyond a fictional character. This exhibit features items representing the life\, work and interests of Sir  Doyle\, selected from over 2000 artifacts in the Parker Family  Arthur Conan Doyle Collection.
UID:617-911214@events.umich.edu
URL:https://events.umich.edu/event/617
CLASS:PUBLIC
STATUS:CONFIRMED
CATEGORIES:
LOCATION:Hatcher Graduate Library - Special Collections Library, 7th Floor
CONTACT:
END:VEVENT
BEGIN:VEVENT
DTSTAMP:20101111T175600
DTSTART;TZID=America/Detroit:20090804T100000
DTEND;TZID=America/Detroit:20090804T170000
SUMMARY:Exhibition:Stearns Collection of Music
DESCRIPTION:The Stearns Collection at the School of Music\, Theatre & Dance is one of six major collections of musical instruments in North America. The 2\,500-piece collection is internationally known and is a resource for musical and cultural education.
UID:3790-909293@events.umich.edu
URL:https://events.umich.edu/event/3790
CLASS:PUBLIC
STATUS:CONFIRMED
CATEGORIES:
LOCATION:Earl V. Moore Building
CONTACT:
END:VEVENT
BEGIN:VEVENT
DTSTAMP:20090708T115952
DTSTART;TZID=America/Detroit:20090804T100000
SUMMARY:Exhibition:Treasures Rediscovered
DESCRIPTION:This exhibition features 22 important sculptures that now for the first time can be ascribed to specific Buddhist sites such as Xiangtanshan\, Longmen\, and Tianlonghsan. The sculptures–steles\, full figures\, and heads of divinities\, as well as funerary objects–provide a comprehensive view of how art manifests ritual practice and reveals\, through iconography\, the transmission and transformation of cultures from the Han Dynasty (206 BCE–220 CE) through the Tang Dynasty (618–907 CE). The exhibition will explore both indigenous and imported trends during the period. Emphasis will be placed on works from the sixth century CE\, a time of great intellectual ferment and artistic creation\, when change and innovation occurred in political and Buddhist centers in China.\n\nThis exhibition and tour are organized by the Miriam and Ira D. Wallach Art Gallery\, Columbia University. Major support for the exhibition and the accompanying catalogue came from the AMS Foundation for the Arts\, Sciences\, and Humanities\, the Miriam and Ira D. Wallach Foundation\, and an anonymous donor. Contributions were also received from Giuseppe Eskenazi\, London\; Dorothy Tapper Goldman\; James J. Lally\; Dr. David and Mrs. Elvi Menke\; and Howard and Mary Ann Rogers.\n\nThis Ann Arbor presentation is made possible in part by the University of Michigan Office of the Provost and Center for Chinese Studies.
UID:2331-918878@events.umich.edu
URL:https://events.umich.edu/event/2331
CLASS:PUBLIC
STATUS:CONFIRMED
CATEGORIES:visual arts
LOCATION:Museum of Art - Alfred Taubman Gallery II
CONTACT:
END:VEVENT
BEGIN:VEVENT
DTSTAMP:20101111T175834
DTSTART;TZID=America/Detroit:20090804T100000
SUMMARY:Exhibition:UMMA Projects: Lisa Anne Auerbach
DESCRIPTION:July 11 through October 11\, 2009\n\nOften combining wry humor with a biting critique of the complacency and routine of modern life\, Lisa Anne Auerbach's subversive brand of post-punk\, DIY aesthetics mixes art and politics in a manner both highly personal and thoroughly embedded in contemporary culture. Recent projects have addressed topics ranging from the current Iraq war to the politics of bicycling in a city of freeways. In her slogan-adorned sweater sets\, each outfit becomes a wearable canvas\, literally weaving together the personal and the political\, the aesthetic and the everyday. Auerbach's installation at UMMA will transform the Museum's most highly visible space–the Irving Stenn Jr. Family Project Gallery–into a showcase for her politically charged\, socially engaged knitwear. Appropriating strategies of presentation and display from the high-end clothing market\, this unconventional installation will encourage viewers to ask questions about how we experience different types of cultural spaces\, how we perceive the relationship between one type of luxury good (fashion) and another (art)\, and how both political and aesthetic discourses are framed in contemporary society.\n\nThis project is made possible in part by the W. Hawkins Ferry Fund and UMMA's New Visions Venture Fund.
UID:2472-920072@events.umich.edu
URL:https://events.umich.edu/event/2472
CLASS:PUBLIC
STATUS:CONFIRMED
CATEGORIES:visual arts
LOCATION:Museum of Art - Project Gallery
CONTACT:
END:VEVENT
BEGIN:VEVENT
DTSTAMP:20101111T175616
DTSTART;TZID=America/Detroit:20090804T100000
SUMMARY:Exhibition:Untitled (History Painting)
DESCRIPTION:May 23 through September 20\, 2009\n\nThe use and translation of photographic imagery is perhaps the most significant development in painting of the past half century. At the same time\, photographic media have long since taken over the representation of real-world events\, both contemporary and historical. Untitled (History Painting): Painting and Public Life in the 21st Century investigates painting's continuing viability as a means of addressing historical events and how they are represented in a culture dominated by photographic and digital media. The artists in the exhibition are united both by their use of photographic (or cinematic) source material drawn from the public sphere and by their engagement with questions of historical representation and collective memory. Devoted exclusively to work produced since the year 2000\, the exhibition makes no attempt to be comprehensive. Instead\, the exhibition charts one constellation of positions at the intersection of painting\, photography\, and the public imagination. Rather than simply illustrating the impact of photography or current events on contemporary painting\, these positions represent an active\, critical engagement with some of the most pressing issues facing artists and viewers today.\n\nThis exhibition is made possible in part by the University of Michigan Office of the Provost.
UID:312-910315@events.umich.edu
URL:https://events.umich.edu/event/312
CLASS:PUBLIC
STATUS:CONFIRMED
CATEGORIES:visual arts
LOCATION:Museum of Art - Alfred Taubman Gallery I
CONTACT:
END:VEVENT
BEGIN:VEVENT
DTSTAMP:20090731T135025
DTSTART;TZID=America/Detroit:20090804T130000
DTEND;TZID=America/Detroit:20090804T164500
SUMMARY:Exhibition:Exhibit
DESCRIPTION:The Clements Library observes the 250th anniversary of the main events of the climactic year of the French & Indian war with an exhibition of significant items from its collections\, from Benjamin West's painting \"The Death of General Wolfe\" to prints\, books\, maps and documents.
UID:3822-913513@events.umich.edu
URL:https://events.umich.edu/event/3822
CLASS:PUBLIC
STATUS:CONFIRMED
CATEGORIES:
LOCATION:William Clements Library - Main Room
CONTACT:
END:VEVENT
BEGIN:VEVENT
DTSTAMP:20101111T175645
DTSTART;TZID=America/Detroit:20090804T160000
DTEND;TZID=America/Detroit:20090804T180000
SUMMARY:Other:UM-Dearborn Early Childhood Education Center Open House
DESCRIPTION:This open house will showcase the center's toddler\, preschool and kindergarten programs. Full and half-day sessions are available\, and applications for the 2009-10 school year will be accepted during the session. For more information call 313-593-5424 or go to www.umd.umich.edu/fullstory/article/Childhood_center_open_house/.
UID:861-912657@events.umich.edu
URL:https://events.umich.edu/event/861
CLASS:PUBLIC
STATUS:CONFIRMED
CATEGORIES:
LOCATION:
CONTACT:
END:VEVENT
BEGIN:VEVENT
DTSTAMP:20090624T140326
DTSTART;TZID=America/Detroit:20090804T200000
SUMMARY:Performance:Batt Burns
DESCRIPTION:Batt Burns started off his career as an elementary school principal and textbook author\, but gave  up teaching to become a full-time entertainer/storyteller in 1994.
UID:1435-914409@events.umich.edu
URL:https://events.umich.edu/event/1435
CLASS:PUBLIC
STATUS:CONFIRMED
CATEGORIES:music
LOCATION:
CONTACT:
END:VEVENT
END:VCALENDAR