BEGIN:VCALENDAR
VERSION:2.0
PRODID:-//UM//UM*Events//EN
CALSCALE:GREGORIAN
BEGIN:VTIMEZONE
TZID:America/Detroit
TZURL:http://tzurl.org/zoneinfo/America/Detroit
X-LIC-LOCATION:America/Detroit
BEGIN:DAYLIGHT
TZOFFSETFROM:-0500
TZOFFSETTO:-0400
TZNAME:EDT
DTSTART:20070311T020000
RRULE:FREQ=YEARLY;BYMONTH=3;BYDAY=2SU
END:DAYLIGHT
BEGIN:STANDARD
TZOFFSETFROM:-0400
TZOFFSETTO:-0500
TZNAME:EST
DTSTART:20071104T020000
RRULE:FREQ=YEARLY;BYMONTH=11;BYDAY=1SU
END:STANDARD
END:VTIMEZONE
BEGIN:VEVENT
DTSTAMP:20090730T092157
DTSTART;TZID=America/Detroit:20090916T000000
SUMMARY:Exhibition:Exhibit
DESCRIPTION:July 20th marks the 40th anniversary of the landing of the Apollo 11 lunar module on the moon\, and the first time humans stepped onto the moon. This exhibit on the fourth floor across from the planetariump includes a model of the Saturn V rocket that lifted the command module and lunar module into space\, a model of the lunar rover\, and articles about the mission published in 1969.
UID:495-910973@events.umich.edu
URL:https://events.umich.edu/event/495
CLASS:PUBLIC
STATUS:CONFIRMED
CATEGORIES:
LOCATION:Ruthven Museums Building
CONTACT:
END:VEVENT
BEGIN:VEVENT
DTSTAMP:20101111T175755
DTSTART;TZID=America/Detroit:20090916T000000
SUMMARY:Exhibition:Exhibit
DESCRIPTION:Economic crises on an international scale are not new\, and President Ford inherited a tough one in 1974. A new exhibit at the Ford Library in Ann Arbor shows how he attacked a troubling brew of inflation\, recession\, budget deficits and oil supply worries. This exhibit features rarely seen artifacts and archival materials from the Ford Library and Museum collections.
UID:3853-917254@events.umich.edu
URL:https://events.umich.edu/event/3853
CLASS:PUBLIC
STATUS:CONFIRMED
CATEGORIES:
LOCATION:Gerald Ford Library
CONTACT:
END:VEVENT
BEGIN:VEVENT
DTSTAMP:20101111T175751
DTSTART;TZID=America/Detroit:20090916T000000
SUMMARY:Exhibition:Exhibit
DESCRIPTION:Permanent lobby exhibits present the stories of President Gerald Ford and First Lady Betty Ford through archival photos and documents.
UID:2023-917000@events.umich.edu
URL:https://events.umich.edu/event/2023
CLASS:PUBLIC
STATUS:CONFIRMED
CATEGORIES:
LOCATION:Gerald Ford Library
CONTACT:
END:VEVENT
BEGIN:VEVENT
DTSTAMP:20101111T175726
DTSTART;TZID=America/Detroit:20090916T000000
SUMMARY:Exhibition:Hubble Space Telescope: New Views of the Universe
DESCRIPTION:Sections of the exhibit show what Hubble has revealed about planets in our solar system\, stars far beyond the Sun and galaxies beyond the Milky Way.
UID:3839-915388@events.umich.edu
URL:https://events.umich.edu/event/3839
CLASS:PUBLIC
STATUS:CONFIRMED
CATEGORIES:
LOCATION:Ruthven Museums Building - Fourth Floor Gallery
CONTACT:
END:VEVENT
BEGIN:VEVENT
DTSTAMP:20101111T175620
DTSTART;TZID=America/Detroit:20090916T000000
SUMMARY:Exhibition:Permanent Exhibits at the Exhibit Museum of Natural History
DESCRIPTION:The Hall of Evolution houses Michigan's largest display of prehistoric life. More than 600 million years of life on Earth are traced through fossils\, models and dioramas. The Michigan Wildlife Gallery has a large collection of native Great Lakes birds\, mammals\, reptiles\, and amphibians\, with taxidermy mounts\, habitat scenes\, and the largest mastodon trackway on display in the world. There are also displays about some of the environmental problems faced in this region today. The Anthropology Displays feature artifacts from human cultures around the world. The Geology Displays on the fourth floor offer a large selection of rocks\, minerals and gems. These displays are updated periodically. For more information go to www.lsa.umich.edu/exhibitmuseum/exhibits/permexhibits or call 734-764-0480.
UID:452-910823@events.umich.edu
URL:https://events.umich.edu/event/452
CLASS:PUBLIC
STATUS:CONFIRMED
CATEGORIES:
LOCATION:Ruthven Museums Building
CONTACT:
END:VEVENT
BEGIN:VEVENT
DTSTAMP:20090722T143959
DTSTART;TZID=America/Detroit:20090916T000000
SUMMARY:Auditions:Volunteer Photographers for Ann Arbor Center for Independent Living
DESCRIPTION:Are you looking for a great volunteering opportunity?\n\nWould you like to lend your photographic talents and skills to a great cause?\n\nThe Ann Arbor Center for Independent Living is looking for a few great photographers!\n\nThe Ann Arbor Center for Independent Living is a nonprofit organization serving individuals with disabilities.   Every year\, we publish Access Magazine\, which goes to 200\,000 readers.  It is a full-color\, glossy print  magazine that is distributed through the Ann Arbor News (now AnnArbor.com)!\n\nWe need to recruit some talented photographers to help us elevate the quality of photography in the magazine.   We are looking for photographers who enjoy capturing people and activities in a positive and meaningful way!   Photo projects will be in 3 categories:  Feature story subjects (people)\, stock photos of program areas\, and  events.\n\nYou can volunteer as little or as much as your schedule allows! \n\nIf published\, you will get a free ad in the magazine and we will put your name on all of your work!\n\nTo apply\, please submit a few samples of your work.\n\nThis project will run from July 21 through the middle of September.\n\nIf interested\, please contact Helen@aacil.org or 734-971-0277 x 24.
UID:386-910438@events.umich.edu
URL:https://events.umich.edu/event/386
CLASS:PUBLIC
STATUS:CONFIRMED
CATEGORIES:visual arts
LOCATION:
CONTACT:
END:VEVENT
BEGIN:VEVENT
DTSTAMP:20090804T124110
DTSTART;TZID=America/Detroit:20090916T080000
DTEND;TZID=America/Detroit:20090916T200000
SUMMARY:Exhibition:Art in Nature
DESCRIPTION:In these small art quilts Grand Blanc artist Mary Andrews\, depicts nature from the smallest detail to the larger landscape. She dyes her own fabric\, uses machine and hand quilting\, and embellishes with paint\, thread and various surface design elements. Her work is exhibited in the U.S.\, Canada\, Europe and Australia.
UID:3838-915294@events.umich.edu
URL:https://events.umich.edu/event/3838
CLASS:PUBLIC
STATUS:CONFIRMED
CATEGORIES:
LOCATION:University Hospitals - Main Corridor West, Floor 2
CONTACT:
END:VEVENT
BEGIN:VEVENT
DTSTAMP:20101111T175829
DTSTART;TZID=America/Detroit:20090916T080000
DTEND;TZID=America/Detroit:20090916T200000
SUMMARY:Exhibition:Chicago: Hand-Altered Polaroid Photographs by Cynthia Davis
DESCRIPTION:The award-winning artist captures the Windy City in these enlargements from her fifth book\, \"Chicago\,\" published by the University of Michigan Press. They offer a unique view of one of America's greatest cities. Davis creates her work by manipulating Polaroid SX 70 photographs while they're still soft and malleable. The result are pictures imbued with a dreamlike quality ? suggesting a place between photorealism and impressionist painting.
UID:3866-919581@events.umich.edu
URL:https://events.umich.edu/event/3866
CLASS:PUBLIC
STATUS:CONFIRMED
CATEGORIES:
LOCATION:University Hospitals - Taubman Center, North Lobby, Floor 1
CONTACT:
END:VEVENT
BEGIN:VEVENT
DTSTAMP:20090804T124300
DTSTART;TZID=America/Detroit:20090916T080000
DTEND;TZID=America/Detroit:20090916T200000
SUMMARY:Exhibition:Daydreams: Mixed Media Sculpture
DESCRIPTION:The two artists have been collaborating for nine years\, bringing together their respective backgrounds as glass artist and sculptor to create pieces that are both fun and serious. Their collaborative work sessions are often filled with humor and experimentation. They spend hours casting hot glass into sand molds\, and Mann assists Yerace on the larger blown elements in the work. Next\, they take the cooled glass and sketch\, discuss ideas and compositions\, and then independently create the finished pieces.
UID:3810-911661@events.umich.edu
URL:https://events.umich.edu/event/3810
CLASS:PUBLIC
STATUS:CONFIRMED
CATEGORIES:
LOCATION:University Hospitals - Taubman Center, North Lobby, Floor 1
CONTACT:
END:VEVENT
BEGIN:VEVENT
DTSTAMP:20101111T175759
DTSTART;TZID=America/Detroit:20090916T080000
DTEND;TZID=America/Detroit:20090916T170000
SUMMARY:Exhibition:History of Dentistry exhibits at the Sindecuse Museum of Dentistry
DESCRIPTION:Exhibits at the Sindecuse Museum of Dentistry include Dental Operatories of the 1860s to 1930s\, St. Apollonia-Patron Saint of Dentistry and more. Call 763-0767 or go to www.dent.umich.edu/museum for more information.
UID:3856-917593@events.umich.edu
URL:https://events.umich.edu/event/3856
CLASS:PUBLIC
STATUS:CONFIRMED
CATEGORIES:
LOCATION:Dental & W.K. Kellogg Institute
CONTACT:
END:VEVENT
BEGIN:VEVENT
DTSTAMP:20101111T175740
DTSTART;TZID=America/Detroit:20090916T080000
DTEND;TZID=America/Detroit:20090916T200000
SUMMARY:Exhibition:Lots O’ Pots
DESCRIPTION:Working out of his studio in Grand Rapids for almost 25 years\, all of Wilson's pieces are wheel-formed porcelain\, altered and assembled\, with patterns of texture and inlaid slip. The warmth of Wilson's handmade craftmanship and an interplay of textural patterns and subtle glaze color make this pottery both artistic and fitting for everyday use.
UID:3846-916296@events.umich.edu
URL:https://events.umich.edu/event/3846
CLASS:PUBLIC
STATUS:CONFIRMED
CATEGORIES:
LOCATION:University Hospitals - Taubman Center, South Lobby, Floor 1
CONTACT:
END:VEVENT
BEGIN:VEVENT
DTSTAMP:20101111T175833
DTSTART;TZID=America/Detroit:20090916T080000
DTEND;TZID=America/Detroit:20090916T200000
SUMMARY:Exhibition:Our Diversity: Group Show by the Chelsea Painters
DESCRIPTION:The Chelsea Painters is a vibrant group of men and women who have a passion for developing their own artistic vision. They express this through a variety of mediums\, including watercolor\, gouache\, acrylic\, oil\, pastel\, monotype\, colored pencil\, pencil\, collage\, photo transfers and encaustics. They meet weekly in Chelsea and are actively involved in art on local\, regional\, and national levels. Membership is limited to 25 artists and is by invitation.
UID:3869-919854@events.umich.edu
URL:https://events.umich.edu/event/3869
CLASS:PUBLIC
STATUS:CONFIRMED
CATEGORIES:
LOCATION:University Hospitals - Taubman Center, South Lobby, Floor 1
CONTACT:
END:VEVENT
BEGIN:VEVENT
DTSTAMP:20101111T175624
DTSTART;TZID=America/Detroit:20090916T080000
DTEND;TZID=America/Detroit:20090916T200000
SUMMARY:Exhibition:Pictorial Tapestries by Anna Kocherovsky
DESCRIPTION:Russian-born tapestry artist Anna Kocherovsky draws inspiration for her handwoven works from reading and reflection\, creating numerous drawings for each piece. She loves mythology and history\, and the stories she enjoys often find their way into her work. Using a loom technique she learned in Moscow and imported wool yarns from Sweden\, Kocherovsky keeps the tradition alive in Michigan where she has lived since 1989.
UID:3804-911127@events.umich.edu
URL:https://events.umich.edu/event/3804
CLASS:PUBLIC
STATUS:CONFIRMED
CATEGORIES:
LOCATION:University Hospitals - Main Lobby, Floor 1
CONTACT:
END:VEVENT
BEGIN:VEVENT
DTSTAMP:20101111T175733
DTSTART;TZID=America/Detroit:20090916T080000
DTEND;TZID=America/Detroit:20090916T170000
SUMMARY:Exhibition:Secrets of the Garden
DESCRIPTION:These images were taken without a camera. Ponvert places her subjects directly on a digital scanner and then alters them in Photoshop. The images in this exhibit were taken over the past three years from subjects in her garden in Ann Arbor\, Michigan. Her work has been shown at the Kerrytown Concert House\, and her garden was chosen to be on the Ann Arbor Women's Farm and Garden Walk in 2008.
UID:3843-915799@events.umich.edu
URL:https://events.umich.edu/event/3843
CLASS:PUBLIC
STATUS:CONFIRMED
CATEGORIES:
LOCATION:Cancer Center - Level 1
CONTACT:
END:VEVENT
BEGIN:VEVENT
DTSTAMP:20101111T175849
DTSTART;TZID=America/Detroit:20090916T080000
DTEND;TZID=America/Detroit:20090916T200000
SUMMARY:Exhibition:Tear Jars
DESCRIPTION:Working with hot glass since 1998\, Walsh draws inspiration from a lifelong fascination with rocks and minerals. Her award-winning designs\, pictured in international magazines and books\, include jewelry\, miniature sculptures and functional objects\, and are displayed by more than 60 art galleries across the nation.
UID:3876-920796@events.umich.edu
URL:https://events.umich.edu/event/3876
CLASS:PUBLIC
STATUS:CONFIRMED
CATEGORIES:
LOCATION:University Hospitals - Main Corridor West, Floor 2
CONTACT:
END:VEVENT
BEGIN:VEVENT
DTSTAMP:20101111T175651
DTSTART;TZID=America/Detroit:20090916T080000
DTEND;TZID=America/Detroit:20090916T170000
SUMMARY:Exhibition:Wearable Art
DESCRIPTION:U-M School of Art & Design alumna Furtado started as a weaver over 30 years ago\, working on a loom. She is now engaged in a variety of activities as she produces her line of wearable art. Handweaving\, felting\, dyeing and beading are common tools of her trade. Lately\, she has been exploring Nuno felting\, a Japanese technique which combines wool felt with silk fabric. One of her dyeing techniques is a resist process involving clamping and applying dye in multiple steps\, creating a multiple-color\, multiple-shape design.
UID:3819-912967@events.umich.edu
URL:https://events.umich.edu/event/3819
CLASS:PUBLIC
STATUS:CONFIRMED
CATEGORIES:
LOCATION:Cancer Center - Main Lobby, Level B2
CONTACT:
END:VEVENT
BEGIN:VEVENT
DTSTAMP:20090722T143534
DTSTART;TZID=America/Detroit:20090916T090000
DTEND;TZID=America/Detroit:20090916T170000
SUMMARY:Exhibition:Ida: Darwinius masillae
DESCRIPTION:\"Ida\,\" a new exhibit in the Exhibit Museum's Rotunda\, displays a high-resolution cast of an extremely rare  fossil discovered in 1983 near Messel\, Germany\, but only recently made available for study. The fossil has  proven to be a “link” between the prosimian and simian (\"anthropoid\") primate lineages. It has \"advanced\"  front teeth (incisors and canines) and second toes like those of monkeys\, and is broadly representative of what  human primate ancestors may have looked like during the Eocene epoch 47 million years ago.     Ida (prounded \"eeda\") is named after after the daughter of Dr JÃ¸rn Hurum\, the Norwegian vertebrate  paleontologist who secured one section of the fossil from an anonymous owner\, and led the research. Ida was  about eight months old\, or the equivalent of a six-year-old human.     Publication of a paper on the discovery was accompanied by a book\, The Link: Uncovering Our Earliest  Ancestors by Colin Tudge\, and a documentary shown on the History Channel (US)\, BBC One (UK)\,and various  stations in Germany and Norway.     U-M paleontologist Philip Gingerich and U-M anthropologist B. Holly Smith were two members of the \"dream  team\" invited to study Ida. The exhibit will be on display through May 2010.
UID:2124-918462@events.umich.edu
URL:https://events.umich.edu/event/2124
CLASS:PUBLIC
STATUS:CONFIRMED
CATEGORIES:multicultural,visual arts,welcome week
LOCATION:
CONTACT:
END:VEVENT
BEGIN:VEVENT
DTSTAMP:20101111T175638
DTSTART;TZID=America/Detroit:20090916T100000
SUMMARY:Exhibition:(Un)Natural History: The Museum Unveiled
DESCRIPTION:September 12 through December 6\, 2009\n\nRichard Barnes's series of photographs Animal Logic examines the role the museum plays in our understanding of ourselves through the acts of collecting\, preservation\, and display. Images from this large body of work include photographs of the collections from the Smithsonian Institution\, the Museum of Comparative Anatomy in Paris\, the Canadian Museum of Natural History\, and the San Francisco Academy of Science. (Un)Natural History focuses primarily on the natural history museum and by extension collecting institutions in general\, providing a kind of behind-the-scenes look at museum practice and display.\n\nThis exhibition will coincide with the UM LSA Theme Semester Meaningful Objects: Museums and the Academy. UMMA's presentation is projected to serve as part of a three-venue project highlighting different aspects of Barnes's work in partnership with the UM Institute for the Humanities–who have selected Richard Barnes as the Paula and Edwin Sidman Fellow in the Arts for 2009–and the Cranbrook Institute of Science in Bloomfield Hills\, Michigan.
UID:648-912249@events.umich.edu
URL:https://events.umich.edu/event/648
CLASS:PUBLIC
STATUS:CONFIRMED
CATEGORIES:visual arts
LOCATION:Museum of Art
CONTACT:
END:VEVENT
BEGIN:VEVENT
DTSTAMP:20101111T175600
DTSTART;TZID=America/Detroit:20090916T100000
DTEND;TZID=America/Detroit:20090916T170000
SUMMARY:Exhibition:Stearns Collection of Music
DESCRIPTION:The Stearns Collection at the School of Music\, Theatre & Dance is one of six major collections of musical instruments in North America. The 2\,500-piece collection is internationally known and is a resource for musical and cultural education.
UID:3790-909110@events.umich.edu
URL:https://events.umich.edu/event/3790
CLASS:PUBLIC
STATUS:CONFIRMED
CATEGORIES:
LOCATION:Earl V. Moore Building
CONTACT:
END:VEVENT
BEGIN:VEVENT
DTSTAMP:20101111T175834
DTSTART;TZID=America/Detroit:20090916T100000
SUMMARY:Exhibition:UMMA Projects: Lisa Anne Auerbach
DESCRIPTION:July 11 through October 11\, 2009\n\nOften combining wry humor with a biting critique of the complacency and routine of modern life\, Lisa Anne Auerbach's subversive brand of post-punk\, DIY aesthetics mixes art and politics in a manner both highly personal and thoroughly embedded in contemporary culture. Recent projects have addressed topics ranging from the current Iraq war to the politics of bicycling in a city of freeways. In her slogan-adorned sweater sets\, each outfit becomes a wearable canvas\, literally weaving together the personal and the political\, the aesthetic and the everyday. Auerbach's installation at UMMA will transform the Museum's most highly visible space–the Irving Stenn Jr. Family Project Gallery–into a showcase for her politically charged\, socially engaged knitwear. Appropriating strategies of presentation and display from the high-end clothing market\, this unconventional installation will encourage viewers to ask questions about how we experience different types of cultural spaces\, how we perceive the relationship between one type of luxury good (fashion) and another (art)\, and how both political and aesthetic discourses are framed in contemporary society.\n\nThis project is made possible in part by the W. Hawkins Ferry Fund and UMMA's New Visions Venture Fund.
UID:2472-920046@events.umich.edu
URL:https://events.umich.edu/event/2472
CLASS:PUBLIC
STATUS:CONFIRMED
CATEGORIES:visual arts
LOCATION:Museum of Art - Project Gallery
CONTACT:
END:VEVENT
BEGIN:VEVENT
DTSTAMP:20101111T175616
DTSTART;TZID=America/Detroit:20090916T100000
SUMMARY:Exhibition:Untitled (History Painting)
DESCRIPTION:May 23 through September 20\, 2009\n\nThe use and translation of photographic imagery is perhaps the most significant development in painting of the past half century. At the same time\, photographic media have long since taken over the representation of real-world events\, both contemporary and historical. Untitled (History Painting): Painting and Public Life in the 21st Century investigates painting's continuing viability as a means of addressing historical events and how they are represented in a culture dominated by photographic and digital media. The artists in the exhibition are united both by their use of photographic (or cinematic) source material drawn from the public sphere and by their engagement with questions of historical representation and collective memory. Devoted exclusively to work produced since the year 2000\, the exhibition makes no attempt to be comprehensive. Instead\, the exhibition charts one constellation of positions at the intersection of painting\, photography\, and the public imagination. Rather than simply illustrating the impact of photography or current events on contemporary painting\, these positions represent an active\, critical engagement with some of the most pressing issues facing artists and viewers today.\n\nThis exhibition is made possible in part by the University of Michigan Office of the Provost.
UID:312-910284@events.umich.edu
URL:https://events.umich.edu/event/312
CLASS:PUBLIC
STATUS:CONFIRMED
CATEGORIES:visual arts
LOCATION:Museum of Art - Alfred Taubman Gallery I
CONTACT:
END:VEVENT
BEGIN:VEVENT
DTSTAMP:20101111T175634
DTSTART;TZID=America/Detroit:20090916T120000
DTEND;TZID=America/Detroit:20090916T133000
SUMMARY:Lecture / Discussion:National AD/HD Recognition Day
DESCRIPTION:Free and open to the public\n\nHear two neuropsychologists address issues including AD/HD and Executive Functioning\n\nRoger E. Lauer\, Ph.D. is the director of the Center for Neuropsychology\, Learning and Development in Ann Arbor\, MI.  He is formally trained as a clinical neuropsychologist.  In addition to being in private practice for over 20 years\, he maintains an adjunct faculty appointment within the Department of Psychology at the University of Michigan.  Dr. Lauer?s private practice is focused extensively on neuropsychological assessment and intervention of learning\, attention and developmental disorders.  He approaches his work from a strength-based model focusing on 'islands of competence' in all individuals to improve self-esteem around learning. \n\nCarol Persad\, Ph.D. is an Assistant Professor and Clinical Director of the Neuropsychology Section\, in the Department of Psychiatry at the University of Michigan Health System. She received her Ph.D. in Clinical Psychology from Michigan State University. She then completed an internship at Henry Ford Hospital and a postdoctoral fellowship at University of Michigan Neuropsychology Section\, before becoming a faculty member of that program. Much of her research has focused on executive skills and its impact on daily functioning across the age range.
UID:3811-911731@events.umich.edu
URL:https://events.umich.edu/event/3811
CLASS:PUBLIC
STATUS:CONFIRMED
CATEGORIES:
LOCATION:Rackham Graduate School (Horace H.) - Amphitheatre, 4th Floor
CONTACT:
END:VEVENT
BEGIN:VEVENT
DTSTAMP:20090916T030003
DTSTART;TZID=America/Detroit:20090916T121500
SUMMARY:Other:Brown Bag Organ Series:  John Woolsey\, organ and Jonathan Hultin-Cohen\, saxophone
DESCRIPTION:Thirty minutes of organ solo music performed by local musicians.  Bring lunch or purchase at the Crossroads Cafe.
UID:965-913563@events.umich.edu
URL:https://events.umich.edu/event/965
CLASS:PUBLIC
STATUS:CONFIRMED
CATEGORIES:music
LOCATION:School of Public Health Bldg I and Crossroads and Tower - Community Lounge
CONTACT:
END:VEVENT
BEGIN:VEVENT
DTSTAMP:20090731T135025
DTSTART;TZID=America/Detroit:20090916T130000
DTEND;TZID=America/Detroit:20090916T164500
SUMMARY:Exhibition:Exhibit
DESCRIPTION:The Clements Library observes the 250th anniversary of the main events of the climactic year of the French & Indian war with an exhibition of significant items from its collections\, from Benjamin West's painting \"The Death of General Wolfe\" to prints\, books\, maps and documents.
UID:3822-913540@events.umich.edu
URL:https://events.umich.edu/event/3822
CLASS:PUBLIC
STATUS:CONFIRMED
CATEGORIES:
LOCATION:William Clements Library - Main Room
CONTACT:
END:VEVENT
BEGIN:VEVENT
DTSTAMP:20090831T113833
DTSTART;TZID=America/Detroit:20090916T130000
SUMMARY:Exhibition:Facutly Women's Club Painters Collected Works Exhibit
DESCRIPTION:This exhibition features the collected work of the Painting Section of the University  of Michigan Faculty Women's Club\, covering a large variety of styles and media.  The University of Michigan Faculty Women's Club is a cross-campus organization\,  offering members acquaintance and fellowship.  The Painting Section has been in  existence for over forty years\, and is made up of novice painters as well as those  who have won many awards for their work.\n\nThe artists will be holding a reception on Friday\, September 11 at 6:00 pm in the  2nd Floor Lobby in Pierpont Commons.\n\nFor questions or concerns regarding the artwok please contact lhadjisk@umich.edu.
UID:2874-921617@events.umich.edu
URL:https://events.umich.edu/event/2874
CLASS:PUBLIC
STATUS:CONFIRMED
CATEGORIES:visual arts,welcome week
LOCATION:Pierpont Commons - 2nd Floor Wall Gallery
CONTACT:
END:VEVENT
BEGIN:VEVENT
DTSTAMP:20090916T030003
DTSTART;TZID=America/Detroit:20090916T163000
SUMMARY:Other:Masterclass:  Pandit Samar Saha\, tabla
DESCRIPTION:
UID:2730-921069@events.umich.edu
URL:https://events.umich.edu/event/2730
CLASS:PUBLIC
STATUS:CONFIRMED
CATEGORIES:music
LOCATION:Earl V. Moore Building - Rehearsal Hall
CONTACT:
END:VEVENT
BEGIN:VEVENT
DTSTAMP:20090916T030003
DTSTART;TZID=America/Detroit:20090916T170000
SUMMARY:Other:Musicology Lecture:  Indian classical music on the Slide Guitar - CANCELLED
DESCRIPTION:
UID:1780-915889@events.umich.edu
URL:https://events.umich.edu/event/1780
CLASS:PUBLIC
STATUS:CONFIRMED
CATEGORIES:music
LOCATION:Burton Memorial Tower - Room 507
CONTACT:
END:VEVENT
BEGIN:VEVENT
DTSTAMP:20101111T175652
DTSTART;TZID=America/Detroit:20090916T180000
DTEND;TZID=America/Detroit:20090916T193000
SUMMARY:Meeting:United Asian American Organizations (UAAO) Mass Meeting
DESCRIPTION:Maybe you're a returning student\, or maybe you heard about us from a friend. You probably saw us on the Diag at Festifall. But in case you haven't heard\, United Asian American Organizations is having our first mass meeting this Wednesday.\n\nWHO: Anyone who's interested! WHAT: UAAO's first mass meeting WHEN: 6:00-7:30pm\, Wednesday September 16th WHERE: The Yuri Kochiyama (YK) Lounge in South Quad\n\nCome out to meet new people\, see old friends\, and learn who we are and what we do\, exactly. There will be food provided!
UID:1134-913082@events.umich.edu
URL:https://events.umich.edu/event/1134
CLASS:PUBLIC
STATUS:CONFIRMED
CATEGORIES:
LOCATION:South Quad - Yuri Kochiyama (YK) Lounge
CONTACT:
END:VEVENT
BEGIN:VEVENT
DTSTAMP:20090618T154117
DTSTART;TZID=America/Detroit:20090916T190000
DTEND;TZID=America/Detroit:20090916T200000
SUMMARY:Rally / Mass Meeting:Circle K Mass Meeting
DESCRIPTION:Circle K is an international community service organization and is the collegiate level of Kiwanis. The mission of the University of Michigan Circle K is to develop leaders with a lifelong commitment to service. This year\, our goal is to exceed 10\,000 service hours! We sponsor various service projects with something for everyone. These service projects are all displayed on our online calendar (umcirclek.org/calendar.php). Anyone can sign up to do service with us\, whenever you are free! Additionally\, we strive to maintain a welcoming environment that fosters friendship amongst our members. Come learn more about Circle K at our fun travel themed mass meeting followed by a service social. Circle K takes you places!
UID:2386-919736@events.umich.edu
URL:https://events.umich.edu/event/2386
CLASS:PUBLIC
STATUS:CONFIRMED
CATEGORIES:
LOCATION:Michigan League - League Ballroom
CONTACT:
END:VEVENT
BEGIN:VEVENT
DTSTAMP:20090911T143016
DTSTART;TZID=America/Detroit:20090916T190000
DTEND;TZID=America/Detroit:20090916T203000
SUMMARY:Workshop / Seminar:International Employment Myths and Opportunities
DESCRIPTION:Are you interested in working\, interning\, volunteering or teaching abroad?  Do you want to explore international careers?  This session will introduce the International Career Pathways series\, how to research options and timing of applications: note that some deadlines are in the fall!
UID:950-912751@events.umich.edu
URL:https://events.umich.edu/event/950
CLASS:PUBLIC
STATUS:CONFIRMED
CATEGORIES:
LOCATION:Michigan League - Vandenberg Room
CONTACT:
END:VEVENT
BEGIN:VEVENT
DTSTAMP:20101111T175843
DTSTART;TZID=America/Detroit:20090916T200000
SUMMARY:Performance:Big Bad Voodoo Daddy
DESCRIPTION:
UID:2774-920499@events.umich.edu
URL:https://events.umich.edu/event/2774
CLASS:PUBLIC
STATUS:CONFIRMED
CATEGORIES:music
LOCATION:
CONTACT:
END:VEVENT
END:VCALENDAR