BEGIN:VCALENDAR
VERSION:2.0
PRODID:-//UM//UM*Events//EN
CALSCALE:GREGORIAN
BEGIN:VTIMEZONE
TZID:America/Detroit
TZURL:http://tzurl.org/zoneinfo/America/Detroit
X-LIC-LOCATION:America/Detroit
BEGIN:DAYLIGHT
TZOFFSETFROM:-0500
TZOFFSETTO:-0400
TZNAME:EDT
DTSTART:20070311T020000
RRULE:FREQ=YEARLY;BYMONTH=3;BYDAY=2SU
END:DAYLIGHT
BEGIN:STANDARD
TZOFFSETFROM:-0400
TZOFFSETTO:-0500
TZNAME:EST
DTSTART:20071104T020000
RRULE:FREQ=YEARLY;BYMONTH=11;BYDAY=1SU
END:STANDARD
END:VTIMEZONE
BEGIN:VEVENT
DTSTAMP:20101111T175755
DTSTART;TZID=America/Detroit:20090922T000000
SUMMARY:Exhibition:Exhibit
DESCRIPTION:Economic crises on an international scale are not new\, and President Ford inherited a tough one in 1974. A new exhibit at the Ford Library in Ann Arbor shows how he attacked a troubling brew of inflation\, recession\, budget deficits and oil supply worries. This exhibit features rarely seen artifacts and archival materials from the Ford Library and Museum collections.
UID:3853-917258@events.umich.edu
URL:https://events.umich.edu/event/3853
CLASS:PUBLIC
STATUS:CONFIRMED
CATEGORIES:
LOCATION:Gerald Ford Library
CONTACT:
END:VEVENT
BEGIN:VEVENT
DTSTAMP:20090730T092157
DTSTART;TZID=America/Detroit:20090922T000000
SUMMARY:Exhibition:Exhibit
DESCRIPTION:July 20th marks the 40th anniversary of the landing of the Apollo 11 lunar module on the moon\, and the first time humans stepped onto the moon. This exhibit on the fourth floor across from the planetariump includes a model of the Saturn V rocket that lifted the command module and lunar module into space\, a model of the lunar rover\, and articles about the mission published in 1969.
UID:495-910979@events.umich.edu
URL:https://events.umich.edu/event/495
CLASS:PUBLIC
STATUS:CONFIRMED
CATEGORIES:
LOCATION:Ruthven Museums Building
CONTACT:
END:VEVENT
BEGIN:VEVENT
DTSTAMP:20101111T175751
DTSTART;TZID=America/Detroit:20090922T000000
SUMMARY:Exhibition:Exhibit
DESCRIPTION:Permanent lobby exhibits present the stories of President Gerald Ford and First Lady Betty Ford through archival photos and documents.
UID:2023-917004@events.umich.edu
URL:https://events.umich.edu/event/2023
CLASS:PUBLIC
STATUS:CONFIRMED
CATEGORIES:
LOCATION:Gerald Ford Library
CONTACT:
END:VEVENT
BEGIN:VEVENT
DTSTAMP:20101111T175726
DTSTART;TZID=America/Detroit:20090922T000000
SUMMARY:Exhibition:Hubble Space Telescope: New Views of the Universe
DESCRIPTION:Sections of the exhibit show what Hubble has revealed about planets in our solar system\, stars far beyond the Sun and galaxies beyond the Milky Way.
UID:3839-915394@events.umich.edu
URL:https://events.umich.edu/event/3839
CLASS:PUBLIC
STATUS:CONFIRMED
CATEGORIES:
LOCATION:Ruthven Museums Building - Fourth Floor Gallery
CONTACT:
END:VEVENT
BEGIN:VEVENT
DTSTAMP:20101111T175620
DTSTART;TZID=America/Detroit:20090922T000000
SUMMARY:Exhibition:Permanent Exhibits at the Exhibit Museum of Natural History
DESCRIPTION:The Hall of Evolution houses Michigan's largest display of prehistoric life. More than 600 million years of life on Earth are traced through fossils\, models and dioramas. The Michigan Wildlife Gallery has a large collection of native Great Lakes birds\, mammals\, reptiles\, and amphibians\, with taxidermy mounts\, habitat scenes\, and the largest mastodon trackway on display in the world. There are also displays about some of the environmental problems faced in this region today. The Anthropology Displays feature artifacts from human cultures around the world. The Geology Displays on the fourth floor offer a large selection of rocks\, minerals and gems. These displays are updated periodically. For more information go to www.lsa.umich.edu/exhibitmuseum/exhibits/permexhibits or call 734-764-0480.
UID:452-910829@events.umich.edu
URL:https://events.umich.edu/event/452
CLASS:PUBLIC
STATUS:CONFIRMED
CATEGORIES:
LOCATION:Ruthven Museums Building
CONTACT:
END:VEVENT
BEGIN:VEVENT
DTSTAMP:20090915T074829
DTSTART;TZID=America/Detroit:20090922T000000
SUMMARY:Other:Science\, Technology\, and Public Policy (STPP) Graduate Certificate Program Information Sessions
DESCRIPTION:The Science\, Technology\, and Public Policy Program (STPP) invites you to attend an  information session at one of the following locations/dates.\n\n(note: STPP Graduate Certificate Program Application Deadline is October 15\, 2009)\n\n TUESDAY    SEPT 22  @ 4:00pm   (Pizza Provided) Taubman Medical Library\, GAP Conference Room  #2955 (located in the lower Level  of the Taubman Medical Library\n\n WEDNESDAY     SEPT  23  @   6:00pm  (Reception at Dominick's Afterward) Weill Hall Room 1210 (located at the Ford School of Public Policy)  (note:  informal gathering to follow at Dominick's -- see below) \n\n THE PURPOSE OF THE INFORMATION SESSION is to introduce the STPP Graduate  Certificate Program to prospective students and to answer questions about the  admissions process.  \n\nThere will be a RECEPTION @ DOMINICK'S immediately following the Sept 23  information session (approx 7:15pm @ Dominick's).   We hope this informal  meeting at Dominick's will provide a fun way for STPP students (and all prospective  students) and faculty to meet each other and kick off the year!   For additional information about the STPP Graduate Certificate Program you can  visit our website:  www.stpp.fordschool.umich.edu  or send email to:   stpp@umich.edu \n\n If you have any questions or would like to rsvp for the  reception at Dominick's --  please e-mail me (fischerb@umich.edu) or call my voice mail @ 615-6942.   RSVP  not required -- but appreciated.                                                                      -Bonnie Roberts\, Program Administrator for the Science\, Technology\, and Public  Policy Program
UID:474-911700@events.umich.edu
URL:https://events.umich.edu/event/474
CLASS:PUBLIC
STATUS:CONFIRMED
CATEGORIES:
LOCATION:
CONTACT:
END:VEVENT
BEGIN:VEVENT
DTSTAMP:20090804T124110
DTSTART;TZID=America/Detroit:20090922T080000
DTEND;TZID=America/Detroit:20090922T200000
SUMMARY:Exhibition:Art in Nature
DESCRIPTION:In these small art quilts Grand Blanc artist Mary Andrews\, depicts nature from the smallest detail to the larger landscape. She dyes her own fabric\, uses machine and hand quilting\, and embellishes with paint\, thread and various surface design elements. Her work is exhibited in the U.S.\, Canada\, Europe and Australia.
UID:3838-915300@events.umich.edu
URL:https://events.umich.edu/event/3838
CLASS:PUBLIC
STATUS:CONFIRMED
CATEGORIES:
LOCATION:University Hospitals - Main Corridor West, Floor 2
CONTACT:
END:VEVENT
BEGIN:VEVENT
DTSTAMP:20101111T175829
DTSTART;TZID=America/Detroit:20090922T080000
DTEND;TZID=America/Detroit:20090922T200000
SUMMARY:Exhibition:Chicago: Hand-Altered Polaroid Photographs by Cynthia Davis
DESCRIPTION:The award-winning artist captures the Windy City in these enlargements from her fifth book\, \"Chicago\,\" published by the University of Michigan Press. They offer a unique view of one of America's greatest cities. Davis creates her work by manipulating Polaroid SX 70 photographs while they're still soft and malleable. The result are pictures imbued with a dreamlike quality ? suggesting a place between photorealism and impressionist painting.
UID:3866-919587@events.umich.edu
URL:https://events.umich.edu/event/3866
CLASS:PUBLIC
STATUS:CONFIRMED
CATEGORIES:
LOCATION:University Hospitals - Taubman Center, North Lobby, Floor 1
CONTACT:
END:VEVENT
BEGIN:VEVENT
DTSTAMP:20090804T124300
DTSTART;TZID=America/Detroit:20090922T080000
DTEND;TZID=America/Detroit:20090922T200000
SUMMARY:Exhibition:Daydreams: Mixed Media Sculpture
DESCRIPTION:The two artists have been collaborating for nine years\, bringing together their respective backgrounds as glass artist and sculptor to create pieces that are both fun and serious. Their collaborative work sessions are often filled with humor and experimentation. They spend hours casting hot glass into sand molds\, and Mann assists Yerace on the larger blown elements in the work. Next\, they take the cooled glass and sketch\, discuss ideas and compositions\, and then independently create the finished pieces.
UID:3810-911667@events.umich.edu
URL:https://events.umich.edu/event/3810
CLASS:PUBLIC
STATUS:CONFIRMED
CATEGORIES:
LOCATION:University Hospitals - Taubman Center, North Lobby, Floor 1
CONTACT:
END:VEVENT
BEGIN:VEVENT
DTSTAMP:20101111T175759
DTSTART;TZID=America/Detroit:20090922T080000
DTEND;TZID=America/Detroit:20090922T170000
SUMMARY:Exhibition:History of Dentistry exhibits at the Sindecuse Museum of Dentistry
DESCRIPTION:Exhibits at the Sindecuse Museum of Dentistry include Dental Operatories of the 1860s to 1930s\, St. Apollonia-Patron Saint of Dentistry and more. Call 763-0767 or go to www.dent.umich.edu/museum for more information.
UID:3856-917597@events.umich.edu
URL:https://events.umich.edu/event/3856
CLASS:PUBLIC
STATUS:CONFIRMED
CATEGORIES:
LOCATION:Dental & W.K. Kellogg Institute
CONTACT:
END:VEVENT
BEGIN:VEVENT
DTSTAMP:20101111T175740
DTSTART;TZID=America/Detroit:20090922T080000
DTEND;TZID=America/Detroit:20090922T200000
SUMMARY:Exhibition:Lots O’ Pots
DESCRIPTION:Working out of his studio in Grand Rapids for almost 25 years\, all of Wilson's pieces are wheel-formed porcelain\, altered and assembled\, with patterns of texture and inlaid slip. The warmth of Wilson's handmade craftmanship and an interplay of textural patterns and subtle glaze color make this pottery both artistic and fitting for everyday use.
UID:3846-916302@events.umich.edu
URL:https://events.umich.edu/event/3846
CLASS:PUBLIC
STATUS:CONFIRMED
CATEGORIES:
LOCATION:University Hospitals - Taubman Center, South Lobby, Floor 1
CONTACT:
END:VEVENT
BEGIN:VEVENT
DTSTAMP:20101111T175833
DTSTART;TZID=America/Detroit:20090922T080000
DTEND;TZID=America/Detroit:20090922T200000
SUMMARY:Exhibition:Our Diversity: Group Show by the Chelsea Painters
DESCRIPTION:The Chelsea Painters is a vibrant group of men and women who have a passion for developing their own artistic vision. They express this through a variety of mediums\, including watercolor\, gouache\, acrylic\, oil\, pastel\, monotype\, colored pencil\, pencil\, collage\, photo transfers and encaustics. They meet weekly in Chelsea and are actively involved in art on local\, regional\, and national levels. Membership is limited to 25 artists and is by invitation.
UID:3869-919860@events.umich.edu
URL:https://events.umich.edu/event/3869
CLASS:PUBLIC
STATUS:CONFIRMED
CATEGORIES:
LOCATION:University Hospitals - Taubman Center, South Lobby, Floor 1
CONTACT:
END:VEVENT
BEGIN:VEVENT
DTSTAMP:20101111T175624
DTSTART;TZID=America/Detroit:20090922T080000
DTEND;TZID=America/Detroit:20090922T200000
SUMMARY:Exhibition:Pictorial Tapestries by Anna Kocherovsky
DESCRIPTION:Russian-born tapestry artist Anna Kocherovsky draws inspiration for her handwoven works from reading and reflection\, creating numerous drawings for each piece. She loves mythology and history\, and the stories she enjoys often find their way into her work. Using a loom technique she learned in Moscow and imported wool yarns from Sweden\, Kocherovsky keeps the tradition alive in Michigan where she has lived since 1989.
UID:3804-911133@events.umich.edu
URL:https://events.umich.edu/event/3804
CLASS:PUBLIC
STATUS:CONFIRMED
CATEGORIES:
LOCATION:University Hospitals - Main Lobby, Floor 1
CONTACT:
END:VEVENT
BEGIN:VEVENT
DTSTAMP:20101111T175733
DTSTART;TZID=America/Detroit:20090922T080000
DTEND;TZID=America/Detroit:20090922T170000
SUMMARY:Exhibition:Secrets of the Garden
DESCRIPTION:These images were taken without a camera. Ponvert places her subjects directly on a digital scanner and then alters them in Photoshop. The images in this exhibit were taken over the past three years from subjects in her garden in Ann Arbor\, Michigan. Her work has been shown at the Kerrytown Concert House\, and her garden was chosen to be on the Ann Arbor Women's Farm and Garden Walk in 2008.
UID:3843-915805@events.umich.edu
URL:https://events.umich.edu/event/3843
CLASS:PUBLIC
STATUS:CONFIRMED
CATEGORIES:
LOCATION:Cancer Center - Level 1
CONTACT:
END:VEVENT
BEGIN:VEVENT
DTSTAMP:20101111T175849
DTSTART;TZID=America/Detroit:20090922T080000
DTEND;TZID=America/Detroit:20090922T200000
SUMMARY:Exhibition:Tear Jars
DESCRIPTION:Working with hot glass since 1998\, Walsh draws inspiration from a lifelong fascination with rocks and minerals. Her award-winning designs\, pictured in international magazines and books\, include jewelry\, miniature sculptures and functional objects\, and are displayed by more than 60 art galleries across the nation.
UID:3876-920802@events.umich.edu
URL:https://events.umich.edu/event/3876
CLASS:PUBLIC
STATUS:CONFIRMED
CATEGORIES:
LOCATION:University Hospitals - Main Corridor West, Floor 2
CONTACT:
END:VEVENT
BEGIN:VEVENT
DTSTAMP:20101111T175651
DTSTART;TZID=America/Detroit:20090922T080000
DTEND;TZID=America/Detroit:20090922T170000
SUMMARY:Exhibition:Wearable Art
DESCRIPTION:U-M School of Art & Design alumna Furtado started as a weaver over 30 years ago\, working on a loom. She is now engaged in a variety of activities as she produces her line of wearable art. Handweaving\, felting\, dyeing and beading are common tools of her trade. Lately\, she has been exploring Nuno felting\, a Japanese technique which combines wool felt with silk fabric. One of her dyeing techniques is a resist process involving clamping and applying dye in multiple steps\, creating a multiple-color\, multiple-shape design.
UID:3819-912973@events.umich.edu
URL:https://events.umich.edu/event/3819
CLASS:PUBLIC
STATUS:CONFIRMED
CATEGORIES:
LOCATION:Cancer Center - Main Lobby, Level B2
CONTACT:
END:VEVENT
BEGIN:VEVENT
DTSTAMP:20090818T134607
DTSTART;TZID=America/Detroit:20090922T090000
DTEND;TZID=America/Detroit:20090922T170000
SUMMARY:Other:HUMANITIES GALLERY
DESCRIPTION:OPENING RECEPTION: THURSDAY\, SEPTEMBER 17\, 2009\, 6:30-8:00 PM (immediately following  the School of Art and Design's Penny Stamps Lecture at the Michigan Theater in Ann Arbor) 202  SOUTH THAYER STREET ROOM 1010 ANN ARBOR\, MICHIGAN Gallery hours: Monday - Friday\,  9:00AM-5:00PM ***** In this photographic exhibit\, RICHARD BARNES\, the Institute for the  Humanities' 2009 Paula and Edwin Sidman Fellow in the Arts\, presents innovative new work  inspired by the paleontology and anthropology collections in the University of Michigan Exhibits  Museum and the ornithology collection in the Museum of Zoology. In this unique installation\,  Barnes considers the nature of things from collection and display to extinction. A prehistoric  skeletal whale juxtaposes a mound of rubber molds and resin casts\, examining questions of  replication and authenticity\, what we save and what we lose. Both lyrical and visceral\, Barnes'  work engages us in a provocative conversation about museological practice from behind the  scenes\, capturing the inextricable relationship between human gesture and the inevitability of  extinction. For more information\, contact Amanda Krugliak(mandak@umich.edu). (734) 936-3518.
UID:1157-914623@events.umich.edu
URL:https://events.umich.edu/event/1157
CLASS:PUBLIC
STATUS:CONFIRMED
CATEGORIES:visual arts
LOCATION:202 S. Thayer
CONTACT:
END:VEVENT
BEGIN:VEVENT
DTSTAMP:20090722T143534
DTSTART;TZID=America/Detroit:20090922T090000
DTEND;TZID=America/Detroit:20090922T170000
SUMMARY:Exhibition:Ida: Darwinius masillae
DESCRIPTION:\"Ida\,\" a new exhibit in the Exhibit Museum's Rotunda\, displays a high-resolution cast of an extremely rare  fossil discovered in 1983 near Messel\, Germany\, but only recently made available for study. The fossil has  proven to be a “link” between the prosimian and simian (\"anthropoid\") primate lineages. It has \"advanced\"  front teeth (incisors and canines) and second toes like those of monkeys\, and is broadly representative of what  human primate ancestors may have looked like during the Eocene epoch 47 million years ago.     Ida (prounded \"eeda\") is named after after the daughter of Dr JÃ¸rn Hurum\, the Norwegian vertebrate  paleontologist who secured one section of the fossil from an anonymous owner\, and led the research. Ida was  about eight months old\, or the equivalent of a six-year-old human.     Publication of a paper on the discovery was accompanied by a book\, The Link: Uncovering Our Earliest  Ancestors by Colin Tudge\, and a documentary shown on the History Channel (US)\, BBC One (UK)\,and various  stations in Germany and Norway.     U-M paleontologist Philip Gingerich and U-M anthropologist B. Holly Smith were two members of the \"dream  team\" invited to study Ida. The exhibit will be on display through May 2010.
UID:2124-918468@events.umich.edu
URL:https://events.umich.edu/event/2124
CLASS:PUBLIC
STATUS:CONFIRMED
CATEGORIES:visual arts,multicultural,welcome week
LOCATION:
CONTACT:
END:VEVENT
BEGIN:VEVENT
DTSTAMP:20101111T175638
DTSTART;TZID=America/Detroit:20090922T100000
SUMMARY:Exhibition:(Un)Natural History: The Museum Unveiled
DESCRIPTION:September 12 through December 6\, 2009\n\nRichard Barnes's series of photographs Animal Logic examines the role the museum plays in our understanding of ourselves through the acts of collecting\, preservation\, and display. Images from this large body of work include photographs of the collections from the Smithsonian Institution\, the Museum of Comparative Anatomy in Paris\, the Canadian Museum of Natural History\, and the San Francisco Academy of Science. (Un)Natural History focuses primarily on the natural history museum and by extension collecting institutions in general\, providing a kind of behind-the-scenes look at museum practice and display.\n\nThis exhibition will coincide with the UM LSA Theme Semester Meaningful Objects: Museums and the Academy. UMMA's presentation is projected to serve as part of a three-venue project highlighting different aspects of Barnes's work in partnership with the UM Institute for the Humanities–who have selected Richard Barnes as the Paula and Edwin Sidman Fellow in the Arts for 2009–and the Cranbrook Institute of Science in Bloomfield Hills\, Michigan.
UID:648-912255@events.umich.edu
URL:https://events.umich.edu/event/648
CLASS:PUBLIC
STATUS:CONFIRMED
CATEGORIES:visual arts
LOCATION:Museum of Art
CONTACT:
END:VEVENT
BEGIN:VEVENT
DTSTAMP:20101111T175600
DTSTART;TZID=America/Detroit:20090922T100000
DTEND;TZID=America/Detroit:20090922T170000
SUMMARY:Exhibition:Stearns Collection of Music
DESCRIPTION:The Stearns Collection at the School of Music\, Theatre & Dance is one of six major collections of musical instruments in North America. The 2\,500-piece collection is internationally known and is a resource for musical and cultural education.
UID:3790-909114@events.umich.edu
URL:https://events.umich.edu/event/3790
CLASS:PUBLIC
STATUS:CONFIRMED
CATEGORIES:
LOCATION:Earl V. Moore Building
CONTACT:
END:VEVENT
BEGIN:VEVENT
DTSTAMP:20101111T175834
DTSTART;TZID=America/Detroit:20090922T100000
SUMMARY:Exhibition:UMMA Projects: Lisa Anne Auerbach
DESCRIPTION:July 11 through October 11\, 2009\n\nOften combining wry humor with a biting critique of the complacency and routine of modern life\, Lisa Anne Auerbach's subversive brand of post-punk\, DIY aesthetics mixes art and politics in a manner both highly personal and thoroughly embedded in contemporary culture. Recent projects have addressed topics ranging from the current Iraq war to the politics of bicycling in a city of freeways. In her slogan-adorned sweater sets\, each outfit becomes a wearable canvas\, literally weaving together the personal and the political\, the aesthetic and the everyday. Auerbach's installation at UMMA will transform the Museum's most highly visible space–the Irving Stenn Jr. Family Project Gallery–into a showcase for her politically charged\, socially engaged knitwear. Appropriating strategies of presentation and display from the high-end clothing market\, this unconventional installation will encourage viewers to ask questions about how we experience different types of cultural spaces\, how we perceive the relationship between one type of luxury good (fashion) and another (art)\, and how both political and aesthetic discourses are framed in contemporary society.\n\nThis project is made possible in part by the W. Hawkins Ferry Fund and UMMA's New Visions Venture Fund.
UID:2472-920052@events.umich.edu
URL:https://events.umich.edu/event/2472
CLASS:PUBLIC
STATUS:CONFIRMED
CATEGORIES:visual arts
LOCATION:Museum of Art - Project Gallery
CONTACT:
END:VEVENT
BEGIN:VEVENT
DTSTAMP:20090805T113948
DTSTART;TZID=America/Detroit:20090922T120000
DTEND;TZID=America/Detroit:20090922T133000
SUMMARY:Lecture / Discussion:Humanities - Brown Bag
DESCRIPTION:The Institute for the Humanities is delighted to present a talk by Bethany Moreton\,  the winner of its second Emerging Scholars Prize in the Humanities. Selected as the  result of a national/international search for nominations through the Consortium of  Humanities Centers and Institutes membership\, Bethany Moreton holds a 2006 PhD  in history from Yale\, and is currently Assistant Professor of History and Woman's  Studies at the University of Georgia.\n\nFor more than a generation\, the conservative counterrevolution in America blurred  the distinction between the invisible hand of the market and the all-powerful hand  of God. In the \"culture wars\" narrative of the Republican ascendancy\, this slippage  represents the greatest con in recent history. \"What's the matter with Kansas?\,\"  asked the Left in frustration\; why do those people in the pews keep enabling a  political order that eats them for lunch? Couldn't they figure out that \"family values\"  were a skimpy fig-leaf for an economic vision that would make Darwin blush?  Weren't Jerry Falwell and Milton Friedman really rather strange bedfellows\, at the  end of the day? The rise of Wal-Mart suggests another interpretation of this  apparent contradiction\, one in which family values are not a distraction from the  global economy but rather a necessary element of it.
UID:2191-918553@events.umich.edu
URL:https://events.umich.edu/event/2191
CLASS:PUBLIC
STATUS:CONFIRMED
CATEGORIES:
LOCATION:202 S. Thayer - 2022
CONTACT:
END:VEVENT
BEGIN:VEVENT
DTSTAMP:20090731T135025
DTSTART;TZID=America/Detroit:20090922T130000
DTEND;TZID=America/Detroit:20090922T164500
SUMMARY:Exhibition:Exhibit
DESCRIPTION:The Clements Library observes the 250th anniversary of the main events of the climactic year of the French & Indian war with an exhibition of significant items from its collections\, from Benjamin West's painting \"The Death of General Wolfe\" to prints\, books\, maps and documents.
UID:3822-913544@events.umich.edu
URL:https://events.umich.edu/event/3822
CLASS:PUBLIC
STATUS:CONFIRMED
CATEGORIES:
LOCATION:William Clements Library - Main Room
CONTACT:
END:VEVENT
BEGIN:VEVENT
DTSTAMP:20090831T113833
DTSTART;TZID=America/Detroit:20090922T130000
SUMMARY:Exhibition:Facutly Women's Club Painters Collected Works Exhibit
DESCRIPTION:This exhibition features the collected work of the Painting Section of the University  of Michigan Faculty Women's Club\, covering a large variety of styles and media.  The University of Michigan Faculty Women's Club is a cross-campus organization\,  offering members acquaintance and fellowship.  The Painting Section has been in  existence for over forty years\, and is made up of novice painters as well as those  who have won many awards for their work.\n\nThe artists will be holding a reception on Friday\, September 11 at 6:00 pm in the  2nd Floor Lobby in Pierpont Commons.\n\nFor questions or concerns regarding the artwok please contact lhadjisk@umich.edu.
UID:2874-921623@events.umich.edu
URL:https://events.umich.edu/event/2874
CLASS:PUBLIC
STATUS:CONFIRMED
CATEGORIES:visual arts,welcome week
LOCATION:Pierpont Commons - 2nd Floor Wall Gallery
CONTACT:
END:VEVENT
BEGIN:VEVENT
DTSTAMP:20101111T175702
DTSTART;TZID=America/Detroit:20090922T150000
DTEND;TZID=America/Detroit:20090922T163000
SUMMARY:Lecture / Discussion:The LGBTIQ Movement in Indonesia
DESCRIPTION:Dédé Oetomo\, Founder and Trustee of GAYa NUSANTARA\, Indonesia's 30-year-old gay rights organization\, will be on campus Sept. 22 - 24 as a King-Chavez-Parks Visiting Professor. This public lecture during his visit will chronicle organizing based on gender identity since the late 1960s and on sexual orientation since the early 1980s in Indonesia. We shall look into how emancipatory community development and the HIV program were the initial impetus to organizing\, and how after the change of governments in 1998 the increasingly conducive conditions for democratization and human rights have facilitated the growth of a movement diversifying into film and arts\, feminism\, health and human rights. Special consideration will be given to knowledge production and alliance building as strategies for strengthening the movement. A reception will follow.
UID:1085-913767@events.umich.edu
URL:https://events.umich.edu/event/1085
CLASS:PUBLIC
STATUS:CONFIRMED
CATEGORIES:social justice,respect,multicultural
LOCATION:School of Social Work Building - 1636
CONTACT:
END:VEVENT
BEGIN:VEVENT
DTSTAMP:20101111T175640
DTSTART;TZID=America/Detroit:20090922T180000
DTEND;TZID=America/Detroit:20090922T190000
SUMMARY:Meeting:JTS coming to campus
DESCRIPTION:Abby Eisenberg\, JTS Admissions Director\, will be a hosting a dinner at the University of Michigan Hillel on  Tuesday\, September 22 from 6-7pm. She will be teaching and speaking briefly about the JTS graduate programs  in Jewish studies\, Jewish professional leadership\, Jewish education\, the rabbinate and the cantorate. JTS offers  exciting and relevant engagement with Jewish text and Jewish studies\, whether you are preparing for a career in  the Jewish non-profit sector\, academia\, day and congregational schools\, or synagogues. JTS is an open-minded  and welcoming community and offers exceptional resources within the New York Jewish and cultural communities  and beyond. Visit www.jtsa.edu and contact Abby at abeisenberg@jtsa.edu if you'd like to schedule an individual  meeting with her earlier in the day on Tuesday\, September 22.
UID:704-912383@events.umich.edu
URL:https://events.umich.edu/event/704
CLASS:PUBLIC
STATUS:CONFIRMED
CATEGORIES:
LOCATION:Hillel (Mandell L Berman Center)
CONTACT:
END:VEVENT
BEGIN:VEVENT
DTSTAMP:20101111T175748
DTSTART;TZID=America/Detroit:20090922T190000
DTEND;TZID=America/Detroit:20090922T203000
SUMMARY:Workshop / Seminar:Graduate Student Strategies for Finding International Internships
DESCRIPTION:Hear reports from U-M graduate/professional school students about their successful strategies for finding and applying to internships\, either through formal programs or through creating one's own internship.
UID:1925-916753@events.umich.edu
URL:https://events.umich.edu/event/1925
CLASS:PUBLIC
STATUS:CONFIRMED
CATEGORIES:
LOCATION:Michigan League - Hussey Room
CONTACT:
END:VEVENT
BEGIN:VEVENT
DTSTAMP:20090916T145544
DTSTART;TZID=America/Detroit:20090922T193000
DTEND;TZID=America/Detroit:20090922T203000
SUMMARY:Rally / Mass Meeting:Union of Progessive Zionists Mass Meeting
DESCRIPTION:The Union of Progressive Zionists (UPZ) seeks to understand both the complexity of the Middle East situation and the possibilities for a lasting two state solution through dialogue\, education and social events. Come by the mass meeting on September 22 from 7:30 - 8:30pm at Hillel. Contact briagra@umich.edu for more information.
UID:2660-920300@events.umich.edu
URL:https://events.umich.edu/event/2660
CLASS:PUBLIC
STATUS:CONFIRMED
CATEGORIES:
LOCATION:Hillel (Mandell L Berman Center)
CONTACT:
END:VEVENT
BEGIN:VEVENT
DTSTAMP:20091211T154016
DTSTART;TZID=America/Detroit:20090922T200000
DTEND;TZID=America/Detroit:20090922T230000
SUMMARY:Other:Artsbreak
DESCRIPTION:Artsbreak is a FREE arts and crafts night every Tuesday from 8pm-11pm in the MUG (Michigan Union Ground floor). Examples of crafts we've done in the past are: painting pumpkins\, decorating small canvas tote bags\, wire photo holders\, polar fleece scarves\, and jewelry making. For the most updated craft list or to suggest a craft\, email artsbreak-uuap@umich.edu to get on our weekly listserv\, or check out UUAP's website.
UID:1256-914124@events.umich.edu
URL:https://events.umich.edu/event/1256
CLASS:PUBLIC
STATUS:CONFIRMED
CATEGORIES:visual arts
LOCATION:Michigan Union - MUG
CONTACT:
END:VEVENT
BEGIN:VEVENT
DTSTAMP:20101111T175635
DTSTART;TZID=America/Detroit:20090922T200000
SUMMARY:Performance:Dougie MacLean
DESCRIPTION:
UID:565-911860@events.umich.edu
URL:https://events.umich.edu/event/565
CLASS:PUBLIC
STATUS:CONFIRMED
CATEGORIES:music
LOCATION:
CONTACT:
END:VEVENT
BEGIN:VEVENT
DTSTAMP:20091020T080606
DTSTART;TZID=America/Detroit:20090922T200000
DTEND;TZID=America/Detroit:20090922T210000
SUMMARY:Other:Figure Drawing Workshops
DESCRIPTION:The Lloyd Hall Scholars Program is pleased to offer Open Figure Drawing Sessions every Tuesday and Thursday evening throughout the semester. These drawing sessions feature live models in a casual studio setting. Non-instructional\, limited supplies available. Beginners are always welcome.
UID:1414-915076@events.umich.edu
URL:https://events.umich.edu/event/1414
CLASS:PUBLIC
STATUS:CONFIRMED
CATEGORIES:visual arts
LOCATION:Alice Lloyd Hall - Art Studio located on ground floor
CONTACT:
END:VEVENT
END:VCALENDAR