BEGIN:VCALENDAR
VERSION:2.0
PRODID:-//UM//UM*Events//EN
CALSCALE:GREGORIAN
BEGIN:VTIMEZONE
TZID:America/Detroit
TZURL:http://tzurl.org/zoneinfo/America/Detroit
X-LIC-LOCATION:America/Detroit
BEGIN:DAYLIGHT
TZOFFSETFROM:-0500
TZOFFSETTO:-0400
TZNAME:EDT
DTSTART:20070311T020000
RRULE:FREQ=YEARLY;BYMONTH=3;BYDAY=2SU
END:DAYLIGHT
BEGIN:STANDARD
TZOFFSETFROM:-0400
TZOFFSETTO:-0500
TZNAME:EST
DTSTART:20071104T020000
RRULE:FREQ=YEARLY;BYMONTH=11;BYDAY=1SU
END:STANDARD
END:VTIMEZONE
BEGIN:VEVENT
DTSTAMP:20101111T175648
DTSTART;TZID=America/Detroit:20090925T000000
SUMMARY:Other:Climbing Trip
DESCRIPTION:Have you ever wanted to try Rock Climbing? Whether you've been to a climbing gym or  not\, there's nothing quite like real rock under your finger tips. Join Outdoor Adventures  as we venture to John Bryan State Park in Western Ohio to scale the limestone cliffs  carved by the Little Miami River.
UID:971-912770@events.umich.edu
URL:https://events.umich.edu/event/971
CLASS:PUBLIC
STATUS:CONFIRMED
CATEGORIES:
LOCATION:
CONTACT:
END:VEVENT
BEGIN:VEVENT
DTSTAMP:20101111T175755
DTSTART;TZID=America/Detroit:20090925T000000
SUMMARY:Exhibition:Exhibit
DESCRIPTION:Economic crises on an international scale are not new\, and President Ford inherited a tough one in 1974. A new exhibit at the Ford Library in Ann Arbor shows how he attacked a troubling brew of inflation\, recession\, budget deficits and oil supply worries. This exhibit features rarely seen artifacts and archival materials from the Ford Library and Museum collections.
UID:3853-917261@events.umich.edu
URL:https://events.umich.edu/event/3853
CLASS:PUBLIC
STATUS:CONFIRMED
CATEGORIES:
LOCATION:Gerald Ford Library
CONTACT:
END:VEVENT
BEGIN:VEVENT
DTSTAMP:20090730T092157
DTSTART;TZID=America/Detroit:20090925T000000
SUMMARY:Exhibition:Exhibit
DESCRIPTION:July 20th marks the 40th anniversary of the landing of the Apollo 11 lunar module on the moon\, and the first time humans stepped onto the moon. This exhibit on the fourth floor across from the planetariump includes a model of the Saturn V rocket that lifted the command module and lunar module into space\, a model of the lunar rover\, and articles about the mission published in 1969.
UID:495-910982@events.umich.edu
URL:https://events.umich.edu/event/495
CLASS:PUBLIC
STATUS:CONFIRMED
CATEGORIES:
LOCATION:Ruthven Museums Building
CONTACT:
END:VEVENT
BEGIN:VEVENT
DTSTAMP:20101111T175751
DTSTART;TZID=America/Detroit:20090925T000000
SUMMARY:Exhibition:Exhibit
DESCRIPTION:Permanent lobby exhibits present the stories of President Gerald Ford and First Lady Betty Ford through archival photos and documents.
UID:2023-917007@events.umich.edu
URL:https://events.umich.edu/event/2023
CLASS:PUBLIC
STATUS:CONFIRMED
CATEGORIES:
LOCATION:Gerald Ford Library
CONTACT:
END:VEVENT
BEGIN:VEVENT
DTSTAMP:20101111T175726
DTSTART;TZID=America/Detroit:20090925T000000
SUMMARY:Exhibition:Hubble Space Telescope: New Views of the Universe
DESCRIPTION:Sections of the exhibit show what Hubble has revealed about planets in our solar system\, stars far beyond the Sun and galaxies beyond the Milky Way.
UID:3839-915397@events.umich.edu
URL:https://events.umich.edu/event/3839
CLASS:PUBLIC
STATUS:CONFIRMED
CATEGORIES:
LOCATION:Ruthven Museums Building - Fourth Floor Gallery
CONTACT:
END:VEVENT
BEGIN:VEVENT
DTSTAMP:20101111T175620
DTSTART;TZID=America/Detroit:20090925T000000
SUMMARY:Exhibition:Permanent Exhibits at the Exhibit Museum of Natural History
DESCRIPTION:The Hall of Evolution houses Michigan's largest display of prehistoric life. More than 600 million years of life on Earth are traced through fossils\, models and dioramas. The Michigan Wildlife Gallery has a large collection of native Great Lakes birds\, mammals\, reptiles\, and amphibians\, with taxidermy mounts\, habitat scenes\, and the largest mastodon trackway on display in the world. There are also displays about some of the environmental problems faced in this region today. The Anthropology Displays feature artifacts from human cultures around the world. The Geology Displays on the fourth floor offer a large selection of rocks\, minerals and gems. These displays are updated periodically. For more information go to www.lsa.umich.edu/exhibitmuseum/exhibits/permexhibits or call 734-764-0480.
UID:452-910832@events.umich.edu
URL:https://events.umich.edu/event/452
CLASS:PUBLIC
STATUS:CONFIRMED
CATEGORIES:
LOCATION:Ruthven Museums Building
CONTACT:
END:VEVENT
BEGIN:VEVENT
DTSTAMP:20090804T124110
DTSTART;TZID=America/Detroit:20090925T080000
DTEND;TZID=America/Detroit:20090925T200000
SUMMARY:Exhibition:Art in Nature
DESCRIPTION:In these small art quilts Grand Blanc artist Mary Andrews\, depicts nature from the smallest detail to the larger landscape. She dyes her own fabric\, uses machine and hand quilting\, and embellishes with paint\, thread and various surface design elements. Her work is exhibited in the U.S.\, Canada\, Europe and Australia.
UID:3838-915303@events.umich.edu
URL:https://events.umich.edu/event/3838
CLASS:PUBLIC
STATUS:CONFIRMED
CATEGORIES:
LOCATION:University Hospitals - Main Corridor West, Floor 2
CONTACT:
END:VEVENT
BEGIN:VEVENT
DTSTAMP:20101111T175829
DTSTART;TZID=America/Detroit:20090925T080000
DTEND;TZID=America/Detroit:20090925T200000
SUMMARY:Exhibition:Chicago: Hand-Altered Polaroid Photographs by Cynthia Davis
DESCRIPTION:The award-winning artist captures the Windy City in these enlargements from her fifth book\, \"Chicago\,\" published by the University of Michigan Press. They offer a unique view of one of America's greatest cities. Davis creates her work by manipulating Polaroid SX 70 photographs while they're still soft and malleable. The result are pictures imbued with a dreamlike quality ? suggesting a place between photorealism and impressionist painting.
UID:3866-919590@events.umich.edu
URL:https://events.umich.edu/event/3866
CLASS:PUBLIC
STATUS:CONFIRMED
CATEGORIES:
LOCATION:University Hospitals - Taubman Center, North Lobby, Floor 1
CONTACT:
END:VEVENT
BEGIN:VEVENT
DTSTAMP:20090804T124300
DTSTART;TZID=America/Detroit:20090925T080000
DTEND;TZID=America/Detroit:20090925T200000
SUMMARY:Exhibition:Daydreams: Mixed Media Sculpture
DESCRIPTION:The two artists have been collaborating for nine years\, bringing together their respective backgrounds as glass artist and sculptor to create pieces that are both fun and serious. Their collaborative work sessions are often filled with humor and experimentation. They spend hours casting hot glass into sand molds\, and Mann assists Yerace on the larger blown elements in the work. Next\, they take the cooled glass and sketch\, discuss ideas and compositions\, and then independently create the finished pieces.
UID:3810-911670@events.umich.edu
URL:https://events.umich.edu/event/3810
CLASS:PUBLIC
STATUS:CONFIRMED
CATEGORIES:
LOCATION:University Hospitals - Taubman Center, North Lobby, Floor 1
CONTACT:
END:VEVENT
BEGIN:VEVENT
DTSTAMP:20101111T175759
DTSTART;TZID=America/Detroit:20090925T080000
DTEND;TZID=America/Detroit:20090925T170000
SUMMARY:Exhibition:History of Dentistry exhibits at the Sindecuse Museum of Dentistry
DESCRIPTION:Exhibits at the Sindecuse Museum of Dentistry include Dental Operatories of the 1860s to 1930s\, St. Apollonia-Patron Saint of Dentistry and more. Call 763-0767 or go to www.dent.umich.edu/museum for more information.
UID:3856-917600@events.umich.edu
URL:https://events.umich.edu/event/3856
CLASS:PUBLIC
STATUS:CONFIRMED
CATEGORIES:
LOCATION:Dental & W.K. Kellogg Institute
CONTACT:
END:VEVENT
BEGIN:VEVENT
DTSTAMP:20101111T175740
DTSTART;TZID=America/Detroit:20090925T080000
DTEND;TZID=America/Detroit:20090925T200000
SUMMARY:Exhibition:Lots O’ Pots
DESCRIPTION:Working out of his studio in Grand Rapids for almost 25 years\, all of Wilson's pieces are wheel-formed porcelain\, altered and assembled\, with patterns of texture and inlaid slip. The warmth of Wilson's handmade craftmanship and an interplay of textural patterns and subtle glaze color make this pottery both artistic and fitting for everyday use.
UID:3846-916305@events.umich.edu
URL:https://events.umich.edu/event/3846
CLASS:PUBLIC
STATUS:CONFIRMED
CATEGORIES:
LOCATION:University Hospitals - Taubman Center, South Lobby, Floor 1
CONTACT:
END:VEVENT
BEGIN:VEVENT
DTSTAMP:20101111T175719
DTSTART;TZID=America/Detroit:20090925T080000
DTEND;TZID=America/Detroit:20090925T140000
SUMMARY:Workshop / Seminar:MACEPID Symposium
DESCRIPTION:MACEPID Symposium Diseases\, Microbes and Geography: Ecological determinants of microbes  over space and time\n\nFriday\, September 25\, 2009 8:00 am – 2:00 pm\n\nUniversity of Michigan School of Public Health I\, Room 1690   Guest speakers:\n\nTrina McMahon\, Ph.D   Associate Professor\, Department of Civil & Environmental Engineering  University of Wisconsin-Madison Topic:  Drivers of freshwater bacterial community assembly over  expanding scales of space and time”\n\nPejman Rohani\, Ph.D Professor\, Department of Ecology & Evolutionary Biology  Professor\, Complex Systems\, University of Michigan Topic: Spatial hierarchies in the transmission dynamics of pertussis\n\nJonathan D. Mayer\, Ph.D  Professor\, Department of Geography and Epidemiology University of Washington  Topic: People\, Pathogens\, Space\, and Time: Understanding Patterns of Disease Spread in an Ecological Context
UID:1257-914820@events.umich.edu
URL:https://events.umich.edu/event/1257
CLASS:PUBLIC
STATUS:CONFIRMED
CATEGORIES:
LOCATION:School of Public Health Bldg I and Crossroads and Tower - University of Michigan School of Public Health I, Room 1690
CONTACT:
END:VEVENT
BEGIN:VEVENT
DTSTAMP:20101111T175833
DTSTART;TZID=America/Detroit:20090925T080000
DTEND;TZID=America/Detroit:20090925T200000
SUMMARY:Exhibition:Our Diversity: Group Show by the Chelsea Painters
DESCRIPTION:The Chelsea Painters is a vibrant group of men and women who have a passion for developing their own artistic vision. They express this through a variety of mediums\, including watercolor\, gouache\, acrylic\, oil\, pastel\, monotype\, colored pencil\, pencil\, collage\, photo transfers and encaustics. They meet weekly in Chelsea and are actively involved in art on local\, regional\, and national levels. Membership is limited to 25 artists and is by invitation.
UID:3869-919863@events.umich.edu
URL:https://events.umich.edu/event/3869
CLASS:PUBLIC
STATUS:CONFIRMED
CATEGORIES:
LOCATION:University Hospitals - Taubman Center, South Lobby, Floor 1
CONTACT:
END:VEVENT
BEGIN:VEVENT
DTSTAMP:20101111T175624
DTSTART;TZID=America/Detroit:20090925T080000
DTEND;TZID=America/Detroit:20090925T200000
SUMMARY:Exhibition:Pictorial Tapestries by Anna Kocherovsky
DESCRIPTION:Russian-born tapestry artist Anna Kocherovsky draws inspiration for her handwoven works from reading and reflection\, creating numerous drawings for each piece. She loves mythology and history\, and the stories she enjoys often find their way into her work. Using a loom technique she learned in Moscow and imported wool yarns from Sweden\, Kocherovsky keeps the tradition alive in Michigan where she has lived since 1989.
UID:3804-911136@events.umich.edu
URL:https://events.umich.edu/event/3804
CLASS:PUBLIC
STATUS:CONFIRMED
CATEGORIES:
LOCATION:University Hospitals - Main Lobby, Floor 1
CONTACT:
END:VEVENT
BEGIN:VEVENT
DTSTAMP:20101111T175733
DTSTART;TZID=America/Detroit:20090925T080000
DTEND;TZID=America/Detroit:20090925T170000
SUMMARY:Exhibition:Secrets of the Garden
DESCRIPTION:These images were taken without a camera. Ponvert places her subjects directly on a digital scanner and then alters them in Photoshop. The images in this exhibit were taken over the past three years from subjects in her garden in Ann Arbor\, Michigan. Her work has been shown at the Kerrytown Concert House\, and her garden was chosen to be on the Ann Arbor Women's Farm and Garden Walk in 2008.
UID:3843-915808@events.umich.edu
URL:https://events.umich.edu/event/3843
CLASS:PUBLIC
STATUS:CONFIRMED
CATEGORIES:
LOCATION:Cancer Center - Level 1
CONTACT:
END:VEVENT
BEGIN:VEVENT
DTSTAMP:20101111T175849
DTSTART;TZID=America/Detroit:20090925T080000
DTEND;TZID=America/Detroit:20090925T200000
SUMMARY:Exhibition:Tear Jars
DESCRIPTION:Working with hot glass since 1998\, Walsh draws inspiration from a lifelong fascination with rocks and minerals. Her award-winning designs\, pictured in international magazines and books\, include jewelry\, miniature sculptures and functional objects\, and are displayed by more than 60 art galleries across the nation.
UID:3876-920805@events.umich.edu
URL:https://events.umich.edu/event/3876
CLASS:PUBLIC
STATUS:CONFIRMED
CATEGORIES:
LOCATION:University Hospitals - Main Corridor West, Floor 2
CONTACT:
END:VEVENT
BEGIN:VEVENT
DTSTAMP:20101111T175651
DTSTART;TZID=America/Detroit:20090925T080000
DTEND;TZID=America/Detroit:20090925T170000
SUMMARY:Exhibition:Wearable Art
DESCRIPTION:U-M School of Art & Design alumna Furtado started as a weaver over 30 years ago\, working on a loom. She is now engaged in a variety of activities as she produces her line of wearable art. Handweaving\, felting\, dyeing and beading are common tools of her trade. Lately\, she has been exploring Nuno felting\, a Japanese technique which combines wool felt with silk fabric. One of her dyeing techniques is a resist process involving clamping and applying dye in multiple steps\, creating a multiple-color\, multiple-shape design.
UID:3819-912976@events.umich.edu
URL:https://events.umich.edu/event/3819
CLASS:PUBLIC
STATUS:CONFIRMED
CATEGORIES:
LOCATION:Cancer Center - Main Lobby, Level B2
CONTACT:
END:VEVENT
BEGIN:VEVENT
DTSTAMP:20090818T134607
DTSTART;TZID=America/Detroit:20090925T090000
DTEND;TZID=America/Detroit:20090925T170000
SUMMARY:Other:HUMANITIES GALLERY
DESCRIPTION:OPENING RECEPTION: THURSDAY\, SEPTEMBER 17\, 2009\, 6:30-8:00 PM (immediately following  the School of Art and Design's Penny Stamps Lecture at the Michigan Theater in Ann Arbor) 202  SOUTH THAYER STREET ROOM 1010 ANN ARBOR\, MICHIGAN Gallery hours: Monday - Friday\,  9:00AM-5:00PM ***** In this photographic exhibit\, RICHARD BARNES\, the Institute for the  Humanities' 2009 Paula and Edwin Sidman Fellow in the Arts\, presents innovative new work  inspired by the paleontology and anthropology collections in the University of Michigan Exhibits  Museum and the ornithology collection in the Museum of Zoology. In this unique installation\,  Barnes considers the nature of things from collection and display to extinction. A prehistoric  skeletal whale juxtaposes a mound of rubber molds and resin casts\, examining questions of  replication and authenticity\, what we save and what we lose. Both lyrical and visceral\, Barnes'  work engages us in a provocative conversation about museological practice from behind the  scenes\, capturing the inextricable relationship between human gesture and the inevitability of  extinction. For more information\, contact Amanda Krugliak(mandak@umich.edu). (734) 936-3518.
UID:1157-914626@events.umich.edu
URL:https://events.umich.edu/event/1157
CLASS:PUBLIC
STATUS:CONFIRMED
CATEGORIES:visual arts
LOCATION:202 S. Thayer
CONTACT:
END:VEVENT
BEGIN:VEVENT
DTSTAMP:20090722T143534
DTSTART;TZID=America/Detroit:20090925T090000
DTEND;TZID=America/Detroit:20090925T170000
SUMMARY:Exhibition:Ida: Darwinius masillae
DESCRIPTION:\"Ida\,\" a new exhibit in the Exhibit Museum's Rotunda\, displays a high-resolution cast of an extremely rare  fossil discovered in 1983 near Messel\, Germany\, but only recently made available for study. The fossil has  proven to be a “link” between the prosimian and simian (\"anthropoid\") primate lineages. It has \"advanced\"  front teeth (incisors and canines) and second toes like those of monkeys\, and is broadly representative of what  human primate ancestors may have looked like during the Eocene epoch 47 million years ago.     Ida (prounded \"eeda\") is named after after the daughter of Dr JÃ¸rn Hurum\, the Norwegian vertebrate  paleontologist who secured one section of the fossil from an anonymous owner\, and led the research. Ida was  about eight months old\, or the equivalent of a six-year-old human.     Publication of a paper on the discovery was accompanied by a book\, The Link: Uncovering Our Earliest  Ancestors by Colin Tudge\, and a documentary shown on the History Channel (US)\, BBC One (UK)\,and various  stations in Germany and Norway.     U-M paleontologist Philip Gingerich and U-M anthropologist B. Holly Smith were two members of the \"dream  team\" invited to study Ida. The exhibit will be on display through May 2010.
UID:2124-918471@events.umich.edu
URL:https://events.umich.edu/event/2124
CLASS:PUBLIC
STATUS:CONFIRMED
CATEGORIES:multicultural,visual arts,welcome week
LOCATION:
CONTACT:
END:VEVENT
BEGIN:VEVENT
DTSTAMP:20101111T175638
DTSTART;TZID=America/Detroit:20090925T100000
SUMMARY:Exhibition:(Un)Natural History: The Museum Unveiled
DESCRIPTION:September 12 through December 6\, 2009\n\nRichard Barnes's series of photographs Animal Logic examines the role the museum plays in our understanding of ourselves through the acts of collecting\, preservation\, and display. Images from this large body of work include photographs of the collections from the Smithsonian Institution\, the Museum of Comparative Anatomy in Paris\, the Canadian Museum of Natural History\, and the San Francisco Academy of Science. (Un)Natural History focuses primarily on the natural history museum and by extension collecting institutions in general\, providing a kind of behind-the-scenes look at museum practice and display.\n\nThis exhibition will coincide with the UM LSA Theme Semester Meaningful Objects: Museums and the Academy. UMMA's presentation is projected to serve as part of a three-venue project highlighting different aspects of Barnes's work in partnership with the UM Institute for the Humanities–who have selected Richard Barnes as the Paula and Edwin Sidman Fellow in the Arts for 2009–and the Cranbrook Institute of Science in Bloomfield Hills\, Michigan.
UID:648-912258@events.umich.edu
URL:https://events.umich.edu/event/648
CLASS:PUBLIC
STATUS:CONFIRMED
CATEGORIES:visual arts
LOCATION:Museum of Art
CONTACT:
END:VEVENT
BEGIN:VEVENT
DTSTAMP:20101111T175600
DTSTART;TZID=America/Detroit:20090925T100000
DTEND;TZID=America/Detroit:20090925T170000
SUMMARY:Exhibition:Stearns Collection of Music
DESCRIPTION:The Stearns Collection at the School of Music\, Theatre & Dance is one of six major collections of musical instruments in North America. The 2\,500-piece collection is internationally known and is a resource for musical and cultural education.
UID:3790-909117@events.umich.edu
URL:https://events.umich.edu/event/3790
CLASS:PUBLIC
STATUS:CONFIRMED
CATEGORIES:
LOCATION:Earl V. Moore Building
CONTACT:
END:VEVENT
BEGIN:VEVENT
DTSTAMP:20101111T175834
DTSTART;TZID=America/Detroit:20090925T100000
SUMMARY:Exhibition:UMMA Projects: Lisa Anne Auerbach
DESCRIPTION:July 11 through October 11\, 2009\n\nOften combining wry humor with a biting critique of the complacency and routine of modern life\, Lisa Anne Auerbach's subversive brand of post-punk\, DIY aesthetics mixes art and politics in a manner both highly personal and thoroughly embedded in contemporary culture. Recent projects have addressed topics ranging from the current Iraq war to the politics of bicycling in a city of freeways. In her slogan-adorned sweater sets\, each outfit becomes a wearable canvas\, literally weaving together the personal and the political\, the aesthetic and the everyday. Auerbach's installation at UMMA will transform the Museum's most highly visible space–the Irving Stenn Jr. Family Project Gallery–into a showcase for her politically charged\, socially engaged knitwear. Appropriating strategies of presentation and display from the high-end clothing market\, this unconventional installation will encourage viewers to ask questions about how we experience different types of cultural spaces\, how we perceive the relationship between one type of luxury good (fashion) and another (art)\, and how both political and aesthetic discourses are framed in contemporary society.\n\nThis project is made possible in part by the W. Hawkins Ferry Fund and UMMA's New Visions Venture Fund.
UID:2472-920055@events.umich.edu
URL:https://events.umich.edu/event/2472
CLASS:PUBLIC
STATUS:CONFIRMED
CATEGORIES:visual arts
LOCATION:Museum of Art - Project Gallery
CONTACT:
END:VEVENT
BEGIN:VEVENT
DTSTAMP:20090731T135025
DTSTART;TZID=America/Detroit:20090925T130000
DTEND;TZID=America/Detroit:20090925T164500
SUMMARY:Exhibition:Exhibit
DESCRIPTION:The Clements Library observes the 250th anniversary of the main events of the climactic year of the French & Indian war with an exhibition of significant items from its collections\, from Benjamin West's painting \"The Death of General Wolfe\" to prints\, books\, maps and documents.
UID:3822-913547@events.umich.edu
URL:https://events.umich.edu/event/3822
CLASS:PUBLIC
STATUS:CONFIRMED
CATEGORIES:
LOCATION:William Clements Library - Main Room
CONTACT:
END:VEVENT
BEGIN:VEVENT
DTSTAMP:20090831T113833
DTSTART;TZID=America/Detroit:20090925T130000
SUMMARY:Exhibition:Facutly Women's Club Painters Collected Works Exhibit
DESCRIPTION:This exhibition features the collected work of the Painting Section of the University  of Michigan Faculty Women's Club\, covering a large variety of styles and media.  The University of Michigan Faculty Women's Club is a cross-campus organization\,  offering members acquaintance and fellowship.  The Painting Section has been in  existence for over forty years\, and is made up of novice painters as well as those  who have won many awards for their work.\n\nThe artists will be holding a reception on Friday\, September 11 at 6:00 pm in the  2nd Floor Lobby in Pierpont Commons.\n\nFor questions or concerns regarding the artwok please contact lhadjisk@umich.edu.
UID:2874-921596@events.umich.edu
URL:https://events.umich.edu/event/2874
CLASS:PUBLIC
STATUS:CONFIRMED
CATEGORIES:visual arts,welcome week
LOCATION:Pierpont Commons - 2nd Floor Wall Gallery
CONTACT:
END:VEVENT
BEGIN:VEVENT
DTSTAMP:20101111T175903
DTSTART;TZID=America/Detroit:20090925T130000
DTEND;TZID=America/Detroit:20090925T150000
SUMMARY:Other:Succah Building at Hillel
DESCRIPTION:Help Hillel build its Succah! Your help would be greatly appreciated and we hope to complete the building in 2 hours or so. Drinks and snacks will be provided.
UID:2908-921695@events.umich.edu
URL:https://events.umich.edu/event/2908
CLASS:PUBLIC
STATUS:CONFIRMED
CATEGORIES:
LOCATION:Hillel (Mandell L Berman Center)
CONTACT:
END:VEVENT
BEGIN:VEVENT
DTSTAMP:20101111T175836
DTSTART;TZID=America/Detroit:20090925T130000
DTEND;TZID=America/Detroit:20090925T150000
SUMMARY:Other:Sukkah Building at Hillel
DESCRIPTION:Help Hillel build its Sukkah! Your help would be greatly appreciated and we hope to complete the building in 2 hours or so. Drinks and snacks will be provided.
UID:2526-920116@events.umich.edu
URL:https://events.umich.edu/event/2526
CLASS:PUBLIC
STATUS:CONFIRMED
CATEGORIES:
LOCATION:Hillel (Mandell L Berman Center)
CONTACT:
END:VEVENT
BEGIN:VEVENT
DTSTAMP:20090925T030003
DTSTART;TZID=America/Detroit:20090925T170000
SUMMARY:Other:Musicology Lecture:  From the Voice of the Marechal to Musique Concrete: Pierre Schaeffer and the Case for Cultural History - Jane Fulcher (UM)
DESCRIPTION:Historians know Pierre  Schaeffer as the engineer in Vichy radio who founded a conservative cultural venture called \"Jeune France\,\" the innovations and artistic quality of which were slight\, after which he was embraced by French technocratic postwar culture.  Musicologists know a different Schaeffer--the pioneer in electro-acoustic music\, the inventor and theorist of musique concrète\, whose background in the Vichy period insignificant and whose innovations lie within the context of the postwar European musical avant-garde.  Both narratives\, this paper argues\, occlude perception of Schaeffer's growth\, not only subjective but artistic\, thus veiling important insights into the new French culture planted during Vichy and into the conceptual and aesthetic seeds of musique concrète.
UID:2697-921031@events.umich.edu
URL:https://events.umich.edu/event/2697
CLASS:PUBLIC
STATUS:CONFIRMED
CATEGORIES:music
LOCATION:Burton Memorial Tower - Room 506
CONTACT:
END:VEVENT
BEGIN:VEVENT
DTSTAMP:20101111T175716
DTSTART;TZID=America/Detroit:20090925T190000
SUMMARY:Other:Free Shabbat Dinner at Hillel
DESCRIPTION:This free gourmet Shabbat dinner is a great place to make new friends and greet old friends too.\n\nBe sure to RSVP for Shabbat Dinner on www.umhillel.org. \n\nServices begin at 7pm.\n\nDinner begins at 8pm.\n\nCome whenever you want\, dressed however you are.
UID:1176-914719@events.umich.edu
URL:https://events.umich.edu/event/1176
CLASS:PUBLIC
STATUS:CONFIRMED
CATEGORIES:welcome week,spiritual,religious
LOCATION:Hillel (Mandell L Berman Center)
CONTACT:
END:VEVENT
BEGIN:VEVENT
DTSTAMP:20090709T095731
DTSTART;TZID=America/Detroit:20090925T190000
DTEND;TZID=America/Detroit:20090925T210000
SUMMARY:Other:Spelling Bee!
DESCRIPTION:Love the Dictionary? Need an outlet to express your talent? Have the last word at this year's 2nd annual SPELLING BEE competition! Contestants will compete for a $100 cash prize. All are welcome! For more information\, email uuap@umich.edu.
UID:1696-916496@events.umich.edu
URL:https://events.umich.edu/event/1696
CLASS:PUBLIC
STATUS:CONFIRMED
CATEGORIES:welcome week
LOCATION:Michigan Union - Pendleton
CONTACT:
END:VEVENT
BEGIN:VEVENT
DTSTAMP:20090925T030003
DTSTART;TZID=America/Detroit:20090925T200000
SUMMARY:Other:Broadcast: Climbing Sainte-Victoire: A Danced Homage to Paul Cézanne by Peter Sparling
DESCRIPTION:Don’t miss this multi-faceted tribute to the “Father of Modern Art” – choreographed for the TV screen by U-M Thurnau Professor of Dance  Peter Sparling and fusing dance with visual art\, music\, video\, poetry and narration.  This project is supported by the Michigan Council for the Arts and Cultural Affairs\, National Endowment for the Arts\, U-M Office for the Vice President for Research and U-M School of Music\, Theatre & Dance.
UID:2330-919638@events.umich.edu
URL:https://events.umich.edu/event/2330
CLASS:PUBLIC
STATUS:CONFIRMED
CATEGORIES:dance,film,music
LOCATION:
CONTACT:
END:VEVENT
BEGIN:VEVENT
DTSTAMP:20090925T030003
DTSTART;TZID=America/Detroit:20090925T200000
SUMMARY:Other:Guest Recital:  Malcolm Bilson\, fortepiano
DESCRIPTION:Malcolm Bilson began his pioneering activity in the early 1970s as a performer of Haydn\, Mozart\, Beethoven and Schubert on late 18th- and early 19th-century pianos. Since then he has proven to be a key contributor to the restoration of the fortepiano to the concert stage and to fresh recordings of the \"mainstream\" repertory. PROGRAM:  Cramer – 11 Variations on “Ein MÃ¤dchen oder Weibchen” from Mozart’s Magic Flute\; Hadyn – Sonata in C Major\; Dussek – Fantasy and Fugue in F Minor\; Mozart – Sonata in F Major K. 332\; Schubert – Sonata in F-sharp Minor\; Beethoven – Sonata in E-flat Major. Op. 31 No. 3
UID:1895-917812@events.umich.edu
URL:https://events.umich.edu/event/1895
CLASS:PUBLIC
STATUS:CONFIRMED
CATEGORIES:music
LOCATION:Earl V. Moore Building - Britton Recital Hall
CONTACT:
END:VEVENT
BEGIN:VEVENT
DTSTAMP:20090618T132920
DTSTART;TZID=America/Detroit:20090925T200000
SUMMARY:Performance:Tommy Emmanuel
DESCRIPTION:
UID:2155-918506@events.umich.edu
URL:https://events.umich.edu/event/2155
CLASS:PUBLIC
STATUS:CONFIRMED
CATEGORIES:music
LOCATION:
CONTACT:
END:VEVENT
BEGIN:VEVENT
DTSTAMP:20090925T030003
DTSTART;TZID=America/Detroit:20090925T200000
SUMMARY:Other:University Symphony Orchestra
DESCRIPTION:Kenneth Kiesler conducts the opening concert of the University Symphony Orchestra with soloist Paul Dwyer\, winner of the 2009 Concerto Competition.  A program of Russian music reveals divergent facets of Shostakovich\, and rises to an affirming conclusion with the Fifth Symphony of Tchaikovsky.   Pre-concert lecture at 7:15 pm.  PROGRAM:  Shostakovich - Festive Overture\, Violoncello Concerto No. 2\, Paul Dwyer\, cello (2009 Concerto Competition Winner)\; Tchaikovsky - Symphony No. 5
UID:1102-913778@events.umich.edu
URL:https://events.umich.edu/event/1102
CLASS:PUBLIC
STATUS:CONFIRMED
CATEGORIES:music
LOCATION:Hill Auditorium -  
CONTACT:
END:VEVENT
BEGIN:VEVENT
DTSTAMP:20091028T182137
DTSTART;TZID=America/Detroit:20090925T220000
DTEND;TZID=America/Detroit:20090925T020000
SUMMARY:Other:UMix Late Night
DESCRIPTION:We have a lot going on this UMix! Come check it out: -Performance by ComCoat 10 followed by a showing of \"The Final Destination: Rest in Pieces\" at  11 in Anderson -performance by NBH Unplugged at 11 in Pendleton -ThinkFast put on by Phi Mu  in the Ballroom -Karaoke all night in the UClub with a Nacho-Bar coming out at midnight
UID:2801-920535@events.umich.edu
URL:https://events.umich.edu/event/2801
CLASS:PUBLIC
STATUS:CONFIRMED
CATEGORIES:
LOCATION:Michigan Union
CONTACT:
END:VEVENT
END:VCALENDAR