BEGIN:VCALENDAR
VERSION:2.0
PRODID:-//UM//UM*Events//EN
CALSCALE:GREGORIAN
BEGIN:VTIMEZONE
TZID:America/Detroit
TZURL:http://tzurl.org/zoneinfo/America/Detroit
X-LIC-LOCATION:America/Detroit
BEGIN:DAYLIGHT
TZOFFSETFROM:-0500
TZOFFSETTO:-0400
TZNAME:EDT
DTSTART:20070311T020000
RRULE:FREQ=YEARLY;BYMONTH=3;BYDAY=2SU
END:DAYLIGHT
BEGIN:STANDARD
TZOFFSETFROM:-0400
TZOFFSETTO:-0500
TZNAME:EST
DTSTART:20071104T020000
RRULE:FREQ=YEARLY;BYMONTH=11;BYDAY=1SU
END:STANDARD
END:VTIMEZONE
BEGIN:VEVENT
DTSTAMP:20101111T175710
DTSTART;TZID=America/Detroit:20090926T000000
SUMMARY:Exhibition:\"Landscape and Memory\" at Gallery Project
DESCRIPTION:Landscape and Memory seeks the experience and sensation of landscape\, tracing memory beyond symbol and  image\, to find a place in-between land and mind that is grounded in shared human experience\, evolution\,  geology\, and memory. \n\nSkyscrapers\, landfill mounds\, and industrialized agriculture often lead society to collectively assume that\, via  human engineering and construction\, it is we who shape the landscape to ourselves. In contrast to this line of  thought\, Landscape and Memory presents the self as shaped by environment and landscape.\n\nCURATED BY Catherine Meier and Joshua Smith \n\nARTISTS Shane Anderson\, Katherine E. Bash\, Jennilie Brewster\, Rocco DePietro\, Sarah Kanouse\, Catherine  Meier\, Zac Montanaro\, Bruce Myren\, Anne Percoco\, Marianetta Porter\, Gloria Pritschet\, Terri Sarris\, Matthew  Shlian\, Joshua Ray Smith and Mary Tsiongas
UID:1392-914301@events.umich.edu
URL:https://events.umich.edu/event/1392
CLASS:PUBLIC
STATUS:CONFIRMED
CATEGORIES:visual arts
LOCATION:
CONTACT:
END:VEVENT
BEGIN:VEVENT
DTSTAMP:20101111T175648
DTSTART;TZID=America/Detroit:20090926T000000
SUMMARY:Other:Climbing Trip
DESCRIPTION:Have you ever wanted to try Rock Climbing? Whether you've been to a climbing gym or  not\, there's nothing quite like real rock under your finger tips. Join Outdoor Adventures  as we venture to John Bryan State Park in Western Ohio to scale the limestone cliffs  carved by the Little Miami River.
UID:971-912771@events.umich.edu
URL:https://events.umich.edu/event/971
CLASS:PUBLIC
STATUS:CONFIRMED
CATEGORIES:
LOCATION:
CONTACT:
END:VEVENT
BEGIN:VEVENT
DTSTAMP:20090730T092157
DTSTART;TZID=America/Detroit:20090926T000000
SUMMARY:Exhibition:Exhibit
DESCRIPTION:July 20th marks the 40th anniversary of the landing of the Apollo 11 lunar module on the moon\, and the first time humans stepped onto the moon. This exhibit on the fourth floor across from the planetariump includes a model of the Saturn V rocket that lifted the command module and lunar module into space\, a model of the lunar rover\, and articles about the mission published in 1969.
UID:495-910983@events.umich.edu
URL:https://events.umich.edu/event/495
CLASS:PUBLIC
STATUS:CONFIRMED
CATEGORIES:
LOCATION:Ruthven Museums Building
CONTACT:
END:VEVENT
BEGIN:VEVENT
DTSTAMP:20101111T175726
DTSTART;TZID=America/Detroit:20090926T000000
SUMMARY:Exhibition:Hubble Space Telescope: New Views of the Universe
DESCRIPTION:Sections of the exhibit show what Hubble has revealed about planets in our solar system\, stars far beyond the Sun and galaxies beyond the Milky Way.
UID:3839-915398@events.umich.edu
URL:https://events.umich.edu/event/3839
CLASS:PUBLIC
STATUS:CONFIRMED
CATEGORIES:
LOCATION:Ruthven Museums Building - Fourth Floor Gallery
CONTACT:
END:VEVENT
BEGIN:VEVENT
DTSTAMP:20101111T175620
DTSTART;TZID=America/Detroit:20090926T000000
SUMMARY:Exhibition:Permanent Exhibits at the Exhibit Museum of Natural History
DESCRIPTION:The Hall of Evolution houses Michigan's largest display of prehistoric life. More than 600 million years of life on Earth are traced through fossils\, models and dioramas. The Michigan Wildlife Gallery has a large collection of native Great Lakes birds\, mammals\, reptiles\, and amphibians\, with taxidermy mounts\, habitat scenes\, and the largest mastodon trackway on display in the world. There are also displays about some of the environmental problems faced in this region today. The Anthropology Displays feature artifacts from human cultures around the world. The Geology Displays on the fourth floor offer a large selection of rocks\, minerals and gems. These displays are updated periodically. For more information go to www.lsa.umich.edu/exhibitmuseum/exhibits/permexhibits or call 734-764-0480.
UID:452-910833@events.umich.edu
URL:https://events.umich.edu/event/452
CLASS:PUBLIC
STATUS:CONFIRMED
CATEGORIES:
LOCATION:Ruthven Museums Building
CONTACT:
END:VEVENT
BEGIN:VEVENT
DTSTAMP:20101111T175634
DTSTART;TZID=America/Detroit:20090926T060000
DTEND;TZID=America/Detroit:20090926T160000
SUMMARY:Film Screening:Superstar: The Life and Times of Andy Warhol (Chuck Workman\, 1990\, 87 min)
DESCRIPTION:The documentary films in this series explore the multiple realities of the 60s and 70s\, both in their time and in retrospect. \n\nA feature-length \"cinema-collage\" of the life\, work\, and impact of Andy Warhol (1928–1987)\, pop icon and artist\, from his childhood in Pittsburgh to his death after a botched surgery\, with interviews from other famous artists of the time.
UID:506-911722@events.umich.edu
URL:https://events.umich.edu/event/506
CLASS:PUBLIC
STATUS:CONFIRMED
CATEGORIES:visual arts
LOCATION:Museum of Art - Helmut Stern Auditorium
CONTACT:
END:VEVENT
BEGIN:VEVENT
DTSTAMP:20090804T124110
DTSTART;TZID=America/Detroit:20090926T080000
DTEND;TZID=America/Detroit:20090926T200000
SUMMARY:Exhibition:Art in Nature
DESCRIPTION:In these small art quilts Grand Blanc artist Mary Andrews\, depicts nature from the smallest detail to the larger landscape. She dyes her own fabric\, uses machine and hand quilting\, and embellishes with paint\, thread and various surface design elements. Her work is exhibited in the U.S.\, Canada\, Europe and Australia.
UID:3838-915304@events.umich.edu
URL:https://events.umich.edu/event/3838
CLASS:PUBLIC
STATUS:CONFIRMED
CATEGORIES:
LOCATION:University Hospitals - Main Corridor West, Floor 2
CONTACT:
END:VEVENT
BEGIN:VEVENT
DTSTAMP:20101111T175829
DTSTART;TZID=America/Detroit:20090926T080000
DTEND;TZID=America/Detroit:20090926T200000
SUMMARY:Exhibition:Chicago: Hand-Altered Polaroid Photographs by Cynthia Davis
DESCRIPTION:The award-winning artist captures the Windy City in these enlargements from her fifth book\, \"Chicago\,\" published by the University of Michigan Press. They offer a unique view of one of America's greatest cities. Davis creates her work by manipulating Polaroid SX 70 photographs while they're still soft and malleable. The result are pictures imbued with a dreamlike quality ? suggesting a place between photorealism and impressionist painting.
UID:3866-919591@events.umich.edu
URL:https://events.umich.edu/event/3866
CLASS:PUBLIC
STATUS:CONFIRMED
CATEGORIES:
LOCATION:University Hospitals - Taubman Center, North Lobby, Floor 1
CONTACT:
END:VEVENT
BEGIN:VEVENT
DTSTAMP:20090804T124300
DTSTART;TZID=America/Detroit:20090926T080000
DTEND;TZID=America/Detroit:20090926T200000
SUMMARY:Exhibition:Daydreams: Mixed Media Sculpture
DESCRIPTION:The two artists have been collaborating for nine years\, bringing together their respective backgrounds as glass artist and sculptor to create pieces that are both fun and serious. Their collaborative work sessions are often filled with humor and experimentation. They spend hours casting hot glass into sand molds\, and Mann assists Yerace on the larger blown elements in the work. Next\, they take the cooled glass and sketch\, discuss ideas and compositions\, and then independently create the finished pieces.
UID:3810-911671@events.umich.edu
URL:https://events.umich.edu/event/3810
CLASS:PUBLIC
STATUS:CONFIRMED
CATEGORIES:
LOCATION:University Hospitals - Taubman Center, North Lobby, Floor 1
CONTACT:
END:VEVENT
BEGIN:VEVENT
DTSTAMP:20101111T175740
DTSTART;TZID=America/Detroit:20090926T080000
DTEND;TZID=America/Detroit:20090926T200000
SUMMARY:Exhibition:Lots O’ Pots
DESCRIPTION:Working out of his studio in Grand Rapids for almost 25 years\, all of Wilson's pieces are wheel-formed porcelain\, altered and assembled\, with patterns of texture and inlaid slip. The warmth of Wilson's handmade craftmanship and an interplay of textural patterns and subtle glaze color make this pottery both artistic and fitting for everyday use.
UID:3846-916306@events.umich.edu
URL:https://events.umich.edu/event/3846
CLASS:PUBLIC
STATUS:CONFIRMED
CATEGORIES:
LOCATION:University Hospitals - Taubman Center, South Lobby, Floor 1
CONTACT:
END:VEVENT
BEGIN:VEVENT
DTSTAMP:20101111T175833
DTSTART;TZID=America/Detroit:20090926T080000
DTEND;TZID=America/Detroit:20090926T200000
SUMMARY:Exhibition:Our Diversity: Group Show by the Chelsea Painters
DESCRIPTION:The Chelsea Painters is a vibrant group of men and women who have a passion for developing their own artistic vision. They express this through a variety of mediums\, including watercolor\, gouache\, acrylic\, oil\, pastel\, monotype\, colored pencil\, pencil\, collage\, photo transfers and encaustics. They meet weekly in Chelsea and are actively involved in art on local\, regional\, and national levels. Membership is limited to 25 artists and is by invitation.
UID:3869-919864@events.umich.edu
URL:https://events.umich.edu/event/3869
CLASS:PUBLIC
STATUS:CONFIRMED
CATEGORIES:
LOCATION:University Hospitals - Taubman Center, South Lobby, Floor 1
CONTACT:
END:VEVENT
BEGIN:VEVENT
DTSTAMP:20101111T175624
DTSTART;TZID=America/Detroit:20090926T080000
DTEND;TZID=America/Detroit:20090926T200000
SUMMARY:Exhibition:Pictorial Tapestries by Anna Kocherovsky
DESCRIPTION:Russian-born tapestry artist Anna Kocherovsky draws inspiration for her handwoven works from reading and reflection\, creating numerous drawings for each piece. She loves mythology and history\, and the stories she enjoys often find their way into her work. Using a loom technique she learned in Moscow and imported wool yarns from Sweden\, Kocherovsky keeps the tradition alive in Michigan where she has lived since 1989.
UID:3804-911137@events.umich.edu
URL:https://events.umich.edu/event/3804
CLASS:PUBLIC
STATUS:CONFIRMED
CATEGORIES:
LOCATION:University Hospitals - Main Lobby, Floor 1
CONTACT:
END:VEVENT
BEGIN:VEVENT
DTSTAMP:20101111T175733
DTSTART;TZID=America/Detroit:20090926T080000
DTEND;TZID=America/Detroit:20090926T170000
SUMMARY:Exhibition:Secrets of the Garden
DESCRIPTION:These images were taken without a camera. Ponvert places her subjects directly on a digital scanner and then alters them in Photoshop. The images in this exhibit were taken over the past three years from subjects in her garden in Ann Arbor\, Michigan. Her work has been shown at the Kerrytown Concert House\, and her garden was chosen to be on the Ann Arbor Women's Farm and Garden Walk in 2008.
UID:3843-915809@events.umich.edu
URL:https://events.umich.edu/event/3843
CLASS:PUBLIC
STATUS:CONFIRMED
CATEGORIES:
LOCATION:Cancer Center - Level 1
CONTACT:
END:VEVENT
BEGIN:VEVENT
DTSTAMP:20101111T175849
DTSTART;TZID=America/Detroit:20090926T080000
DTEND;TZID=America/Detroit:20090926T200000
SUMMARY:Exhibition:Tear Jars
DESCRIPTION:Working with hot glass since 1998\, Walsh draws inspiration from a lifelong fascination with rocks and minerals. Her award-winning designs\, pictured in international magazines and books\, include jewelry\, miniature sculptures and functional objects\, and are displayed by more than 60 art galleries across the nation.
UID:3876-920806@events.umich.edu
URL:https://events.umich.edu/event/3876
CLASS:PUBLIC
STATUS:CONFIRMED
CATEGORIES:
LOCATION:University Hospitals - Main Corridor West, Floor 2
CONTACT:
END:VEVENT
BEGIN:VEVENT
DTSTAMP:20101111T175651
DTSTART;TZID=America/Detroit:20090926T080000
DTEND;TZID=America/Detroit:20090926T170000
SUMMARY:Exhibition:Wearable Art
DESCRIPTION:U-M School of Art & Design alumna Furtado started as a weaver over 30 years ago\, working on a loom. She is now engaged in a variety of activities as she produces her line of wearable art. Handweaving\, felting\, dyeing and beading are common tools of her trade. Lately\, she has been exploring Nuno felting\, a Japanese technique which combines wool felt with silk fabric. One of her dyeing techniques is a resist process involving clamping and applying dye in multiple steps\, creating a multiple-color\, multiple-shape design.
UID:3819-912977@events.umich.edu
URL:https://events.umich.edu/event/3819
CLASS:PUBLIC
STATUS:CONFIRMED
CATEGORIES:
LOCATION:Cancer Center - Main Lobby, Level B2
CONTACT:
END:VEVENT
BEGIN:VEVENT
DTSTAMP:20090722T143534
DTSTART;TZID=America/Detroit:20090926T090000
DTEND;TZID=America/Detroit:20090926T170000
SUMMARY:Exhibition:Ida: Darwinius masillae
DESCRIPTION:\"Ida\,\" a new exhibit in the Exhibit Museum's Rotunda\, displays a high-resolution cast of an extremely rare  fossil discovered in 1983 near Messel\, Germany\, but only recently made available for study. The fossil has  proven to be a “link” between the prosimian and simian (\"anthropoid\") primate lineages. It has \"advanced\"  front teeth (incisors and canines) and second toes like those of monkeys\, and is broadly representative of what  human primate ancestors may have looked like during the Eocene epoch 47 million years ago.     Ida (prounded \"eeda\") is named after after the daughter of Dr JÃ¸rn Hurum\, the Norwegian vertebrate  paleontologist who secured one section of the fossil from an anonymous owner\, and led the research. Ida was  about eight months old\, or the equivalent of a six-year-old human.     Publication of a paper on the discovery was accompanied by a book\, The Link: Uncovering Our Earliest  Ancestors by Colin Tudge\, and a documentary shown on the History Channel (US)\, BBC One (UK)\,and various  stations in Germany and Norway.     U-M paleontologist Philip Gingerich and U-M anthropologist B. Holly Smith were two members of the \"dream  team\" invited to study Ida. The exhibit will be on display through May 2010.
UID:2124-918472@events.umich.edu
URL:https://events.umich.edu/event/2124
CLASS:PUBLIC
STATUS:CONFIRMED
CATEGORIES:visual arts,welcome week,multicultural
LOCATION:
CONTACT:
END:VEVENT
BEGIN:VEVENT
DTSTAMP:20101111T175602
DTSTART;TZID=America/Detroit:20090926T090000
SUMMARY:Community Service:Stride With Asha\, 5k charity run/walk
DESCRIPTION:Asha for Education is a non-profit organization that aims to catalyze a socio-economic change in India through the education of underprivileged children. Asha for Education - Ann Arbor chapter is proud to introduce 'StrideWith Asha'\, a 5k charity run/walk. Come and spend a Saturday morning with family and friends\, enjoy the breeze\, and help a child's education. \n\nWhat: Stride With Asha\, 5k charity run/walk (run/walk at your own pace!) When: Saturday\, September 26th\, at 9:00 am Where: Gallup Park\, Ann Arbor Registration fee: $20-general\, $15-Students\n\nMore information and registration at: www.ashanet.org/annarbor/stridewithasha\n\nPlease forward this e-mail to your friends and help spread the word. It would be great if you can get your friends and family to take part in our event too!\n\n\"THE FIRST 50 REGISTRANTS WILL RECEIVE A FREE T-SHIRT\"- so hurry up!!
UID:152-909419@events.umich.edu
URL:https://events.umich.edu/event/152
CLASS:PUBLIC
STATUS:CONFIRMED
CATEGORIES:
LOCATION:
CONTACT:
END:VEVENT
BEGIN:VEVENT
DTSTAMP:20101111T175638
DTSTART;TZID=America/Detroit:20090926T100000
SUMMARY:Exhibition:(Un)Natural History: The Museum Unveiled
DESCRIPTION:September 12 through December 6\, 2009\n\nRichard Barnes's series of photographs Animal Logic examines the role the museum plays in our understanding of ourselves through the acts of collecting\, preservation\, and display. Images from this large body of work include photographs of the collections from the Smithsonian Institution\, the Museum of Comparative Anatomy in Paris\, the Canadian Museum of Natural History\, and the San Francisco Academy of Science. (Un)Natural History focuses primarily on the natural history museum and by extension collecting institutions in general\, providing a kind of behind-the-scenes look at museum practice and display.\n\nThis exhibition will coincide with the UM LSA Theme Semester Meaningful Objects: Museums and the Academy. UMMA's presentation is projected to serve as part of a three-venue project highlighting different aspects of Barnes's work in partnership with the UM Institute for the Humanities–who have selected Richard Barnes as the Paula and Edwin Sidman Fellow in the Arts for 2009–and the Cranbrook Institute of Science in Bloomfield Hills\, Michigan.
UID:648-912259@events.umich.edu
URL:https://events.umich.edu/event/648
CLASS:PUBLIC
STATUS:CONFIRMED
CATEGORIES:visual arts
LOCATION:Museum of Art
CONTACT:
END:VEVENT
BEGIN:VEVENT
DTSTAMP:20101111T175834
DTSTART;TZID=America/Detroit:20090926T100000
SUMMARY:Exhibition:UMMA Projects: Lisa Anne Auerbach
DESCRIPTION:July 11 through October 11\, 2009\n\nOften combining wry humor with a biting critique of the complacency and routine of modern life\, Lisa Anne Auerbach's subversive brand of post-punk\, DIY aesthetics mixes art and politics in a manner both highly personal and thoroughly embedded in contemporary culture. Recent projects have addressed topics ranging from the current Iraq war to the politics of bicycling in a city of freeways. In her slogan-adorned sweater sets\, each outfit becomes a wearable canvas\, literally weaving together the personal and the political\, the aesthetic and the everyday. Auerbach's installation at UMMA will transform the Museum's most highly visible space–the Irving Stenn Jr. Family Project Gallery–into a showcase for her politically charged\, socially engaged knitwear. Appropriating strategies of presentation and display from the high-end clothing market\, this unconventional installation will encourage viewers to ask questions about how we experience different types of cultural spaces\, how we perceive the relationship between one type of luxury good (fashion) and another (art)\, and how both political and aesthetic discourses are framed in contemporary society.\n\nThis project is made possible in part by the W. Hawkins Ferry Fund and UMMA's New Visions Venture Fund.
UID:2472-920056@events.umich.edu
URL:https://events.umich.edu/event/2472
CLASS:PUBLIC
STATUS:CONFIRMED
CATEGORIES:visual arts
LOCATION:Museum of Art - Project Gallery
CONTACT:
END:VEVENT
BEGIN:VEVENT
DTSTAMP:20090925T030003
DTSTART;TZID=America/Detroit:20090926T103000
SUMMARY:Other:Lecture/Demonstration:  Case of the Elusive Quarter-note - Malcolm Bilson\, fortepiano
DESCRIPTION:Malcolm Bilson began his pioneering activity in the early 1970s as a performer of Haydn\, Mozart\, Beethoven and Schubert on late 18th- and early 19th-century pianos. Since then he has proven to be a key contributor to the restoration of the fortepiano to the concert stage and to fresh recordings of the \"mainstream\" repertory.
UID:871-913326@events.umich.edu
URL:https://events.umich.edu/event/871
CLASS:PUBLIC
STATUS:CONFIRMED
CATEGORIES:music
LOCATION:Earl V. Moore Building - Britton Recital Hall
CONTACT:
END:VEVENT
BEGIN:VEVENT
DTSTAMP:20090925T030003
DTSTART;TZID=America/Detroit:20090926T120000
SUMMARY:Other:Masterclass:  Malcolm Bilson\, piano
DESCRIPTION:Malcolm Bilson began his pioneering activity in the early 1970s as a performer of Haydn\, Mozart\, Beethoven and Schubert on late 18th- and early 19th-century pianos. Since then he has proven to be a key contributor to the restoration of the fortepiano to the concert stage and to fresh recordings of the \"mainstream\" repertory.
UID:2041-918023@events.umich.edu
URL:https://events.umich.edu/event/2041
CLASS:PUBLIC
STATUS:CONFIRMED
CATEGORIES:music
LOCATION:Earl V. Moore Building - Britton Recital Hall
CONTACT:
END:VEVENT
BEGIN:VEVENT
DTSTAMP:20090831T113833
DTSTART;TZID=America/Detroit:20090926T130000
SUMMARY:Exhibition:Facutly Women's Club Painters Collected Works Exhibit
DESCRIPTION:This exhibition features the collected work of the Painting Section of the University  of Michigan Faculty Women's Club\, covering a large variety of styles and media.  The University of Michigan Faculty Women's Club is a cross-campus organization\,  offering members acquaintance and fellowship.  The Painting Section has been in  existence for over forty years\, and is made up of novice painters as well as those  who have won many awards for their work.\n\nThe artists will be holding a reception on Friday\, September 11 at 6:00 pm in the  2nd Floor Lobby in Pierpont Commons.\n\nFor questions or concerns regarding the artwok please contact lhadjisk@umich.edu.
UID:2874-921597@events.umich.edu
URL:https://events.umich.edu/event/2874
CLASS:PUBLIC
STATUS:CONFIRMED
CATEGORIES:visual arts,welcome week
LOCATION:Pierpont Commons - 2nd Floor Wall Gallery
CONTACT:
END:VEVENT
BEGIN:VEVENT
DTSTAMP:20090901T155813
DTSTART;TZID=America/Detroit:20090926T130000
SUMMARY:Other:Guided Tour: The New UMMA
DESCRIPTION:The New UMMA\n\nSaturday\, September 5\, 1 pm Sunday\, September 6\, 1 pm Wednesday\, September 9\, 12 pm Saturday\, September 12\, 1 pm Sunday\, September 13\, 1 pm Saturday\, September 19\, 1 pm Sunday\, September 20\, 1 pm Wednesday\, September 23\, 12 pm Saturday\, September 26\, 1 pm Sunday\, September 27\, 1 pm
UID:1037-913689@events.umich.edu
URL:https://events.umich.edu/event/1037
CLASS:PUBLIC
STATUS:CONFIRMED
CATEGORIES:visual arts
LOCATION:Museum of Art - Information Desk
CONTACT:
END:VEVENT
BEGIN:VEVENT
DTSTAMP:20101111T175835
DTSTART;TZID=America/Detroit:20090926T134500
DTEND;TZID=America/Detroit:20090926T230000
SUMMARY:Other:FestiFools travels to Grand Rapids!
DESCRIPTION:Ever wanted to join the circus–if only for one day? Now's your chance...FestiFools\, that unique Ann Arbor giant puppet parade which usually takes place around April Fools Day\, is heading to Grand Rapids to perform in an international art show called ArtPrize on Saturday\, September 26th. \n\nThe organizers of FestiFools have been asked to bring dozens of giant\, hand-made puppets to perform outdoors in downtown Grand Rapids on Saturday evening\, Sept. 26th. FestiFools is looking for volunteers to travel to Grand Rapids to help animate\, cavort\, dance and have fun with the giant puppets and onlookers.\n\nFor Details contact startproject@umich.edu\, or call 734-763-7550
UID:2498-920090@events.umich.edu
URL:https://events.umich.edu/event/2498
CLASS:PUBLIC
STATUS:CONFIRMED
CATEGORIES:dance,theater,visual arts
LOCATION:Alice Lloyd Hall - Lobby
CONTACT:
END:VEVENT
BEGIN:VEVENT
DTSTAMP:20101111T175603
DTSTART;TZID=America/Detroit:20090926T150000
DTEND;TZID=America/Detroit:20090926T163000
SUMMARY:Workshop / Seminar:Art Appreciation: Contemporary Painting Lecture
DESCRIPTION:Ann Arbor Art Center Workshops at UMMA\n\nCreate your own masterpieces at UMMA. This fall the Ann Arbor Art Center will offer art-making workshops on Thursday evenings and Saturday afternoons. With a wide variety of subject matters\, there is a class for everyone. \n\nArt Appreciation: Contemporary Painting Lecture Instructor: Kristen Letts Kovak What is the purpose of painting in a “post-painting” era? This lecture explores how artists have addressed this question from the periods of early Modernism to Postmodernism and the contemporary era.
UID:178-909461@events.umich.edu
URL:https://events.umich.edu/event/178
CLASS:PUBLIC
STATUS:CONFIRMED
CATEGORIES:visual arts
LOCATION:Museum of Art - Multipurpose Room
CONTACT:
END:VEVENT
BEGIN:VEVENT
DTSTAMP:20101111T175739
DTSTART;TZID=America/Detroit:20090926T174500
SUMMARY:Film Screening:Scenes From the Life of Andy Warhol (Jonas Mekas\, 1996\, 38 min)
DESCRIPTION:The documentary films in this series explore the multiple realities of the 60s and 70s\, both in their time and in retrospect. In this 1990 film Jonas Mekas chronicles not only the great pop artist\, Andy Warhol\, but also the social and cultural excitement that swirled around him\, throbbing to a hypnotic Velvet Underground beat.
UID:1592-916224@events.umich.edu
URL:https://events.umich.edu/event/1592
CLASS:PUBLIC
STATUS:CONFIRMED
CATEGORIES:visual arts
LOCATION:Museum of Art - Helmut Stern Auditorium
CONTACT:
END:VEVENT
BEGIN:VEVENT
DTSTAMP:20101111T175828
DTSTART;TZID=America/Detroit:20090926T200000
SUMMARY:Film Screening:Nico Icon (Susanne Ofteringer\, 1994\, 67 min)
DESCRIPTION:The documentary films in this series explore the multiple realities of the 60s and 70s\, both in their time and in retrospect. This film is a look into the many lives of Christa PÃ¤ffgen\, otherwise known as Nico\, from cutie German madchen to the first of the supermodels\, to glamorous diva of the Velvet Underground\, to cult item\, junkie\, and hag.
UID:2286-919476@events.umich.edu
URL:https://events.umich.edu/event/2286
CLASS:PUBLIC
STATUS:CONFIRMED
CATEGORIES:visual arts
LOCATION:Museum of Art - Helmut Stern Auditorium
CONTACT:
END:VEVENT
BEGIN:VEVENT
DTSTAMP:20101111T175835
DTSTART;TZID=America/Detroit:20090926T200000
SUMMARY:Performance:Saffire Farewell Tour
DESCRIPTION:
UID:2511-920107@events.umich.edu
URL:https://events.umich.edu/event/2511
CLASS:PUBLIC
STATUS:CONFIRMED
CATEGORIES:music
LOCATION:
CONTACT:
END:VEVENT
BEGIN:VEVENT
DTSTAMP:20101111T175628
DTSTART;TZID=America/Detroit:20090926T211500
SUMMARY:Film Screening:A Walk Into the Sea: Danny Williams and the Warhol Factory (Esther Robinson\, 2007\, 92 min)
DESCRIPTION:The documentary films in this series explore the multiple realities of the 60s and 70s\, both in their time and in retrospect. Esther Robinson's portrait of her uncle Danny Williams\, Warhol's onetime lover\, collaborator\, and a filmmaker in his own right\, offers an exploration of the Factory era\, an homage to Williams's talent\, a journey of family discovery\, and a compelling inquiry into Williams's mysterious disappearance at age 27.
UID:739-911394@events.umich.edu
URL:https://events.umich.edu/event/739
CLASS:PUBLIC
STATUS:CONFIRMED
CATEGORIES:visual arts
LOCATION:Museum of Art - Helmut Stern Auditorium
CONTACT:
END:VEVENT
BEGIN:VEVENT
DTSTAMP:20090925T030003
DTSTART;TZID=America/Detroit:20090926T213000
SUMMARY:Other:Broadcast: Climbing Sainte-Victoire: A Danced Homage to Paul Cézanne by Peter Sparling
DESCRIPTION:Don’t miss this multi-faceted tribute to the “Father of Modern Art” – choreographed for the TV screen by U-M Thurnau Professor of Dance  Peter Sparling and fusing dance with visual art\, music\, video\, poetry and narration.  This project is supported by the Michigan Council for the Arts and Cultural Affairs\, National Endowment for the Arts\, U-M Office for the Vice President for Research and U-M School of Music\, Theatre & Dance.
UID:403-911541@events.umich.edu
URL:https://events.umich.edu/event/403
CLASS:PUBLIC
STATUS:CONFIRMED
CATEGORIES:music,film,dance
LOCATION:
CONTACT:
END:VEVENT
END:VCALENDAR