BEGIN:VCALENDAR
VERSION:2.0
PRODID:-//UM//UM*Events//EN
CALSCALE:GREGORIAN
BEGIN:VTIMEZONE
TZID:America/Detroit
TZURL:http://tzurl.org/zoneinfo/America/Detroit
X-LIC-LOCATION:America/Detroit
BEGIN:DAYLIGHT
TZOFFSETFROM:-0500
TZOFFSETTO:-0400
TZNAME:EDT
DTSTART:20070311T020000
RRULE:FREQ=YEARLY;BYMONTH=3;BYDAY=2SU
END:DAYLIGHT
BEGIN:STANDARD
TZOFFSETFROM:-0400
TZOFFSETTO:-0500
TZNAME:EST
DTSTART:20071104T020000
RRULE:FREQ=YEARLY;BYMONTH=11;BYDAY=1SU
END:STANDARD
END:VTIMEZONE
BEGIN:VEVENT
DTSTAMP:20101111T175710
DTSTART;TZID=America/Detroit:20091004T000000
SUMMARY:Exhibition:\"Landscape and Memory\" at Gallery Project
DESCRIPTION:Landscape and Memory seeks the experience and sensation of landscape\, tracing memory beyond symbol and  image\, to find a place in-between land and mind that is grounded in shared human experience\, evolution\,  geology\, and memory. \n\nSkyscrapers\, landfill mounds\, and industrialized agriculture often lead society to collectively assume that\, via  human engineering and construction\, it is we who shape the landscape to ourselves. In contrast to this line of  thought\, Landscape and Memory presents the self as shaped by environment and landscape.\n\nCURATED BY Catherine Meier and Joshua Smith \n\nARTISTS Shane Anderson\, Katherine E. Bash\, Jennilie Brewster\, Rocco DePietro\, Sarah Kanouse\, Catherine  Meier\, Zac Montanaro\, Bruce Myren\, Anne Percoco\, Marianetta Porter\, Gloria Pritschet\, Terri Sarris\, Matthew  Shlian\, Joshua Ray Smith and Mary Tsiongas
UID:1392-914309@events.umich.edu
URL:https://events.umich.edu/event/1392
CLASS:PUBLIC
STATUS:CONFIRMED
CATEGORIES:visual arts
LOCATION:
CONTACT:
END:VEVENT
BEGIN:VEVENT
DTSTAMP:20101111T175642
DTSTART;TZID=America/Detroit:20091004T000000
SUMMARY:Exhibition:Bioartography
DESCRIPTION:The U-M Center for Organogenesis unites scientists from many fields who work together to study organ growth\, function and disease.  The goal of these studies is to use what is learned to design new and effective ways to treat disease and repair damaged organs. In the course of this work\, scientists use the microscope and special stains or “colors” to look at tissues for changes that could affect our health. These tiny biological structures that are studied are often beautiful and  present a fascinating combination of art and science.\n\nAll images are available for purchase and all proceeds support research training at the University of Michigan\, Center for Organogenesis.  For more information\,  visit the Bioartography website at www.bioartography.com
UID:799-912529@events.umich.edu
URL:https://events.umich.edu/event/799
CLASS:PUBLIC
STATUS:CONFIRMED
CATEGORIES:
LOCATION:Duderstadt Center - Gallery
CONTACT:
END:VEVENT
BEGIN:VEVENT
DTSTAMP:20101111T175620
DTSTART;TZID=America/Detroit:20091004T000000
SUMMARY:Exhibition:Permanent Exhibits at the Exhibit Museum of Natural History
DESCRIPTION:The Hall of Evolution houses Michigan's largest display of prehistoric life. More than 600 million years of life on Earth are traced through fossils\, models and dioramas. The Michigan Wildlife Gallery has a large collection of native Great Lakes birds\, mammals\, reptiles\, and amphibians\, with taxidermy mounts\, habitat scenes\, and the largest mastodon trackway on display in the world. There are also displays about some of the environmental problems faced in this region today. The Anthropology Displays feature artifacts from human cultures around the world. The Geology Displays on the fourth floor offer a large selection of rocks\, minerals and gems. These displays are updated periodically. For more information go to www.lsa.umich.edu/exhibitmuseum/exhibits/permexhibits or call 734-764-0480.
UID:452-910841@events.umich.edu
URL:https://events.umich.edu/event/452
CLASS:PUBLIC
STATUS:CONFIRMED
CATEGORIES:
LOCATION:Ruthven Museums Building
CONTACT:
END:VEVENT
BEGIN:VEVENT
DTSTAMP:20090804T124110
DTSTART;TZID=America/Detroit:20091004T080000
DTEND;TZID=America/Detroit:20091004T200000
SUMMARY:Exhibition:Art in Nature
DESCRIPTION:In these small art quilts Grand Blanc artist Mary Andrews\, depicts nature from the smallest detail to the larger landscape. She dyes her own fabric\, uses machine and hand quilting\, and embellishes with paint\, thread and various surface design elements. Her work is exhibited in the U.S.\, Canada\, Europe and Australia.
UID:3838-915312@events.umich.edu
URL:https://events.umich.edu/event/3838
CLASS:PUBLIC
STATUS:CONFIRMED
CATEGORIES:
LOCATION:University Hospitals - Main Corridor West, Floor 2
CONTACT:
END:VEVENT
BEGIN:VEVENT
DTSTAMP:20101111T175658
DTSTART;TZID=America/Detroit:20091004T080000
DTEND;TZID=America/Detroit:20091004T110000
SUMMARY:Other:Big House Big Heart Walk/Run
DESCRIPTION:Proceeds from the 10K\, 5K and 1 mile events benefit three U-M departments. For more information\, to register\, or to volunteer go to www.bighousebigheart.com
UID:946-913502@events.umich.edu
URL:https://events.umich.edu/event/946
CLASS:PUBLIC
STATUS:CONFIRMED
CATEGORIES:
LOCATION:Michigan Stadium
CONTACT:
END:VEVENT
BEGIN:VEVENT
DTSTAMP:20101111T175829
DTSTART;TZID=America/Detroit:20091004T080000
DTEND;TZID=America/Detroit:20091004T200000
SUMMARY:Exhibition:Chicago: Hand-Altered Polaroid Photographs by Cynthia Davis
DESCRIPTION:The award-winning artist captures the Windy City in these enlargements from her fifth book\, \"Chicago\,\" published by the University of Michigan Press. They offer a unique view of one of America's greatest cities. Davis creates her work by manipulating Polaroid SX 70 photographs while they're still soft and malleable. The result are pictures imbued with a dreamlike quality ? suggesting a place between photorealism and impressionist painting.
UID:3866-919599@events.umich.edu
URL:https://events.umich.edu/event/3866
CLASS:PUBLIC
STATUS:CONFIRMED
CATEGORIES:
LOCATION:University Hospitals - Taubman Center, North Lobby, Floor 1
CONTACT:
END:VEVENT
BEGIN:VEVENT
DTSTAMP:20090804T124300
DTSTART;TZID=America/Detroit:20091004T080000
DTEND;TZID=America/Detroit:20091004T200000
SUMMARY:Exhibition:Daydreams: Mixed Media Sculpture
DESCRIPTION:The two artists have been collaborating for nine years\, bringing together their respective backgrounds as glass artist and sculptor to create pieces that are both fun and serious. Their collaborative work sessions are often filled with humor and experimentation. They spend hours casting hot glass into sand molds\, and Mann assists Yerace on the larger blown elements in the work. Next\, they take the cooled glass and sketch\, discuss ideas and compositions\, and then independently create the finished pieces.
UID:3810-911679@events.umich.edu
URL:https://events.umich.edu/event/3810
CLASS:PUBLIC
STATUS:CONFIRMED
CATEGORIES:
LOCATION:University Hospitals - Taubman Center, North Lobby, Floor 1
CONTACT:
END:VEVENT
BEGIN:VEVENT
DTSTAMP:20101111T175740
DTSTART;TZID=America/Detroit:20091004T080000
DTEND;TZID=America/Detroit:20091004T200000
SUMMARY:Exhibition:Lots O’ Pots
DESCRIPTION:Working out of his studio in Grand Rapids for almost 25 years\, all of Wilson's pieces are wheel-formed porcelain\, altered and assembled\, with patterns of texture and inlaid slip. The warmth of Wilson's handmade craftmanship and an interplay of textural patterns and subtle glaze color make this pottery both artistic and fitting for everyday use.
UID:3846-916314@events.umich.edu
URL:https://events.umich.edu/event/3846
CLASS:PUBLIC
STATUS:CONFIRMED
CATEGORIES:
LOCATION:University Hospitals - Taubman Center, South Lobby, Floor 1
CONTACT:
END:VEVENT
BEGIN:VEVENT
DTSTAMP:20101111T175833
DTSTART;TZID=America/Detroit:20091004T080000
DTEND;TZID=America/Detroit:20091004T200000
SUMMARY:Exhibition:Our Diversity: Group Show by the Chelsea Painters
DESCRIPTION:The Chelsea Painters is a vibrant group of men and women who have a passion for developing their own artistic vision. They express this through a variety of mediums\, including watercolor\, gouache\, acrylic\, oil\, pastel\, monotype\, colored pencil\, pencil\, collage\, photo transfers and encaustics. They meet weekly in Chelsea and are actively involved in art on local\, regional\, and national levels. Membership is limited to 25 artists and is by invitation.
UID:3869-919822@events.umich.edu
URL:https://events.umich.edu/event/3869
CLASS:PUBLIC
STATUS:CONFIRMED
CATEGORIES:
LOCATION:University Hospitals - Taubman Center, South Lobby, Floor 1
CONTACT:
END:VEVENT
BEGIN:VEVENT
DTSTAMP:20101111T175624
DTSTART;TZID=America/Detroit:20091004T080000
DTEND;TZID=America/Detroit:20091004T200000
SUMMARY:Exhibition:Pictorial Tapestries by Anna Kocherovsky
DESCRIPTION:Russian-born tapestry artist Anna Kocherovsky draws inspiration for her handwoven works from reading and reflection\, creating numerous drawings for each piece. She loves mythology and history\, and the stories she enjoys often find their way into her work. Using a loom technique she learned in Moscow and imported wool yarns from Sweden\, Kocherovsky keeps the tradition alive in Michigan where she has lived since 1989.
UID:3804-911145@events.umich.edu
URL:https://events.umich.edu/event/3804
CLASS:PUBLIC
STATUS:CONFIRMED
CATEGORIES:
LOCATION:University Hospitals - Main Lobby, Floor 1
CONTACT:
END:VEVENT
BEGIN:VEVENT
DTSTAMP:20101111T175733
DTSTART;TZID=America/Detroit:20091004T080000
DTEND;TZID=America/Detroit:20091004T170000
SUMMARY:Exhibition:Secrets of the Garden
DESCRIPTION:These images were taken without a camera. Ponvert places her subjects directly on a digital scanner and then alters them in Photoshop. The images in this exhibit were taken over the past three years from subjects in her garden in Ann Arbor\, Michigan. Her work has been shown at the Kerrytown Concert House\, and her garden was chosen to be on the Ann Arbor Women's Farm and Garden Walk in 2008.
UID:3843-915817@events.umich.edu
URL:https://events.umich.edu/event/3843
CLASS:PUBLIC
STATUS:CONFIRMED
CATEGORIES:
LOCATION:Cancer Center - Level 1
CONTACT:
END:VEVENT
BEGIN:VEVENT
DTSTAMP:20101111T175849
DTSTART;TZID=America/Detroit:20091004T080000
DTEND;TZID=America/Detroit:20091004T200000
SUMMARY:Exhibition:Tear Jars
DESCRIPTION:Working with hot glass since 1998\, Walsh draws inspiration from a lifelong fascination with rocks and minerals. Her award-winning designs\, pictured in international magazines and books\, include jewelry\, miniature sculptures and functional objects\, and are displayed by more than 60 art galleries across the nation.
UID:3876-920814@events.umich.edu
URL:https://events.umich.edu/event/3876
CLASS:PUBLIC
STATUS:CONFIRMED
CATEGORIES:
LOCATION:University Hospitals - Main Corridor West, Floor 2
CONTACT:
END:VEVENT
BEGIN:VEVENT
DTSTAMP:20101111T175651
DTSTART;TZID=America/Detroit:20091004T080000
DTEND;TZID=America/Detroit:20091004T170000
SUMMARY:Exhibition:Wearable Art
DESCRIPTION:U-M School of Art & Design alumna Furtado started as a weaver over 30 years ago\, working on a loom. She is now engaged in a variety of activities as she produces her line of wearable art. Handweaving\, felting\, dyeing and beading are common tools of her trade. Lately\, she has been exploring Nuno felting\, a Japanese technique which combines wool felt with silk fabric. One of her dyeing techniques is a resist process involving clamping and applying dye in multiple steps\, creating a multiple-color\, multiple-shape design.
UID:3819-912985@events.umich.edu
URL:https://events.umich.edu/event/3819
CLASS:PUBLIC
STATUS:CONFIRMED
CATEGORIES:
LOCATION:Cancer Center - Main Lobby, Level B2
CONTACT:
END:VEVENT
BEGIN:VEVENT
DTSTAMP:20090930T140532
DTSTART;TZID=America/Detroit:20091004T090000
DTEND;TZID=America/Detroit:20091004T170000
SUMMARY:Exhibition:4+4 Faculty Invitational
DESCRIPTION:Artists' reception on Friday October 2 at 5:00 at the RC Art Gallery\n\nCome see RC Art Faculty and each of their invited artist guests: Michael Hannum - Mark Kirschenmann\;  Susan Crowell - WenDong Ren\;  Jason Wright - John Hoder\;  Larry Cressman - Ben Upton\;
UID:2063-918069@events.umich.edu
URL:https://events.umich.edu/event/2063
CLASS:PUBLIC
STATUS:CONFIRMED
CATEGORIES:visual arts
LOCATION:East Quadrangle - RC Art Gallery
CONTACT:
END:VEVENT
BEGIN:VEVENT
DTSTAMP:20090722T143534
DTSTART;TZID=America/Detroit:20091004T090000
DTEND;TZID=America/Detroit:20091004T170000
SUMMARY:Exhibition:Ida: Darwinius masillae
DESCRIPTION:\"Ida\,\" a new exhibit in the Exhibit Museum's Rotunda\, displays a high-resolution cast of an extremely rare  fossil discovered in 1983 near Messel\, Germany\, but only recently made available for study. The fossil has  proven to be a “link” between the prosimian and simian (\"anthropoid\") primate lineages. It has \"advanced\"  front teeth (incisors and canines) and second toes like those of monkeys\, and is broadly representative of what  human primate ancestors may have looked like during the Eocene epoch 47 million years ago.     Ida (prounded \"eeda\") is named after after the daughter of Dr JÃ¸rn Hurum\, the Norwegian vertebrate  paleontologist who secured one section of the fossil from an anonymous owner\, and led the research. Ida was  about eight months old\, or the equivalent of a six-year-old human.     Publication of a paper on the discovery was accompanied by a book\, The Link: Uncovering Our Earliest  Ancestors by Colin Tudge\, and a documentary shown on the History Channel (US)\, BBC One (UK)\,and various  stations in Germany and Norway.     U-M paleontologist Philip Gingerich and U-M anthropologist B. Holly Smith were two members of the \"dream  team\" invited to study Ida. The exhibit will be on display through May 2010.
UID:2124-918339@events.umich.edu
URL:https://events.umich.edu/event/2124
CLASS:PUBLIC
STATUS:CONFIRMED
CATEGORIES:welcome week,visual arts,multicultural
LOCATION:
CONTACT:
END:VEVENT
BEGIN:VEVENT
DTSTAMP:20101111T175638
DTSTART;TZID=America/Detroit:20091004T100000
SUMMARY:Exhibition:(Un)Natural History: The Museum Unveiled
DESCRIPTION:September 12 through December 6\, 2009\n\nRichard Barnes's series of photographs Animal Logic examines the role the museum plays in our understanding of ourselves through the acts of collecting\, preservation\, and display. Images from this large body of work include photographs of the collections from the Smithsonian Institution\, the Museum of Comparative Anatomy in Paris\, the Canadian Museum of Natural History\, and the San Francisco Academy of Science. (Un)Natural History focuses primarily on the natural history museum and by extension collecting institutions in general\, providing a kind of behind-the-scenes look at museum practice and display.\n\nThis exhibition will coincide with the UM LSA Theme Semester Meaningful Objects: Museums and the Academy. UMMA's presentation is projected to serve as part of a three-venue project highlighting different aspects of Barnes's work in partnership with the UM Institute for the Humanities–who have selected Richard Barnes as the Paula and Edwin Sidman Fellow in the Arts for 2009–and the Cranbrook Institute of Science in Bloomfield Hills\, Michigan.
UID:648-912267@events.umich.edu
URL:https://events.umich.edu/event/648
CLASS:PUBLIC
STATUS:CONFIRMED
CATEGORIES:visual arts
LOCATION:Museum of Art
CONTACT:
END:VEVENT
BEGIN:VEVENT
DTSTAMP:20101111T175834
DTSTART;TZID=America/Detroit:20091004T100000
SUMMARY:Exhibition:UMMA Projects: Lisa Anne Auerbach
DESCRIPTION:July 11 through October 11\, 2009\n\nOften combining wry humor with a biting critique of the complacency and routine of modern life\, Lisa Anne Auerbach's subversive brand of post-punk\, DIY aesthetics mixes art and politics in a manner both highly personal and thoroughly embedded in contemporary culture. Recent projects have addressed topics ranging from the current Iraq war to the politics of bicycling in a city of freeways. In her slogan-adorned sweater sets\, each outfit becomes a wearable canvas\, literally weaving together the personal and the political\, the aesthetic and the everyday. Auerbach's installation at UMMA will transform the Museum's most highly visible space–the Irving Stenn Jr. Family Project Gallery–into a showcase for her politically charged\, socially engaged knitwear. Appropriating strategies of presentation and display from the high-end clothing market\, this unconventional installation will encourage viewers to ask questions about how we experience different types of cultural spaces\, how we perceive the relationship between one type of luxury good (fashion) and another (art)\, and how both political and aesthetic discourses are framed in contemporary society.\n\nThis project is made possible in part by the W. Hawkins Ferry Fund and UMMA's New Visions Venture Fund.
UID:2472-920064@events.umich.edu
URL:https://events.umich.edu/event/2472
CLASS:PUBLIC
STATUS:CONFIRMED
CATEGORIES:visual arts
LOCATION:Museum of Art - Project Gallery
CONTACT:
END:VEVENT
BEGIN:VEVENT
DTSTAMP:20090731T135025
DTSTART;TZID=America/Detroit:20091004T130000
DTEND;TZID=America/Detroit:20091004T164500
SUMMARY:Exhibition:Exhibit
DESCRIPTION:The Clements Library observes the 250th anniversary of the main events of the climactic year of the French & Indian war with an exhibition of significant items from its collections\, from Benjamin West's painting \"The Death of General Wolfe\" to prints\, books\, maps and documents.
UID:3822-913553@events.umich.edu
URL:https://events.umich.edu/event/3822
CLASS:PUBLIC
STATUS:CONFIRMED
CATEGORIES:
LOCATION:William Clements Library - Main Room
CONTACT:
END:VEVENT
BEGIN:VEVENT
DTSTAMP:20090901T155813
DTSTART;TZID=America/Detroit:20091004T130000
SUMMARY:Other:Guided Tour: The New UMMA
DESCRIPTION:The New UMMA\n\nSaturday\, September 5\, 1 pm Sunday\, September 6\, 1 pm Wednesday\, September 9\, 12 pm Saturday\, September 12\, 1 pm Sunday\, September 13\, 1 pm Saturday\, September 19\, 1 pm Sunday\, September 20\, 1 pm Wednesday\, September 23\, 12 pm Saturday\, September 26\, 1 pm Sunday\, September 27\, 1 pm
UID:1037-913692@events.umich.edu
URL:https://events.umich.edu/event/1037
CLASS:PUBLIC
STATUS:CONFIRMED
CATEGORIES:visual arts
LOCATION:Museum of Art - Information Desk
CONTACT:
END:VEVENT
BEGIN:VEVENT
DTSTAMP:20091004T030002
DTSTART;TZID=America/Detroit:20091004T140000
SUMMARY:Other:Guest Recital:  Penelope Bitzas\, mezzo-soprano
DESCRIPTION:with Pantelis Polychronidis\, piano.  Ms. Bitzas\, Associate Professor of Voice at Boston University\, has performed in a wide variety of musical genres\, including opera\, contemporary music\, solo recital\, orchestral performances\, and Greek music. She has appeared as a soloist under such notable conductors as Kurt Masur\, Seiji Ozawa\, Gustav Meier\, Luciano Berio\, and Richard Westenburg. She has concertized in the United States\, Germany\, Cyprus\, Greece\, Turkey\, and Venezuela. As a frequent performer of new music and Greek music\, she has been heard at Alice Tully Hall\, Merkin Hall\, Jordan Hall\, and other venues in concerts and world premieres of this repertoire.
UID:1330-914201@events.umich.edu
URL:https://events.umich.edu/event/1330
CLASS:PUBLIC
STATUS:CONFIRMED
CATEGORIES:music
LOCATION:Walgreen Drama Center - Stamps Auditorium
CONTACT:
END:VEVENT
BEGIN:VEVENT
DTSTAMP:20090901T160018
DTSTART;TZID=America/Detroit:20091004T140000
SUMMARY:Other:Guided Tour: (Un)Natural History: The Museum Unveiled
DESCRIPTION:Free guided tour of the exhibition.
UID:2129-918487@events.umich.edu
URL:https://events.umich.edu/event/2129
CLASS:PUBLIC
STATUS:CONFIRMED
CATEGORIES:visual arts
LOCATION:Museum of Art - Information Desk
CONTACT:
END:VEVENT
BEGIN:VEVENT
DTSTAMP:20091004T030003
DTSTART;TZID=America/Detroit:20091004T160000
SUMMARY:Other:Guest Recital:  Hymn Festival
DESCRIPTION:Michael Burkhardt\, conductor.  Part of the 49th International Conference on Organ Music
UID:2487-920082@events.umich.edu
URL:https://events.umich.edu/event/2487
CLASS:PUBLIC
STATUS:CONFIRMED
CATEGORIES:music
LOCATION:Hill Auditorium -  
CONTACT:
END:VEVENT
BEGIN:VEVENT
DTSTAMP:20101111T175721
DTSTART;TZID=America/Detroit:20091004T190000
DTEND;TZID=America/Detroit:20091004T210000
SUMMARY:Film Screening:Invisible Children:S4S Presents: Shadow of the Moon
DESCRIPTION:Representatives from the national Invisible Children organization will be showing a film screening called “Shadow of the Moon.” The inspiring film shows where the movement has been since the original heartbreaking film\, Invisible Children: Rough Cut was released in 2003. \n\nTickets are $3 and are available starting October 1st at MUTO\, Ticketmaster\, through a club representative\, or at the door. All proceeds will be donated to help rebuild our partner school school in northern Uganda. For more information\, e-mail Jess or Rachel at umichschoolsforschools@gmail.com .
UID:1367-915012@events.umich.edu
URL:https://events.umich.edu/event/1367
CLASS:PUBLIC
STATUS:CONFIRMED
CATEGORIES:
LOCATION:Michigan League - 2nd Floor Ballroom
CONTACT:
END:VEVENT
BEGIN:VEVENT
DTSTAMP:20090930T142800
DTSTART;TZID=America/Detroit:20091004T190000
DTEND;TZID=America/Detroit:20091004T200000
SUMMARY:Class / Instruction:Israeli Folk Dancing
DESCRIPTION:Beginners class. Everyone and anyone welcome for an hour of learning and dancing your favorite Israeli folk dances. Easy\, and intermediate dances\, classic and contemporary Israeli Music. 7-8 pm every Sunday night\, starting October 4th.
UID:390-910480@events.umich.edu
URL:https://events.umich.edu/event/390
CLASS:PUBLIC
STATUS:CONFIRMED
CATEGORIES:
LOCATION:Hillel (Mandell L Berman Center)
CONTACT:
END:VEVENT
BEGIN:VEVENT
DTSTAMP:20101111T175656
DTSTART;TZID=America/Detroit:20091004T190000
SUMMARY:Film Screening:Shadow of the Moon
DESCRIPTION:In 2003\, three boys documented child soldiers in Uganda\, starting a national  movement.  See what has happened since the documentary\, Invisible Children:  Rough Cut\, was released and be inspired by this incredible story.
UID:901-913358@events.umich.edu
URL:https://events.umich.edu/event/901
CLASS:PUBLIC
STATUS:CONFIRMED
CATEGORIES:social justice,multicultural
LOCATION:Michigan League - Ballroom
CONTACT:
END:VEVENT
BEGIN:VEVENT
DTSTAMP:20101111T175717
DTSTART;TZID=America/Detroit:20091004T193000
SUMMARY:Performance:John Gorka
DESCRIPTION:The modern renaissance of folk music began when John Gorka won the Kerrville  Folk Festival's New Folk award in 1984\, and it grew to maturity when he released his  debut album\, \"I Know\,\" three years later. Here was a singer-songwriter with a  striking baritone voice that made you feel like you'd been hearing it all your life\,  with the songwriting chops to take on and see into nearly every type of song--from  personal pieces about love and sadness\, to bemused observations about daily life\,  political thinking-aloud\, and sheer\, unmitigated whimsy. More than two decades  later\, John Gorka still calls himself an aspiring folksinger\, and his music just keeps  getting deeper and better. Opening is singer-songwriter Drew Nelson\, who has a new  release\, \"Dusty Road to Beulah Land.\" This Grand Rapids native has a big fan in his  corner\, named John Gorka.
UID:1213-914779@events.umich.edu
URL:https://events.umich.edu/event/1213
CLASS:PUBLIC
STATUS:CONFIRMED
CATEGORIES:music
LOCATION:
CONTACT:
END:VEVENT
BEGIN:VEVENT
DTSTAMP:20091004T030003
DTSTART;TZID=America/Detroit:20091004T200000
SUMMARY:Other:Guest Recital:  Organists from the UM Historic Tour 56 to Spain and France
DESCRIPTION:Part of the 49th International Conference on Organ Music
UID:668-912329@events.umich.edu
URL:https://events.umich.edu/event/668
CLASS:PUBLIC
STATUS:CONFIRMED
CATEGORIES:music
LOCATION:Hill Auditorium -  
CONTACT:
END:VEVENT
BEGIN:VEVENT
DTSTAMP:20091004T030002
DTSTART;TZID=America/Detroit:20091004T200000
SUMMARY:Other:Student Composers Forum
DESCRIPTION:
UID:523-911039@events.umich.edu
URL:https://events.umich.edu/event/523
CLASS:PUBLIC
STATUS:CONFIRMED
CATEGORIES:music
LOCATION:Earl V. Moore Building - Britton Recital Hall
CONTACT:
END:VEVENT
END:VCALENDAR