BEGIN:VCALENDAR
VERSION:2.0
PRODID:-//UM//UM*Events//EN
CALSCALE:GREGORIAN
BEGIN:VTIMEZONE
TZID:America/Detroit
TZURL:http://tzurl.org/zoneinfo/America/Detroit
X-LIC-LOCATION:America/Detroit
BEGIN:DAYLIGHT
TZOFFSETFROM:-0500
TZOFFSETTO:-0400
TZNAME:EDT
DTSTART:20070311T020000
RRULE:FREQ=YEARLY;BYMONTH=3;BYDAY=2SU
END:DAYLIGHT
BEGIN:STANDARD
TZOFFSETFROM:-0400
TZOFFSETTO:-0500
TZNAME:EST
DTSTART:20071104T020000
RRULE:FREQ=YEARLY;BYMONTH=11;BYDAY=1SU
END:STANDARD
END:VTIMEZONE
BEGIN:VEVENT
DTSTAMP:20101111T175710
DTSTART;TZID=America/Detroit:20091006T000000
SUMMARY:Exhibition:\"Landscape and Memory\" at Gallery Project
DESCRIPTION:Landscape and Memory seeks the experience and sensation of landscape\, tracing memory beyond symbol and  image\, to find a place in-between land and mind that is grounded in shared human experience\, evolution\,  geology\, and memory. \n\nSkyscrapers\, landfill mounds\, and industrialized agriculture often lead society to collectively assume that\, via  human engineering and construction\, it is we who shape the landscape to ourselves. In contrast to this line of  thought\, Landscape and Memory presents the self as shaped by environment and landscape.\n\nCURATED BY Catherine Meier and Joshua Smith \n\nARTISTS Shane Anderson\, Katherine E. Bash\, Jennilie Brewster\, Rocco DePietro\, Sarah Kanouse\, Catherine  Meier\, Zac Montanaro\, Bruce Myren\, Anne Percoco\, Marianetta Porter\, Gloria Pritschet\, Terri Sarris\, Matthew  Shlian\, Joshua Ray Smith and Mary Tsiongas
UID:1392-914311@events.umich.edu
URL:https://events.umich.edu/event/1392
CLASS:PUBLIC
STATUS:CONFIRMED
CATEGORIES:visual arts
LOCATION:
CONTACT:
END:VEVENT
BEGIN:VEVENT
DTSTAMP:20101111T175642
DTSTART;TZID=America/Detroit:20091006T000000
SUMMARY:Exhibition:Bioartography
DESCRIPTION:The U-M Center for Organogenesis unites scientists from many fields who work together to study organ growth\, function and disease.  The goal of these studies is to use what is learned to design new and effective ways to treat disease and repair damaged organs. In the course of this work\, scientists use the microscope and special stains or “colors” to look at tissues for changes that could affect our health. These tiny biological structures that are studied are often beautiful and  present a fascinating combination of art and science.\n\nAll images are available for purchase and all proceeds support research training at the University of Michigan\, Center for Organogenesis.  For more information\,  visit the Bioartography website at www.bioartography.com
UID:799-912531@events.umich.edu
URL:https://events.umich.edu/event/799
CLASS:PUBLIC
STATUS:CONFIRMED
CATEGORIES:
LOCATION:Duderstadt Center - Gallery
CONTACT:
END:VEVENT
BEGIN:VEVENT
DTSTAMP:20101111T175755
DTSTART;TZID=America/Detroit:20091006T000000
SUMMARY:Exhibition:Exhibit
DESCRIPTION:Economic crises on an international scale are not new\, and President Ford inherited a tough one in 1974. A new exhibit at the Ford Library in Ann Arbor shows how he attacked a troubling brew of inflation\, recession\, budget deficits and oil supply worries. This exhibit features rarely seen artifacts and archival materials from the Ford Library and Museum collections.
UID:3853-917268@events.umich.edu
URL:https://events.umich.edu/event/3853
CLASS:PUBLIC
STATUS:CONFIRMED
CATEGORIES:
LOCATION:Gerald Ford Library
CONTACT:
END:VEVENT
BEGIN:VEVENT
DTSTAMP:20101111T175751
DTSTART;TZID=America/Detroit:20091006T000000
SUMMARY:Exhibition:Exhibit
DESCRIPTION:Permanent lobby exhibits present the stories of President Gerald Ford and First Lady Betty Ford through archival photos and documents.
UID:2023-917014@events.umich.edu
URL:https://events.umich.edu/event/2023
CLASS:PUBLIC
STATUS:CONFIRMED
CATEGORIES:
LOCATION:Gerald Ford Library
CONTACT:
END:VEVENT
BEGIN:VEVENT
DTSTAMP:20101111T175620
DTSTART;TZID=America/Detroit:20091006T000000
SUMMARY:Exhibition:Permanent Exhibits at the Exhibit Museum of Natural History
DESCRIPTION:The Hall of Evolution houses Michigan's largest display of prehistoric life. More than 600 million years of life on Earth are traced through fossils\, models and dioramas. The Michigan Wildlife Gallery has a large collection of native Great Lakes birds\, mammals\, reptiles\, and amphibians\, with taxidermy mounts\, habitat scenes\, and the largest mastodon trackway on display in the world. There are also displays about some of the environmental problems faced in this region today. The Anthropology Displays feature artifacts from human cultures around the world. The Geology Displays on the fourth floor offer a large selection of rocks\, minerals and gems. These displays are updated periodically. For more information go to www.lsa.umich.edu/exhibitmuseum/exhibits/permexhibits or call 734-764-0480.
UID:452-910843@events.umich.edu
URL:https://events.umich.edu/event/452
CLASS:PUBLIC
STATUS:CONFIRMED
CATEGORIES:
LOCATION:Ruthven Museums Building
CONTACT:
END:VEVENT
BEGIN:VEVENT
DTSTAMP:20090804T124110
DTSTART;TZID=America/Detroit:20091006T080000
DTEND;TZID=America/Detroit:20091006T200000
SUMMARY:Exhibition:Art in Nature
DESCRIPTION:In these small art quilts Grand Blanc artist Mary Andrews\, depicts nature from the smallest detail to the larger landscape. She dyes her own fabric\, uses machine and hand quilting\, and embellishes with paint\, thread and various surface design elements. Her work is exhibited in the U.S.\, Canada\, Europe and Australia.
UID:3838-915314@events.umich.edu
URL:https://events.umich.edu/event/3838
CLASS:PUBLIC
STATUS:CONFIRMED
CATEGORIES:
LOCATION:University Hospitals - Main Corridor West, Floor 2
CONTACT:
END:VEVENT
BEGIN:VEVENT
DTSTAMP:20101111T175829
DTSTART;TZID=America/Detroit:20091006T080000
DTEND;TZID=America/Detroit:20091006T200000
SUMMARY:Exhibition:Chicago: Hand-Altered Polaroid Photographs by Cynthia Davis
DESCRIPTION:The award-winning artist captures the Windy City in these enlargements from her fifth book\, \"Chicago\,\" published by the University of Michigan Press. They offer a unique view of one of America's greatest cities. Davis creates her work by manipulating Polaroid SX 70 photographs while they're still soft and malleable. The result are pictures imbued with a dreamlike quality ? suggesting a place between photorealism and impressionist painting.
UID:3866-919601@events.umich.edu
URL:https://events.umich.edu/event/3866
CLASS:PUBLIC
STATUS:CONFIRMED
CATEGORIES:
LOCATION:University Hospitals - Taubman Center, North Lobby, Floor 1
CONTACT:
END:VEVENT
BEGIN:VEVENT
DTSTAMP:20090804T124300
DTSTART;TZID=America/Detroit:20091006T080000
DTEND;TZID=America/Detroit:20091006T200000
SUMMARY:Exhibition:Daydreams: Mixed Media Sculpture
DESCRIPTION:The two artists have been collaborating for nine years\, bringing together their respective backgrounds as glass artist and sculptor to create pieces that are both fun and serious. Their collaborative work sessions are often filled with humor and experimentation. They spend hours casting hot glass into sand molds\, and Mann assists Yerace on the larger blown elements in the work. Next\, they take the cooled glass and sketch\, discuss ideas and compositions\, and then independently create the finished pieces.
UID:3810-911681@events.umich.edu
URL:https://events.umich.edu/event/3810
CLASS:PUBLIC
STATUS:CONFIRMED
CATEGORIES:
LOCATION:University Hospitals - Taubman Center, North Lobby, Floor 1
CONTACT:
END:VEVENT
BEGIN:VEVENT
DTSTAMP:20101111T175759
DTSTART;TZID=America/Detroit:20091006T080000
DTEND;TZID=America/Detroit:20091006T170000
SUMMARY:Exhibition:History of Dentistry exhibits at the Sindecuse Museum of Dentistry
DESCRIPTION:Exhibits at the Sindecuse Museum of Dentistry include Dental Operatories of the 1860s to 1930s\, St. Apollonia-Patron Saint of Dentistry and more. Call 763-0767 or go to www.dent.umich.edu/museum for more information.
UID:3856-917607@events.umich.edu
URL:https://events.umich.edu/event/3856
CLASS:PUBLIC
STATUS:CONFIRMED
CATEGORIES:
LOCATION:Dental & W.K. Kellogg Institute
CONTACT:
END:VEVENT
BEGIN:VEVENT
DTSTAMP:20101111T175740
DTSTART;TZID=America/Detroit:20091006T080000
DTEND;TZID=America/Detroit:20091006T200000
SUMMARY:Exhibition:Lots O’ Pots
DESCRIPTION:Working out of his studio in Grand Rapids for almost 25 years\, all of Wilson's pieces are wheel-formed porcelain\, altered and assembled\, with patterns of texture and inlaid slip. The warmth of Wilson's handmade craftmanship and an interplay of textural patterns and subtle glaze color make this pottery both artistic and fitting for everyday use.
UID:3846-916316@events.umich.edu
URL:https://events.umich.edu/event/3846
CLASS:PUBLIC
STATUS:CONFIRMED
CATEGORIES:
LOCATION:University Hospitals - Taubman Center, South Lobby, Floor 1
CONTACT:
END:VEVENT
BEGIN:VEVENT
DTSTAMP:20101111T175833
DTSTART;TZID=America/Detroit:20091006T080000
DTEND;TZID=America/Detroit:20091006T200000
SUMMARY:Exhibition:Our Diversity: Group Show by the Chelsea Painters
DESCRIPTION:The Chelsea Painters is a vibrant group of men and women who have a passion for developing their own artistic vision. They express this through a variety of mediums\, including watercolor\, gouache\, acrylic\, oil\, pastel\, monotype\, colored pencil\, pencil\, collage\, photo transfers and encaustics. They meet weekly in Chelsea and are actively involved in art on local\, regional\, and national levels. Membership is limited to 25 artists and is by invitation.
UID:3869-919824@events.umich.edu
URL:https://events.umich.edu/event/3869
CLASS:PUBLIC
STATUS:CONFIRMED
CATEGORIES:
LOCATION:University Hospitals - Taubman Center, South Lobby, Floor 1
CONTACT:
END:VEVENT
BEGIN:VEVENT
DTSTAMP:20101111T175624
DTSTART;TZID=America/Detroit:20091006T080000
DTEND;TZID=America/Detroit:20091006T200000
SUMMARY:Exhibition:Pictorial Tapestries by Anna Kocherovsky
DESCRIPTION:Russian-born tapestry artist Anna Kocherovsky draws inspiration for her handwoven works from reading and reflection\, creating numerous drawings for each piece. She loves mythology and history\, and the stories she enjoys often find their way into her work. Using a loom technique she learned in Moscow and imported wool yarns from Sweden\, Kocherovsky keeps the tradition alive in Michigan where she has lived since 1989.
UID:3804-911147@events.umich.edu
URL:https://events.umich.edu/event/3804
CLASS:PUBLIC
STATUS:CONFIRMED
CATEGORIES:
LOCATION:University Hospitals - Main Lobby, Floor 1
CONTACT:
END:VEVENT
BEGIN:VEVENT
DTSTAMP:20101111T175733
DTSTART;TZID=America/Detroit:20091006T080000
DTEND;TZID=America/Detroit:20091006T170000
SUMMARY:Exhibition:Secrets of the Garden
DESCRIPTION:These images were taken without a camera. Ponvert places her subjects directly on a digital scanner and then alters them in Photoshop. The images in this exhibit were taken over the past three years from subjects in her garden in Ann Arbor\, Michigan. Her work has been shown at the Kerrytown Concert House\, and her garden was chosen to be on the Ann Arbor Women's Farm and Garden Walk in 2008.
UID:3843-915819@events.umich.edu
URL:https://events.umich.edu/event/3843
CLASS:PUBLIC
STATUS:CONFIRMED
CATEGORIES:
LOCATION:Cancer Center - Level 1
CONTACT:
END:VEVENT
BEGIN:VEVENT
DTSTAMP:20101111T175849
DTSTART;TZID=America/Detroit:20091006T080000
DTEND;TZID=America/Detroit:20091006T200000
SUMMARY:Exhibition:Tear Jars
DESCRIPTION:Working with hot glass since 1998\, Walsh draws inspiration from a lifelong fascination with rocks and minerals. Her award-winning designs\, pictured in international magazines and books\, include jewelry\, miniature sculptures and functional objects\, and are displayed by more than 60 art galleries across the nation.
UID:3876-920816@events.umich.edu
URL:https://events.umich.edu/event/3876
CLASS:PUBLIC
STATUS:CONFIRMED
CATEGORIES:
LOCATION:University Hospitals - Main Corridor West, Floor 2
CONTACT:
END:VEVENT
BEGIN:VEVENT
DTSTAMP:20101111T175651
DTSTART;TZID=America/Detroit:20091006T080000
DTEND;TZID=America/Detroit:20091006T170000
SUMMARY:Exhibition:Wearable Art
DESCRIPTION:U-M School of Art & Design alumna Furtado started as a weaver over 30 years ago\, working on a loom. She is now engaged in a variety of activities as she produces her line of wearable art. Handweaving\, felting\, dyeing and beading are common tools of her trade. Lately\, she has been exploring Nuno felting\, a Japanese technique which combines wool felt with silk fabric. One of her dyeing techniques is a resist process involving clamping and applying dye in multiple steps\, creating a multiple-color\, multiple-shape design.
UID:3819-912987@events.umich.edu
URL:https://events.umich.edu/event/3819
CLASS:PUBLIC
STATUS:CONFIRMED
CATEGORIES:
LOCATION:Cancer Center - Main Lobby, Level B2
CONTACT:
END:VEVENT
BEGIN:VEVENT
DTSTAMP:20090930T140532
DTSTART;TZID=America/Detroit:20091006T090000
DTEND;TZID=America/Detroit:20091006T170000
SUMMARY:Exhibition:4+4 Faculty Invitational
DESCRIPTION:Artists' reception on Friday October 2 at 5:00 at the RC Art Gallery\n\nCome see RC Art Faculty and each of their invited artist guests: Michael Hannum - Mark Kirschenmann\;  Susan Crowell - WenDong Ren\;  Jason Wright - John Hoder\;  Larry Cressman - Ben Upton\;
UID:2063-918071@events.umich.edu
URL:https://events.umich.edu/event/2063
CLASS:PUBLIC
STATUS:CONFIRMED
CATEGORIES:visual arts
LOCATION:East Quadrangle - RC Art Gallery
CONTACT:
END:VEVENT
BEGIN:VEVENT
DTSTAMP:20090818T134607
DTSTART;TZID=America/Detroit:20091006T090000
DTEND;TZID=America/Detroit:20091006T170000
SUMMARY:Other:HUMANITIES GALLERY
DESCRIPTION:OPENING RECEPTION: THURSDAY\, SEPTEMBER 17\, 2009\, 6:30-8:00 PM (immediately following  the School of Art and Design's Penny Stamps Lecture at the Michigan Theater in Ann Arbor) 202  SOUTH THAYER STREET ROOM 1010 ANN ARBOR\, MICHIGAN Gallery hours: Monday - Friday\,  9:00AM-5:00PM ***** In this photographic exhibit\, RICHARD BARNES\, the Institute for the  Humanities' 2009 Paula and Edwin Sidman Fellow in the Arts\, presents innovative new work  inspired by the paleontology and anthropology collections in the University of Michigan Exhibits  Museum and the ornithology collection in the Museum of Zoology. In this unique installation\,  Barnes considers the nature of things from collection and display to extinction. A prehistoric  skeletal whale juxtaposes a mound of rubber molds and resin casts\, examining questions of  replication and authenticity\, what we save and what we lose. Both lyrical and visceral\, Barnes'  work engages us in a provocative conversation about museological practice from behind the  scenes\, capturing the inextricable relationship between human gesture and the inevitability of  extinction. For more information\, contact Amanda Krugliak(mandak@umich.edu). (734) 936-3518.
UID:1157-914633@events.umich.edu
URL:https://events.umich.edu/event/1157
CLASS:PUBLIC
STATUS:CONFIRMED
CATEGORIES:visual arts
LOCATION:202 S. Thayer
CONTACT:
END:VEVENT
BEGIN:VEVENT
DTSTAMP:20090722T143534
DTSTART;TZID=America/Detroit:20091006T090000
DTEND;TZID=America/Detroit:20091006T170000
SUMMARY:Exhibition:Ida: Darwinius masillae
DESCRIPTION:\"Ida\,\" a new exhibit in the Exhibit Museum's Rotunda\, displays a high-resolution cast of an extremely rare  fossil discovered in 1983 near Messel\, Germany\, but only recently made available for study. The fossil has  proven to be a “link” between the prosimian and simian (\"anthropoid\") primate lineages. It has \"advanced\"  front teeth (incisors and canines) and second toes like those of monkeys\, and is broadly representative of what  human primate ancestors may have looked like during the Eocene epoch 47 million years ago.     Ida (prounded \"eeda\") is named after after the daughter of Dr JÃ¸rn Hurum\, the Norwegian vertebrate  paleontologist who secured one section of the fossil from an anonymous owner\, and led the research. Ida was  about eight months old\, or the equivalent of a six-year-old human.     Publication of a paper on the discovery was accompanied by a book\, The Link: Uncovering Our Earliest  Ancestors by Colin Tudge\, and a documentary shown on the History Channel (US)\, BBC One (UK)\,and various  stations in Germany and Norway.     U-M paleontologist Philip Gingerich and U-M anthropologist B. Holly Smith were two members of the \"dream  team\" invited to study Ida. The exhibit will be on display through May 2010.
UID:2124-918341@events.umich.edu
URL:https://events.umich.edu/event/2124
CLASS:PUBLIC
STATUS:CONFIRMED
CATEGORIES:visual arts,welcome week,multicultural
LOCATION:
CONTACT:
END:VEVENT
BEGIN:VEVENT
DTSTAMP:20101111T175801
DTSTART;TZID=America/Detroit:20091006T090000
DTEND;TZID=America/Detroit:20091006T130000
SUMMARY:Fair / Festival:International Studies Abroad (ISA)
DESCRIPTION:
UID:1919-917866@events.umich.edu
URL:https://events.umich.edu/event/1919
CLASS:PUBLIC
STATUS:CONFIRMED
CATEGORIES:
LOCATION:Michigan Union - ground floor, near bookstore
CONTACT:
END:VEVENT
BEGIN:VEVENT
DTSTAMP:20101111T175638
DTSTART;TZID=America/Detroit:20091006T100000
SUMMARY:Exhibition:(Un)Natural History: The Museum Unveiled
DESCRIPTION:September 12 through December 6\, 2009\n\nRichard Barnes's series of photographs Animal Logic examines the role the museum plays in our understanding of ourselves through the acts of collecting\, preservation\, and display. Images from this large body of work include photographs of the collections from the Smithsonian Institution\, the Museum of Comparative Anatomy in Paris\, the Canadian Museum of Natural History\, and the San Francisco Academy of Science. (Un)Natural History focuses primarily on the natural history museum and by extension collecting institutions in general\, providing a kind of behind-the-scenes look at museum practice and display.\n\nThis exhibition will coincide with the UM LSA Theme Semester Meaningful Objects: Museums and the Academy. UMMA's presentation is projected to serve as part of a three-venue project highlighting different aspects of Barnes's work in partnership with the UM Institute for the Humanities–who have selected Richard Barnes as the Paula and Edwin Sidman Fellow in the Arts for 2009–and the Cranbrook Institute of Science in Bloomfield Hills\, Michigan.
UID:648-912269@events.umich.edu
URL:https://events.umich.edu/event/648
CLASS:PUBLIC
STATUS:CONFIRMED
CATEGORIES:visual arts
LOCATION:Museum of Art
CONTACT:
END:VEVENT
BEGIN:VEVENT
DTSTAMP:20101111T175722
DTSTART;TZID=America/Detroit:20091006T100000
DTEND;TZID=America/Detroit:20091006T120000
SUMMARY:Workshop / Seminar:Creating Professional-looking Conference Posters
DESCRIPTION:In this workshop\, participants will learn how to use Adobe Illustrator to create high quality\, eye-catching posters. Participants will learn techniques for organizing materials and printing posters on the large format color printer located in GroundWorks\, the Media Conversion Lab at the Duderstadt Center. Basic computer skills are required\, but no prior experience with graphics applications is necessary. Regardless of the type of computer used in this session\, everything covered is applicable whether you normally use a Mac or a Windows PC.
UID:1405-915067@events.umich.edu
URL:https://events.umich.edu/event/1405
CLASS:PUBLIC
STATUS:CONFIRMED
CATEGORIES:
LOCATION:Duderstadt Center - 3336
CONTACT:
END:VEVENT
BEGIN:VEVENT
DTSTAMP:20101111T175600
DTSTART;TZID=America/Detroit:20091006T100000
DTEND;TZID=America/Detroit:20091006T170000
SUMMARY:Exhibition:Stearns Collection of Music
DESCRIPTION:The Stearns Collection at the School of Music\, Theatre & Dance is one of six major collections of musical instruments in North America. The 2\,500-piece collection is internationally known and is a resource for musical and cultural education.
UID:3790-909124@events.umich.edu
URL:https://events.umich.edu/event/3790
CLASS:PUBLIC
STATUS:CONFIRMED
CATEGORIES:
LOCATION:Earl V. Moore Building
CONTACT:
END:VEVENT
BEGIN:VEVENT
DTSTAMP:20101111T175637
DTSTART;TZID=America/Detroit:20091006T100000
DTEND;TZID=America/Detroit:20091006T120000
SUMMARY:Workshop / Seminar:UM.Sitemaker: Websites Made Simple
DESCRIPTION:UM.SiteMaker is a system that helps University of Michigan faculty\, students and staff quickly create websites and web databases without having to know a lot of technical details. In this session\, we will explore basic UM.Sitemaker functionality for creating pages and assigning access to various online material.
UID:607-912168@events.umich.edu
URL:https://events.umich.edu/event/607
CLASS:PUBLIC
STATUS:CONFIRMED
CATEGORIES:
LOCATION:Hatcher Graduate Library - 206
CONTACT:
END:VEVENT
BEGIN:VEVENT
DTSTAMP:20101111T175834
DTSTART;TZID=America/Detroit:20091006T100000
SUMMARY:Exhibition:UMMA Projects: Lisa Anne Auerbach
DESCRIPTION:July 11 through October 11\, 2009\n\nOften combining wry humor with a biting critique of the complacency and routine of modern life\, Lisa Anne Auerbach's subversive brand of post-punk\, DIY aesthetics mixes art and politics in a manner both highly personal and thoroughly embedded in contemporary culture. Recent projects have addressed topics ranging from the current Iraq war to the politics of bicycling in a city of freeways. In her slogan-adorned sweater sets\, each outfit becomes a wearable canvas\, literally weaving together the personal and the political\, the aesthetic and the everyday. Auerbach's installation at UMMA will transform the Museum's most highly visible space–the Irving Stenn Jr. Family Project Gallery–into a showcase for her politically charged\, socially engaged knitwear. Appropriating strategies of presentation and display from the high-end clothing market\, this unconventional installation will encourage viewers to ask questions about how we experience different types of cultural spaces\, how we perceive the relationship between one type of luxury good (fashion) and another (art)\, and how both political and aesthetic discourses are framed in contemporary society.\n\nThis project is made possible in part by the W. Hawkins Ferry Fund and UMMA's New Visions Venture Fund.
UID:2472-920066@events.umich.edu
URL:https://events.umich.edu/event/2472
CLASS:PUBLIC
STATUS:CONFIRMED
CATEGORIES:visual arts
LOCATION:Museum of Art - Project Gallery
CONTACT:
END:VEVENT
BEGIN:VEVENT
DTSTAMP:20101111T175629
DTSTART;TZID=America/Detroit:20091006T120000
DTEND;TZID=America/Detroit:20091006T180000
SUMMARY:Exhibition:BioArt Exhibit: BioArtography
DESCRIPTION:The University of Michigan Center for Organogenesis unites scientists from many fields who work together to study organ growth\, function and disease.  The goal from these studies is to design new and effective ways to treat disease and repair damaged organs.  In the course of this work\, we use the microscope and special stains or “colors” to look at tissues for changes that could affect our health.  These tiny biological structures are often beautiful and we share them with you here as “Bioartography”\, a fascinating combination of art and science.\n\nAll images have been submitted to the Center for Organogenesis from Faculty\, Research Scientists\, Postdoctoral & Predoctoral Fellows\, Graduate and Undergraduate Students.  All proceeds support research training at the University of Michigan\, Center for Organogenesis.  For more information\, please contact the Center for Organogenesis at 734/936-2499 or rpintar@umich.edu.  To view all images\, visit the Bioartography website at www.bioartography.com.
UID:763-911523@events.umich.edu
URL:https://events.umich.edu/event/763
CLASS:PUBLIC
STATUS:CONFIRMED
CATEGORIES:visual arts
LOCATION:Duderstadt Center - Duderstadt Gallery
CONTACT:
END:VEVENT
BEGIN:VEVENT
DTSTAMP:20101111T175728
DTSTART;TZID=America/Detroit:20091006T120000
DTEND;TZID=America/Detroit:20091006T133000
SUMMARY:Lecture / Discussion:Greek Theatre in Modern Dance: An Alternative Archaeology?
DESCRIPTION:Greek theatre is an important component in the work of great figures of modern  dance from Isadora Duncan to Martha Graham. From the mid-1920s to 1940\, the  lesser known American choreographer\, composer\, and director Eva Palmer  Sikelianos experimented in Greece and in the U.S. with ways to animate ancient  drama. Drawing on unpublished photographs\, correspondence\, and notes\, this talk  unearths a little-known episode in the story of modernism's encounter with the  Greek legacy involving Palmer Sikelianos and the \"father\" of modern dance Ted  Shawn\, and shows Palmer Sikelianos to be a missing link in modern dance's Greek  story. Through this episode\, it explores how performance artists pursued a popular\,  non-material archaeology using observation\, intuition\, and practice to retrace  elements of the past that decay immediately.\n\nArtemis Leontis is Associate Professor of Modern Greek in the Department of  Classical Studies.
UID:1611-915461@events.umich.edu
URL:https://events.umich.edu/event/1611
CLASS:PUBLIC
STATUS:CONFIRMED
CATEGORIES:
LOCATION:202 S. Thayer - 2022
CONTACT:
END:VEVENT
BEGIN:VEVENT
DTSTAMP:20090731T135025
DTSTART;TZID=America/Detroit:20091006T130000
DTEND;TZID=America/Detroit:20091006T164500
SUMMARY:Exhibition:Exhibit
DESCRIPTION:The Clements Library observes the 250th anniversary of the main events of the climactic year of the French & Indian war with an exhibition of significant items from its collections\, from Benjamin West's painting \"The Death of General Wolfe\" to prints\, books\, maps and documents.
UID:3822-913555@events.umich.edu
URL:https://events.umich.edu/event/3822
CLASS:PUBLIC
STATUS:CONFIRMED
CATEGORIES:
LOCATION:William Clements Library - Main Room
CONTACT:
END:VEVENT
BEGIN:VEVENT
DTSTAMP:20101111T175816
DTSTART;TZID=America/Detroit:20091006T150000
DTEND;TZID=America/Detroit:20091006T170000
SUMMARY:Workshop / Seminar:Automatically Creating Citations and Bibliographies with EndNote X2 (12)
DESCRIPTION:Doing research or preparing a dissertation? Using EndNote can make your life easier! Well cover the basics of creating and managing a personal bibliographic database\, including importing citations from online resources and generating formatted bibliographies. In addition\, youll also learn more about EndNotes Cite While You Write feature for editing citations as you work (adding page numbers\, deleting an author from the citation itself\, etc.).
UID:2393-919006@events.umich.edu
URL:https://events.umich.edu/event/2393
CLASS:PUBLIC
STATUS:CONFIRMED
CATEGORIES:
LOCATION:Hatcher Graduate Library - 206
CONTACT:
END:VEVENT
BEGIN:VEVENT
DTSTAMP:20101111T175615
DTSTART;TZID=America/Detroit:20091006T190000
DTEND;TZID=America/Detroit:20091006T203000
SUMMARY:Workshop / Seminar:Career Opportunities for Foreign Language Students
DESCRIPTION:Tuesday\, October 6\, 7:00-8:30 PM\n\n Do you love studying languages and cultures\, but are you worried what you'll \"do with it\" after graduation?  Attend the \"Career Opportunities for Language Students\" panel for ideas about how you can put your interest in language to work.
UID:261-910214@events.umich.edu
URL:https://events.umich.edu/event/261
CLASS:PUBLIC
STATUS:CONFIRMED
CATEGORIES:
LOCATION:Modern Languages Building - Lecture Room 1
CONTACT:
END:VEVENT
BEGIN:VEVENT
DTSTAMP:20091211T154016
DTSTART;TZID=America/Detroit:20091006T200000
DTEND;TZID=America/Detroit:20091006T230000
SUMMARY:Other:Artsbreak
DESCRIPTION:Artsbreak is a FREE arts and crafts night every Tuesday from 8pm-11pm in the MUG (Michigan Union Ground floor). Examples of crafts we've done in the past are: painting pumpkins\, decorating small canvas tote bags\, wire photo holders\, polar fleece scarves\, and jewelry making. For the most updated craft list or to suggest a craft\, email artsbreak-uuap@umich.edu to get on our weekly listserv\, or check out UUAP's website.
UID:1256-914125@events.umich.edu
URL:https://events.umich.edu/event/1256
CLASS:PUBLIC
STATUS:CONFIRMED
CATEGORIES:visual arts
LOCATION:Michigan Union - MUG
CONTACT:
END:VEVENT
BEGIN:VEVENT
DTSTAMP:20091020T080606
DTSTART;TZID=America/Detroit:20091006T200000
DTEND;TZID=America/Detroit:20091006T210000
SUMMARY:Other:Figure Drawing Workshops
DESCRIPTION:The Lloyd Hall Scholars Program is pleased to offer Open Figure Drawing Sessions every Tuesday and Thursday evening throughout the semester. These drawing sessions feature live models in a casual studio setting. Non-instructional\, limited supplies available. Beginners are always welcome.
UID:1414-915080@events.umich.edu
URL:https://events.umich.edu/event/1414
CLASS:PUBLIC
STATUS:CONFIRMED
CATEGORIES:visual arts
LOCATION:Alice Lloyd Hall - Art Studio located on ground floor
CONTACT:
END:VEVENT
BEGIN:VEVENT
DTSTAMP:20091006T030003
DTSTART;TZID=America/Detroit:20091006T200000
SUMMARY:Other:Guest Recital:  James Hammann\, organ
DESCRIPTION:Part of the 49th International Conference on Organ Music
UID:1608-916246@events.umich.edu
URL:https://events.umich.edu/event/1608
CLASS:PUBLIC
STATUS:CONFIRMED
CATEGORIES:music
LOCATION:Hill Auditorium -  
CONTACT:
END:VEVENT
BEGIN:VEVENT
DTSTAMP:20101111T175718
DTSTART;TZID=America/Detroit:20091006T200000
SUMMARY:Performance:Ines Bacan & Spanish Day: The Flamenco Rock Opera
DESCRIPTION:
UID:1250-914816@events.umich.edu
URL:https://events.umich.edu/event/1250
CLASS:PUBLIC
STATUS:CONFIRMED
CATEGORIES:music,multicultural
LOCATION:
CONTACT:
END:VEVENT
BEGIN:VEVENT
DTSTAMP:20091006T030003
DTSTART;TZID=America/Detroit:20091006T200000
SUMMARY:Other:Michigan Chamber Players:  UM Faculty Woodwind Quintet
DESCRIPTION:Amy Porter (flute)\, Nancy Ambrose King (oboe)\, Daniel Gilbert (clarinet)\, Jeffrey Lyman (bassoon)\, Adam Unsworth (horn)  PROGRAM:  Ligeti – Six Bagagells for Wind Quintet\; Scott/Coleman – Josephine Baker – The Beautiful Siren like the Actor  Joseph Gramley\, percussion\; Schocker – Chorinho\; Steinmetz - Quintet
UID:432-911592@events.umich.edu
URL:https://events.umich.edu/event/432
CLASS:PUBLIC
STATUS:CONFIRMED
CATEGORIES:music
LOCATION:Earl V. Moore Building - Britton Recital Hall
CONTACT:
END:VEVENT
END:VCALENDAR