BEGIN:VCALENDAR
VERSION:2.0
PRODID:-//UM//UM*Events//EN
CALSCALE:GREGORIAN
BEGIN:VTIMEZONE
TZID:America/Detroit
TZURL:http://tzurl.org/zoneinfo/America/Detroit
X-LIC-LOCATION:America/Detroit
BEGIN:DAYLIGHT
TZOFFSETFROM:-0500
TZOFFSETTO:-0400
TZNAME:EDT
DTSTART:20070311T020000
RRULE:FREQ=YEARLY;BYMONTH=3;BYDAY=2SU
END:DAYLIGHT
BEGIN:STANDARD
TZOFFSETFROM:-0400
TZOFFSETTO:-0500
TZNAME:EST
DTSTART:20071104T020000
RRULE:FREQ=YEARLY;BYMONTH=11;BYDAY=1SU
END:STANDARD
END:VTIMEZONE
BEGIN:VEVENT
DTSTAMP:20101111T175710
DTSTART;TZID=America/Detroit:20091010T000000
SUMMARY:Exhibition:\"Landscape and Memory\" at Gallery Project
DESCRIPTION:Landscape and Memory seeks the experience and sensation of landscape\, tracing memory beyond symbol and  image\, to find a place in-between land and mind that is grounded in shared human experience\, evolution\,  geology\, and memory. \n\nSkyscrapers\, landfill mounds\, and industrialized agriculture often lead society to collectively assume that\, via  human engineering and construction\, it is we who shape the landscape to ourselves. In contrast to this line of  thought\, Landscape and Memory presents the self as shaped by environment and landscape.\n\nCURATED BY Catherine Meier and Joshua Smith \n\nARTISTS Shane Anderson\, Katherine E. Bash\, Jennilie Brewster\, Rocco DePietro\, Sarah Kanouse\, Catherine  Meier\, Zac Montanaro\, Bruce Myren\, Anne Percoco\, Marianetta Porter\, Gloria Pritschet\, Terri Sarris\, Matthew  Shlian\, Joshua Ray Smith and Mary Tsiongas
UID:1392-914315@events.umich.edu
URL:https://events.umich.edu/event/1392
CLASS:PUBLIC
STATUS:CONFIRMED
CATEGORIES:visual arts
LOCATION:
CONTACT:
END:VEVENT
BEGIN:VEVENT
DTSTAMP:20101111T175642
DTSTART;TZID=America/Detroit:20091010T000000
SUMMARY:Exhibition:Bioartography
DESCRIPTION:The U-M Center for Organogenesis unites scientists from many fields who work together to study organ growth\, function and disease.  The goal of these studies is to use what is learned to design new and effective ways to treat disease and repair damaged organs. In the course of this work\, scientists use the microscope and special stains or “colors” to look at tissues for changes that could affect our health. These tiny biological structures that are studied are often beautiful and  present a fascinating combination of art and science.\n\nAll images are available for purchase and all proceeds support research training at the University of Michigan\, Center for Organogenesis.  For more information\,  visit the Bioartography website at www.bioartography.com
UID:799-912535@events.umich.edu
URL:https://events.umich.edu/event/799
CLASS:PUBLIC
STATUS:CONFIRMED
CATEGORIES:
LOCATION:Duderstadt Center - Gallery
CONTACT:
END:VEVENT
BEGIN:VEVENT
DTSTAMP:20091006T125710
DTSTART;TZID=America/Detroit:20091010T000000
SUMMARY:Exhibition:Encaustic Works: Paintings in Molten Wax
DESCRIPTION:An exhibition of paintings by artist Ariela Steif in the medium of encaustic -- an ancient technique of pigmented  wax that is applied molten and then reheated to fuse every layer to the one beneath it. Encaustic has the ability  to take on extreme transparency\, which allows the simultaneous revealing and concealing of layers.  This series\,  situated in the charged and unstable space between representation and abstraction\, gathers fragments of dreams  and memories that are layered together\, and negotiates the ever-changing boundary between isolation and  community.
UID:1139-913088@events.umich.edu
URL:https://events.umich.edu/event/1139
CLASS:PUBLIC
STATUS:CONFIRMED
CATEGORIES:visual arts
LOCATION:Michigan Union - Arts Lounge
CONTACT:
END:VEVENT
BEGIN:VEVENT
DTSTAMP:20101111T175620
DTSTART;TZID=America/Detroit:20091010T000000
SUMMARY:Exhibition:Permanent Exhibits at the Exhibit Museum of Natural History
DESCRIPTION:The Hall of Evolution houses Michigan's largest display of prehistoric life. More than 600 million years of life on Earth are traced through fossils\, models and dioramas. The Michigan Wildlife Gallery has a large collection of native Great Lakes birds\, mammals\, reptiles\, and amphibians\, with taxidermy mounts\, habitat scenes\, and the largest mastodon trackway on display in the world. There are also displays about some of the environmental problems faced in this region today. The Anthropology Displays feature artifacts from human cultures around the world. The Geology Displays on the fourth floor offer a large selection of rocks\, minerals and gems. These displays are updated periodically. For more information go to www.lsa.umich.edu/exhibitmuseum/exhibits/permexhibits or call 734-764-0480.
UID:452-910730@events.umich.edu
URL:https://events.umich.edu/event/452
CLASS:PUBLIC
STATUS:CONFIRMED
CATEGORIES:
LOCATION:Ruthven Museums Building
CONTACT:
END:VEVENT
BEGIN:VEVENT
DTSTAMP:20090804T124110
DTSTART;TZID=America/Detroit:20091010T080000
DTEND;TZID=America/Detroit:20091010T200000
SUMMARY:Exhibition:Art in Nature
DESCRIPTION:In these small art quilts Grand Blanc artist Mary Andrews\, depicts nature from the smallest detail to the larger landscape. She dyes her own fabric\, uses machine and hand quilting\, and embellishes with paint\, thread and various surface design elements. Her work is exhibited in the U.S.\, Canada\, Europe and Australia.
UID:3838-915318@events.umich.edu
URL:https://events.umich.edu/event/3838
CLASS:PUBLIC
STATUS:CONFIRMED
CATEGORIES:
LOCATION:University Hospitals - Main Corridor West, Floor 2
CONTACT:
END:VEVENT
BEGIN:VEVENT
DTSTAMP:20101111T175829
DTSTART;TZID=America/Detroit:20091010T080000
DTEND;TZID=America/Detroit:20091010T200000
SUMMARY:Exhibition:Chicago: Hand-Altered Polaroid Photographs by Cynthia Davis
DESCRIPTION:The award-winning artist captures the Windy City in these enlargements from her fifth book\, \"Chicago\,\" published by the University of Michigan Press. They offer a unique view of one of America's greatest cities. Davis creates her work by manipulating Polaroid SX 70 photographs while they're still soft and malleable. The result are pictures imbued with a dreamlike quality ? suggesting a place between photorealism and impressionist painting.
UID:3866-919605@events.umich.edu
URL:https://events.umich.edu/event/3866
CLASS:PUBLIC
STATUS:CONFIRMED
CATEGORIES:
LOCATION:University Hospitals - Taubman Center, North Lobby, Floor 1
CONTACT:
END:VEVENT
BEGIN:VEVENT
DTSTAMP:20090804T124300
DTSTART;TZID=America/Detroit:20091010T080000
DTEND;TZID=America/Detroit:20091010T200000
SUMMARY:Exhibition:Daydreams: Mixed Media Sculpture
DESCRIPTION:The two artists have been collaborating for nine years\, bringing together their respective backgrounds as glass artist and sculptor to create pieces that are both fun and serious. Their collaborative work sessions are often filled with humor and experimentation. They spend hours casting hot glass into sand molds\, and Mann assists Yerace on the larger blown elements in the work. Next\, they take the cooled glass and sketch\, discuss ideas and compositions\, and then independently create the finished pieces.
UID:3810-911685@events.umich.edu
URL:https://events.umich.edu/event/3810
CLASS:PUBLIC
STATUS:CONFIRMED
CATEGORIES:
LOCATION:University Hospitals - Taubman Center, North Lobby, Floor 1
CONTACT:
END:VEVENT
BEGIN:VEVENT
DTSTAMP:20101111T175740
DTSTART;TZID=America/Detroit:20091010T080000
DTEND;TZID=America/Detroit:20091010T200000
SUMMARY:Exhibition:Lots O’ Pots
DESCRIPTION:Working out of his studio in Grand Rapids for almost 25 years\, all of Wilson's pieces are wheel-formed porcelain\, altered and assembled\, with patterns of texture and inlaid slip. The warmth of Wilson's handmade craftmanship and an interplay of textural patterns and subtle glaze color make this pottery both artistic and fitting for everyday use.
UID:3846-916320@events.umich.edu
URL:https://events.umich.edu/event/3846
CLASS:PUBLIC
STATUS:CONFIRMED
CATEGORIES:
LOCATION:University Hospitals - Taubman Center, South Lobby, Floor 1
CONTACT:
END:VEVENT
BEGIN:VEVENT
DTSTAMP:20101111T175833
DTSTART;TZID=America/Detroit:20091010T080000
DTEND;TZID=America/Detroit:20091010T200000
SUMMARY:Exhibition:Our Diversity: Group Show by the Chelsea Painters
DESCRIPTION:The Chelsea Painters is a vibrant group of men and women who have a passion for developing their own artistic vision. They express this through a variety of mediums\, including watercolor\, gouache\, acrylic\, oil\, pastel\, monotype\, colored pencil\, pencil\, collage\, photo transfers and encaustics. They meet weekly in Chelsea and are actively involved in art on local\, regional\, and national levels. Membership is limited to 25 artists and is by invitation.
UID:3869-919828@events.umich.edu
URL:https://events.umich.edu/event/3869
CLASS:PUBLIC
STATUS:CONFIRMED
CATEGORIES:
LOCATION:University Hospitals - Taubman Center, South Lobby, Floor 1
CONTACT:
END:VEVENT
BEGIN:VEVENT
DTSTAMP:20101111T175624
DTSTART;TZID=America/Detroit:20091010T080000
DTEND;TZID=America/Detroit:20091010T200000
SUMMARY:Exhibition:Pictorial Tapestries by Anna Kocherovsky
DESCRIPTION:Russian-born tapestry artist Anna Kocherovsky draws inspiration for her handwoven works from reading and reflection\, creating numerous drawings for each piece. She loves mythology and history\, and the stories she enjoys often find their way into her work. Using a loom technique she learned in Moscow and imported wool yarns from Sweden\, Kocherovsky keeps the tradition alive in Michigan where she has lived since 1989.
UID:3804-911151@events.umich.edu
URL:https://events.umich.edu/event/3804
CLASS:PUBLIC
STATUS:CONFIRMED
CATEGORIES:
LOCATION:University Hospitals - Main Lobby, Floor 1
CONTACT:
END:VEVENT
BEGIN:VEVENT
DTSTAMP:20101111T175733
DTSTART;TZID=America/Detroit:20091010T080000
DTEND;TZID=America/Detroit:20091010T170000
SUMMARY:Exhibition:Secrets of the Garden
DESCRIPTION:These images were taken without a camera. Ponvert places her subjects directly on a digital scanner and then alters them in Photoshop. The images in this exhibit were taken over the past three years from subjects in her garden in Ann Arbor\, Michigan. Her work has been shown at the Kerrytown Concert House\, and her garden was chosen to be on the Ann Arbor Women's Farm and Garden Walk in 2008.
UID:3843-915823@events.umich.edu
URL:https://events.umich.edu/event/3843
CLASS:PUBLIC
STATUS:CONFIRMED
CATEGORIES:
LOCATION:Cancer Center - Level 1
CONTACT:
END:VEVENT
BEGIN:VEVENT
DTSTAMP:20101111T175849
DTSTART;TZID=America/Detroit:20091010T080000
DTEND;TZID=America/Detroit:20091010T200000
SUMMARY:Exhibition:Tear Jars
DESCRIPTION:Working with hot glass since 1998\, Walsh draws inspiration from a lifelong fascination with rocks and minerals. Her award-winning designs\, pictured in international magazines and books\, include jewelry\, miniature sculptures and functional objects\, and are displayed by more than 60 art galleries across the nation.
UID:3876-920820@events.umich.edu
URL:https://events.umich.edu/event/3876
CLASS:PUBLIC
STATUS:CONFIRMED
CATEGORIES:
LOCATION:University Hospitals - Main Corridor West, Floor 2
CONTACT:
END:VEVENT
BEGIN:VEVENT
DTSTAMP:20101111T175651
DTSTART;TZID=America/Detroit:20091010T080000
DTEND;TZID=America/Detroit:20091010T170000
SUMMARY:Exhibition:Wearable Art
DESCRIPTION:U-M School of Art & Design alumna Furtado started as a weaver over 30 years ago\, working on a loom. She is now engaged in a variety of activities as she produces her line of wearable art. Handweaving\, felting\, dyeing and beading are common tools of her trade. Lately\, she has been exploring Nuno felting\, a Japanese technique which combines wool felt with silk fabric. One of her dyeing techniques is a resist process involving clamping and applying dye in multiple steps\, creating a multiple-color\, multiple-shape design.
UID:3819-912991@events.umich.edu
URL:https://events.umich.edu/event/3819
CLASS:PUBLIC
STATUS:CONFIRMED
CATEGORIES:
LOCATION:Cancer Center - Main Lobby, Level B2
CONTACT:
END:VEVENT
BEGIN:VEVENT
DTSTAMP:20090930T140532
DTSTART;TZID=America/Detroit:20091010T090000
DTEND;TZID=America/Detroit:20091010T170000
SUMMARY:Exhibition:4+4 Faculty Invitational
DESCRIPTION:Artists' reception on Friday October 2 at 5:00 at the RC Art Gallery\n\nCome see RC Art Faculty and each of their invited artist guests: Michael Hannum - Mark Kirschenmann\;  Susan Crowell - WenDong Ren\;  Jason Wright - John Hoder\;  Larry Cressman - Ben Upton\;
UID:2063-918059@events.umich.edu
URL:https://events.umich.edu/event/2063
CLASS:PUBLIC
STATUS:CONFIRMED
CATEGORIES:visual arts
LOCATION:East Quadrangle - RC Art Gallery
CONTACT:
END:VEVENT
BEGIN:VEVENT
DTSTAMP:20090722T143534
DTSTART;TZID=America/Detroit:20091010T090000
DTEND;TZID=America/Detroit:20091010T170000
SUMMARY:Exhibition:Ida: Darwinius masillae
DESCRIPTION:\"Ida\,\" a new exhibit in the Exhibit Museum's Rotunda\, displays a high-resolution cast of an extremely rare  fossil discovered in 1983 near Messel\, Germany\, but only recently made available for study. The fossil has  proven to be a “link” between the prosimian and simian (\"anthropoid\") primate lineages. It has \"advanced\"  front teeth (incisors and canines) and second toes like those of monkeys\, and is broadly representative of what  human primate ancestors may have looked like during the Eocene epoch 47 million years ago.     Ida (prounded \"eeda\") is named after after the daughter of Dr JÃ¸rn Hurum\, the Norwegian vertebrate  paleontologist who secured one section of the fossil from an anonymous owner\, and led the research. Ida was  about eight months old\, or the equivalent of a six-year-old human.     Publication of a paper on the discovery was accompanied by a book\, The Link: Uncovering Our Earliest  Ancestors by Colin Tudge\, and a documentary shown on the History Channel (US)\, BBC One (UK)\,and various  stations in Germany and Norway.     U-M paleontologist Philip Gingerich and U-M anthropologist B. Holly Smith were two members of the \"dream  team\" invited to study Ida. The exhibit will be on display through May 2010.
UID:2124-918345@events.umich.edu
URL:https://events.umich.edu/event/2124
CLASS:PUBLIC
STATUS:CONFIRMED
CATEGORIES:welcome week,visual arts,multicultural
LOCATION:
CONTACT:
END:VEVENT
BEGIN:VEVENT
DTSTAMP:20101111T175638
DTSTART;TZID=America/Detroit:20091010T100000
SUMMARY:Exhibition:(Un)Natural History: The Museum Unveiled
DESCRIPTION:September 12 through December 6\, 2009\n\nRichard Barnes's series of photographs Animal Logic examines the role the museum plays in our understanding of ourselves through the acts of collecting\, preservation\, and display. Images from this large body of work include photographs of the collections from the Smithsonian Institution\, the Museum of Comparative Anatomy in Paris\, the Canadian Museum of Natural History\, and the San Francisco Academy of Science. (Un)Natural History focuses primarily on the natural history museum and by extension collecting institutions in general\, providing a kind of behind-the-scenes look at museum practice and display.\n\nThis exhibition will coincide with the UM LSA Theme Semester Meaningful Objects: Museums and the Academy. UMMA's presentation is projected to serve as part of a three-venue project highlighting different aspects of Barnes's work in partnership with the UM Institute for the Humanities–who have selected Richard Barnes as the Paula and Edwin Sidman Fellow in the Arts for 2009–and the Cranbrook Institute of Science in Bloomfield Hills\, Michigan.
UID:648-912273@events.umich.edu
URL:https://events.umich.edu/event/648
CLASS:PUBLIC
STATUS:CONFIRMED
CATEGORIES:visual arts
LOCATION:Museum of Art
CONTACT:
END:VEVENT
BEGIN:VEVENT
DTSTAMP:20101111T175835
DTSTART;TZID=America/Detroit:20091010T100000
DTEND;TZID=America/Detroit:20091010T160000
SUMMARY:Fair / Festival:ID Day
DESCRIPTION:Bring your own objects and collections in for identification by experts. Experts join us from the fields of  paleontology\, anthropology\, archaeology\, botany\, zoology\, and geology. Please bring your: Shells\; Rocks and  minerals\; Invertebrate fossils\; Arrow heads\; Shards of pottery\; Vertebrate bones\; Insects\; Skulls\; Seeds\, leaves\,  twigs\; Fish. Sorry\, no appraisals will be given. This year's ID Day will be part of the “Behind the Scenes Days”  activities offered as part of the 2009-2010 LSA Theme Year\, “Meaningful Objects: Museums in the Academy.” Visit  www.lsa.umich.edu/museumtheme for details.
UID:2492-920084@events.umich.edu
URL:https://events.umich.edu/event/2492
CLASS:PUBLIC
STATUS:CONFIRMED
CATEGORIES:
LOCATION:Ruthven Museums Building
CONTACT:
END:VEVENT
BEGIN:VEVENT
DTSTAMP:20090708T120930
DTSTART;TZID=America/Detroit:20091010T100000
SUMMARY:Exhibition:The Lens of Impressionism
DESCRIPTION:October 10\, 2009 through January 3\, 2010\n\nThis exhibition advances a new argument for the origins of what was called “the new painting\,” namely that a unique convergence of forces–social\, artistic\, technological\, and commercial–along the Normandy coast of France dramatically transformed the course of photography and painting (as well as of the region itself). Within this framework\, the invention of the camera and the development of early fine art photography in that particular setting will be seen as the specific catalysts that brought about a new approach to painting.\n\nThe project will showcase paintings\, photographs\, and drawings by some of the most treasured artists in the Western canon–Gustave Courbet\, Edouard Manet\, Edgar Degas\, and Claude Monet among them–as well as pioneering photographers such as Gustave Le Gray and Henri Le Secq. Inspired by the scenic Normandy coast of France\, these works–including representations of beach scenes\, seascapes\, fishing villages\, resorts\, and the region's pastoral beauty–will be brought together with archival materials related to early tourism and regional expressions of French nationalism from popular culture for an innovative examination of the impact of the then-new medium of photography on ideas of image making\, the recording of passing time\, the capacities of painting\, and the rise of Impressionism itself.\n\nOrganized by UMMA\, this exhibition is made possible in part by the Florence Gould Foundation\, the National Endowment for the Arts\, Masco Corporation\, and the University of Michigan's Office of the Provost and Office of the Vice President for Research. Additional support has been provided by the family of Raymond F. Cunningham in his memory. Following its showing in Ann Arbor\, the exhibition will travel to the Dallas Museum of Art.
UID:2436-919873@events.umich.edu
URL:https://events.umich.edu/event/2436
CLASS:PUBLIC
STATUS:CONFIRMED
CATEGORIES:visual arts
LOCATION:Museum of Art
CONTACT:
END:VEVENT
BEGIN:VEVENT
DTSTAMP:20101111T175834
DTSTART;TZID=America/Detroit:20091010T100000
SUMMARY:Exhibition:UMMA Projects: Lisa Anne Auerbach
DESCRIPTION:July 11 through October 11\, 2009\n\nOften combining wry humor with a biting critique of the complacency and routine of modern life\, Lisa Anne Auerbach's subversive brand of post-punk\, DIY aesthetics mixes art and politics in a manner both highly personal and thoroughly embedded in contemporary culture. Recent projects have addressed topics ranging from the current Iraq war to the politics of bicycling in a city of freeways. In her slogan-adorned sweater sets\, each outfit becomes a wearable canvas\, literally weaving together the personal and the political\, the aesthetic and the everyday. Auerbach's installation at UMMA will transform the Museum's most highly visible space–the Irving Stenn Jr. Family Project Gallery–into a showcase for her politically charged\, socially engaged knitwear. Appropriating strategies of presentation and display from the high-end clothing market\, this unconventional installation will encourage viewers to ask questions about how we experience different types of cultural spaces\, how we perceive the relationship between one type of luxury good (fashion) and another (art)\, and how both political and aesthetic discourses are framed in contemporary society.\n\nThis project is made possible in part by the W. Hawkins Ferry Fund and UMMA's New Visions Venture Fund.
UID:2472-920070@events.umich.edu
URL:https://events.umich.edu/event/2472
CLASS:PUBLIC
STATUS:CONFIRMED
CATEGORIES:visual arts
LOCATION:Museum of Art - Project Gallery
CONTACT:
END:VEVENT
BEGIN:VEVENT
DTSTAMP:20090901T155813
DTSTART;TZID=America/Detroit:20091010T130000
SUMMARY:Other:Guided Tour: The New UMMA
DESCRIPTION:The New UMMA\n\nSaturday\, September 5\, 1 pm Sunday\, September 6\, 1 pm Wednesday\, September 9\, 12 pm Saturday\, September 12\, 1 pm Sunday\, September 13\, 1 pm Saturday\, September 19\, 1 pm Sunday\, September 20\, 1 pm Wednesday\, September 23\, 12 pm Saturday\, September 26\, 1 pm Sunday\, September 27\, 1 pm
UID:1037-913694@events.umich.edu
URL:https://events.umich.edu/event/1037
CLASS:PUBLIC
STATUS:CONFIRMED
CATEGORIES:visual arts
LOCATION:Museum of Art - Information Desk
CONTACT:
END:VEVENT
BEGIN:VEVENT
DTSTAMP:20101111T175627
DTSTART;TZID=America/Detroit:20091010T130000
DTEND;TZID=America/Detroit:20091010T170000
SUMMARY:Workshop / Seminar:Introduction to Final Cut Pro and the Digital Media Commons  Multimedia Rooms
DESCRIPTION:This hands-on orientation will introduce participants to the video editing suites available from the Digital Media Commons at the Duderstadt Center. The training will cover key concepts and functions of the Final Cut Pro software and supporting hardware including configuring\, digitizing\, editing\, creating titles\, applying effects\, batch digitizing\, media management and outputting back to tape.  The Multimedia Rooms also support the following software:  Adobe Premier\, Adobe After Effects\, Adobe Photoshop\, Flash\, DVD Studio Pro\, Motion\, Color\, Soundtrack\, Imovie\, IDVD  and other media manipulation tools. The Digital Media Commons Multimedia Rooms have been designed to be easy to use. After demonstrating appropriate use of equipment\, participants will be authorized to reserve editing suites.
UID:692-911345@events.umich.edu
URL:https://events.umich.edu/event/692
CLASS:PUBLIC
STATUS:CONFIRMED
CATEGORIES:
LOCATION:Duderstadt Center - 3336
CONTACT:
END:VEVENT
BEGIN:VEVENT
DTSTAMP:20101111T175754
DTSTART;TZID=America/Detroit:20091010T133000
DTEND;TZID=America/Detroit:20091010T160000
SUMMARY:Workshop / Seminar:Drawing from the Collections
DESCRIPTION:Ann Arbor Art Center Workshops at UMMA\n\nCreate your own masterpieces at UMMA. This fall the Ann Arbor Art Center will offer art-making workshops on Thursday evenings and Saturday afternoons. With a wide variety of subject matters\, there is a class for everyone. \n\nDrawing from the Collections Working in the studio and in the galleries students will learn the basic principles of drawing: lines\, planes\, values\, and perspective. (All levels welcome.)
UID:2125-917173@events.umich.edu
URL:https://events.umich.edu/event/2125
CLASS:PUBLIC
STATUS:CONFIRMED
CATEGORIES:visual arts
LOCATION:Museum of Art - Multipurpose Room
CONTACT:
END:VEVENT
BEGIN:VEVENT
DTSTAMP:20091010T030003
DTSTART;TZID=America/Detroit:20091010T140000
SUMMARY:Other:Stearns Lecture:  The History of the Lute and its Repertoire\, Ronn McFarlane
DESCRIPTION:Ronn McFarlane\, world renowned lutenist and 2009 Grammy Nominee\, will present a lecture-demonstration“On the History of the Lute and Its Repertoire”
UID:2166-917386@events.umich.edu
URL:https://events.umich.edu/event/2166
CLASS:PUBLIC
STATUS:CONFIRMED
CATEGORIES:music
LOCATION:
CONTACT:
END:VEVENT
BEGIN:VEVENT
DTSTAMP:20090924T133916
DTSTART;TZID=America/Detroit:20091010T180000
DTEND;TZID=America/Detroit:20091010T200000
SUMMARY:Ceremony / Service:Cancer Center Candle Lighting for Hope & Remembrance
DESCRIPTION:The University of Michigan Comprehensive Cancer Center will hold its 13th annual  Candle Lighting for Hope and Remembrance on Saturday\, Oct. 10. The ceremony is  designed to celebrate the lives of those lost to cancer or a blood disorder and to  bring hope to their families and loved ones. \n\nThe ceremony\, which is free and open to the public\, begins at 7 p.m.\, with  resources and refreshments available beginning at 6 p.m.\, all under the front  entrance canopy of the Cancer Center\, 1500 E. Medical Center Drive\, Ann Arbor.\n\nParticipants are encouraged to bring photos or mementoes of their loved one\, which  will be displayed that evening. Photos may also be submitted for a pictorial  memorial presentation to be shown at the event.  Photos must be received by Oct.  2.  For information on submitting a photo\, go to www.mcancer.org/candlelighting.\n\nRegistration is encouraged and free parking is available for this community-wide  event. Please feel free to attend even if your loved one did not receive medical care  at the University of Michigan. For more information or to register\, call the U-M  Cancer AnswerLine at 800-865-1125 or go to www.mcancer.org/candlelighting.
UID:402-910505@events.umich.edu
URL:https://events.umich.edu/event/402
CLASS:PUBLIC
STATUS:CONFIRMED
CATEGORIES:
LOCATION:Cancer Center - Under front canopy of Cancer Center
CONTACT:
END:VEVENT
BEGIN:VEVENT
DTSTAMP:20091010T030003
DTSTART;TZID=America/Detroit:20091010T190000
SUMMARY:Other:Senior Directing Thesis:  Far Away
DESCRIPTION:by Caryl Churchill.  Directed by Kathryn Edwards
UID:2460-919976@events.umich.edu
URL:https://events.umich.edu/event/2460
CLASS:PUBLIC
STATUS:CONFIRMED
CATEGORIES:music,theater
LOCATION:Walgreen Drama Center - Studio One
CONTACT:
END:VEVENT
BEGIN:VEVENT
DTSTAMP:20091010T030003
DTSTART;TZID=America/Detroit:20091010T200000
SUMMARY:Other:Bassoon Studio Recital
DESCRIPTION:Students of Professor Jeffrey Lyman.  PROGRAM:  Busser - Portuguesa\, Op. 106   Scott Bartlett\; Bergt - Trio No. 1   Jared Herman\, Emily Breeding\, Christian Green\; Rossini - Concerto a Fagotto Principale  Patrick Souza\; Mignone - Sonata para Dois Fagotes\; Siqueira - 5 Duets for 2 Bassoons   Timothy Abbott\, Scott Bartlett\; Hoover - Journey   Jeffrey Lyman\; Corigliano - \"How like pellucid statues\, Daddy\, Or like a...an engine\"   Kirsten Filbrandt\, Conner Howell\, Ryan Reynolds\, Patrick Souza\; Goldblum - Indian Swimming   Daniel Golblum\; Weissenborn - Six Trios for Three Bassoons\, Op. 4  Gabriel Pomerantz\, Randal Dennler\, Conner Howell\; Schickele - Blue Set No. 2
UID:483-910912@events.umich.edu
URL:https://events.umich.edu/event/483
CLASS:PUBLIC
STATUS:CONFIRMED
CATEGORIES:music
LOCATION:Earl V. Moore Building - McIntosh Theatre
CONTACT:
END:VEVENT
BEGIN:VEVENT
DTSTAMP:20091010T030003
DTSTART;TZID=America/Detroit:20091010T200000
SUMMARY:Other:Guest Recital:  MingHuan Xu\, violin and Winston Choi\, piano
DESCRIPTION:Representing the faculties of Roosevelt University in Chicago (Choi) and Grand Valley State University in Michigan (Xu)\, this internationally honored duo will present works for solo piano and violin by Elliott Carter\, Pierre Boulez\, Jeffrey Mumford\, Bright Sheng\, Maurice Ravel\, as well as the Cesar Franck sonata for piano and violin.ChineseCanadian violinist MingHuan Xu is a multifaceted performer with unique communicative abilities. She has delighted audiences with her passion\, incredible technique\, sensitivity and charisma. Her versatility allows her to perform an eclectic mix of musical styles ranging from the standard works to avant garde contemporary repertoire. She has performed extensively as a concerto soloist\, duorecitalist and chamber musician\, all across China\, Europe\,North America and South America.Winner of the 2002 Orléans Concours International and Laureate of the 2003 Honens International Piano Competition\, Canadian pianist Winston Choi is an inquisitive performer whose fresh approach to standard repertory\, and masterful understanding\, performance and commitment to works by living composers\, make him one of today’s most dynamic young concert artists.
UID:1247-914117@events.umich.edu
URL:https://events.umich.edu/event/1247
CLASS:PUBLIC
STATUS:CONFIRMED
CATEGORIES:music
LOCATION:Earl V. Moore Building - Britton Recital Hall
CONTACT:
END:VEVENT
BEGIN:VEVENT
DTSTAMP:20091010T030003
DTSTART;TZID=America/Detroit:20091010T200000
SUMMARY:Other:Tartuffe
DESCRIPTION:Dept. of Theatre & Drama  by Molière\, translated by Ranjit Bolt\; Directed by Priscilla Lindsay.  Hilarity ensues when a ludicrously suggestible patron falls for a pious con-man in this famous farce about religious hypocrisy.  Tickets available at the League Ticket Office 734-764-2538.
UID:2043-917071@events.umich.edu
URL:https://events.umich.edu/event/2043
CLASS:PUBLIC
STATUS:CONFIRMED
CATEGORIES:theater,music
LOCATION:Walgreen Drama Center - Arthur Miller Theatre
CONTACT:
END:VEVENT
BEGIN:VEVENT
DTSTAMP:20101111T175822
DTSTART;TZID=America/Detroit:20091010T200000
SUMMARY:Performance:The Verve Pipe
DESCRIPTION:
UID:2515-919230@events.umich.edu
URL:https://events.umich.edu/event/2515
CLASS:PUBLIC
STATUS:CONFIRMED
CATEGORIES:music
LOCATION:
CONTACT:
END:VEVENT
END:VCALENDAR