BEGIN:VCALENDAR
VERSION:2.0
PRODID:-//UM//UM*Events//EN
CALSCALE:GREGORIAN
BEGIN:VTIMEZONE
TZID:America/Detroit
TZURL:http://tzurl.org/zoneinfo/America/Detroit
X-LIC-LOCATION:America/Detroit
BEGIN:DAYLIGHT
TZOFFSETFROM:-0500
TZOFFSETTO:-0400
TZNAME:EDT
DTSTART:20070311T020000
RRULE:FREQ=YEARLY;BYMONTH=3;BYDAY=2SU
END:DAYLIGHT
BEGIN:STANDARD
TZOFFSETFROM:-0400
TZOFFSETTO:-0500
TZNAME:EST
DTSTART:20071104T020000
RRULE:FREQ=YEARLY;BYMONTH=11;BYDAY=1SU
END:STANDARD
END:VTIMEZONE
BEGIN:VEVENT
DTSTAMP:20101111T175710
DTSTART;TZID=America/Detroit:20091021T000000
SUMMARY:Exhibition:\"Landscape and Memory\" at Gallery Project
DESCRIPTION:Landscape and Memory seeks the experience and sensation of landscape\, tracing memory beyond symbol and  image\, to find a place in-between land and mind that is grounded in shared human experience\, evolution\,  geology\, and memory. \n\nSkyscrapers\, landfill mounds\, and industrialized agriculture often lead society to collectively assume that\, via  human engineering and construction\, it is we who shape the landscape to ourselves. In contrast to this line of  thought\, Landscape and Memory presents the self as shaped by environment and landscape.\n\nCURATED BY Catherine Meier and Joshua Smith \n\nARTISTS Shane Anderson\, Katherine E. Bash\, Jennilie Brewster\, Rocco DePietro\, Sarah Kanouse\, Catherine  Meier\, Zac Montanaro\, Bruce Myren\, Anne Percoco\, Marianetta Porter\, Gloria Pritschet\, Terri Sarris\, Matthew  Shlian\, Joshua Ray Smith and Mary Tsiongas
UID:1392-914326@events.umich.edu
URL:https://events.umich.edu/event/1392
CLASS:PUBLIC
STATUS:CONFIRMED
CATEGORIES:visual arts
LOCATION:
CONTACT:
END:VEVENT
BEGIN:VEVENT
DTSTAMP:20091006T125710
DTSTART;TZID=America/Detroit:20091021T000000
SUMMARY:Exhibition:Encaustic Works: Paintings in Molten Wax
DESCRIPTION:An exhibition of paintings by artist Ariela Steif in the medium of encaustic -- an ancient technique of pigmented  wax that is applied molten and then reheated to fuse every layer to the one beneath it. Encaustic has the ability  to take on extreme transparency\, which allows the simultaneous revealing and concealing of layers.  This series\,  situated in the charged and unstable space between representation and abstraction\, gathers fragments of dreams  and memories that are layered together\, and negotiates the ever-changing boundary between isolation and  community.
UID:1139-913099@events.umich.edu
URL:https://events.umich.edu/event/1139
CLASS:PUBLIC
STATUS:CONFIRMED
CATEGORIES:visual arts
LOCATION:Michigan Union - Arts Lounge
CONTACT:
END:VEVENT
BEGIN:VEVENT
DTSTAMP:20101111T175755
DTSTART;TZID=America/Detroit:20091021T000000
SUMMARY:Exhibition:Exhibit
DESCRIPTION:Economic crises on an international scale are not new\, and President Ford inherited a tough one in 1974. A new exhibit at the Ford Library in Ann Arbor shows how he attacked a troubling brew of inflation\, recession\, budget deficits and oil supply worries. This exhibit features rarely seen artifacts and archival materials from the Ford Library and Museum collections.
UID:3853-917279@events.umich.edu
URL:https://events.umich.edu/event/3853
CLASS:PUBLIC
STATUS:CONFIRMED
CATEGORIES:
LOCATION:Gerald Ford Library
CONTACT:
END:VEVENT
BEGIN:VEVENT
DTSTAMP:20101111T175751
DTSTART;TZID=America/Detroit:20091021T000000
SUMMARY:Exhibition:Exhibit
DESCRIPTION:Permanent lobby exhibits present the stories of President Gerald Ford and First Lady Betty Ford through archival photos and documents.
UID:2023-917025@events.umich.edu
URL:https://events.umich.edu/event/2023
CLASS:PUBLIC
STATUS:CONFIRMED
CATEGORIES:
LOCATION:Gerald Ford Library
CONTACT:
END:VEVENT
BEGIN:VEVENT
DTSTAMP:20101111T175620
DTSTART;TZID=America/Detroit:20091021T000000
SUMMARY:Exhibition:Permanent Exhibits at the Exhibit Museum of Natural History
DESCRIPTION:The Hall of Evolution houses Michigan's largest display of prehistoric life. More than 600 million years of life on Earth are traced through fossils\, models and dioramas. The Michigan Wildlife Gallery has a large collection of native Great Lakes birds\, mammals\, reptiles\, and amphibians\, with taxidermy mounts\, habitat scenes\, and the largest mastodon trackway on display in the world. There are also displays about some of the environmental problems faced in this region today. The Anthropology Displays feature artifacts from human cultures around the world. The Geology Displays on the fourth floor offer a large selection of rocks\, minerals and gems. These displays are updated periodically. For more information go to www.lsa.umich.edu/exhibitmuseum/exhibits/permexhibits or call 734-764-0480.
UID:452-910741@events.umich.edu
URL:https://events.umich.edu/event/452
CLASS:PUBLIC
STATUS:CONFIRMED
CATEGORIES:
LOCATION:Ruthven Museums Building
CONTACT:
END:VEVENT
BEGIN:VEVENT
DTSTAMP:20101111T175759
DTSTART;TZID=America/Detroit:20091021T080000
DTEND;TZID=America/Detroit:20091021T170000
SUMMARY:Exhibition:History of Dentistry exhibits at the Sindecuse Museum of Dentistry
DESCRIPTION:Exhibits at the Sindecuse Museum of Dentistry include Dental Operatories of the 1860s to 1930s\, St. Apollonia-Patron Saint of Dentistry and more. Call 763-0767 or go to www.dent.umich.edu/museum for more information.
UID:3856-917618@events.umich.edu
URL:https://events.umich.edu/event/3856
CLASS:PUBLIC
STATUS:CONFIRMED
CATEGORIES:
LOCATION:Dental & W.K. Kellogg Institute
CONTACT:
END:VEVENT
BEGIN:VEVENT
DTSTAMP:20101111T175733
DTSTART;TZID=America/Detroit:20091021T080000
DTEND;TZID=America/Detroit:20091021T170000
SUMMARY:Exhibition:Secrets of the Garden
DESCRIPTION:These images were taken without a camera. Ponvert places her subjects directly on a digital scanner and then alters them in Photoshop. The images in this exhibit were taken over the past three years from subjects in her garden in Ann Arbor\, Michigan. Her work has been shown at the Kerrytown Concert House\, and her garden was chosen to be on the Ann Arbor Women's Farm and Garden Walk in 2008.
UID:3843-915834@events.umich.edu
URL:https://events.umich.edu/event/3843
CLASS:PUBLIC
STATUS:CONFIRMED
CATEGORIES:
LOCATION:Cancer Center - Level 1
CONTACT:
END:VEVENT
BEGIN:VEVENT
DTSTAMP:20101111T175651
DTSTART;TZID=America/Detroit:20091021T080000
DTEND;TZID=America/Detroit:20091021T170000
SUMMARY:Exhibition:Wearable Art
DESCRIPTION:U-M School of Art & Design alumna Furtado started as a weaver over 30 years ago\, working on a loom. She is now engaged in a variety of activities as she produces her line of wearable art. Handweaving\, felting\, dyeing and beading are common tools of her trade. Lately\, she has been exploring Nuno felting\, a Japanese technique which combines wool felt with silk fabric. One of her dyeing techniques is a resist process involving clamping and applying dye in multiple steps\, creating a multiple-color\, multiple-shape design.
UID:3819-913002@events.umich.edu
URL:https://events.umich.edu/event/3819
CLASS:PUBLIC
STATUS:CONFIRMED
CATEGORIES:
LOCATION:Cancer Center - Main Lobby, Level B2
CONTACT:
END:VEVENT
BEGIN:VEVENT
DTSTAMP:20090818T134607
DTSTART;TZID=America/Detroit:20091021T090000
DTEND;TZID=America/Detroit:20091021T170000
SUMMARY:Other:HUMANITIES GALLERY
DESCRIPTION:OPENING RECEPTION: THURSDAY\, SEPTEMBER 17\, 2009\, 6:30-8:00 PM (immediately following  the School of Art and Design's Penny Stamps Lecture at the Michigan Theater in Ann Arbor) 202  SOUTH THAYER STREET ROOM 1010 ANN ARBOR\, MICHIGAN Gallery hours: Monday - Friday\,  9:00AM-5:00PM ***** In this photographic exhibit\, RICHARD BARNES\, the Institute for the  Humanities' 2009 Paula and Edwin Sidman Fellow in the Arts\, presents innovative new work  inspired by the paleontology and anthropology collections in the University of Michigan Exhibits  Museum and the ornithology collection in the Museum of Zoology. In this unique installation\,  Barnes considers the nature of things from collection and display to extinction. A prehistoric  skeletal whale juxtaposes a mound of rubber molds and resin casts\, examining questions of  replication and authenticity\, what we save and what we lose. Both lyrical and visceral\, Barnes'  work engages us in a provocative conversation about museological practice from behind the  scenes\, capturing the inextricable relationship between human gesture and the inevitability of  extinction. For more information\, contact Amanda Krugliak(mandak@umich.edu). (734) 936-3518.
UID:1157-914644@events.umich.edu
URL:https://events.umich.edu/event/1157
CLASS:PUBLIC
STATUS:CONFIRMED
CATEGORIES:visual arts
LOCATION:202 S. Thayer
CONTACT:
END:VEVENT
BEGIN:VEVENT
DTSTAMP:20090722T143534
DTSTART;TZID=America/Detroit:20091021T090000
DTEND;TZID=America/Detroit:20091021T170000
SUMMARY:Exhibition:Ida: Darwinius masillae
DESCRIPTION:\"Ida\,\" a new exhibit in the Exhibit Museum's Rotunda\, displays a high-resolution cast of an extremely rare  fossil discovered in 1983 near Messel\, Germany\, but only recently made available for study. The fossil has  proven to be a “link” between the prosimian and simian (\"anthropoid\") primate lineages. It has \"advanced\"  front teeth (incisors and canines) and second toes like those of monkeys\, and is broadly representative of what  human primate ancestors may have looked like during the Eocene epoch 47 million years ago.     Ida (prounded \"eeda\") is named after after the daughter of Dr JÃ¸rn Hurum\, the Norwegian vertebrate  paleontologist who secured one section of the fossil from an anonymous owner\, and led the research. Ida was  about eight months old\, or the equivalent of a six-year-old human.     Publication of a paper on the discovery was accompanied by a book\, The Link: Uncovering Our Earliest  Ancestors by Colin Tudge\, and a documentary shown on the History Channel (US)\, BBC One (UK)\,and various  stations in Germany and Norway.     U-M paleontologist Philip Gingerich and U-M anthropologist B. Holly Smith were two members of the \"dream  team\" invited to study Ida. The exhibit will be on display through May 2010.
UID:2124-918356@events.umich.edu
URL:https://events.umich.edu/event/2124
CLASS:PUBLIC
STATUS:CONFIRMED
CATEGORIES:welcome week,visual arts,multicultural
LOCATION:
CONTACT:
END:VEVENT
BEGIN:VEVENT
DTSTAMP:20101111T175902
DTSTART;TZID=America/Detroit:20091021T090000
DTEND;TZID=America/Detroit:20091021T170000
SUMMARY:Exhibition:Robert and Shana Parke-Harrison Show
DESCRIPTION:She's a painter and he's a photographer. They work as a creative team creating arresting images that might haunt you for a good while. Meditations on our arts\, our bodies\, our connections to the earth\, the Parke-Harrison photos are not to be missed.
UID:2879-921629@events.umich.edu
URL:https://events.umich.edu/event/2879
CLASS:PUBLIC
STATUS:CONFIRMED
CATEGORIES:
LOCATION:Art and Architecture Building - Slusser Gallery
CONTACT:
END:VEVENT
BEGIN:VEVENT
DTSTAMP:20101111T175638
DTSTART;TZID=America/Detroit:20091021T100000
SUMMARY:Exhibition:(Un)Natural History: The Museum Unveiled
DESCRIPTION:September 12 through December 6\, 2009\n\nRichard Barnes's series of photographs Animal Logic examines the role the museum plays in our understanding of ourselves through the acts of collecting\, preservation\, and display. Images from this large body of work include photographs of the collections from the Smithsonian Institution\, the Museum of Comparative Anatomy in Paris\, the Canadian Museum of Natural History\, and the San Francisco Academy of Science. (Un)Natural History focuses primarily on the natural history museum and by extension collecting institutions in general\, providing a kind of behind-the-scenes look at museum practice and display.\n\nThis exhibition will coincide with the UM LSA Theme Semester Meaningful Objects: Museums and the Academy. UMMA's presentation is projected to serve as part of a three-venue project highlighting different aspects of Barnes's work in partnership with the UM Institute for the Humanities–who have selected Richard Barnes as the Paula and Edwin Sidman Fellow in the Arts for 2009–and the Cranbrook Institute of Science in Bloomfield Hills\, Michigan.
UID:648-912284@events.umich.edu
URL:https://events.umich.edu/event/648
CLASS:PUBLIC
STATUS:CONFIRMED
CATEGORIES:visual arts
LOCATION:Museum of Art
CONTACT:
END:VEVENT
BEGIN:VEVENT
DTSTAMP:20101111T175604
DTSTART;TZID=America/Detroit:20091021T100000
DTEND;TZID=America/Detroit:20091021T113000
SUMMARY:Presentation:Anxiety Disorders in the Workplace
DESCRIPTION:Fourth Annual Symposium on Mental Health in the Workplace  \n\nJoe Himle\, PhD workshop presenter
UID:219-909608@events.umich.edu
URL:https://events.umich.edu/event/219
CLASS:PUBLIC
STATUS:CONFIRMED
CATEGORIES:
LOCATION:Palmer Commons - Great Lakes Room
CONTACT:
END:VEVENT
BEGIN:VEVENT
DTSTAMP:20101111T175600
DTSTART;TZID=America/Detroit:20091021T100000
DTEND;TZID=America/Detroit:20091021T170000
SUMMARY:Exhibition:Stearns Collection of Music
DESCRIPTION:The Stearns Collection at the School of Music\, Theatre & Dance is one of six major collections of musical instruments in North America. The 2\,500-piece collection is internationally known and is a resource for musical and cultural education.
UID:3790-909135@events.umich.edu
URL:https://events.umich.edu/event/3790
CLASS:PUBLIC
STATUS:CONFIRMED
CATEGORIES:
LOCATION:Earl V. Moore Building
CONTACT:
END:VEVENT
BEGIN:VEVENT
DTSTAMP:20090708T120930
DTSTART;TZID=America/Detroit:20091021T100000
SUMMARY:Exhibition:The Lens of Impressionism
DESCRIPTION:October 10\, 2009 through January 3\, 2010\n\nThis exhibition advances a new argument for the origins of what was called “the new painting\,” namely that a unique convergence of forces–social\, artistic\, technological\, and commercial–along the Normandy coast of France dramatically transformed the course of photography and painting (as well as of the region itself). Within this framework\, the invention of the camera and the development of early fine art photography in that particular setting will be seen as the specific catalysts that brought about a new approach to painting.\n\nThe project will showcase paintings\, photographs\, and drawings by some of the most treasured artists in the Western canon–Gustave Courbet\, Edouard Manet\, Edgar Degas\, and Claude Monet among them–as well as pioneering photographers such as Gustave Le Gray and Henri Le Secq. Inspired by the scenic Normandy coast of France\, these works–including representations of beach scenes\, seascapes\, fishing villages\, resorts\, and the region's pastoral beauty–will be brought together with archival materials related to early tourism and regional expressions of French nationalism from popular culture for an innovative examination of the impact of the then-new medium of photography on ideas of image making\, the recording of passing time\, the capacities of painting\, and the rise of Impressionism itself.\n\nOrganized by UMMA\, this exhibition is made possible in part by the Florence Gould Foundation\, the National Endowment for the Arts\, Masco Corporation\, and the University of Michigan's Office of the Provost and Office of the Vice President for Research. Additional support has been provided by the family of Raymond F. Cunningham in his memory. Following its showing in Ann Arbor\, the exhibition will travel to the Dallas Museum of Art.
UID:2436-919884@events.umich.edu
URL:https://events.umich.edu/event/2436
CLASS:PUBLIC
STATUS:CONFIRMED
CATEGORIES:visual arts
LOCATION:Museum of Art
CONTACT:
END:VEVENT
BEGIN:VEVENT
DTSTAMP:20101111T175824
DTSTART;TZID=America/Detroit:20091021T130000
DTEND;TZID=America/Detroit:20091021T143000
SUMMARY:Workshop / Seminar:International Careers in Climate Change
DESCRIPTION:A panel of environmental professionals working to address critical global climate change issues will discuss career opportunities in this emerging field. Learn how their careers developed\, what skills and experiences are critical to work in this field\, get advice on pursuing similar careers\, and ask questions of the panelists. After the panel event\, students will have the opportunity (from 2:30-3:30 pm) to chat one on one and to network with panelists.
UID:2565-919272@events.umich.edu
URL:https://events.umich.edu/event/2565
CLASS:PUBLIC
STATUS:CONFIRMED
CATEGORIES:
LOCATION:Dana Natural Resources  Building - Room 1040
CONTACT:
END:VEVENT
BEGIN:VEVENT
DTSTAMP:20091001T093147
DTSTART;TZID=America/Detroit:20091021T160000
DTEND;TZID=America/Detroit:20091021T173000
SUMMARY:Other:The Role of Urban Food Retail in Detroit’s Economic Development and Revitalization
DESCRIPTION:This panel discussion will present a number of different approaches to urban food  retail in the city of Detroit\, including: a program that touches on the conventional  grocery industry\; a program to develop grocery sector entrepreneurs\;  a new model  for community grocery stores\;  and alternative formats/vehicles for urban residents  to get fresh food.\n\n\n\nModerator:   Larissa Larsen\, Assistant Professor of Urban Planning\, the University of Michigan\n\nPanelists:\n\nFresh Food Access Initiative: Olga Savic Stella\, Vice President of Business Development at the Detroit Economic  Growth Corporation\, will discuss the Detroit Economic Growth Corporation's program  to help expand and improve the conventional grocery sector in the city. \n\nDetroit Grocery Project: Margaret Garry\, Director of Special Projects at the Michigan Department of Human  Services will discuss the Michigan Department of Human Services' project to develop  new\, racially diverse entrepreneurs in the grocery sector.\n\nDetroit Community Grocery Store Coalition: Brad Wilson\, Community Development Director of United Food and Commercial  Workers Statewide Community Development will discuss the community led  initiative designed to create an employee-owned store in Detroit\, with the hope of  creating multiple stores over time.  The Detroit Community Grocery Store Coalition  is a group of churches\, community organizations and individuals working to create  community-based grocery stores in underserved Detroit neighborhoods.\n\nGreen Ribbon Collaborative and MI Food Movers: Dan Carmody\, President of Eastern Market Corporation will discuss two important  initiatives:\n\nGreen Ribbon Collaborative – a coalition of several food security/urban agricultural  groups working together on alternative food retail programs (food boxes\, mobile  food trucks\, farmers markets\, cornerstore displays\, etc)\; \n\nMI Food Movers -- a small program supported by the State of Michigan to support  mobile food trucks.
UID:2461-919125@events.umich.edu
URL:https://events.umich.edu/event/2461
CLASS:PUBLIC
STATUS:CONFIRMED
CATEGORIES:
LOCATION:Weill Hall (Ford School) - Annenberg 1120
CONTACT:
END:VEVENT
BEGIN:VEVENT
DTSTAMP:20090911T151605
DTSTART;TZID=America/Detroit:20091021T170000
DTEND;TZID=America/Detroit:20091021T183000
SUMMARY:Workshop / Seminar:Careers in Global Health
DESCRIPTION:Staff members from organizations and U-M faculty members involved in various aspects of international health and humanitarian relief will share the paths they took to reach their current positions\, as well as discuss the key elements to preparing for a successful career in international health.
UID:719-911369@events.umich.edu
URL:https://events.umich.edu/event/719
CLASS:PUBLIC
STATUS:CONFIRMED
CATEGORIES:
LOCATION:Michigan Union
CONTACT:
END:VEVENT
BEGIN:VEVENT
DTSTAMP:20101111T175639
DTSTART;TZID=America/Detroit:20091021T170000
DTEND;TZID=America/Detroit:20091021T181500
SUMMARY:Presentation:Jerry Schwiebert\, “Everything is Moving”
DESCRIPTION:As thoroughly as they study their instruments or lines\, top performing artists study how to use their bodies to heighten the audience's experience of their art.  This lecture-demonstration takes you \"behind the scenes\" to learn some of the basics of body movement for performing artists.  Audience volunteers will join the instructor onstage for body manipulation\, partner with other audience members in exercises\, view themselves on live video\, and participate in entire-audience explorations.  Taught by Jerry Schweibert\, faculty in movement in U-M's School of Music\, Theatre & Dance\, and author of the forthcoming book\, Everything Is Moving.
UID:667-912327@events.umich.edu
URL:https://events.umich.edu/event/667
CLASS:PUBLIC
STATUS:CONFIRMED
CATEGORIES:
LOCATION:Museum of Art - UMMA Auditorium
CONTACT:
END:VEVENT
BEGIN:VEVENT
DTSTAMP:20101111T175819
DTSTART;TZID=America/Detroit:20091021T170000
DTEND;TZID=America/Detroit:20091021T190000
SUMMARY:Meeting:LGBTQ Graduate Student Welcome
DESCRIPTION:Welcome (or welcome back) to LGBT students!  Mix and mingle with new and  returning students over light refreshments.  A welcome will be offered from  Rackham Graduate School and the Spectrum Center. This is the place to connect  with other LGBT graduate students at U-M as well as learn about the many  resources around U-M and Ann Arbor for LGBT people. Co-sponsored with the  Spectrum Center. **Pre-registration required** at  https://secure.rackham.umich.edu/Events/wssel.php
UID:2448-919115@events.umich.edu
URL:https://events.umich.edu/event/2448
CLASS:PUBLIC
STATUS:CONFIRMED
CATEGORIES:
LOCATION:Rackham Graduate School (Horace H.) - Assembly Hall, 4th floor
CONTACT:
END:VEVENT
BEGIN:VEVENT
DTSTAMP:20090911T151814
DTSTART;TZID=America/Detroit:20091021T180000
DTEND;TZID=America/Detroit:20091021T200000
SUMMARY:Workshop / Seminar:Global Careers in Engineering & Technology
DESCRIPTION:Chrysler Commons Lobby (North Campus)\n\nJoin us as employers and alumni discuss their international experiences in engineering and technology at a fireside chat. Speakers will provide insight into careers in engineering and technology in an informal setting and discuss ways for students to prepare for international opportunities within these fields.
UID:1348-914221@events.umich.edu
URL:https://events.umich.edu/event/1348
CLASS:PUBLIC
STATUS:CONFIRMED
CATEGORIES:
LOCATION:Chrysler Center - Lobby
CONTACT:
END:VEVENT
BEGIN:VEVENT
DTSTAMP:20101111T175823
DTSTART;TZID=America/Detroit:20091021T190000
DTEND;TZID=America/Detroit:20091021T200000
SUMMARY:Workshop / Seminar:Teaching and Volunteering Abroad
DESCRIPTION:Programs for teaching and volunteering abroad offer a vast range of opportunities in fields such as health\, social work\, natural resources and teaching English. Positions are available for undergraduate and graduate/professional students\, as well as for those about to graduate. Find out about some well-established programs and follow up with their representatives (and others) at the International Opportunities Fair the following day.
UID:2529-919241@events.umich.edu
URL:https://events.umich.edu/event/2529
CLASS:PUBLIC
STATUS:CONFIRMED
CATEGORIES:
LOCATION:Michigan Union
CONTACT:
END:VEVENT
BEGIN:VEVENT
DTSTAMP:20101111T175756
DTSTART;TZID=America/Detroit:20091021T200000
SUMMARY:Performance:Cathie Ryan
DESCRIPTION:
UID:2178-917394@events.umich.edu
URL:https://events.umich.edu/event/2178
CLASS:PUBLIC
STATUS:CONFIRMED
CATEGORIES:music
LOCATION:
CONTACT:
END:VEVENT
BEGIN:VEVENT
DTSTAMP:20091021T030002
DTSTART;TZID=America/Detroit:20091021T200000
SUMMARY:Other:Guest Recital:  Rachael Elliott and Lynn Hileman\, bassoon duo
DESCRIPTION:PROGRAM:  Daugherty - Bounce\; Gubaidulina - Duo Sonate\; Meijering - Nocturnal Residents\; Andriessen - Lacrimosa\; DeSantis - Fopp\; Mellits - Black\; Moondog - Bells Are Ringing
UID:1650-915587@events.umich.edu
URL:https://events.umich.edu/event/1650
CLASS:PUBLIC
STATUS:CONFIRMED
CATEGORIES:music
LOCATION:Earl V. Moore Building - Blanche Anderson Moore Hall
CONTACT:
END:VEVENT
BEGIN:VEVENT
DTSTAMP:20091021T030002
DTSTART;TZID=America/Detroit:20091021T200000
SUMMARY:Other:SMTD at UMMA: Musical Contemporaries of the Impressionists
DESCRIPTION:The desire for a creative milieu independent of established French institutions was shared by visual artists and composers alike in the second half of the nineteenth century.  This program features vocal and instrumental solo and chamber works by independent composers such as Emmanuel Chabrier\, Camille Saint-Saens\, Georges Bizet\, Henri Duparc\, and Cesar Franck\, performed by SMTD students.
UID:117-909996@events.umich.edu
URL:https://events.umich.edu/event/117
CLASS:PUBLIC
STATUS:CONFIRMED
CATEGORIES:music
LOCATION:Museum of Art -  
CONTACT:
END:VEVENT
BEGIN:VEVENT
DTSTAMP:20101111T175804
DTSTART;TZID=America/Detroit:20091021T200000
DTEND;TZID=America/Detroit:20091021T220000
SUMMARY:Other:Waffle Wednesday
DESCRIPTION:Waffle Wednesday is back! Wednesday\, October 21st\, Governing Board will be hosting Waffle Wednesday from 8-10pm. Come by if you have any questions.
UID:2058-918036@events.umich.edu
URL:https://events.umich.edu/event/2058
CLASS:PUBLIC
STATUS:CONFIRMED
CATEGORIES:
LOCATION:Hillel (Mandell L Berman Center)
CONTACT:
END:VEVENT
BEGIN:VEVENT
DTSTAMP:20090924T150751
DTSTART;TZID=America/Detroit:20091021T220000
DTEND;TZID=America/Detroit:20091021T010000
SUMMARY:Sporting Event:Hillel Ice Hockey Game
DESCRIPTION:The Hillel Ice Hockey Team kicks off its season Wednesday\, September 30 with a 10:00PM game against the Ice Elephants. Come cheer on Hillel at the Ann Arbor Ice Cube.
UID:2164-918518@events.umich.edu
URL:https://events.umich.edu/event/2164
CLASS:PUBLIC
STATUS:CONFIRMED
CATEGORIES:
LOCATION:
CONTACT:
END:VEVENT
END:VCALENDAR