BEGIN:VCALENDAR
VERSION:2.0
PRODID:-//UM//UM*Events//EN
CALSCALE:GREGORIAN
BEGIN:VTIMEZONE
TZID:America/Detroit
TZURL:http://tzurl.org/zoneinfo/America/Detroit
X-LIC-LOCATION:America/Detroit
BEGIN:DAYLIGHT
TZOFFSETFROM:-0500
TZOFFSETTO:-0400
TZNAME:EDT
DTSTART:20070311T020000
RRULE:FREQ=YEARLY;BYMONTH=3;BYDAY=2SU
END:DAYLIGHT
BEGIN:STANDARD
TZOFFSETFROM:-0400
TZOFFSETTO:-0500
TZNAME:EST
DTSTART:20071104T020000
RRULE:FREQ=YEARLY;BYMONTH=11;BYDAY=1SU
END:STANDARD
END:VTIMEZONE
BEGIN:VEVENT
DTSTAMP:20101111T175710
DTSTART;TZID=America/Detroit:20091022T000000
SUMMARY:Exhibition:\"Landscape and Memory\" at Gallery Project
DESCRIPTION:Landscape and Memory seeks the experience and sensation of landscape\, tracing memory beyond symbol and  image\, to find a place in-between land and mind that is grounded in shared human experience\, evolution\,  geology\, and memory. \n\nSkyscrapers\, landfill mounds\, and industrialized agriculture often lead society to collectively assume that\, via  human engineering and construction\, it is we who shape the landscape to ourselves. In contrast to this line of  thought\, Landscape and Memory presents the self as shaped by environment and landscape.\n\nCURATED BY Catherine Meier and Joshua Smith \n\nARTISTS Shane Anderson\, Katherine E. Bash\, Jennilie Brewster\, Rocco DePietro\, Sarah Kanouse\, Catherine  Meier\, Zac Montanaro\, Bruce Myren\, Anne Percoco\, Marianetta Porter\, Gloria Pritschet\, Terri Sarris\, Matthew  Shlian\, Joshua Ray Smith and Mary Tsiongas
UID:1392-914327@events.umich.edu
URL:https://events.umich.edu/event/1392
CLASS:PUBLIC
STATUS:CONFIRMED
CATEGORIES:visual arts
LOCATION:
CONTACT:
END:VEVENT
BEGIN:VEVENT
DTSTAMP:20091006T125710
DTSTART;TZID=America/Detroit:20091022T000000
SUMMARY:Exhibition:Encaustic Works: Paintings in Molten Wax
DESCRIPTION:An exhibition of paintings by artist Ariela Steif in the medium of encaustic -- an ancient technique of pigmented  wax that is applied molten and then reheated to fuse every layer to the one beneath it. Encaustic has the ability  to take on extreme transparency\, which allows the simultaneous revealing and concealing of layers.  This series\,  situated in the charged and unstable space between representation and abstraction\, gathers fragments of dreams  and memories that are layered together\, and negotiates the ever-changing boundary between isolation and  community.
UID:1139-913100@events.umich.edu
URL:https://events.umich.edu/event/1139
CLASS:PUBLIC
STATUS:CONFIRMED
CATEGORIES:visual arts
LOCATION:Michigan Union - Arts Lounge
CONTACT:
END:VEVENT
BEGIN:VEVENT
DTSTAMP:20101111T175755
DTSTART;TZID=America/Detroit:20091022T000000
SUMMARY:Exhibition:Exhibit
DESCRIPTION:Economic crises on an international scale are not new\, and President Ford inherited a tough one in 1974. A new exhibit at the Ford Library in Ann Arbor shows how he attacked a troubling brew of inflation\, recession\, budget deficits and oil supply worries. This exhibit features rarely seen artifacts and archival materials from the Ford Library and Museum collections.
UID:3853-917280@events.umich.edu
URL:https://events.umich.edu/event/3853
CLASS:PUBLIC
STATUS:CONFIRMED
CATEGORIES:
LOCATION:Gerald Ford Library
CONTACT:
END:VEVENT
BEGIN:VEVENT
DTSTAMP:20101111T175751
DTSTART;TZID=America/Detroit:20091022T000000
SUMMARY:Exhibition:Exhibit
DESCRIPTION:Permanent lobby exhibits present the stories of President Gerald Ford and First Lady Betty Ford through archival photos and documents.
UID:2023-917026@events.umich.edu
URL:https://events.umich.edu/event/2023
CLASS:PUBLIC
STATUS:CONFIRMED
CATEGORIES:
LOCATION:Gerald Ford Library
CONTACT:
END:VEVENT
BEGIN:VEVENT
DTSTAMP:20101111T175620
DTSTART;TZID=America/Detroit:20091022T000000
SUMMARY:Exhibition:Permanent Exhibits at the Exhibit Museum of Natural History
DESCRIPTION:The Hall of Evolution houses Michigan's largest display of prehistoric life. More than 600 million years of life on Earth are traced through fossils\, models and dioramas. The Michigan Wildlife Gallery has a large collection of native Great Lakes birds\, mammals\, reptiles\, and amphibians\, with taxidermy mounts\, habitat scenes\, and the largest mastodon trackway on display in the world. There are also displays about some of the environmental problems faced in this region today. The Anthropology Displays feature artifacts from human cultures around the world. The Geology Displays on the fourth floor offer a large selection of rocks\, minerals and gems. These displays are updated periodically. For more information go to www.lsa.umich.edu/exhibitmuseum/exhibits/permexhibits or call 734-764-0480.
UID:452-910742@events.umich.edu
URL:https://events.umich.edu/event/452
CLASS:PUBLIC
STATUS:CONFIRMED
CATEGORIES:
LOCATION:Ruthven Museums Building
CONTACT:
END:VEVENT
BEGIN:VEVENT
DTSTAMP:20101111T175759
DTSTART;TZID=America/Detroit:20091022T080000
DTEND;TZID=America/Detroit:20091022T170000
SUMMARY:Exhibition:History of Dentistry exhibits at the Sindecuse Museum of Dentistry
DESCRIPTION:Exhibits at the Sindecuse Museum of Dentistry include Dental Operatories of the 1860s to 1930s\, St. Apollonia-Patron Saint of Dentistry and more. Call 763-0767 or go to www.dent.umich.edu/museum for more information.
UID:3856-917619@events.umich.edu
URL:https://events.umich.edu/event/3856
CLASS:PUBLIC
STATUS:CONFIRMED
CATEGORIES:
LOCATION:Dental & W.K. Kellogg Institute
CONTACT:
END:VEVENT
BEGIN:VEVENT
DTSTAMP:20101111T175733
DTSTART;TZID=America/Detroit:20091022T080000
DTEND;TZID=America/Detroit:20091022T170000
SUMMARY:Exhibition:Secrets of the Garden
DESCRIPTION:These images were taken without a camera. Ponvert places her subjects directly on a digital scanner and then alters them in Photoshop. The images in this exhibit were taken over the past three years from subjects in her garden in Ann Arbor\, Michigan. Her work has been shown at the Kerrytown Concert House\, and her garden was chosen to be on the Ann Arbor Women's Farm and Garden Walk in 2008.
UID:3843-915835@events.umich.edu
URL:https://events.umich.edu/event/3843
CLASS:PUBLIC
STATUS:CONFIRMED
CATEGORIES:
LOCATION:Cancer Center - Level 1
CONTACT:
END:VEVENT
BEGIN:VEVENT
DTSTAMP:20101111T175651
DTSTART;TZID=America/Detroit:20091022T080000
DTEND;TZID=America/Detroit:20091022T170000
SUMMARY:Exhibition:Wearable Art
DESCRIPTION:U-M School of Art & Design alumna Furtado started as a weaver over 30 years ago\, working on a loom. She is now engaged in a variety of activities as she produces her line of wearable art. Handweaving\, felting\, dyeing and beading are common tools of her trade. Lately\, she has been exploring Nuno felting\, a Japanese technique which combines wool felt with silk fabric. One of her dyeing techniques is a resist process involving clamping and applying dye in multiple steps\, creating a multiple-color\, multiple-shape design.
UID:3819-913003@events.umich.edu
URL:https://events.umich.edu/event/3819
CLASS:PUBLIC
STATUS:CONFIRMED
CATEGORIES:
LOCATION:Cancer Center - Main Lobby, Level B2
CONTACT:
END:VEVENT
BEGIN:VEVENT
DTSTAMP:20090818T134607
DTSTART;TZID=America/Detroit:20091022T090000
DTEND;TZID=America/Detroit:20091022T170000
SUMMARY:Other:HUMANITIES GALLERY
DESCRIPTION:OPENING RECEPTION: THURSDAY\, SEPTEMBER 17\, 2009\, 6:30-8:00 PM (immediately following  the School of Art and Design's Penny Stamps Lecture at the Michigan Theater in Ann Arbor) 202  SOUTH THAYER STREET ROOM 1010 ANN ARBOR\, MICHIGAN Gallery hours: Monday - Friday\,  9:00AM-5:00PM ***** In this photographic exhibit\, RICHARD BARNES\, the Institute for the  Humanities' 2009 Paula and Edwin Sidman Fellow in the Arts\, presents innovative new work  inspired by the paleontology and anthropology collections in the University of Michigan Exhibits  Museum and the ornithology collection in the Museum of Zoology. In this unique installation\,  Barnes considers the nature of things from collection and display to extinction. A prehistoric  skeletal whale juxtaposes a mound of rubber molds and resin casts\, examining questions of  replication and authenticity\, what we save and what we lose. Both lyrical and visceral\, Barnes'  work engages us in a provocative conversation about museological practice from behind the  scenes\, capturing the inextricable relationship between human gesture and the inevitability of  extinction. For more information\, contact Amanda Krugliak(mandak@umich.edu). (734) 936-3518.
UID:1157-914645@events.umich.edu
URL:https://events.umich.edu/event/1157
CLASS:PUBLIC
STATUS:CONFIRMED
CATEGORIES:visual arts
LOCATION:202 S. Thayer
CONTACT:
END:VEVENT
BEGIN:VEVENT
DTSTAMP:20090722T143534
DTSTART;TZID=America/Detroit:20091022T090000
DTEND;TZID=America/Detroit:20091022T170000
SUMMARY:Exhibition:Ida: Darwinius masillae
DESCRIPTION:\"Ida\,\" a new exhibit in the Exhibit Museum's Rotunda\, displays a high-resolution cast of an extremely rare  fossil discovered in 1983 near Messel\, Germany\, but only recently made available for study. The fossil has  proven to be a “link” between the prosimian and simian (\"anthropoid\") primate lineages. It has \"advanced\"  front teeth (incisors and canines) and second toes like those of monkeys\, and is broadly representative of what  human primate ancestors may have looked like during the Eocene epoch 47 million years ago.     Ida (prounded \"eeda\") is named after after the daughter of Dr JÃ¸rn Hurum\, the Norwegian vertebrate  paleontologist who secured one section of the fossil from an anonymous owner\, and led the research. Ida was  about eight months old\, or the equivalent of a six-year-old human.     Publication of a paper on the discovery was accompanied by a book\, The Link: Uncovering Our Earliest  Ancestors by Colin Tudge\, and a documentary shown on the History Channel (US)\, BBC One (UK)\,and various  stations in Germany and Norway.     U-M paleontologist Philip Gingerich and U-M anthropologist B. Holly Smith were two members of the \"dream  team\" invited to study Ida. The exhibit will be on display through May 2010.
UID:2124-918357@events.umich.edu
URL:https://events.umich.edu/event/2124
CLASS:PUBLIC
STATUS:CONFIRMED
CATEGORIES:welcome week,visual arts,multicultural
LOCATION:
CONTACT:
END:VEVENT
BEGIN:VEVENT
DTSTAMP:20101111T175902
DTSTART;TZID=America/Detroit:20091022T090000
DTEND;TZID=America/Detroit:20091022T170000
SUMMARY:Exhibition:Robert and Shana Parke-Harrison Show
DESCRIPTION:She's a painter and he's a photographer. They work as a creative team creating arresting images that might haunt you for a good while. Meditations on our arts\, our bodies\, our connections to the earth\, the Parke-Harrison photos are not to be missed.
UID:2879-921630@events.umich.edu
URL:https://events.umich.edu/event/2879
CLASS:PUBLIC
STATUS:CONFIRMED
CATEGORIES:
LOCATION:Art and Architecture Building - Slusser Gallery
CONTACT:
END:VEVENT
BEGIN:VEVENT
DTSTAMP:20101111T175638
DTSTART;TZID=America/Detroit:20091022T100000
SUMMARY:Exhibition:(Un)Natural History: The Museum Unveiled
DESCRIPTION:September 12 through December 6\, 2009\n\nRichard Barnes's series of photographs Animal Logic examines the role the museum plays in our understanding of ourselves through the acts of collecting\, preservation\, and display. Images from this large body of work include photographs of the collections from the Smithsonian Institution\, the Museum of Comparative Anatomy in Paris\, the Canadian Museum of Natural History\, and the San Francisco Academy of Science. (Un)Natural History focuses primarily on the natural history museum and by extension collecting institutions in general\, providing a kind of behind-the-scenes look at museum practice and display.\n\nThis exhibition will coincide with the UM LSA Theme Semester Meaningful Objects: Museums and the Academy. UMMA's presentation is projected to serve as part of a three-venue project highlighting different aspects of Barnes's work in partnership with the UM Institute for the Humanities–who have selected Richard Barnes as the Paula and Edwin Sidman Fellow in the Arts for 2009–and the Cranbrook Institute of Science in Bloomfield Hills\, Michigan.
UID:648-912285@events.umich.edu
URL:https://events.umich.edu/event/648
CLASS:PUBLIC
STATUS:CONFIRMED
CATEGORIES:visual arts
LOCATION:Museum of Art
CONTACT:
END:VEVENT
BEGIN:VEVENT
DTSTAMP:20101111T175600
DTSTART;TZID=America/Detroit:20091022T100000
DTEND;TZID=America/Detroit:20091022T170000
SUMMARY:Exhibition:Stearns Collection of Music
DESCRIPTION:The Stearns Collection at the School of Music\, Theatre & Dance is one of six major collections of musical instruments in North America. The 2\,500-piece collection is internationally known and is a resource for musical and cultural education.
UID:3790-909136@events.umich.edu
URL:https://events.umich.edu/event/3790
CLASS:PUBLIC
STATUS:CONFIRMED
CATEGORIES:
LOCATION:Earl V. Moore Building
CONTACT:
END:VEVENT
BEGIN:VEVENT
DTSTAMP:20090708T120930
DTSTART;TZID=America/Detroit:20091022T100000
SUMMARY:Exhibition:The Lens of Impressionism
DESCRIPTION:October 10\, 2009 through January 3\, 2010\n\nThis exhibition advances a new argument for the origins of what was called “the new painting\,” namely that a unique convergence of forces–social\, artistic\, technological\, and commercial–along the Normandy coast of France dramatically transformed the course of photography and painting (as well as of the region itself). Within this framework\, the invention of the camera and the development of early fine art photography in that particular setting will be seen as the specific catalysts that brought about a new approach to painting.\n\nThe project will showcase paintings\, photographs\, and drawings by some of the most treasured artists in the Western canon–Gustave Courbet\, Edouard Manet\, Edgar Degas\, and Claude Monet among them–as well as pioneering photographers such as Gustave Le Gray and Henri Le Secq. Inspired by the scenic Normandy coast of France\, these works–including representations of beach scenes\, seascapes\, fishing villages\, resorts\, and the region's pastoral beauty–will be brought together with archival materials related to early tourism and regional expressions of French nationalism from popular culture for an innovative examination of the impact of the then-new medium of photography on ideas of image making\, the recording of passing time\, the capacities of painting\, and the rise of Impressionism itself.\n\nOrganized by UMMA\, this exhibition is made possible in part by the Florence Gould Foundation\, the National Endowment for the Arts\, Masco Corporation\, and the University of Michigan's Office of the Provost and Office of the Vice President for Research. Additional support has been provided by the family of Raymond F. Cunningham in his memory. Following its showing in Ann Arbor\, the exhibition will travel to the Dallas Museum of Art.
UID:2436-919885@events.umich.edu
URL:https://events.umich.edu/event/2436
CLASS:PUBLIC
STATUS:CONFIRMED
CATEGORIES:visual arts
LOCATION:Museum of Art
CONTACT:
END:VEVENT
BEGIN:VEVENT
DTSTAMP:20101111T175624
DTSTART;TZID=America/Detroit:20091022T110000
DTEND;TZID=America/Detroit:20091022T130000
SUMMARY:Performance:Beats N' Eats
DESCRIPTION:Enjoy the relaxing sounds of talented U-M student performers over lunch! Beats N' Eats takes place every Thursday from 11a-1p in either the Union MUG or League Underground. Interested in performance opportunities? Contact University Unions Arts & Programs at uuap@umich.edu or 734-763-3202.
UID:552-911066@events.umich.edu
URL:https://events.umich.edu/event/552
CLASS:PUBLIC
STATUS:CONFIRMED
CATEGORIES:music
LOCATION:Michigan League - Underground
CONTACT:
END:VEVENT
BEGIN:VEVENT
DTSTAMP:20091022T030003
DTSTART;TZID=America/Detroit:20091022T110000
SUMMARY:Other:Masterclass:  Kathakali dance drama
DESCRIPTION:Introduction to Kathakali dance drama given by Shanmughan\, Kathakali dancer\, and V. Kaladharan\, Indian dance critic.
UID:345-910390@events.umich.edu
URL:https://events.umich.edu/event/345
CLASS:PUBLIC
STATUS:CONFIRMED
CATEGORIES:dance,music
LOCATION:Dance Building - Betty Pease Studio Theatre
CONTACT:
END:VEVENT
BEGIN:VEVENT
DTSTAMP:20101111T175656
DTSTART;TZID=America/Detroit:20091022T120000
DTEND;TZID=America/Detroit:20091022T130000
SUMMARY:Lecture / Discussion:Israel Programs Discussion
DESCRIPTION:If you're interested in studying abroad in Israel or participating in a post college career or volunteer program in Israel\, come meet with representatives from OTZMA\, Pardes\, and MASA to discuss several fun and interesting programs that you can do in Israel on Thursday October 22 from 12:00pm - 1:00pm at Amer's on Church Street. Please RSVP to  Richard Kallus and let him know if you want a Kosher lunch option!
UID:882-913337@events.umich.edu
URL:https://events.umich.edu/event/882
CLASS:PUBLIC
STATUS:CONFIRMED
CATEGORIES:
LOCATION:
CONTACT:
END:VEVENT
BEGIN:VEVENT
DTSTAMP:20101111T175622
DTSTART;TZID=America/Detroit:20091022T140000
DTEND;TZID=America/Detroit:20091022T180000
SUMMARY:Fair / Festival:INTERNATIONAL OPPORTUNITIES FAIR
DESCRIPTION:Meet with representatives of 50+ organizations to explore options for work\, internships\, volunteering and teaching abroad\, as well as opportunities for international careers.
UID:494-910923@events.umich.edu
URL:https://events.umich.edu/event/494
CLASS:PUBLIC
STATUS:CONFIRMED
CATEGORIES:
LOCATION:Michigan Union
CONTACT:
END:VEVENT
BEGIN:VEVENT
DTSTAMP:20101111T175736
DTSTART;TZID=America/Detroit:20091022T140000
DTEND;TZID=America/Detroit:20091022T180000
SUMMARY:Fair / Festival:The Career Center and International Center's International Opportunities Fair
DESCRIPTION:The Career Center and International Center are pleased to co-sponsor the International Opportunities Fair. Part of International Career Pathways\, the Fair offers the opportunity to explore internship/short term work abroad programs\, study-internship programs\, volunteering/teaching abroad programs\, graduate school programs and organizations with full-time positions.
UID:1860-916017@events.umich.edu
URL:https://events.umich.edu/event/1860
CLASS:PUBLIC
STATUS:CONFIRMED
CATEGORIES:
LOCATION:Michigan Union - Second Floor
CONTACT:
END:VEVENT
BEGIN:VEVENT
DTSTAMP:20091102T150050
DTSTART;TZID=America/Detroit:20091022T153000
DTEND;TZID=America/Detroit:20091022T173000
SUMMARY:Lecture / Discussion:Department of Astronomy Colloquia Series
DESCRIPTION:A weekly lecture series with Astronomy or Astrophysics related topics. Please see  department website for featured speaker and lecture topic. There will be a brief  reception with light refreshments preceding the lecture in room 845 Dennison from  3:30-4:00 pm.
UID:1689-915695@events.umich.edu
URL:https://events.umich.edu/event/1689
CLASS:PUBLIC
STATUS:CONFIRMED
CATEGORIES:
LOCATION:Weiser Hall - 807
CONTACT:
END:VEVENT
BEGIN:VEVENT
DTSTAMP:20101111T175641
DTSTART;TZID=America/Detroit:20091022T153000
DTEND;TZID=America/Detroit:20091022T163000
SUMMARY:Workshop / Seminar:EEB Thursday Seminar Series: Speciation genetics as recorded in the genome composition of hybrids
DESCRIPTION:Abstract: Our efforts to associate phenotypic variation with genetic variation  increasingly recognize that the function of genes is dependent on the  environmental and genomic contexts in which they occur. Consequently\, we seek an  understanding of the developmental and physiological systems from which  phenotypes emerge. Similarly\, our pursuit of genes and evolutionary processes that  contribute to reproductive isolation and speciation will require that these be  embedded within the relevant environmental and genomic contexts. In this talk I  will present relevant data from two lines of research that use the genome  composition of hybrids to draw inferences about reproductive isolation and the  speciation process. In natural hybrid zones we have found evidence for remarkably  complex genetics of isolation in different taxa\, with variability across the genome  and points of contact between species. In diploid hybrid species we have estimated  the time scale over which the species became isolated from ancestral taxa and  have developed methods to detect genomic regions that were shaped by selection  and contributed to isolation in the nascent species. The research employs analyses  that integrate over the many processes that shape the composition of hybrid  genomes. Whereas these approaches lack the experimental control of more typical  mapping experiments\, they have the advantage of embedding the genetics within  the natural context within which species' boundaries arise and are tested by  hybridization.
UID:743-912453@events.umich.edu
URL:https://events.umich.edu/event/743
CLASS:PUBLIC
STATUS:CONFIRMED
CATEGORIES:
LOCATION:Chemistry Dow Lab - 1210
CONTACT:
END:VEVENT
BEGIN:VEVENT
DTSTAMP:20090817T143722
DTSTART;TZID=America/Detroit:20091022T183000
DTEND;TZID=America/Detroit:20091022T203000
SUMMARY:Workshop / Seminar:MOLS Tens\, Tarps\, and Shelters Clinic
DESCRIPTION:Looking to learn the ins and outs of setting up a variety of shelters? Simply wondering about  tent set up basics? Or maybe how to decide where to put your shelter in the first place? In this  clinic you will be exposed to a variety of tent types\, practice hanging tarps\, discuss other  options for shelter\, and learn how to select a (relatively) comfortable and low–impact  campsite for any shelter type.
UID:94-909368@events.umich.edu
URL:https://events.umich.edu/event/94
CLASS:PUBLIC
STATUS:CONFIRMED
CATEGORIES:
LOCATION:
CONTACT:
END:VEVENT
BEGIN:VEVENT
DTSTAMP:20101111T175712
DTSTART;TZID=America/Detroit:20091022T183000
DTEND;TZID=America/Detroit:20091022T194500
SUMMARY:Other:Yoga at Hillel
DESCRIPTION:A great workout for the body and the mind. Each Monday and Thursday\, from 6:30pm-7:45pm Hillel offers Yoga classes right here in our Hillel building. Yoga classes are taught by Rachel Portnoy\, a professional local yoga instructor from A2 Yoga. Classes are $5 for students and mats are provided. In addition\, Hillel offers free late night restorative yoga during our 24 Hour Finals Study program. To get in downward dog with Hillel\, please email Tilly\, or call Hillel at 769-0500.
UID:1445-914415@events.umich.edu
URL:https://events.umich.edu/event/1445
CLASS:PUBLIC
STATUS:CONFIRMED
CATEGORIES:
LOCATION:Hillel (Mandell L Berman Center)
CONTACT:
END:VEVENT
BEGIN:VEVENT
DTSTAMP:20101111T175848
DTSTART;TZID=America/Detroit:20091022T190000
DTEND;TZID=America/Detroit:20091022T200000
SUMMARY:Meeting:Circle K Meeting
DESCRIPTION:Learn about how you can serve the community! Circle K sponsors numerous community service projects daily that fit your schedule. This year our service hour goal is 10\,000 service hours. You can also be a part of this because anyone can volunteer with us. To find out how you can get involved you can attend a meeting or sign up for our community service projects at umcirclek.org/calendar.php. At our meetings\, you will also be able to interact with our members. We try our best to bring a sense of community to everyone. An optional social will also follow the meeting. Come learn about how you can help out and meet new people! Service really does come full circle!
UID:2929-920751@events.umich.edu
URL:https://events.umich.edu/event/2929
CLASS:PUBLIC
STATUS:CONFIRMED
CATEGORIES:
LOCATION:Michigan Union - Anderson Room
CONTACT:
END:VEVENT
BEGIN:VEVENT
DTSTAMP:20101111T175623
DTSTART;TZID=America/Detroit:20091022T190000
DTEND;TZID=America/Detroit:20091022T210000
SUMMARY:Film Screening:Film Screening: Paris is Burning
DESCRIPTION:Paris Is Burning is a 1990 documentary film directed by Jennie Livingston. Filmed in  the mid-to-late 1980s\, it chronicles the ball culture of New York City and the African  American and Latino gay and transgendered community involved in it. Many  consider Paris Is Burning to be an invaluable documentary of the end of  the \"Golden Age\" of New York City drag balls\, as well as a thoughtful exploration of  race\, class\, and gender in America.
UID:521-911037@events.umich.edu
URL:https://events.umich.edu/event/521
CLASS:PUBLIC
STATUS:CONFIRMED
CATEGORIES:
LOCATION:Michigan League - 4
CONTACT:
END:VEVENT
BEGIN:VEVENT
DTSTAMP:20101111T175707
DTSTART;TZID=America/Detroit:20091022T190000
SUMMARY:Performance:Live from Michigan...It's Thursday Night!
DESCRIPTION:A Saturday Night Live themed variety show with live acts and short videos.
UID:1301-914177@events.umich.edu
URL:https://events.umich.edu/event/1301
CLASS:PUBLIC
STATUS:CONFIRMED
CATEGORIES:film,music,theater,dance
LOCATION:Lydia Mendelssohn Theatre
CONTACT:
END:VEVENT
BEGIN:VEVENT
DTSTAMP:20101111T175716
DTSTART;TZID=America/Detroit:20091022T190000
DTEND;TZID=America/Detroit:20091022T210000
SUMMARY:Film Screening:Paris is Burning
DESCRIPTION:The event will include a screening of \"Paris is Burning\" followed by a discussion lead by The Mixed Initiative and Relate- student orgs on campus. There will be refreshments provided\; all are welcome.
UID:1189-914726@events.umich.edu
URL:https://events.umich.edu/event/1189
CLASS:PUBLIC
STATUS:CONFIRMED
CATEGORIES:social justice,multicultural
LOCATION:Michigan League - Room 4
CONTACT:
END:VEVENT
BEGIN:VEVENT
DTSTAMP:20090911T152837
DTSTART;TZID=America/Detroit:20091022T190000
DTEND;TZID=America/Detroit:20091022T200000
SUMMARY:Workshop / Seminar:Peace Corps and Your International Career
DESCRIPTION:Find out from returned Peace Corps volunteers how Peace Corps can help prepare you for careers in international development\, health or diplomacy.\n\nStudent Registration\n\nUM-Ann Arbor Students    Registration will be on-site at each program.    There is no registration fee.    Bring your student ID.\n\nNon-UM-Ann Arbor Students    This event is for UM-Ann Arbor students and alumni/ae.    There is no registration fee for the International Program Series.    Interviews scheduled to be conducted at The Career Center are for UM-Ann Arbor       students only.
UID:1673-915601@events.umich.edu
URL:https://events.umich.edu/event/1673
CLASS:PUBLIC
STATUS:CONFIRMED
CATEGORIES:
LOCATION:Michigan Union
CONTACT:
END:VEVENT
BEGIN:VEVENT
DTSTAMP:20101111T175832
DTSTART;TZID=America/Detroit:20091022T200000
SUMMARY:Performance:Guy Clark
DESCRIPTION:Guy Clark's appeal has spread far beyond the Texas plains where he was raised  and where he learned to build the guitars he plays. Says England's Guardian  newspaper: \"He has painstakingly assembled one of the most impressive  catalogues of any living songwriter.\" As a songwriter Guy can do it all: searing  confessionals (\"Dublin Blues\")\, catchy country hits (\"Heartbroke\")\, back-porch folk  (\"Homegrown Tomatoes\")\, ambitious historical descriptions (\"Texas 1947\")\, moving  little elegies for lost souls (\"One Paper Kid\")--you name it! Guy comes to Michigan  with the recently released \"Somedays the Song Writes You\" CD. “Hopefully I get  better\,” he offers. “I'm mostly learning what to leave out.\" Tonight's special guest  is songwriter Terri Hendrix. She's a downhome entrepreneur and a very wise woman\,  and she appears tonight with the legendary guitarist Lloyd Maines\, father of Dixie  Chick Natalie Maines. Terri also has a new album\, \"Left Over Alls.\"
UID:2413-919802@events.umich.edu
URL:https://events.umich.edu/event/2413
CLASS:PUBLIC
STATUS:CONFIRMED
CATEGORIES:music
LOCATION:
CONTACT:
END:VEVENT
BEGIN:VEVENT
DTSTAMP:20091022T030003
DTSTART;TZID=America/Detroit:20091022T200000
SUMMARY:Other:Jazz Ensemble
DESCRIPTION:Ellen Rowe\, director.  Works by Bob Curnow\, Don Sebesky\, John Scofield\, Bill Holman and a world premiere of a newly commissioned piece by guest composer Michael Holober.  Special celebration of the 1965 U of M Jazz Band in honor of their State Department tour of South America\, including performances of two works they performed.
UID:1905-917819@events.umich.edu
URL:https://events.umich.edu/event/1905
CLASS:PUBLIC
STATUS:CONFIRMED
CATEGORIES:music
LOCATION:Rackham Graduate School (Horace H.) - Auditorium
CONTACT:
END:VEVENT
BEGIN:VEVENT
DTSTAMP:20091022T030003
DTSTART;TZID=America/Detroit:20091022T200000
SUMMARY:Other:Kathakali Dance Performance
DESCRIPTION:Lecture/demonstration with guest performers Shanmughan\, Kathakali dancer\, and V. Kaladharan\, Indian dance critic.
UID:823-913197@events.umich.edu
URL:https://events.umich.edu/event/823
CLASS:PUBLIC
STATUS:CONFIRMED
CATEGORIES:music,dance
LOCATION:Earl V. Moore Building - Britton Recital Hall
CONTACT:
END:VEVENT
BEGIN:VEVENT
DTSTAMP:20101111T175743
DTSTART;TZID=America/Detroit:20091022T203000
DTEND;TZID=America/Detroit:20091022T230000
SUMMARY:Exhibition:POETRY SLAM
DESCRIPTION:Doors open at 8:30pm and the show starts PROMPTLY at 9pm.\n\nThere is an OPEN MIC session from 9-9:30pm where poets showcase their skills  without being judged.\n\nThe SLAM is a competition wherein 8 poets have 3 minutes to give the crowd their  best work. The winner of the slam will be photographed\, automatically entered into  the GRAND SLAM\, and will receive MONEY from the tip jar.\n\nFinally\, from 10pm until 10:30pm\, we have a featured poet! Many of them have  been featured on Def Poetry Jam!
UID:1716-916523@events.umich.edu
URL:https://events.umich.edu/event/1716
CLASS:PUBLIC
STATUS:CONFIRMED
CATEGORIES:visual arts,theater,music,literary arts
LOCATION:Michigan Union - U-club
CONTACT:
END:VEVENT
END:VCALENDAR