BEGIN:VCALENDAR
VERSION:2.0
PRODID:-//UM//UM*Events//EN
CALSCALE:GREGORIAN
BEGIN:VTIMEZONE
TZID:America/Detroit
TZURL:http://tzurl.org/zoneinfo/America/Detroit
X-LIC-LOCATION:America/Detroit
BEGIN:DAYLIGHT
TZOFFSETFROM:-0500
TZOFFSETTO:-0400
TZNAME:EDT
DTSTART:20070311T020000
RRULE:FREQ=YEARLY;BYMONTH=3;BYDAY=2SU
END:DAYLIGHT
BEGIN:STANDARD
TZOFFSETFROM:-0400
TZOFFSETTO:-0500
TZNAME:EST
DTSTART:20071104T020000
RRULE:FREQ=YEARLY;BYMONTH=11;BYDAY=1SU
END:STANDARD
END:VTIMEZONE
BEGIN:VEVENT
DTSTAMP:20101111T175710
DTSTART;TZID=America/Detroit:20091023T000000
SUMMARY:Exhibition:\"Landscape and Memory\" at Gallery Project
DESCRIPTION:Landscape and Memory seeks the experience and sensation of landscape\, tracing memory beyond symbol and  image\, to find a place in-between land and mind that is grounded in shared human experience\, evolution\,  geology\, and memory. \n\nSkyscrapers\, landfill mounds\, and industrialized agriculture often lead society to collectively assume that\, via  human engineering and construction\, it is we who shape the landscape to ourselves. In contrast to this line of  thought\, Landscape and Memory presents the self as shaped by environment and landscape.\n\nCURATED BY Catherine Meier and Joshua Smith \n\nARTISTS Shane Anderson\, Katherine E. Bash\, Jennilie Brewster\, Rocco DePietro\, Sarah Kanouse\, Catherine  Meier\, Zac Montanaro\, Bruce Myren\, Anne Percoco\, Marianetta Porter\, Gloria Pritschet\, Terri Sarris\, Matthew  Shlian\, Joshua Ray Smith and Mary Tsiongas
UID:1392-914328@events.umich.edu
URL:https://events.umich.edu/event/1392
CLASS:PUBLIC
STATUS:CONFIRMED
CATEGORIES:visual arts
LOCATION:
CONTACT:
END:VEVENT
BEGIN:VEVENT
DTSTAMP:20091006T125710
DTSTART;TZID=America/Detroit:20091023T000000
SUMMARY:Exhibition:Encaustic Works: Paintings in Molten Wax
DESCRIPTION:An exhibition of paintings by artist Ariela Steif in the medium of encaustic -- an ancient technique of pigmented  wax that is applied molten and then reheated to fuse every layer to the one beneath it. Encaustic has the ability  to take on extreme transparency\, which allows the simultaneous revealing and concealing of layers.  This series\,  situated in the charged and unstable space between representation and abstraction\, gathers fragments of dreams  and memories that are layered together\, and negotiates the ever-changing boundary between isolation and  community.
UID:1139-913101@events.umich.edu
URL:https://events.umich.edu/event/1139
CLASS:PUBLIC
STATUS:CONFIRMED
CATEGORIES:visual arts
LOCATION:Michigan Union - Arts Lounge
CONTACT:
END:VEVENT
BEGIN:VEVENT
DTSTAMP:20101111T175755
DTSTART;TZID=America/Detroit:20091023T000000
SUMMARY:Exhibition:Exhibit
DESCRIPTION:Economic crises on an international scale are not new\, and President Ford inherited a tough one in 1974. A new exhibit at the Ford Library in Ann Arbor shows how he attacked a troubling brew of inflation\, recession\, budget deficits and oil supply worries. This exhibit features rarely seen artifacts and archival materials from the Ford Library and Museum collections.
UID:3853-917281@events.umich.edu
URL:https://events.umich.edu/event/3853
CLASS:PUBLIC
STATUS:CONFIRMED
CATEGORIES:
LOCATION:Gerald Ford Library
CONTACT:
END:VEVENT
BEGIN:VEVENT
DTSTAMP:20101111T175751
DTSTART;TZID=America/Detroit:20091023T000000
SUMMARY:Exhibition:Exhibit
DESCRIPTION:Permanent lobby exhibits present the stories of President Gerald Ford and First Lady Betty Ford through archival photos and documents.
UID:2023-917027@events.umich.edu
URL:https://events.umich.edu/event/2023
CLASS:PUBLIC
STATUS:CONFIRMED
CATEGORIES:
LOCATION:Gerald Ford Library
CONTACT:
END:VEVENT
BEGIN:VEVENT
DTSTAMP:20101111T175620
DTSTART;TZID=America/Detroit:20091023T000000
SUMMARY:Exhibition:Permanent Exhibits at the Exhibit Museum of Natural History
DESCRIPTION:The Hall of Evolution houses Michigan's largest display of prehistoric life. More than 600 million years of life on Earth are traced through fossils\, models and dioramas. The Michigan Wildlife Gallery has a large collection of native Great Lakes birds\, mammals\, reptiles\, and amphibians\, with taxidermy mounts\, habitat scenes\, and the largest mastodon trackway on display in the world. There are also displays about some of the environmental problems faced in this region today. The Anthropology Displays feature artifacts from human cultures around the world. The Geology Displays on the fourth floor offer a large selection of rocks\, minerals and gems. These displays are updated periodically. For more information go to www.lsa.umich.edu/exhibitmuseum/exhibits/permexhibits or call 734-764-0480.
UID:452-910743@events.umich.edu
URL:https://events.umich.edu/event/452
CLASS:PUBLIC
STATUS:CONFIRMED
CATEGORIES:
LOCATION:Ruthven Museums Building
CONTACT:
END:VEVENT
BEGIN:VEVENT
DTSTAMP:20101111T175759
DTSTART;TZID=America/Detroit:20091023T080000
DTEND;TZID=America/Detroit:20091023T170000
SUMMARY:Exhibition:History of Dentistry exhibits at the Sindecuse Museum of Dentistry
DESCRIPTION:Exhibits at the Sindecuse Museum of Dentistry include Dental Operatories of the 1860s to 1930s\, St. Apollonia-Patron Saint of Dentistry and more. Call 763-0767 or go to www.dent.umich.edu/museum for more information.
UID:3856-917620@events.umich.edu
URL:https://events.umich.edu/event/3856
CLASS:PUBLIC
STATUS:CONFIRMED
CATEGORIES:
LOCATION:Dental & W.K. Kellogg Institute
CONTACT:
END:VEVENT
BEGIN:VEVENT
DTSTAMP:20101111T175733
DTSTART;TZID=America/Detroit:20091023T080000
DTEND;TZID=America/Detroit:20091023T170000
SUMMARY:Exhibition:Secrets of the Garden
DESCRIPTION:These images were taken without a camera. Ponvert places her subjects directly on a digital scanner and then alters them in Photoshop. The images in this exhibit were taken over the past three years from subjects in her garden in Ann Arbor\, Michigan. Her work has been shown at the Kerrytown Concert House\, and her garden was chosen to be on the Ann Arbor Women's Farm and Garden Walk in 2008.
UID:3843-915836@events.umich.edu
URL:https://events.umich.edu/event/3843
CLASS:PUBLIC
STATUS:CONFIRMED
CATEGORIES:
LOCATION:Cancer Center - Level 1
CONTACT:
END:VEVENT
BEGIN:VEVENT
DTSTAMP:20101111T175651
DTSTART;TZID=America/Detroit:20091023T080000
DTEND;TZID=America/Detroit:20091023T170000
SUMMARY:Exhibition:Wearable Art
DESCRIPTION:U-M School of Art & Design alumna Furtado started as a weaver over 30 years ago\, working on a loom. She is now engaged in a variety of activities as she produces her line of wearable art. Handweaving\, felting\, dyeing and beading are common tools of her trade. Lately\, she has been exploring Nuno felting\, a Japanese technique which combines wool felt with silk fabric. One of her dyeing techniques is a resist process involving clamping and applying dye in multiple steps\, creating a multiple-color\, multiple-shape design.
UID:3819-913004@events.umich.edu
URL:https://events.umich.edu/event/3819
CLASS:PUBLIC
STATUS:CONFIRMED
CATEGORIES:
LOCATION:Cancer Center - Main Lobby, Level B2
CONTACT:
END:VEVENT
BEGIN:VEVENT
DTSTAMP:20101111T175805
DTSTART;TZID=America/Detroit:20091023T090000
DTEND;TZID=America/Detroit:20091023T110000
SUMMARY:Workshop / Seminar:Flash CS4 for Beginners
DESCRIPTION:This workshop provides an overview of the Flash CS4 interface and basic functionality\, including Layers\, Symbols\, Instances\, Tools and the Stage\, ending with the creation of a simple animation on the main timeline. Participants should be able to find and start the Flash CS4 program on a PC.  Basic familiarity with another piece of Adobe Creative Suite software\, like Photoshop or Illustrator\, is a plus. The instructor is available for questions about possible educational applications of Flash.
UID:2087-918113@events.umich.edu
URL:https://events.umich.edu/event/2087
CLASS:PUBLIC
STATUS:CONFIRMED
CATEGORIES:
LOCATION:Hatcher Graduate Library - 206
CONTACT:
END:VEVENT
BEGIN:VEVENT
DTSTAMP:20090818T134607
DTSTART;TZID=America/Detroit:20091023T090000
DTEND;TZID=America/Detroit:20091023T170000
SUMMARY:Other:HUMANITIES GALLERY
DESCRIPTION:OPENING RECEPTION: THURSDAY\, SEPTEMBER 17\, 2009\, 6:30-8:00 PM (immediately following  the School of Art and Design's Penny Stamps Lecture at the Michigan Theater in Ann Arbor) 202  SOUTH THAYER STREET ROOM 1010 ANN ARBOR\, MICHIGAN Gallery hours: Monday - Friday\,  9:00AM-5:00PM ***** In this photographic exhibit\, RICHARD BARNES\, the Institute for the  Humanities' 2009 Paula and Edwin Sidman Fellow in the Arts\, presents innovative new work  inspired by the paleontology and anthropology collections in the University of Michigan Exhibits  Museum and the ornithology collection in the Museum of Zoology. In this unique installation\,  Barnes considers the nature of things from collection and display to extinction. A prehistoric  skeletal whale juxtaposes a mound of rubber molds and resin casts\, examining questions of  replication and authenticity\, what we save and what we lose. Both lyrical and visceral\, Barnes'  work engages us in a provocative conversation about museological practice from behind the  scenes\, capturing the inextricable relationship between human gesture and the inevitability of  extinction. For more information\, contact Amanda Krugliak(mandak@umich.edu). (734) 936-3518.
UID:1157-914646@events.umich.edu
URL:https://events.umich.edu/event/1157
CLASS:PUBLIC
STATUS:CONFIRMED
CATEGORIES:visual arts
LOCATION:202 S. Thayer
CONTACT:
END:VEVENT
BEGIN:VEVENT
DTSTAMP:20090722T143534
DTSTART;TZID=America/Detroit:20091023T090000
DTEND;TZID=America/Detroit:20091023T170000
SUMMARY:Exhibition:Ida: Darwinius masillae
DESCRIPTION:\"Ida\,\" a new exhibit in the Exhibit Museum's Rotunda\, displays a high-resolution cast of an extremely rare  fossil discovered in 1983 near Messel\, Germany\, but only recently made available for study. The fossil has  proven to be a “link” between the prosimian and simian (\"anthropoid\") primate lineages. It has \"advanced\"  front teeth (incisors and canines) and second toes like those of monkeys\, and is broadly representative of what  human primate ancestors may have looked like during the Eocene epoch 47 million years ago.     Ida (prounded \"eeda\") is named after after the daughter of Dr JÃ¸rn Hurum\, the Norwegian vertebrate  paleontologist who secured one section of the fossil from an anonymous owner\, and led the research. Ida was  about eight months old\, or the equivalent of a six-year-old human.     Publication of a paper on the discovery was accompanied by a book\, The Link: Uncovering Our Earliest  Ancestors by Colin Tudge\, and a documentary shown on the History Channel (US)\, BBC One (UK)\,and various  stations in Germany and Norway.     U-M paleontologist Philip Gingerich and U-M anthropologist B. Holly Smith were two members of the \"dream  team\" invited to study Ida. The exhibit will be on display through May 2010.
UID:2124-918358@events.umich.edu
URL:https://events.umich.edu/event/2124
CLASS:PUBLIC
STATUS:CONFIRMED
CATEGORIES:welcome week,visual arts,multicultural
LOCATION:
CONTACT:
END:VEVENT
BEGIN:VEVENT
DTSTAMP:20101111T175902
DTSTART;TZID=America/Detroit:20091023T090000
DTEND;TZID=America/Detroit:20091023T170000
SUMMARY:Exhibition:Robert and Shana Parke-Harrison Show
DESCRIPTION:She's a painter and he's a photographer. They work as a creative team creating arresting images that might haunt you for a good while. Meditations on our arts\, our bodies\, our connections to the earth\, the Parke-Harrison photos are not to be missed.
UID:2879-921631@events.umich.edu
URL:https://events.umich.edu/event/2879
CLASS:PUBLIC
STATUS:CONFIRMED
CATEGORIES:
LOCATION:Art and Architecture Building - Slusser Gallery
CONTACT:
END:VEVENT
BEGIN:VEVENT
DTSTAMP:20101111T175644
DTSTART;TZID=America/Detroit:20091023T090000
DTEND;TZID=America/Detroit:20091023T170000
SUMMARY:Exhibition:Takeshi Takahara \"The Four Corners\" (Printmaking exhibit)
DESCRIPTION:Artist's reception takes place from 5:00-7:00 on Friday October 23.  Come to the  Residential College Art Gallery in East Quad to experience the printmaking works by  Takeshi Takahara.
UID:851-912604@events.umich.edu
URL:https://events.umich.edu/event/851
CLASS:PUBLIC
STATUS:CONFIRMED
CATEGORIES:visual arts
LOCATION:East Quadrangle - RC Art Gallery
CONTACT:
END:VEVENT
BEGIN:VEVENT
DTSTAMP:20101111T175638
DTSTART;TZID=America/Detroit:20091023T100000
SUMMARY:Exhibition:(Un)Natural History: The Museum Unveiled
DESCRIPTION:September 12 through December 6\, 2009\n\nRichard Barnes's series of photographs Animal Logic examines the role the museum plays in our understanding of ourselves through the acts of collecting\, preservation\, and display. Images from this large body of work include photographs of the collections from the Smithsonian Institution\, the Museum of Comparative Anatomy in Paris\, the Canadian Museum of Natural History\, and the San Francisco Academy of Science. (Un)Natural History focuses primarily on the natural history museum and by extension collecting institutions in general\, providing a kind of behind-the-scenes look at museum practice and display.\n\nThis exhibition will coincide with the UM LSA Theme Semester Meaningful Objects: Museums and the Academy. UMMA's presentation is projected to serve as part of a three-venue project highlighting different aspects of Barnes's work in partnership with the UM Institute for the Humanities–who have selected Richard Barnes as the Paula and Edwin Sidman Fellow in the Arts for 2009–and the Cranbrook Institute of Science in Bloomfield Hills\, Michigan.
UID:648-912286@events.umich.edu
URL:https://events.umich.edu/event/648
CLASS:PUBLIC
STATUS:CONFIRMED
CATEGORIES:visual arts
LOCATION:Museum of Art
CONTACT:
END:VEVENT
BEGIN:VEVENT
DTSTAMP:20101111T175600
DTSTART;TZID=America/Detroit:20091023T100000
DTEND;TZID=America/Detroit:20091023T170000
SUMMARY:Exhibition:Stearns Collection of Music
DESCRIPTION:The Stearns Collection at the School of Music\, Theatre & Dance is one of six major collections of musical instruments in North America. The 2\,500-piece collection is internationally known and is a resource for musical and cultural education.
UID:3790-909137@events.umich.edu
URL:https://events.umich.edu/event/3790
CLASS:PUBLIC
STATUS:CONFIRMED
CATEGORIES:
LOCATION:Earl V. Moore Building
CONTACT:
END:VEVENT
BEGIN:VEVENT
DTSTAMP:20090708T120930
DTSTART;TZID=America/Detroit:20091023T100000
SUMMARY:Exhibition:The Lens of Impressionism
DESCRIPTION:October 10\, 2009 through January 3\, 2010\n\nThis exhibition advances a new argument for the origins of what was called “the new painting\,” namely that a unique convergence of forces–social\, artistic\, technological\, and commercial–along the Normandy coast of France dramatically transformed the course of photography and painting (as well as of the region itself). Within this framework\, the invention of the camera and the development of early fine art photography in that particular setting will be seen as the specific catalysts that brought about a new approach to painting.\n\nThe project will showcase paintings\, photographs\, and drawings by some of the most treasured artists in the Western canon–Gustave Courbet\, Edouard Manet\, Edgar Degas\, and Claude Monet among them–as well as pioneering photographers such as Gustave Le Gray and Henri Le Secq. Inspired by the scenic Normandy coast of France\, these works–including representations of beach scenes\, seascapes\, fishing villages\, resorts\, and the region's pastoral beauty–will be brought together with archival materials related to early tourism and regional expressions of French nationalism from popular culture for an innovative examination of the impact of the then-new medium of photography on ideas of image making\, the recording of passing time\, the capacities of painting\, and the rise of Impressionism itself.\n\nOrganized by UMMA\, this exhibition is made possible in part by the Florence Gould Foundation\, the National Endowment for the Arts\, Masco Corporation\, and the University of Michigan's Office of the Provost and Office of the Vice President for Research. Additional support has been provided by the family of Raymond F. Cunningham in his memory. Following its showing in Ann Arbor\, the exhibition will travel to the Dallas Museum of Art.
UID:2436-919886@events.umich.edu
URL:https://events.umich.edu/event/2436
CLASS:PUBLIC
STATUS:CONFIRMED
CATEGORIES:visual arts
LOCATION:Museum of Art
CONTACT:
END:VEVENT
BEGIN:VEVENT
DTSTAMP:20101111T175615
DTSTART;TZID=America/Detroit:20091023T140000
DTEND;TZID=America/Detroit:20091023T160000
SUMMARY:Workshop / Seminar:Creating Posters with Illustrator CS4
DESCRIPTION:Conference posters can be a big challenge - arranging the layout is often more difficult than creating the content! This workshop will look at common issues in poster creation such as sizing text\, adding images and charts\, and printing in large formats. Well explore options in Illustrator CS4 to make great posters that print well.
UID:259-910209@events.umich.edu
URL:https://events.umich.edu/event/259
CLASS:PUBLIC
STATUS:CONFIRMED
CATEGORIES:
LOCATION:Hatcher Graduate Library - 206
CONTACT:
END:VEVENT
BEGIN:VEVENT
DTSTAMP:20091023T030003
DTSTART;TZID=America/Detroit:20091023T150000
SUMMARY:Other:SMTD at UMMA Lecture:  Born Like a Phoenix from the Ashes? The Renewal of French Music 1870-1918 (Jane Fulcher\, UM)
DESCRIPTION:This lecture examines both the truth and the myth of a dominant theme in the historiography of French music: that it was \"reborn\,\" now following a progressive new path in the wake of the French defeat in the Franco-Prussian War of 1870.  As it will demonstrate\, the seeds of an independent new musical culture were already planted in the 1860s\, after the foundation of the musical equivalent of the Salon des Réfusées – the Théatre Lyrique.  From here it will examine those composers who emerged in this period\, such as Gounod\, Bizet\, Saint-Saens and Chabrier\, the latter becoming one of the first great collectors of impressionist painting.  Finally\, it will consider how Debussy was able to profit not only from academic institutions such as the Conservatoire\, but from France's now thriving independent culture\, which included the Symbolists and the Société Nationale de Musique FranÃ§aise.
UID:206-910128@events.umich.edu
URL:https://events.umich.edu/event/206
CLASS:PUBLIC
STATUS:CONFIRMED
CATEGORIES:music
LOCATION:Museum of Art - Auditorium
CONTACT:
END:VEVENT
BEGIN:VEVENT
DTSTAMP:20090922T154840
DTSTART;TZID=America/Detroit:20091023T160000
DTEND;TZID=America/Detroit:20091023T183000
SUMMARY:Other:“The Red Shoes\,” a screening and conversation with Daniel Herwitz
DESCRIPTION:A great cinematic classic\, \"The Red Shoes\" dramatizes a ballerina's torment as she is torn between an all-consuming devotion to her art and the promise of erotic passion and lifelong love. In no form are the body and artistic expression more intimately wed than in dance. Enjoy a screening of this unforgettable film\, followed by a conversation with Daniel Herwitz\, Professor of the History of Art\, Art & Design\, and Philosophy\, and Director of the Institute for the Humanities.
UID:1828-916663@events.umich.edu
URL:https://events.umich.edu/event/1828
CLASS:PUBLIC
STATUS:CONFIRMED
CATEGORIES:film,dance
LOCATION:
CONTACT:
END:VEVENT
BEGIN:VEVENT
DTSTAMP:20091023T030003
DTSTART;TZID=America/Detroit:20091023T170000
SUMMARY:Other:Guest Recital/Lecture: Ã‰COUTE: pieces of Reynaldo Hahn - Norman Spivey\, baritone
DESCRIPTION:Associate Professor of Voice\, Penn State University.    This original one-man show on the life and music of French composer Reynaldo Hahn draws on his experiences and relationships – particularly those with his closest friends\, the famous actress Sarah Bernhardt and the exceptional writer Marcel Proust (who in many ways acted as his greatest muse) – and celebrates the inspirations of his music. The performance moves between text\, music\, and poetry to evoke not only a singular composer\, but also an era when cultures were defined by their artists”¦
UID:2520-920113@events.umich.edu
URL:https://events.umich.edu/event/2520
CLASS:PUBLIC
STATUS:CONFIRMED
CATEGORIES:music
LOCATION:Stearns Building - Cady Room
CONTACT:
END:VEVENT
BEGIN:VEVENT
DTSTAMP:20091012T135245
DTSTART;TZID=America/Detroit:20091023T190000
DTEND;TZID=America/Detroit:20091023T213000
SUMMARY:Other:Bisexual Speed Dating
DESCRIPTION:Fall into love! Find someone special! 7-8pm opposite gender dating\;  8:30-9:30pm same gender dating\; Feel free to attend both!
UID:346-909813@events.umich.edu
URL:https://events.umich.edu/event/346
CLASS:PUBLIC
STATUS:CONFIRMED
CATEGORIES:
LOCATION:Michigan Union - Wolverine Room
CONTACT:
END:VEVENT
BEGIN:VEVENT
DTSTAMP:20101111T175836
DTSTART;TZID=America/Detroit:20091023T190000
SUMMARY:Performance:Richard II
DESCRIPTION:For you have but mistook me all this while: I live with bread like you\, feel want\, Taste grief\, need friends. Subjected thus\, How can you say to me\, I am a king?\n\nWhat is a king stripped bare? And how is an average man made into a king?\n\nWhen the corrupt King Richard II banishes Henry Bolingbroke from England\, he  cements the rebellion that will be his downfall. An account of that rebellion\,  Shakespeare's political drama exposes what lies underneath the majesty and pomp  of kingship. In search of power\, human beings will purge\, murder\, and manipulate  those who stand in their way. But when that power dissolves\, they can manage a  simple kindness that no crown could bestow.
UID:2549-920137@events.umich.edu
URL:https://events.umich.edu/event/2549
CLASS:PUBLIC
STATUS:CONFIRMED
CATEGORIES:theater
LOCATION:Duderstadt Center - The Video Studio
CONTACT:
END:VEVENT
BEGIN:VEVENT
DTSTAMP:20091009T165323
DTSTART;TZID=America/Detroit:20091023T190000
DTEND;TZID=America/Detroit:20091023T210000
SUMMARY:Performance:The Rude Mechanicals present Richard II by William Shakespeare
DESCRIPTION:\"For you have but mistook me all this while: I live with bread like you\, feel want\, taste grief\, need friends. Subjected thus\, how can you say to me\, I am a King?\"\n\nWhat is a king stripped bare? And how is an average man made into a king?\n\nWhen the corrupt King Richard II banishes Henry Bolingbroke from England\, he cements the rebellion that will be his downfall. An account of that rebellion\, Shakespeare's  political drama exposes what lies underneath the majesty and pomp of kingship. In search of power\, human beings will purge\, murder\, and manipulate those who stand in their way. But when that power dissolves\, they can manage a simple kindness that no crown could bestow.\n\nThe video Studio in the Duderstadt Center\, North Campus Friday October 23\, 2009\, 7:00pm Saturday\, October 24th\, 2009\, 3:00pm and 7:00pm
UID:958-912756@events.umich.edu
URL:https://events.umich.edu/event/958
CLASS:PUBLIC
STATUS:CONFIRMED
CATEGORIES:theater
LOCATION:Duderstadt Center - The video studio
CONTACT:
END:VEVENT
BEGIN:VEVENT
DTSTAMP:20101111T175702
DTSTART;TZID=America/Detroit:20091023T200000
SUMMARY:Performance:Emmylou Harris and her Red Dirt Boys
DESCRIPTION:In Nashville they called her the conscience of country music\, but there's no label  large enough to encompass Emmylou Harris. Over a career that's lasted nearly 40  years\, Emmylou has influenced musical movements from country-rock to the  bluegrass revival to Americana\, which she helped make into an ongoing genre with  her remarkable 1995 album “Wrecking Ball.” In the 1970s and 1980s\, Emmylou  helped reenergize traditional country music with her crystalline\, silvery voice. By now  she's something more: a singer who has realized the “Cosmic American Music” that  was the dream of her onetime mentor\, Gram Parsons. Guitarist and songwriter  Buddy Miller\, who has backed Emmylou on many occasions and whom she has  called one of the best guitar players of all time\, opens the program.
UID:1081-913763@events.umich.edu
URL:https://events.umich.edu/event/1081
CLASS:PUBLIC
STATUS:CONFIRMED
CATEGORIES:music
LOCATION:
CONTACT:
END:VEVENT
BEGIN:VEVENT
DTSTAMP:20101111T175832
DTSTART;TZID=America/Detroit:20091023T200000
SUMMARY:Performance:Impact Dance Fall Show
DESCRIPTION:A dance performace showcasing jazz and contemporary styles to all your favorite  music!
UID:2406-919798@events.umich.edu
URL:https://events.umich.edu/event/2406
CLASS:PUBLIC
STATUS:CONFIRMED
CATEGORIES:dance
LOCATION:Lydia Mendelssohn Theatre
CONTACT:
END:VEVENT
BEGIN:VEVENT
DTSTAMP:20091023T030003
DTSTART;TZID=America/Detroit:20091023T200000
SUMMARY:Other:Senior Recital:  Sara Zeglevski\, soprano
DESCRIPTION:PROGRAM:  Arne - O Come\, O Come\, My Dearest\; Purcell - I Attempt from Love's Sickness to Fly\, Dear Pretty Youth\; Wolf - Das verlassene MÃ¤gdlein\, No. 7\, Elfenlied\, No. 16\, Im FrÃ¼hling\, No. 13\; Handel - Care selve aure grate\, Ridite a Clori\, Se cangiar si potesse\, Non ha forza nel mio petto\;Chausson - Le colibri\, Op. 2\, No. 7\, Les papillons\, Op. 2\, No. 3\, La cigale\, Op. 13\, No. 4\; Schubert - Lied der Mignon\; Brahms - Der Schmied\, Op. 19\, No. 4\, Liebestreu\, Op. 3\, No. 1\; Copland - Heart\, we will forget him\; Gordon - Will there really be a morning?\; Beach - The year's at the spring\, Op. 44\, No. 1
UID:862-913291@events.umich.edu
URL:https://events.umich.edu/event/862
CLASS:PUBLIC
STATUS:CONFIRMED
CATEGORIES:music
LOCATION:
CONTACT:
END:VEVENT
BEGIN:VEVENT
DTSTAMP:20091023T030002
DTSTART;TZID=America/Detroit:20091023T200000
SUMMARY:Other:Symphony Band
DESCRIPTION:Michael Haithcock\, conductor  “Traditions and Innovations”.  An exploration of time honored musical traditions through the lens of composers who provided unique innovations while staying true to form and function.  Featuring UM professor Michael Udow as composer and soloist.Pre-concert discussion at 7:15 on the lower level of Hill Auditorium featuring composer-performer Michael Udow.PROGRAM:  Krommer - Partitia in B-flat\, Op. 78\; Van Otterloo - Serenade for Brass\, Harp\, Piano and Percussion\; Udow - Moon Shadows\; Ives - Son of a Gambolier\, Fugue in C\, Country Band March
UID:1442-915128@events.umich.edu
URL:https://events.umich.edu/event/1442
CLASS:PUBLIC
STATUS:CONFIRMED
CATEGORIES:music
LOCATION:Hill Auditorium -  
CONTACT:
END:VEVENT
BEGIN:VEVENT
DTSTAMP:20091028T182137
DTSTART;TZID=America/Detroit:20091023T220000
DTEND;TZID=America/Detroit:20091023T020000
SUMMARY:Other:UMix Late Night
DESCRIPTION:We have a lot going on this UMix! Come check it out: -Performance by ComCoat 10 followed by a showing of \"The Final Destination: Rest in Pieces\" at  11 in Anderson -performance by NBH Unplugged at 11 in Pendleton -ThinkFast put on by Phi Mu  in the Ballroom -Karaoke all night in the UClub with a Nacho-Bar coming out at midnight
UID:2801-920537@events.umich.edu
URL:https://events.umich.edu/event/2801
CLASS:PUBLIC
STATUS:CONFIRMED
CATEGORIES:
LOCATION:Michigan Union
CONTACT:
END:VEVENT
END:VCALENDAR