BEGIN:VCALENDAR
VERSION:2.0
PRODID:-//UM//UM*Events//EN
CALSCALE:GREGORIAN
BEGIN:VTIMEZONE
TZID:America/Detroit
TZURL:http://tzurl.org/zoneinfo/America/Detroit
X-LIC-LOCATION:America/Detroit
BEGIN:DAYLIGHT
TZOFFSETFROM:-0500
TZOFFSETTO:-0400
TZNAME:EDT
DTSTART:20070311T020000
RRULE:FREQ=YEARLY;BYMONTH=3;BYDAY=2SU
END:DAYLIGHT
BEGIN:STANDARD
TZOFFSETFROM:-0400
TZOFFSETTO:-0500
TZNAME:EST
DTSTART:20071104T020000
RRULE:FREQ=YEARLY;BYMONTH=11;BYDAY=1SU
END:STANDARD
END:VTIMEZONE
BEGIN:VEVENT
DTSTAMP:20101111T175710
DTSTART;TZID=America/Detroit:20091026T000000
SUMMARY:Exhibition:\"Landscape and Memory\" at Gallery Project
DESCRIPTION:Landscape and Memory seeks the experience and sensation of landscape\, tracing memory beyond symbol and  image\, to find a place in-between land and mind that is grounded in shared human experience\, evolution\,  geology\, and memory. \n\nSkyscrapers\, landfill mounds\, and industrialized agriculture often lead society to collectively assume that\, via  human engineering and construction\, it is we who shape the landscape to ourselves. In contrast to this line of  thought\, Landscape and Memory presents the self as shaped by environment and landscape.\n\nCURATED BY Catherine Meier and Joshua Smith \n\nARTISTS Shane Anderson\, Katherine E. Bash\, Jennilie Brewster\, Rocco DePietro\, Sarah Kanouse\, Catherine  Meier\, Zac Montanaro\, Bruce Myren\, Anne Percoco\, Marianetta Porter\, Gloria Pritschet\, Terri Sarris\, Matthew  Shlian\, Joshua Ray Smith and Mary Tsiongas
UID:1392-914331@events.umich.edu
URL:https://events.umich.edu/event/1392
CLASS:PUBLIC
STATUS:CONFIRMED
CATEGORIES:visual arts
LOCATION:
CONTACT:
END:VEVENT
BEGIN:VEVENT
DTSTAMP:20091006T125710
DTSTART;TZID=America/Detroit:20091026T000000
SUMMARY:Exhibition:Encaustic Works: Paintings in Molten Wax
DESCRIPTION:An exhibition of paintings by artist Ariela Steif in the medium of encaustic -- an ancient technique of pigmented  wax that is applied molten and then reheated to fuse every layer to the one beneath it. Encaustic has the ability  to take on extreme transparency\, which allows the simultaneous revealing and concealing of layers.  This series\,  situated in the charged and unstable space between representation and abstraction\, gathers fragments of dreams  and memories that are layered together\, and negotiates the ever-changing boundary between isolation and  community.
UID:1139-913104@events.umich.edu
URL:https://events.umich.edu/event/1139
CLASS:PUBLIC
STATUS:CONFIRMED
CATEGORIES:visual arts
LOCATION:Michigan Union - Arts Lounge
CONTACT:
END:VEVENT
BEGIN:VEVENT
DTSTAMP:20101111T175755
DTSTART;TZID=America/Detroit:20091026T000000
SUMMARY:Exhibition:Exhibit
DESCRIPTION:Economic crises on an international scale are not new\, and President Ford inherited a tough one in 1974. A new exhibit at the Ford Library in Ann Arbor shows how he attacked a troubling brew of inflation\, recession\, budget deficits and oil supply worries. This exhibit features rarely seen artifacts and archival materials from the Ford Library and Museum collections.
UID:3853-917282@events.umich.edu
URL:https://events.umich.edu/event/3853
CLASS:PUBLIC
STATUS:CONFIRMED
CATEGORIES:
LOCATION:Gerald Ford Library
CONTACT:
END:VEVENT
BEGIN:VEVENT
DTSTAMP:20101111T175751
DTSTART;TZID=America/Detroit:20091026T000000
SUMMARY:Exhibition:Exhibit
DESCRIPTION:Permanent lobby exhibits present the stories of President Gerald Ford and First Lady Betty Ford through archival photos and documents.
UID:2023-917028@events.umich.edu
URL:https://events.umich.edu/event/2023
CLASS:PUBLIC
STATUS:CONFIRMED
CATEGORIES:
LOCATION:Gerald Ford Library
CONTACT:
END:VEVENT
BEGIN:VEVENT
DTSTAMP:20101111T175620
DTSTART;TZID=America/Detroit:20091026T000000
SUMMARY:Exhibition:Permanent Exhibits at the Exhibit Museum of Natural History
DESCRIPTION:The Hall of Evolution houses Michigan's largest display of prehistoric life. More than 600 million years of life on Earth are traced through fossils\, models and dioramas. The Michigan Wildlife Gallery has a large collection of native Great Lakes birds\, mammals\, reptiles\, and amphibians\, with taxidermy mounts\, habitat scenes\, and the largest mastodon trackway on display in the world. There are also displays about some of the environmental problems faced in this region today. The Anthropology Displays feature artifacts from human cultures around the world. The Geology Displays on the fourth floor offer a large selection of rocks\, minerals and gems. These displays are updated periodically. For more information go to www.lsa.umich.edu/exhibitmuseum/exhibits/permexhibits or call 734-764-0480.
UID:452-910746@events.umich.edu
URL:https://events.umich.edu/event/452
CLASS:PUBLIC
STATUS:CONFIRMED
CATEGORIES:
LOCATION:Ruthven Museums Building
CONTACT:
END:VEVENT
BEGIN:VEVENT
DTSTAMP:20101111T175759
DTSTART;TZID=America/Detroit:20091026T080000
DTEND;TZID=America/Detroit:20091026T170000
SUMMARY:Exhibition:History of Dentistry exhibits at the Sindecuse Museum of Dentistry
DESCRIPTION:Exhibits at the Sindecuse Museum of Dentistry include Dental Operatories of the 1860s to 1930s\, St. Apollonia-Patron Saint of Dentistry and more. Call 763-0767 or go to www.dent.umich.edu/museum for more information.
UID:3856-917621@events.umich.edu
URL:https://events.umich.edu/event/3856
CLASS:PUBLIC
STATUS:CONFIRMED
CATEGORIES:
LOCATION:Dental & W.K. Kellogg Institute
CONTACT:
END:VEVENT
BEGIN:VEVENT
DTSTAMP:20101111T175733
DTSTART;TZID=America/Detroit:20091026T080000
DTEND;TZID=America/Detroit:20091026T170000
SUMMARY:Exhibition:Secrets of the Garden
DESCRIPTION:These images were taken without a camera. Ponvert places her subjects directly on a digital scanner and then alters them in Photoshop. The images in this exhibit were taken over the past three years from subjects in her garden in Ann Arbor\, Michigan. Her work has been shown at the Kerrytown Concert House\, and her garden was chosen to be on the Ann Arbor Women's Farm and Garden Walk in 2008.
UID:3843-915839@events.umich.edu
URL:https://events.umich.edu/event/3843
CLASS:PUBLIC
STATUS:CONFIRMED
CATEGORIES:
LOCATION:Cancer Center - Level 1
CONTACT:
END:VEVENT
BEGIN:VEVENT
DTSTAMP:20101111T175651
DTSTART;TZID=America/Detroit:20091026T080000
DTEND;TZID=America/Detroit:20091026T170000
SUMMARY:Exhibition:Wearable Art
DESCRIPTION:U-M School of Art & Design alumna Furtado started as a weaver over 30 years ago\, working on a loom. She is now engaged in a variety of activities as she produces her line of wearable art. Handweaving\, felting\, dyeing and beading are common tools of her trade. Lately\, she has been exploring Nuno felting\, a Japanese technique which combines wool felt with silk fabric. One of her dyeing techniques is a resist process involving clamping and applying dye in multiple steps\, creating a multiple-color\, multiple-shape design.
UID:3819-913007@events.umich.edu
URL:https://events.umich.edu/event/3819
CLASS:PUBLIC
STATUS:CONFIRMED
CATEGORIES:
LOCATION:Cancer Center - Main Lobby, Level B2
CONTACT:
END:VEVENT
BEGIN:VEVENT
DTSTAMP:20090818T134607
DTSTART;TZID=America/Detroit:20091026T090000
DTEND;TZID=America/Detroit:20091026T170000
SUMMARY:Other:HUMANITIES GALLERY
DESCRIPTION:OPENING RECEPTION: THURSDAY\, SEPTEMBER 17\, 2009\, 6:30-8:00 PM (immediately following  the School of Art and Design's Penny Stamps Lecture at the Michigan Theater in Ann Arbor) 202  SOUTH THAYER STREET ROOM 1010 ANN ARBOR\, MICHIGAN Gallery hours: Monday - Friday\,  9:00AM-5:00PM ***** In this photographic exhibit\, RICHARD BARNES\, the Institute for the  Humanities' 2009 Paula and Edwin Sidman Fellow in the Arts\, presents innovative new work  inspired by the paleontology and anthropology collections in the University of Michigan Exhibits  Museum and the ornithology collection in the Museum of Zoology. In this unique installation\,  Barnes considers the nature of things from collection and display to extinction. A prehistoric  skeletal whale juxtaposes a mound of rubber molds and resin casts\, examining questions of  replication and authenticity\, what we save and what we lose. Both lyrical and visceral\, Barnes'  work engages us in a provocative conversation about museological practice from behind the  scenes\, capturing the inextricable relationship between human gesture and the inevitability of  extinction. For more information\, contact Amanda Krugliak(mandak@umich.edu). (734) 936-3518.
UID:1157-914647@events.umich.edu
URL:https://events.umich.edu/event/1157
CLASS:PUBLIC
STATUS:CONFIRMED
CATEGORIES:visual arts
LOCATION:202 S. Thayer
CONTACT:
END:VEVENT
BEGIN:VEVENT
DTSTAMP:20090722T143534
DTSTART;TZID=America/Detroit:20091026T090000
DTEND;TZID=America/Detroit:20091026T170000
SUMMARY:Exhibition:Ida: Darwinius masillae
DESCRIPTION:\"Ida\,\" a new exhibit in the Exhibit Museum's Rotunda\, displays a high-resolution cast of an extremely rare  fossil discovered in 1983 near Messel\, Germany\, but only recently made available for study. The fossil has  proven to be a “link” between the prosimian and simian (\"anthropoid\") primate lineages. It has \"advanced\"  front teeth (incisors and canines) and second toes like those of monkeys\, and is broadly representative of what  human primate ancestors may have looked like during the Eocene epoch 47 million years ago.     Ida (prounded \"eeda\") is named after after the daughter of Dr JÃ¸rn Hurum\, the Norwegian vertebrate  paleontologist who secured one section of the fossil from an anonymous owner\, and led the research. Ida was  about eight months old\, or the equivalent of a six-year-old human.     Publication of a paper on the discovery was accompanied by a book\, The Link: Uncovering Our Earliest  Ancestors by Colin Tudge\, and a documentary shown on the History Channel (US)\, BBC One (UK)\,and various  stations in Germany and Norway.     U-M paleontologist Philip Gingerich and U-M anthropologist B. Holly Smith were two members of the \"dream  team\" invited to study Ida. The exhibit will be on display through May 2010.
UID:2124-918361@events.umich.edu
URL:https://events.umich.edu/event/2124
CLASS:PUBLIC
STATUS:CONFIRMED
CATEGORIES:welcome week,visual arts,multicultural
LOCATION:
CONTACT:
END:VEVENT
BEGIN:VEVENT
DTSTAMP:20101111T175902
DTSTART;TZID=America/Detroit:20091026T090000
DTEND;TZID=America/Detroit:20091026T170000
SUMMARY:Exhibition:Robert and Shana Parke-Harrison Show
DESCRIPTION:She's a painter and he's a photographer. They work as a creative team creating arresting images that might haunt you for a good while. Meditations on our arts\, our bodies\, our connections to the earth\, the Parke-Harrison photos are not to be missed.
UID:2879-921632@events.umich.edu
URL:https://events.umich.edu/event/2879
CLASS:PUBLIC
STATUS:CONFIRMED
CATEGORIES:
LOCATION:Art and Architecture Building - Slusser Gallery
CONTACT:
END:VEVENT
BEGIN:VEVENT
DTSTAMP:20091022T143310
DTSTART;TZID=America/Detroit:20091026T090000
SUMMARY:Community Service:SERVE Sponsor-A-Family 2009 Registration Begins
DESCRIPTION:SERVE will be collaborating with Community Action Network (CAN) and Community  Leaning Post (CLP) in providing many local families with holiday gifts through our  SPONSOR-A-FAMILY project.\n\nCommunity Action Network (CAN) and Community Leaning Post (CLP) are  organizations in Washtenaw County that provide various services to low-income  families.\n\nRegister by going to the website and your group will receive a wish list of the family  or child that you will be sponsoring in November.\n\n**Please be advised that SPONSOR-A-FAMILY requires that  organizations/individuals spend a minimum of $50 on each sponsored person.  Smaller groups do have the option to sponsor an individual rather than an entire  family. Individuals may include children or male and/or females heads of  households
UID:1609-915459@events.umich.edu
URL:https://events.umich.edu/event/1609
CLASS:PUBLIC
STATUS:CONFIRMED
CATEGORIES:social justice
LOCATION:
CONTACT:
END:VEVENT
BEGIN:VEVENT
DTSTAMP:20101111T175644
DTSTART;TZID=America/Detroit:20091026T090000
DTEND;TZID=America/Detroit:20091026T170000
SUMMARY:Exhibition:Takeshi Takahara \"The Four Corners\" (Printmaking exhibit)
DESCRIPTION:Artist's reception takes place from 5:00-7:00 on Friday October 23.  Come to the  Residential College Art Gallery in East Quad to experience the printmaking works by  Takeshi Takahara.
UID:851-912607@events.umich.edu
URL:https://events.umich.edu/event/851
CLASS:PUBLIC
STATUS:CONFIRMED
CATEGORIES:visual arts
LOCATION:East Quadrangle - RC Art Gallery
CONTACT:
END:VEVENT
BEGIN:VEVENT
DTSTAMP:20101111T175638
DTSTART;TZID=America/Detroit:20091026T100000
SUMMARY:Exhibition:(Un)Natural History: The Museum Unveiled
DESCRIPTION:September 12 through December 6\, 2009\n\nRichard Barnes's series of photographs Animal Logic examines the role the museum plays in our understanding of ourselves through the acts of collecting\, preservation\, and display. Images from this large body of work include photographs of the collections from the Smithsonian Institution\, the Museum of Comparative Anatomy in Paris\, the Canadian Museum of Natural History\, and the San Francisco Academy of Science. (Un)Natural History focuses primarily on the natural history museum and by extension collecting institutions in general\, providing a kind of behind-the-scenes look at museum practice and display.\n\nThis exhibition will coincide with the UM LSA Theme Semester Meaningful Objects: Museums and the Academy. UMMA's presentation is projected to serve as part of a three-venue project highlighting different aspects of Barnes's work in partnership with the UM Institute for the Humanities–who have selected Richard Barnes as the Paula and Edwin Sidman Fellow in the Arts for 2009–and the Cranbrook Institute of Science in Bloomfield Hills\, Michigan.
UID:648-912289@events.umich.edu
URL:https://events.umich.edu/event/648
CLASS:PUBLIC
STATUS:CONFIRMED
CATEGORIES:visual arts
LOCATION:Museum of Art
CONTACT:
END:VEVENT
BEGIN:VEVENT
DTSTAMP:20101111T175600
DTSTART;TZID=America/Detroit:20091026T100000
DTEND;TZID=America/Detroit:20091026T170000
SUMMARY:Exhibition:Stearns Collection of Music
DESCRIPTION:The Stearns Collection at the School of Music\, Theatre & Dance is one of six major collections of musical instruments in North America. The 2\,500-piece collection is internationally known and is a resource for musical and cultural education.
UID:3790-909138@events.umich.edu
URL:https://events.umich.edu/event/3790
CLASS:PUBLIC
STATUS:CONFIRMED
CATEGORIES:
LOCATION:Earl V. Moore Building
CONTACT:
END:VEVENT
BEGIN:VEVENT
DTSTAMP:20090708T120930
DTSTART;TZID=America/Detroit:20091026T100000
SUMMARY:Exhibition:The Lens of Impressionism
DESCRIPTION:October 10\, 2009 through January 3\, 2010\n\nThis exhibition advances a new argument for the origins of what was called “the new painting\,” namely that a unique convergence of forces–social\, artistic\, technological\, and commercial–along the Normandy coast of France dramatically transformed the course of photography and painting (as well as of the region itself). Within this framework\, the invention of the camera and the development of early fine art photography in that particular setting will be seen as the specific catalysts that brought about a new approach to painting.\n\nThe project will showcase paintings\, photographs\, and drawings by some of the most treasured artists in the Western canon–Gustave Courbet\, Edouard Manet\, Edgar Degas\, and Claude Monet among them–as well as pioneering photographers such as Gustave Le Gray and Henri Le Secq. Inspired by the scenic Normandy coast of France\, these works–including representations of beach scenes\, seascapes\, fishing villages\, resorts\, and the region's pastoral beauty–will be brought together with archival materials related to early tourism and regional expressions of French nationalism from popular culture for an innovative examination of the impact of the then-new medium of photography on ideas of image making\, the recording of passing time\, the capacities of painting\, and the rise of Impressionism itself.\n\nOrganized by UMMA\, this exhibition is made possible in part by the Florence Gould Foundation\, the National Endowment for the Arts\, Masco Corporation\, and the University of Michigan's Office of the Provost and Office of the Vice President for Research. Additional support has been provided by the family of Raymond F. Cunningham in his memory. Following its showing in Ann Arbor\, the exhibition will travel to the Dallas Museum of Art.
UID:2436-919889@events.umich.edu
URL:https://events.umich.edu/event/2436
CLASS:PUBLIC
STATUS:CONFIRMED
CATEGORIES:visual arts
LOCATION:Museum of Art
CONTACT:
END:VEVENT
BEGIN:VEVENT
DTSTAMP:20091020T095819
DTSTART;TZID=America/Detroit:20091026T160000
DTEND;TZID=America/Detroit:20091026T171500
SUMMARY:Workshop / Seminar:\"A Place for Human Rights in the Arbitral Protection of Foreign Investment?\"
DESCRIPTION:Speaker:  H.E. Judge Bruno Simma\, International Court of Justice\; William W.  Cook  Global Law Professor\, University of Michigan Law School\n\nThe International Law Workshop introduces today's most debated issues in  international and comparative law.  Speakers will talk for 25 minutes\, followed by  discussion and questions.
UID:1164-914009@events.umich.edu
URL:https://events.umich.edu/event/1164
CLASS:PUBLIC
STATUS:CONFIRMED
CATEGORIES:
LOCATION:Hutchins Hall - 250
CONTACT:
END:VEVENT
BEGIN:VEVENT
DTSTAMP:20091016T124930
DTSTART;TZID=America/Detroit:20091026T160000
DTEND;TZID=America/Detroit:20091026T173000
SUMMARY:Lecture / Discussion:Science\, Technology\, and Public Policy (STPP) Lecture Series
DESCRIPTION:\"Synthetic Genomics:  Options for Governance\"\n\nSpeaker: Michele Garfinkel\, Policy Analyst\, J. Craig Venter Institute\n\nCommentator: William K. Hall\, Adjunct Professor of Strategy\, University of Michigan  Ross School of Business\n\nSponsored by The Herbert H. and Grace A. Dow Foundation  Co-Sponsored by the University of Michigan Life Sciences and Society Program\, the  University of Michigan Center for Ethics in Public Life\, and the University of Michigan  Program in Biomedical Sciences\n\nABSTRACT:  The rapidly developing field of synthetic genomics offers great promise  for both basic research and as a powerful tool for biotechnology. Researchers point  to pharmaceutical production\, alternative energy source development\, and cleaner  bio-based manufacturing as areas that could benefit from this emerging technology. As with virtually any new technology that promises significant benefits\, synthetic  genomics brings with those benefits a series of societal concerns and issues. A  prominent concern raised in the United States is that the technology may end up  being used by bioterrorists. Further\, risks to the environment and to laboratory  workers are a possibility. At the same time\, much of the current discussion among scientists\, ethicists\, and  concerned members of the public about synthetic genomics can more accurately be  described as talking past each other\, rather than with each other\, about the societal  issues raised by this new technology. Concerns about “creating life” have been  raised by philosophers and theologians\, among others. And as with many new  technologies\, questions have been raised about who will gain the benefit from  synthetic genomics. Dr. Garfinkel will discuss the results of an earlier project focused on the biosecurity  and biosafety concerns raised by synthetic genomics\, including a review of possible  governance options to mitigate at least some of those concerns. She will also  provide an overview of a project currently underway to understand how the public  views scientists and engineers working in the area of synthetic genomics and how  scientists understand society's views of their work.\n\nMICHELE GARFINKEL is a policy analyst at the J. Craig Venter Institute. Her research  focuses on identifying emerging societal concerns associated with new discoveries in  genomics and crafting options for policy interventions. Her earlier work at Columbia  University's Center for Science\, Policy\, & Outcomes focused on health research  policy. Prior to her appointment at Columbia\, she was an assistant in the Scientific  Freedom\, Responsibility & Law Program of the American Association for the  Advancement of Science\, where she worked primarily on policy issues related to  stem cell research. She was a post-doctoral fellow at the Fred Hutchinson Cancer  Research Center in Seattle\, where she conducted research on genetic and  developmental regulation of the cell cycle in Drosophila melanogaster.  Dr. Garfinkel received her A.B. in Genetics from the University of California\, Berkeley  and her Ph.D. in Microbiology from the University of Washington\, Seattle\, where she  completed a dissertation on translational regulation of messenger RNAs in  eukaryotic cells during influenza virus infection. She also holds an M.A. in Science\,  Technology\, and Public Policy from the George Washington University\, where she  was a Shapiro Fellow in International Affairs.
UID:641-911294@events.umich.edu
URL:https://events.umich.edu/event/641
CLASS:PUBLIC
STATUS:CONFIRMED
CATEGORIES:
LOCATION:Weill Hall (Ford School) - Betty Ford 1110
CONTACT:
END:VEVENT
BEGIN:VEVENT
DTSTAMP:20091026T030002
DTSTART;TZID=America/Detroit:20091026T163000
SUMMARY:Other:Guest Recital:  West Point Trombone Quartet
DESCRIPTION:
UID:1562-915354@events.umich.edu
URL:https://events.umich.edu/event/1562
CLASS:PUBLIC
STATUS:CONFIRMED
CATEGORIES:music
LOCATION:Earl V. Moore Building - Britton Recital Hall
CONTACT:
END:VEVENT
BEGIN:VEVENT
DTSTAMP:20101111T175842
DTSTART;TZID=America/Detroit:20091026T180000
DTEND;TZID=America/Detroit:20091026T200000
SUMMARY:Other:Free and Anonymous HIV Testing
DESCRIPTION:Free and Anonymous HIV Testing each Monday\, 6:00p-8:00p Spectrum Center\, 3rd Floor Michigan Union sponsored by HARC\, the HIV/AIDS Resource Center Free and Anonymous\, needle-free\, results in 7-10 days.
UID:2761-920473@events.umich.edu
URL:https://events.umich.edu/event/2761
CLASS:PUBLIC
STATUS:CONFIRMED
CATEGORIES:
LOCATION:Michigan Union - 3200
CONTACT:
END:VEVENT
BEGIN:VEVENT
DTSTAMP:20101111T175712
DTSTART;TZID=America/Detroit:20091026T183000
DTEND;TZID=America/Detroit:20091026T194500
SUMMARY:Other:Yoga at Hillel
DESCRIPTION:A great workout for the body and the mind. Each Monday and Thursday\, from 6:30pm-7:45pm Hillel offers Yoga classes right here in our Hillel building. Yoga classes are taught by Rachel Portnoy\, a professional local yoga instructor from A2 Yoga. Classes are $5 for students and mats are provided. In addition\, Hillel offers free late night restorative yoga during our 24 Hour Finals Study program. To get in downward dog with Hillel\, please email Tilly\, or call Hillel at 769-0500.
UID:1445-914416@events.umich.edu
URL:https://events.umich.edu/event/1445
CLASS:PUBLIC
STATUS:CONFIRMED
CATEGORIES:
LOCATION:Hillel (Mandell L Berman Center)
CONTACT:
END:VEVENT
BEGIN:VEVENT
DTSTAMP:20101111T175705
DTSTART;TZID=America/Detroit:20091026T190000
SUMMARY:Workshop / Seminar:Spring Break Mass Meeting
DESCRIPTION:At this meeting\, we will be explaining all of the Spring Break trips and answering any questions that people have  about the trips!  This meeting is a great way to learn about the trips and meet all of the Outdoor Adventures staff.
UID:1174-914019@events.umich.edu
URL:https://events.umich.edu/event/1174
CLASS:PUBLIC
STATUS:CONFIRMED
CATEGORIES:
LOCATION:
CONTACT:
END:VEVENT
BEGIN:VEVENT
DTSTAMP:20101111T175617
DTSTART;TZID=America/Detroit:20091026T193000
SUMMARY:Performance:The Avett Brothers
DESCRIPTION:This show is presented by the Ark!  More details to come...
UID:362-910409@events.umich.edu
URL:https://events.umich.edu/event/362
CLASS:PUBLIC
STATUS:CONFIRMED
CATEGORIES:music
LOCATION:
CONTACT:
END:VEVENT
BEGIN:VEVENT
DTSTAMP:20101111T175614
DTSTART;TZID=America/Detroit:20091026T200000
SUMMARY:Performance:Battlefield Band
DESCRIPTION:
UID:220-910174@events.umich.edu
URL:https://events.umich.edu/event/220
CLASS:PUBLIC
STATUS:CONFIRMED
CATEGORIES:music
LOCATION:
CONTACT:
END:VEVENT
BEGIN:VEVENT
DTSTAMP:20100929T110405
DTSTART;TZID=America/Detroit:20091026T200000
DTEND;TZID=America/Detroit:20091026T220000
SUMMARY:Meeting:Gender Explorers
DESCRIPTION:A social and support group for transgender\, transsexual\, genderqueer\, TG-questioning people and those who transgress gender binaries.\n\nThis safe\, open\, and affirming space includes discussion\, fellowship\, and significant others.\n\nThe group meets on the 2nd and 4th Monday of each month in the Spectrum Center.  To participate and to learn more\, email PJ at pajeho@umich.edu
UID:2680-920385@events.umich.edu
URL:https://events.umich.edu/event/2680
CLASS:PUBLIC
STATUS:CONFIRMED
CATEGORIES:multicultural,social justice,spectrumcenter
LOCATION:Michigan Union - 3200
CONTACT:
END:VEVENT
BEGIN:VEVENT
DTSTAMP:20091026T030002
DTSTART;TZID=America/Detroit:20091026T200000
SUMMARY:Other:University Choir
DESCRIPTION:Paul Rardin\, conductor.  Music of the British Isles\, featuring Benjamin Britten's Rejoice in the Lamb. This extraordinary cantata for soloists\, chorus\, and organ sets the brilliant and enigmatic poetry of Christopher Smart with remarkable musical energy and imagination. The program also includes Seek Him That Maketh the Seven Stars by Jonathan Dove\, A Prayer of King Henry VI by Gabriel Jackson\, and the folk song settings 'S Ã­ do Mhaimeo by David Mooney\, The Sally Gardens by Ben Parry\, and Seinn O by J. David Moore.
UID:2604-919307@events.umich.edu
URL:https://events.umich.edu/event/2604
CLASS:PUBLIC
STATUS:CONFIRMED
CATEGORIES:music
LOCATION:Hill Auditorium -  
CONTACT:
END:VEVENT
END:VCALENDAR