BEGIN:VCALENDAR
VERSION:2.0
PRODID:-//UM//UM*Events//EN
CALSCALE:GREGORIAN
BEGIN:VTIMEZONE
TZID:America/Detroit
TZURL:http://tzurl.org/zoneinfo/America/Detroit
X-LIC-LOCATION:America/Detroit
BEGIN:DAYLIGHT
TZOFFSETFROM:-0500
TZOFFSETTO:-0400
TZNAME:EDT
DTSTART:20070311T020000
RRULE:FREQ=YEARLY;BYMONTH=3;BYDAY=2SU
END:DAYLIGHT
BEGIN:STANDARD
TZOFFSETFROM:-0400
TZOFFSETTO:-0500
TZNAME:EST
DTSTART:20071104T020000
RRULE:FREQ=YEARLY;BYMONTH=11;BYDAY=1SU
END:STANDARD
END:VTIMEZONE
BEGIN:VEVENT
DTSTAMP:20101111T175710
DTSTART;TZID=America/Detroit:20091027T000000
SUMMARY:Exhibition:\"Landscape and Memory\" at Gallery Project
DESCRIPTION:Landscape and Memory seeks the experience and sensation of landscape\, tracing memory beyond symbol and  image\, to find a place in-between land and mind that is grounded in shared human experience\, evolution\,  geology\, and memory. \n\nSkyscrapers\, landfill mounds\, and industrialized agriculture often lead society to collectively assume that\, via  human engineering and construction\, it is we who shape the landscape to ourselves. In contrast to this line of  thought\, Landscape and Memory presents the self as shaped by environment and landscape.\n\nCURATED BY Catherine Meier and Joshua Smith \n\nARTISTS Shane Anderson\, Katherine E. Bash\, Jennilie Brewster\, Rocco DePietro\, Sarah Kanouse\, Catherine  Meier\, Zac Montanaro\, Bruce Myren\, Anne Percoco\, Marianetta Porter\, Gloria Pritschet\, Terri Sarris\, Matthew  Shlian\, Joshua Ray Smith and Mary Tsiongas
UID:1392-914332@events.umich.edu
URL:https://events.umich.edu/event/1392
CLASS:PUBLIC
STATUS:CONFIRMED
CATEGORIES:visual arts
LOCATION:
CONTACT:
END:VEVENT
BEGIN:VEVENT
DTSTAMP:20091006T125710
DTSTART;TZID=America/Detroit:20091027T000000
SUMMARY:Exhibition:Encaustic Works: Paintings in Molten Wax
DESCRIPTION:An exhibition of paintings by artist Ariela Steif in the medium of encaustic -- an ancient technique of pigmented  wax that is applied molten and then reheated to fuse every layer to the one beneath it. Encaustic has the ability  to take on extreme transparency\, which allows the simultaneous revealing and concealing of layers.  This series\,  situated in the charged and unstable space between representation and abstraction\, gathers fragments of dreams  and memories that are layered together\, and negotiates the ever-changing boundary between isolation and  community.
UID:1139-913105@events.umich.edu
URL:https://events.umich.edu/event/1139
CLASS:PUBLIC
STATUS:CONFIRMED
CATEGORIES:visual arts
LOCATION:Michigan Union - Arts Lounge
CONTACT:
END:VEVENT
BEGIN:VEVENT
DTSTAMP:20101111T175755
DTSTART;TZID=America/Detroit:20091027T000000
SUMMARY:Exhibition:Exhibit
DESCRIPTION:Economic crises on an international scale are not new\, and President Ford inherited a tough one in 1974. A new exhibit at the Ford Library in Ann Arbor shows how he attacked a troubling brew of inflation\, recession\, budget deficits and oil supply worries. This exhibit features rarely seen artifacts and archival materials from the Ford Library and Museum collections.
UID:3853-917283@events.umich.edu
URL:https://events.umich.edu/event/3853
CLASS:PUBLIC
STATUS:CONFIRMED
CATEGORIES:
LOCATION:Gerald Ford Library
CONTACT:
END:VEVENT
BEGIN:VEVENT
DTSTAMP:20101111T175751
DTSTART;TZID=America/Detroit:20091027T000000
SUMMARY:Exhibition:Exhibit
DESCRIPTION:Permanent lobby exhibits present the stories of President Gerald Ford and First Lady Betty Ford through archival photos and documents.
UID:2023-917029@events.umich.edu
URL:https://events.umich.edu/event/2023
CLASS:PUBLIC
STATUS:CONFIRMED
CATEGORIES:
LOCATION:Gerald Ford Library
CONTACT:
END:VEVENT
BEGIN:VEVENT
DTSTAMP:20101111T175620
DTSTART;TZID=America/Detroit:20091027T000000
SUMMARY:Exhibition:Permanent Exhibits at the Exhibit Museum of Natural History
DESCRIPTION:The Hall of Evolution houses Michigan's largest display of prehistoric life. More than 600 million years of life on Earth are traced through fossils\, models and dioramas. The Michigan Wildlife Gallery has a large collection of native Great Lakes birds\, mammals\, reptiles\, and amphibians\, with taxidermy mounts\, habitat scenes\, and the largest mastodon trackway on display in the world. There are also displays about some of the environmental problems faced in this region today. The Anthropology Displays feature artifacts from human cultures around the world. The Geology Displays on the fourth floor offer a large selection of rocks\, minerals and gems. These displays are updated periodically. For more information go to www.lsa.umich.edu/exhibitmuseum/exhibits/permexhibits or call 734-764-0480.
UID:452-910747@events.umich.edu
URL:https://events.umich.edu/event/452
CLASS:PUBLIC
STATUS:CONFIRMED
CATEGORIES:
LOCATION:Ruthven Museums Building
CONTACT:
END:VEVENT
BEGIN:VEVENT
DTSTAMP:20101111T175759
DTSTART;TZID=America/Detroit:20091027T080000
DTEND;TZID=America/Detroit:20091027T170000
SUMMARY:Exhibition:History of Dentistry exhibits at the Sindecuse Museum of Dentistry
DESCRIPTION:Exhibits at the Sindecuse Museum of Dentistry include Dental Operatories of the 1860s to 1930s\, St. Apollonia-Patron Saint of Dentistry and more. Call 763-0767 or go to www.dent.umich.edu/museum for more information.
UID:3856-917622@events.umich.edu
URL:https://events.umich.edu/event/3856
CLASS:PUBLIC
STATUS:CONFIRMED
CATEGORIES:
LOCATION:Dental & W.K. Kellogg Institute
CONTACT:
END:VEVENT
BEGIN:VEVENT
DTSTAMP:20101111T175733
DTSTART;TZID=America/Detroit:20091027T080000
DTEND;TZID=America/Detroit:20091027T170000
SUMMARY:Exhibition:Secrets of the Garden
DESCRIPTION:These images were taken without a camera. Ponvert places her subjects directly on a digital scanner and then alters them in Photoshop. The images in this exhibit were taken over the past three years from subjects in her garden in Ann Arbor\, Michigan. Her work has been shown at the Kerrytown Concert House\, and her garden was chosen to be on the Ann Arbor Women's Farm and Garden Walk in 2008.
UID:3843-915840@events.umich.edu
URL:https://events.umich.edu/event/3843
CLASS:PUBLIC
STATUS:CONFIRMED
CATEGORIES:
LOCATION:Cancer Center - Level 1
CONTACT:
END:VEVENT
BEGIN:VEVENT
DTSTAMP:20101111T175651
DTSTART;TZID=America/Detroit:20091027T080000
DTEND;TZID=America/Detroit:20091027T170000
SUMMARY:Exhibition:Wearable Art
DESCRIPTION:U-M School of Art & Design alumna Furtado started as a weaver over 30 years ago\, working on a loom. She is now engaged in a variety of activities as she produces her line of wearable art. Handweaving\, felting\, dyeing and beading are common tools of her trade. Lately\, she has been exploring Nuno felting\, a Japanese technique which combines wool felt with silk fabric. One of her dyeing techniques is a resist process involving clamping and applying dye in multiple steps\, creating a multiple-color\, multiple-shape design.
UID:3819-913008@events.umich.edu
URL:https://events.umich.edu/event/3819
CLASS:PUBLIC
STATUS:CONFIRMED
CATEGORIES:
LOCATION:Cancer Center - Main Lobby, Level B2
CONTACT:
END:VEVENT
BEGIN:VEVENT
DTSTAMP:20090818T134607
DTSTART;TZID=America/Detroit:20091027T090000
DTEND;TZID=America/Detroit:20091027T170000
SUMMARY:Other:HUMANITIES GALLERY
DESCRIPTION:OPENING RECEPTION: THURSDAY\, SEPTEMBER 17\, 2009\, 6:30-8:00 PM (immediately following  the School of Art and Design's Penny Stamps Lecture at the Michigan Theater in Ann Arbor) 202  SOUTH THAYER STREET ROOM 1010 ANN ARBOR\, MICHIGAN Gallery hours: Monday - Friday\,  9:00AM-5:00PM ***** In this photographic exhibit\, RICHARD BARNES\, the Institute for the  Humanities' 2009 Paula and Edwin Sidman Fellow in the Arts\, presents innovative new work  inspired by the paleontology and anthropology collections in the University of Michigan Exhibits  Museum and the ornithology collection in the Museum of Zoology. In this unique installation\,  Barnes considers the nature of things from collection and display to extinction. A prehistoric  skeletal whale juxtaposes a mound of rubber molds and resin casts\, examining questions of  replication and authenticity\, what we save and what we lose. Both lyrical and visceral\, Barnes'  work engages us in a provocative conversation about museological practice from behind the  scenes\, capturing the inextricable relationship between human gesture and the inevitability of  extinction. For more information\, contact Amanda Krugliak(mandak@umich.edu). (734) 936-3518.
UID:1157-914648@events.umich.edu
URL:https://events.umich.edu/event/1157
CLASS:PUBLIC
STATUS:CONFIRMED
CATEGORIES:visual arts
LOCATION:202 S. Thayer
CONTACT:
END:VEVENT
BEGIN:VEVENT
DTSTAMP:20090722T143534
DTSTART;TZID=America/Detroit:20091027T090000
DTEND;TZID=America/Detroit:20091027T170000
SUMMARY:Exhibition:Ida: Darwinius masillae
DESCRIPTION:\"Ida\,\" a new exhibit in the Exhibit Museum's Rotunda\, displays a high-resolution cast of an extremely rare  fossil discovered in 1983 near Messel\, Germany\, but only recently made available for study. The fossil has  proven to be a “link” between the prosimian and simian (\"anthropoid\") primate lineages. It has \"advanced\"  front teeth (incisors and canines) and second toes like those of monkeys\, and is broadly representative of what  human primate ancestors may have looked like during the Eocene epoch 47 million years ago.     Ida (prounded \"eeda\") is named after after the daughter of Dr JÃ¸rn Hurum\, the Norwegian vertebrate  paleontologist who secured one section of the fossil from an anonymous owner\, and led the research. Ida was  about eight months old\, or the equivalent of a six-year-old human.     Publication of a paper on the discovery was accompanied by a book\, The Link: Uncovering Our Earliest  Ancestors by Colin Tudge\, and a documentary shown on the History Channel (US)\, BBC One (UK)\,and various  stations in Germany and Norway.     U-M paleontologist Philip Gingerich and U-M anthropologist B. Holly Smith were two members of the \"dream  team\" invited to study Ida. The exhibit will be on display through May 2010.
UID:2124-918362@events.umich.edu
URL:https://events.umich.edu/event/2124
CLASS:PUBLIC
STATUS:CONFIRMED
CATEGORIES:welcome week,visual arts,multicultural
LOCATION:
CONTACT:
END:VEVENT
BEGIN:VEVENT
DTSTAMP:20101111T175902
DTSTART;TZID=America/Detroit:20091027T090000
DTEND;TZID=America/Detroit:20091027T170000
SUMMARY:Exhibition:Robert and Shana Parke-Harrison Show
DESCRIPTION:She's a painter and he's a photographer. They work as a creative team creating arresting images that might haunt you for a good while. Meditations on our arts\, our bodies\, our connections to the earth\, the Parke-Harrison photos are not to be missed.
UID:2879-921633@events.umich.edu
URL:https://events.umich.edu/event/2879
CLASS:PUBLIC
STATUS:CONFIRMED
CATEGORIES:
LOCATION:Art and Architecture Building - Slusser Gallery
CONTACT:
END:VEVENT
BEGIN:VEVENT
DTSTAMP:20091022T143310
DTSTART;TZID=America/Detroit:20091027T090000
SUMMARY:Community Service:SERVE Sponsor-A-Family 2009 Registration Begins
DESCRIPTION:SERVE will be collaborating with Community Action Network (CAN) and Community  Leaning Post (CLP) in providing many local families with holiday gifts through our  SPONSOR-A-FAMILY project.\n\nCommunity Action Network (CAN) and Community Leaning Post (CLP) are  organizations in Washtenaw County that provide various services to low-income  families.\n\nRegister by going to the website and your group will receive a wish list of the family  or child that you will be sponsoring in November.\n\n**Please be advised that SPONSOR-A-FAMILY requires that  organizations/individuals spend a minimum of $50 on each sponsored person.  Smaller groups do have the option to sponsor an individual rather than an entire  family. Individuals may include children or male and/or females heads of  households
UID:1609-915440@events.umich.edu
URL:https://events.umich.edu/event/1609
CLASS:PUBLIC
STATUS:CONFIRMED
CATEGORIES:social justice
LOCATION:
CONTACT:
END:VEVENT
BEGIN:VEVENT
DTSTAMP:20101111T175644
DTSTART;TZID=America/Detroit:20091027T090000
DTEND;TZID=America/Detroit:20091027T170000
SUMMARY:Exhibition:Takeshi Takahara \"The Four Corners\" (Printmaking exhibit)
DESCRIPTION:Artist's reception takes place from 5:00-7:00 on Friday October 23.  Come to the  Residential College Art Gallery in East Quad to experience the printmaking works by  Takeshi Takahara.
UID:851-912608@events.umich.edu
URL:https://events.umich.edu/event/851
CLASS:PUBLIC
STATUS:CONFIRMED
CATEGORIES:visual arts
LOCATION:East Quadrangle - RC Art Gallery
CONTACT:
END:VEVENT
BEGIN:VEVENT
DTSTAMP:20101111T175638
DTSTART;TZID=America/Detroit:20091027T100000
SUMMARY:Exhibition:(Un)Natural History: The Museum Unveiled
DESCRIPTION:September 12 through December 6\, 2009\n\nRichard Barnes's series of photographs Animal Logic examines the role the museum plays in our understanding of ourselves through the acts of collecting\, preservation\, and display. Images from this large body of work include photographs of the collections from the Smithsonian Institution\, the Museum of Comparative Anatomy in Paris\, the Canadian Museum of Natural History\, and the San Francisco Academy of Science. (Un)Natural History focuses primarily on the natural history museum and by extension collecting institutions in general\, providing a kind of behind-the-scenes look at museum practice and display.\n\nThis exhibition will coincide with the UM LSA Theme Semester Meaningful Objects: Museums and the Academy. UMMA's presentation is projected to serve as part of a three-venue project highlighting different aspects of Barnes's work in partnership with the UM Institute for the Humanities–who have selected Richard Barnes as the Paula and Edwin Sidman Fellow in the Arts for 2009–and the Cranbrook Institute of Science in Bloomfield Hills\, Michigan.
UID:648-912290@events.umich.edu
URL:https://events.umich.edu/event/648
CLASS:PUBLIC
STATUS:CONFIRMED
CATEGORIES:visual arts
LOCATION:Museum of Art
CONTACT:
END:VEVENT
BEGIN:VEVENT
DTSTAMP:20101111T175806
DTSTART;TZID=America/Detroit:20091027T100000
DTEND;TZID=America/Detroit:20091027T163000
SUMMARY:Other:Apples Peas & Pumpkin Pie: Where on Earth Does Our Food Come From?
DESCRIPTION:Where do we get chocolate and bananas? What do potatoes\, carrots\, and onions  have in common? How do you grind wheat to make spaghetti? And can you really  play with your food? Get the answers to all these questions and more in an  interactive fall exhibit and display at in the Conservatory at Matthaei Botanical  Gardens. Exhibit features stations such as seeds\, roots\, and fruits where children  can grind their own flour and learn about nuts and edible fruits and vegetables\;  apple tasting\; create-a-menu activities\; and a mum\, pumpkin\, and gourd display.  Through Nov. 29. For more information call 734-647-7600
UID:2102-918123@events.umich.edu
URL:https://events.umich.edu/event/2102
CLASS:PUBLIC
STATUS:CONFIRMED
CATEGORIES:
LOCATION:
CONTACT:
END:VEVENT
BEGIN:VEVENT
DTSTAMP:20101111T175600
DTSTART;TZID=America/Detroit:20091027T100000
DTEND;TZID=America/Detroit:20091027T170000
SUMMARY:Exhibition:Stearns Collection of Music
DESCRIPTION:The Stearns Collection at the School of Music\, Theatre & Dance is one of six major collections of musical instruments in North America. The 2\,500-piece collection is internationally known and is a resource for musical and cultural education.
UID:3790-909139@events.umich.edu
URL:https://events.umich.edu/event/3790
CLASS:PUBLIC
STATUS:CONFIRMED
CATEGORIES:
LOCATION:Earl V. Moore Building
CONTACT:
END:VEVENT
BEGIN:VEVENT
DTSTAMP:20090708T120930
DTSTART;TZID=America/Detroit:20091027T100000
SUMMARY:Exhibition:The Lens of Impressionism
DESCRIPTION:October 10\, 2009 through January 3\, 2010\n\nThis exhibition advances a new argument for the origins of what was called “the new painting\,” namely that a unique convergence of forces–social\, artistic\, technological\, and commercial–along the Normandy coast of France dramatically transformed the course of photography and painting (as well as of the region itself). Within this framework\, the invention of the camera and the development of early fine art photography in that particular setting will be seen as the specific catalysts that brought about a new approach to painting.\n\nThe project will showcase paintings\, photographs\, and drawings by some of the most treasured artists in the Western canon–Gustave Courbet\, Edouard Manet\, Edgar Degas\, and Claude Monet among them–as well as pioneering photographers such as Gustave Le Gray and Henri Le Secq. Inspired by the scenic Normandy coast of France\, these works–including representations of beach scenes\, seascapes\, fishing villages\, resorts\, and the region's pastoral beauty–will be brought together with archival materials related to early tourism and regional expressions of French nationalism from popular culture for an innovative examination of the impact of the then-new medium of photography on ideas of image making\, the recording of passing time\, the capacities of painting\, and the rise of Impressionism itself.\n\nOrganized by UMMA\, this exhibition is made possible in part by the Florence Gould Foundation\, the National Endowment for the Arts\, Masco Corporation\, and the University of Michigan's Office of the Provost and Office of the Vice President for Research. Additional support has been provided by the family of Raymond F. Cunningham in his memory. Following its showing in Ann Arbor\, the exhibition will travel to the Dallas Museum of Art.
UID:2436-919890@events.umich.edu
URL:https://events.umich.edu/event/2436
CLASS:PUBLIC
STATUS:CONFIRMED
CATEGORIES:visual arts
LOCATION:Museum of Art
CONTACT:
END:VEVENT
BEGIN:VEVENT
DTSTAMP:20101111T175818
DTSTART;TZID=America/Detroit:20091027T120000
DTEND;TZID=America/Detroit:20091027T130000
SUMMARY:Workshop / Seminar:Finding Funding for Graduate Students: Identifying Grants for Fellowship & Dissertation Support
DESCRIPTION:This session will serve as an introduction to digital and other informational resources for graduate students seeking funding for their work. The session will cover how to formulate a search strategy and will introduce several key internet tools including the Community of Science database\, the Foundation Centers Foundation Directory Online database\, and other resources. The session is hands-on\, with time to do individualized searching with the Foundation and Grants Librarian.
UID:2425-919072@events.umich.edu
URL:https://events.umich.edu/event/2425
CLASS:PUBLIC
STATUS:CONFIRMED
CATEGORIES:
LOCATION:Shapiro Library - 4059
CONTACT:
END:VEVENT
BEGIN:VEVENT
DTSTAMP:20101111T175830
DTSTART;TZID=America/Detroit:20091027T120000
DTEND;TZID=America/Detroit:20091027T140000
SUMMARY:Other:Negotiation Skills
DESCRIPTION:Negotiation skills are used daily in the workplace and in life. Whether you are trying to land a coveted job or promotion\, share work on a project\, or improve communication between co-workers\, effective negotiation skills can enhance your efficiency\, increase productivity and assist in workplace success. This active\, experiential session will teach you the steps of negotiation through application and practice. This session is co-sponsored with CEW and Individual sessions are $15 each. Please register online or by calling 734-764-6005. Deadline to register: Thursday\, October 22nd.
UID:2355-919661@events.umich.edu
URL:https://events.umich.edu/event/2355
CLASS:PUBLIC
STATUS:CONFIRMED
CATEGORIES:Welcome Week
LOCATION:
CONTACT:
END:VEVENT
BEGIN:VEVENT
DTSTAMP:20090914T091030
DTSTART;TZID=America/Detroit:20091027T120000
DTEND;TZID=America/Detroit:20091027T133000
SUMMARY:Lecture / Discussion:To See Feelingly: Violence and Spectatorship in Beaumont’s The Knight of the Burning Pestle
DESCRIPTION:As in our own historical moment\, the early modern English cultural imaginary exhibited an  anxiety that entertainment spectacle could (and often did) spur the spectator to violent acts.  How\, exactly\, the theater was able to influence audience members so profoundly was less clear.  Most often\, this relationship was expressed as a type of imaginative contagion\, such as is seen in  William Prynne's 1633 antitheatrical treatise\, Histriomastix: “[T]he style and subject matter of  stage-plays is scurrilous and obscene”¦which efferate and enrage the hearts and minds of actors  and spectators”¦to anger\, malice\, dules\, murders\, revenge and more than barbarous cruelty.”  However\, Francis Beaumont's The Knight of the Burning Pestle (one of the most extended  seventeenth-century metadramatic commentary on early modern spectators)\, offers another  possibility: that the communicative processes through which drama engaged the spectator were  imagined as a sort of psychic violence enacted upon him or her. By looking at Beaumont's play  alongside other contemporaneous discourses about theatrical spectatorship\, Rodgers suggests  another\, less-theorized\, link between spectatorship and violence\, one that articulates something  about interpretative and affective processes rather than a cause-and-effect relationship between  witnessing of dramatized violence and acting it out in the real world. \n\nLast year\, Amy Rodgers was Mary Fair Croushore Graduate Student Fellow in the Institute for the  Humanities. During the summer she defended her dissertation\, completing the requirements for  her Ph.D. in English Languages and Literature. Currently\, she teaches at Kalamazoo College.
UID:1138-913980@events.umich.edu
URL:https://events.umich.edu/event/1138
CLASS:PUBLIC
STATUS:CONFIRMED
CATEGORIES:
LOCATION:202 S. Thayer - 2022
CONTACT:
END:VEVENT
BEGIN:VEVENT
DTSTAMP:20101111T175619
DTSTART;TZID=America/Detroit:20091027T150000
DTEND;TZID=America/Detroit:20091027T163000
SUMMARY:Workshop / Seminar:Overview of Google Docs
DESCRIPTION:Learn how to create\, edit\, and share documents\, spreadsheets\, and presentations using Google Docs.  See how you can use Google Docs to collaborate simply\, easily\, and instantly with others without having to email documents back and forth.
UID:406-910507@events.umich.edu
URL:https://events.umich.edu/event/406
CLASS:PUBLIC
STATUS:CONFIRMED
CATEGORIES:
LOCATION:Hatcher Graduate Library - 206
CONTACT:
END:VEVENT
BEGIN:VEVENT
DTSTAMP:20101111T175906
DTSTART;TZID=America/Detroit:20091027T190000
SUMMARY:Exhibition:“The Two Journeys of Jacques Lecoq” Film Screening and Discussion
DESCRIPTION:Jacques Lecoq brought a new understanding of the role of movement in theatre when he transported what he'd learned in his original field – athletics – to the acting class. Lecoq's physical approach to acting was highly influential\, moving such students as Geoffrey Rush\, Julie Taymor\, Simon McBurney\, and Yasmina Reza past conventional modes of physical expression and into a different expressive realm.\n\nMalcolm Tulip\, a student of Lecoq's and faculty in U-M's School of Music\, Theatre & Dance\, will host this screening of two 45-minute documentaries about Lecoq's life and methods.  “Les deux voyages de Jacques Lecoq” (“The Two Journeys of Jacques Lecoq”) were filmed by Jean Noel Roy for the French television program La sept ARTE.  In them\, Lecoq is show talking of his work and inspiration and working with his students. Actors and directors such as Dario Fo (Accidental Death of an Anarchist)\, Arianne Mnouchkine (Theatre du Soleil)\, Luc Bondy (Opera and stage Director)\, Simon McBurney (“Complicite”) and many others testify to Lecoq's influence on their work.  Tulip will lead a Q&A discussion after the screening.\n\nThe film is in French with English subtitles.
UID:3025-921933@events.umich.edu
URL:https://events.umich.edu/event/3025
CLASS:PUBLIC
STATUS:CONFIRMED
CATEGORIES:film,theater
LOCATION:Walgreen Drama Center - Stamps Auditorium
CONTACT:
END:VEVENT
BEGIN:VEVENT
DTSTAMP:20091027T030002
DTSTART;TZID=America/Detroit:20091027T190000
SUMMARY:Other:Film Screening:  Le deux voyages de Jacques Lecoq
DESCRIPTION:Malcolm Tulip\, Department of Theatre & Drama\, will introduce two short documentaries about the influential theatre teacher Jacques Lecoq. Two 45-minute films\, entitled  « Les deux voyages de Jacques Lecoq  » (The Two Journeys of Jacques Lecoq) filmed by Jean Noel Roy for the French television La sept ARTE. Lecoq talks of his work and inspiration and there are scenes with him working with his students. There are also interviews with actors and directors such as Dario Fo (Accidental Death of an Anarchist)\, Arianne Mnouchkine (Theatre du Soleil)\, Luc Bondy (Opera and stage Director)\, Simon McBurney (Complicité) and many others.  There will be a question & answer/discussion after the screenings.  Sponsored in part by Arts on Earth.
UID:1751-915772@events.umich.edu
URL:https://events.umich.edu/event/1751
CLASS:PUBLIC
STATUS:CONFIRMED
CATEGORIES:film,music
LOCATION:Walgreen Drama Center - Stamps Auditorium
CONTACT:
END:VEVENT
BEGIN:VEVENT
DTSTAMP:20101111T175619
DTSTART;TZID=America/Detroit:20091027T190000
DTEND;TZID=America/Detroit:20091027T210000
SUMMARY:Class / Instruction:Michigan's Best Dance Crew: Tryouts
DESCRIPTION:Michigan's Best Dance Crew is a competition that will occur in December against the top dance crew on campus. The audience will vote on the top crews: first place will receive $200\, second place $150\, and third $100. The winner will also receive the opportunity to perform during Michigan Idol and Umix next semester. There will be three judges at tryouts to give crews feedback on their dance to help them prepare for the show.
UID:433-910533@events.umich.edu
URL:https://events.umich.edu/event/433
CLASS:PUBLIC
STATUS:CONFIRMED
CATEGORIES:
LOCATION:Michigan Union - Pendleton
CONTACT:
END:VEVENT
BEGIN:VEVENT
DTSTAMP:20091027T030002
DTSTART;TZID=America/Detroit:20091027T193000
SUMMARY:Other:Saxophone Studio Recital - CANCELLED
DESCRIPTION:
UID:666-911320@events.umich.edu
URL:https://events.umich.edu/event/666
CLASS:PUBLIC
STATUS:CONFIRMED
CATEGORIES:music
LOCATION:Earl V. Moore Building - Britton Recital Hall
CONTACT:
END:VEVENT
BEGIN:VEVENT
DTSTAMP:20091211T154016
DTSTART;TZID=America/Detroit:20091027T200000
DTEND;TZID=America/Detroit:20091027T230000
SUMMARY:Other:Artsbreak
DESCRIPTION:Artsbreak is a FREE arts and crafts night every Tuesday from 8pm-11pm in the MUG (Michigan Union Ground floor). Examples of crafts we've done in the past are: painting pumpkins\, decorating small canvas tote bags\, wire photo holders\, polar fleece scarves\, and jewelry making. For the most updated craft list or to suggest a craft\, email artsbreak-uuap@umich.edu to get on our weekly listserv\, or check out UUAP's website.
UID:1256-914127@events.umich.edu
URL:https://events.umich.edu/event/1256
CLASS:PUBLIC
STATUS:CONFIRMED
CATEGORIES:visual arts
LOCATION:Michigan Union - MUG
CONTACT:
END:VEVENT
BEGIN:VEVENT
DTSTAMP:20091020T080606
DTSTART;TZID=America/Detroit:20091027T200000
DTEND;TZID=America/Detroit:20091027T210000
SUMMARY:Other:Figure Drawing Workshops
DESCRIPTION:The Lloyd Hall Scholars Program is pleased to offer Open Figure Drawing Sessions every Tuesday and Thursday evening throughout the semester. These drawing sessions feature live models in a casual studio setting. Non-instructional\, limited supplies available. Beginners are always welcome.
UID:1414-915083@events.umich.edu
URL:https://events.umich.edu/event/1414
CLASS:PUBLIC
STATUS:CONFIRMED
CATEGORIES:visual arts
LOCATION:Alice Lloyd Hall - Art Studio located on ground floor
CONTACT:
END:VEVENT
BEGIN:VEVENT
DTSTAMP:20101111T175613
DTSTART;TZID=America/Detroit:20091027T200000
SUMMARY:Performance:Ingrid Michaelson
DESCRIPTION:
UID:205-910127@events.umich.edu
URL:https://events.umich.edu/event/205
CLASS:PUBLIC
STATUS:CONFIRMED
CATEGORIES:music
LOCATION:
CONTACT:
END:VEVENT
END:VCALENDAR