BEGIN:VCALENDAR
VERSION:2.0
PRODID:-//UM//UM*Events//EN
CALSCALE:GREGORIAN
BEGIN:VTIMEZONE
TZID:America/Detroit
TZURL:http://tzurl.org/zoneinfo/America/Detroit
X-LIC-LOCATION:America/Detroit
BEGIN:DAYLIGHT
TZOFFSETFROM:-0500
TZOFFSETTO:-0400
TZNAME:EDT
DTSTART:20070311T020000
RRULE:FREQ=YEARLY;BYMONTH=3;BYDAY=2SU
END:DAYLIGHT
BEGIN:STANDARD
TZOFFSETFROM:-0400
TZOFFSETTO:-0500
TZNAME:EST
DTSTART:20071104T020000
RRULE:FREQ=YEARLY;BYMONTH=11;BYDAY=1SU
END:STANDARD
END:VTIMEZONE
BEGIN:VEVENT
DTSTAMP:20101111T175710
DTSTART;TZID=America/Detroit:20091029T000000
SUMMARY:Exhibition:\"Landscape and Memory\" at Gallery Project
DESCRIPTION:Landscape and Memory seeks the experience and sensation of landscape\, tracing memory beyond symbol and  image\, to find a place in-between land and mind that is grounded in shared human experience\, evolution\,  geology\, and memory. \n\nSkyscrapers\, landfill mounds\, and industrialized agriculture often lead society to collectively assume that\, via  human engineering and construction\, it is we who shape the landscape to ourselves. In contrast to this line of  thought\, Landscape and Memory presents the self as shaped by environment and landscape.\n\nCURATED BY Catherine Meier and Joshua Smith \n\nARTISTS Shane Anderson\, Katherine E. Bash\, Jennilie Brewster\, Rocco DePietro\, Sarah Kanouse\, Catherine  Meier\, Zac Montanaro\, Bruce Myren\, Anne Percoco\, Marianetta Porter\, Gloria Pritschet\, Terri Sarris\, Matthew  Shlian\, Joshua Ray Smith and Mary Tsiongas
UID:1392-914334@events.umich.edu
URL:https://events.umich.edu/event/1392
CLASS:PUBLIC
STATUS:CONFIRMED
CATEGORIES:visual arts
LOCATION:
CONTACT:
END:VEVENT
BEGIN:VEVENT
DTSTAMP:20091006T125710
DTSTART;TZID=America/Detroit:20091029T000000
SUMMARY:Exhibition:Encaustic Works: Paintings in Molten Wax
DESCRIPTION:An exhibition of paintings by artist Ariela Steif in the medium of encaustic -- an ancient technique of pigmented  wax that is applied molten and then reheated to fuse every layer to the one beneath it. Encaustic has the ability  to take on extreme transparency\, which allows the simultaneous revealing and concealing of layers.  This series\,  situated in the charged and unstable space between representation and abstraction\, gathers fragments of dreams  and memories that are layered together\, and negotiates the ever-changing boundary between isolation and  community.
UID:1139-913107@events.umich.edu
URL:https://events.umich.edu/event/1139
CLASS:PUBLIC
STATUS:CONFIRMED
CATEGORIES:visual arts
LOCATION:Michigan Union - Arts Lounge
CONTACT:
END:VEVENT
BEGIN:VEVENT
DTSTAMP:20101111T175755
DTSTART;TZID=America/Detroit:20091029T000000
SUMMARY:Exhibition:Exhibit
DESCRIPTION:Economic crises on an international scale are not new\, and President Ford inherited a tough one in 1974. A new exhibit at the Ford Library in Ann Arbor shows how he attacked a troubling brew of inflation\, recession\, budget deficits and oil supply worries. This exhibit features rarely seen artifacts and archival materials from the Ford Library and Museum collections.
UID:3853-917285@events.umich.edu
URL:https://events.umich.edu/event/3853
CLASS:PUBLIC
STATUS:CONFIRMED
CATEGORIES:
LOCATION:Gerald Ford Library
CONTACT:
END:VEVENT
BEGIN:VEVENT
DTSTAMP:20101111T175751
DTSTART;TZID=America/Detroit:20091029T000000
SUMMARY:Exhibition:Exhibit
DESCRIPTION:Permanent lobby exhibits present the stories of President Gerald Ford and First Lady Betty Ford through archival photos and documents.
UID:2023-917031@events.umich.edu
URL:https://events.umich.edu/event/2023
CLASS:PUBLIC
STATUS:CONFIRMED
CATEGORIES:
LOCATION:Gerald Ford Library
CONTACT:
END:VEVENT
BEGIN:VEVENT
DTSTAMP:20101111T175620
DTSTART;TZID=America/Detroit:20091029T000000
SUMMARY:Exhibition:Permanent Exhibits at the Exhibit Museum of Natural History
DESCRIPTION:The Hall of Evolution houses Michigan's largest display of prehistoric life. More than 600 million years of life on Earth are traced through fossils\, models and dioramas. The Michigan Wildlife Gallery has a large collection of native Great Lakes birds\, mammals\, reptiles\, and amphibians\, with taxidermy mounts\, habitat scenes\, and the largest mastodon trackway on display in the world. There are also displays about some of the environmental problems faced in this region today. The Anthropology Displays feature artifacts from human cultures around the world. The Geology Displays on the fourth floor offer a large selection of rocks\, minerals and gems. These displays are updated periodically. For more information go to www.lsa.umich.edu/exhibitmuseum/exhibits/permexhibits or call 734-764-0480.
UID:452-910749@events.umich.edu
URL:https://events.umich.edu/event/452
CLASS:PUBLIC
STATUS:CONFIRMED
CATEGORIES:
LOCATION:Ruthven Museums Building
CONTACT:
END:VEVENT
BEGIN:VEVENT
DTSTAMP:20101111T175759
DTSTART;TZID=America/Detroit:20091029T080000
DTEND;TZID=America/Detroit:20091029T170000
SUMMARY:Exhibition:History of Dentistry exhibits at the Sindecuse Museum of Dentistry
DESCRIPTION:Exhibits at the Sindecuse Museum of Dentistry include Dental Operatories of the 1860s to 1930s\, St. Apollonia-Patron Saint of Dentistry and more. Call 763-0767 or go to www.dent.umich.edu/museum for more information.
UID:3856-917624@events.umich.edu
URL:https://events.umich.edu/event/3856
CLASS:PUBLIC
STATUS:CONFIRMED
CATEGORIES:
LOCATION:Dental & W.K. Kellogg Institute
CONTACT:
END:VEVENT
BEGIN:VEVENT
DTSTAMP:20101111T175733
DTSTART;TZID=America/Detroit:20091029T080000
DTEND;TZID=America/Detroit:20091029T170000
SUMMARY:Exhibition:Secrets of the Garden
DESCRIPTION:These images were taken without a camera. Ponvert places her subjects directly on a digital scanner and then alters them in Photoshop. The images in this exhibit were taken over the past three years from subjects in her garden in Ann Arbor\, Michigan. Her work has been shown at the Kerrytown Concert House\, and her garden was chosen to be on the Ann Arbor Women's Farm and Garden Walk in 2008.
UID:3843-915842@events.umich.edu
URL:https://events.umich.edu/event/3843
CLASS:PUBLIC
STATUS:CONFIRMED
CATEGORIES:
LOCATION:Cancer Center - Level 1
CONTACT:
END:VEVENT
BEGIN:VEVENT
DTSTAMP:20101111T175651
DTSTART;TZID=America/Detroit:20091029T080000
DTEND;TZID=America/Detroit:20091029T170000
SUMMARY:Exhibition:Wearable Art
DESCRIPTION:U-M School of Art & Design alumna Furtado started as a weaver over 30 years ago\, working on a loom. She is now engaged in a variety of activities as she produces her line of wearable art. Handweaving\, felting\, dyeing and beading are common tools of her trade. Lately\, she has been exploring Nuno felting\, a Japanese technique which combines wool felt with silk fabric. One of her dyeing techniques is a resist process involving clamping and applying dye in multiple steps\, creating a multiple-color\, multiple-shape design.
UID:3819-913010@events.umich.edu
URL:https://events.umich.edu/event/3819
CLASS:PUBLIC
STATUS:CONFIRMED
CATEGORIES:
LOCATION:Cancer Center - Main Lobby, Level B2
CONTACT:
END:VEVENT
BEGIN:VEVENT
DTSTAMP:20090818T134607
DTSTART;TZID=America/Detroit:20091029T090000
DTEND;TZID=America/Detroit:20091029T170000
SUMMARY:Other:HUMANITIES GALLERY
DESCRIPTION:OPENING RECEPTION: THURSDAY\, SEPTEMBER 17\, 2009\, 6:30-8:00 PM (immediately following  the School of Art and Design's Penny Stamps Lecture at the Michigan Theater in Ann Arbor) 202  SOUTH THAYER STREET ROOM 1010 ANN ARBOR\, MICHIGAN Gallery hours: Monday - Friday\,  9:00AM-5:00PM ***** In this photographic exhibit\, RICHARD BARNES\, the Institute for the  Humanities' 2009 Paula and Edwin Sidman Fellow in the Arts\, presents innovative new work  inspired by the paleontology and anthropology collections in the University of Michigan Exhibits  Museum and the ornithology collection in the Museum of Zoology. In this unique installation\,  Barnes considers the nature of things from collection and display to extinction. A prehistoric  skeletal whale juxtaposes a mound of rubber molds and resin casts\, examining questions of  replication and authenticity\, what we save and what we lose. Both lyrical and visceral\, Barnes'  work engages us in a provocative conversation about museological practice from behind the  scenes\, capturing the inextricable relationship between human gesture and the inevitability of  extinction. For more information\, contact Amanda Krugliak(mandak@umich.edu). (734) 936-3518.
UID:1157-914650@events.umich.edu
URL:https://events.umich.edu/event/1157
CLASS:PUBLIC
STATUS:CONFIRMED
CATEGORIES:visual arts
LOCATION:202 S. Thayer
CONTACT:
END:VEVENT
BEGIN:VEVENT
DTSTAMP:20090722T143534
DTSTART;TZID=America/Detroit:20091029T090000
DTEND;TZID=America/Detroit:20091029T170000
SUMMARY:Exhibition:Ida: Darwinius masillae
DESCRIPTION:\"Ida\,\" a new exhibit in the Exhibit Museum's Rotunda\, displays a high-resolution cast of an extremely rare  fossil discovered in 1983 near Messel\, Germany\, but only recently made available for study. The fossil has  proven to be a “link” between the prosimian and simian (\"anthropoid\") primate lineages. It has \"advanced\"  front teeth (incisors and canines) and second toes like those of monkeys\, and is broadly representative of what  human primate ancestors may have looked like during the Eocene epoch 47 million years ago.     Ida (prounded \"eeda\") is named after after the daughter of Dr JÃ¸rn Hurum\, the Norwegian vertebrate  paleontologist who secured one section of the fossil from an anonymous owner\, and led the research. Ida was  about eight months old\, or the equivalent of a six-year-old human.     Publication of a paper on the discovery was accompanied by a book\, The Link: Uncovering Our Earliest  Ancestors by Colin Tudge\, and a documentary shown on the History Channel (US)\, BBC One (UK)\,and various  stations in Germany and Norway.     U-M paleontologist Philip Gingerich and U-M anthropologist B. Holly Smith were two members of the \"dream  team\" invited to study Ida. The exhibit will be on display through May 2010.
UID:2124-918364@events.umich.edu
URL:https://events.umich.edu/event/2124
CLASS:PUBLIC
STATUS:CONFIRMED
CATEGORIES:welcome week,visual arts,multicultural
LOCATION:
CONTACT:
END:VEVENT
BEGIN:VEVENT
DTSTAMP:20101111T175902
DTSTART;TZID=America/Detroit:20091029T090000
DTEND;TZID=America/Detroit:20091029T170000
SUMMARY:Exhibition:Robert and Shana Parke-Harrison Show
DESCRIPTION:She's a painter and he's a photographer. They work as a creative team creating arresting images that might haunt you for a good while. Meditations on our arts\, our bodies\, our connections to the earth\, the Parke-Harrison photos are not to be missed.
UID:2879-921635@events.umich.edu
URL:https://events.umich.edu/event/2879
CLASS:PUBLIC
STATUS:CONFIRMED
CATEGORIES:
LOCATION:Art and Architecture Building - Slusser Gallery
CONTACT:
END:VEVENT
BEGIN:VEVENT
DTSTAMP:20091022T143310
DTSTART;TZID=America/Detroit:20091029T090000
SUMMARY:Community Service:SERVE Sponsor-A-Family 2009 Registration Begins
DESCRIPTION:SERVE will be collaborating with Community Action Network (CAN) and Community  Leaning Post (CLP) in providing many local families with holiday gifts through our  SPONSOR-A-FAMILY project.\n\nCommunity Action Network (CAN) and Community Leaning Post (CLP) are  organizations in Washtenaw County that provide various services to low-income  families.\n\nRegister by going to the website and your group will receive a wish list of the family  or child that you will be sponsoring in November.\n\n**Please be advised that SPONSOR-A-FAMILY requires that  organizations/individuals spend a minimum of $50 on each sponsored person.  Smaller groups do have the option to sponsor an individual rather than an entire  family. Individuals may include children or male and/or females heads of  households
UID:1609-915442@events.umich.edu
URL:https://events.umich.edu/event/1609
CLASS:PUBLIC
STATUS:CONFIRMED
CATEGORIES:social justice
LOCATION:
CONTACT:
END:VEVENT
BEGIN:VEVENT
DTSTAMP:20101111T175644
DTSTART;TZID=America/Detroit:20091029T090000
DTEND;TZID=America/Detroit:20091029T170000
SUMMARY:Exhibition:Takeshi Takahara \"The Four Corners\" (Printmaking exhibit)
DESCRIPTION:Artist's reception takes place from 5:00-7:00 on Friday October 23.  Come to the  Residential College Art Gallery in East Quad to experience the printmaking works by  Takeshi Takahara.
UID:851-912610@events.umich.edu
URL:https://events.umich.edu/event/851
CLASS:PUBLIC
STATUS:CONFIRMED
CATEGORIES:visual arts
LOCATION:East Quadrangle - RC Art Gallery
CONTACT:
END:VEVENT
BEGIN:VEVENT
DTSTAMP:20101111T175638
DTSTART;TZID=America/Detroit:20091029T100000
SUMMARY:Exhibition:(Un)Natural History: The Museum Unveiled
DESCRIPTION:September 12 through December 6\, 2009\n\nRichard Barnes's series of photographs Animal Logic examines the role the museum plays in our understanding of ourselves through the acts of collecting\, preservation\, and display. Images from this large body of work include photographs of the collections from the Smithsonian Institution\, the Museum of Comparative Anatomy in Paris\, the Canadian Museum of Natural History\, and the San Francisco Academy of Science. (Un)Natural History focuses primarily on the natural history museum and by extension collecting institutions in general\, providing a kind of behind-the-scenes look at museum practice and display.\n\nThis exhibition will coincide with the UM LSA Theme Semester Meaningful Objects: Museums and the Academy. UMMA's presentation is projected to serve as part of a three-venue project highlighting different aspects of Barnes's work in partnership with the UM Institute for the Humanities–who have selected Richard Barnes as the Paula and Edwin Sidman Fellow in the Arts for 2009–and the Cranbrook Institute of Science in Bloomfield Hills\, Michigan.
UID:648-912292@events.umich.edu
URL:https://events.umich.edu/event/648
CLASS:PUBLIC
STATUS:CONFIRMED
CATEGORIES:visual arts
LOCATION:Museum of Art
CONTACT:
END:VEVENT
BEGIN:VEVENT
DTSTAMP:20101111T175806
DTSTART;TZID=America/Detroit:20091029T100000
DTEND;TZID=America/Detroit:20091029T163000
SUMMARY:Other:Apples Peas & Pumpkin Pie: Where on Earth Does Our Food Come From?
DESCRIPTION:Where do we get chocolate and bananas? What do potatoes\, carrots\, and onions  have in common? How do you grind wheat to make spaghetti? And can you really  play with your food? Get the answers to all these questions and more in an  interactive fall exhibit and display at in the Conservatory at Matthaei Botanical  Gardens. Exhibit features stations such as seeds\, roots\, and fruits where children  can grind their own flour and learn about nuts and edible fruits and vegetables\;  apple tasting\; create-a-menu activities\; and a mum\, pumpkin\, and gourd display.  Through Nov. 29. For more information call 734-647-7600
UID:2102-918125@events.umich.edu
URL:https://events.umich.edu/event/2102
CLASS:PUBLIC
STATUS:CONFIRMED
CATEGORIES:
LOCATION:
CONTACT:
END:VEVENT
BEGIN:VEVENT
DTSTAMP:20101111T175600
DTSTART;TZID=America/Detroit:20091029T100000
DTEND;TZID=America/Detroit:20091029T170000
SUMMARY:Exhibition:Stearns Collection of Music
DESCRIPTION:The Stearns Collection at the School of Music\, Theatre & Dance is one of six major collections of musical instruments in North America. The 2\,500-piece collection is internationally known and is a resource for musical and cultural education.
UID:3790-909141@events.umich.edu
URL:https://events.umich.edu/event/3790
CLASS:PUBLIC
STATUS:CONFIRMED
CATEGORIES:
LOCATION:Earl V. Moore Building
CONTACT:
END:VEVENT
BEGIN:VEVENT
DTSTAMP:20090708T120930
DTSTART;TZID=America/Detroit:20091029T100000
SUMMARY:Exhibition:The Lens of Impressionism
DESCRIPTION:October 10\, 2009 through January 3\, 2010\n\nThis exhibition advances a new argument for the origins of what was called “the new painting\,” namely that a unique convergence of forces–social\, artistic\, technological\, and commercial–along the Normandy coast of France dramatically transformed the course of photography and painting (as well as of the region itself). Within this framework\, the invention of the camera and the development of early fine art photography in that particular setting will be seen as the specific catalysts that brought about a new approach to painting.\n\nThe project will showcase paintings\, photographs\, and drawings by some of the most treasured artists in the Western canon–Gustave Courbet\, Edouard Manet\, Edgar Degas\, and Claude Monet among them–as well as pioneering photographers such as Gustave Le Gray and Henri Le Secq. Inspired by the scenic Normandy coast of France\, these works–including representations of beach scenes\, seascapes\, fishing villages\, resorts\, and the region's pastoral beauty–will be brought together with archival materials related to early tourism and regional expressions of French nationalism from popular culture for an innovative examination of the impact of the then-new medium of photography on ideas of image making\, the recording of passing time\, the capacities of painting\, and the rise of Impressionism itself.\n\nOrganized by UMMA\, this exhibition is made possible in part by the Florence Gould Foundation\, the National Endowment for the Arts\, Masco Corporation\, and the University of Michigan's Office of the Provost and Office of the Vice President for Research. Additional support has been provided by the family of Raymond F. Cunningham in his memory. Following its showing in Ann Arbor\, the exhibition will travel to the Dallas Museum of Art.
UID:2436-919892@events.umich.edu
URL:https://events.umich.edu/event/2436
CLASS:PUBLIC
STATUS:CONFIRMED
CATEGORIES:visual arts
LOCATION:Museum of Art
CONTACT:
END:VEVENT
BEGIN:VEVENT
DTSTAMP:20101111T175820
DTSTART;TZID=America/Detroit:20091029T110000
DTEND;TZID=America/Detroit:20091029T130000
SUMMARY:Performance:Beats N' Eats
DESCRIPTION:Enjoy the relaxing sounds of talented U-M student performers over lunch! Beats N' Eats takes place every Thursday from 11a-1p in either the Union MUG or League Underground. Interested in performance opportunities? Contact University Unions Arts & Programs at uuap@umich.edu or 734-763-3202.
UID:2470-919138@events.umich.edu
URL:https://events.umich.edu/event/2470
CLASS:PUBLIC
STATUS:CONFIRMED
CATEGORIES:music
LOCATION:Michigan Union - MUG
CONTACT:
END:VEVENT
BEGIN:VEVENT
DTSTAMP:20101111T175827
DTSTART;TZID=America/Detroit:20091029T120000
DTEND;TZID=America/Detroit:20091029T130000
SUMMARY:Workshop / Seminar:Finding Funding for Graduate Students: Identifying Grants for Fellowship & Dissertation Support
DESCRIPTION:This session will serve as an introduction to digital and other informational resources for graduate students seeking funding for their work. The session will cover how to formulate a search strategy and will introduce several key internet tools including the Community of Science database\, the Foundation Centers Foundation Directory Online database\, and other resources. The session is hands-on\, with time to do individualized searching with the Foundation and Grants Librarian.
UID:2639-919449@events.umich.edu
URL:https://events.umich.edu/event/2639
CLASS:PUBLIC
STATUS:CONFIRMED
CATEGORIES:
LOCATION:Shapiro Library - 4059
CONTACT:
END:VEVENT
BEGIN:VEVENT
DTSTAMP:20091029T030002
DTSTART;TZID=America/Detroit:20091029T120000
SUMMARY:Other:Gypsy Pond Music XI
DESCRIPTION:A multi-media sonic installation involving electronic music\, light/movement sensors\, and sculpture\, all created by the Digital Music Ensemble under the direction of Stephen Rush.  As has been the practice for ten years\, the work is a result of careful study of labyrinths.
UID:2690-921027@events.umich.edu
URL:https://events.umich.edu/event/2690
CLASS:PUBLIC
STATUS:CONFIRMED
CATEGORIES:music
LOCATION:Earl V. Moore Building - Outside at the pond
CONTACT:
END:VEVENT
BEGIN:VEVENT
DTSTAMP:20101111T175654
DTSTART;TZID=America/Detroit:20091029T120000
DTEND;TZID=America/Detroit:20091029T180000
SUMMARY:Exhibition:India: A Light Within - photography exhibit
DESCRIPTION:The bodily experience – textures\, sights\, sounds\, and smells – of life in Calcutta in 2007 are evoked through the photography of award-winning Carnegie-Mellon faculty member Charlee Brodsky\, and the prose and poetry of writers Zilka Joseph and Neema Bilpin Avashi.  These contemporary photos and meditations are juxtaposed with a series of photos\, \"The Dance of Hands\,\" which captures the expressive range of hand \"mudras\" in the ancient art of Odissi dance.  Renowned dance master Sreyashi Dey performs Odissi dance live in this space on Friday\, October 30.
UID:808-913175@events.umich.edu
URL:https://events.umich.edu/event/808
CLASS:PUBLIC
STATUS:CONFIRMED
CATEGORIES:visual arts
LOCATION:Duderstadt Center - Duderstadt Gallery
CONTACT:
END:VEVENT
BEGIN:VEVENT
DTSTAMP:20101111T175625
DTSTART;TZID=America/Detroit:20091029T150000
DTEND;TZID=America/Detroit:20091029T163000
SUMMARY:Workshop / Seminar:FutureLibCon Social Computing: A Conversation with Faculty and Students
DESCRIPTION:Join us for a panel discussion with U-M faculty who use social computing in their teaching\, and students who have taken their courses.  Get a glimpse of how some instructors are already making use of new tools like blogs and wikis\, and how their students are utilizing them and experiencing them. Panelists: Susan Waltz (Public Policy) and Perry Samson (Dept. of Atmospheric\, Oceanic & Space Sciences).  Facilitator: Jen Green
UID:603-911168@events.umich.edu
URL:https://events.umich.edu/event/603
CLASS:PUBLIC
STATUS:CONFIRMED
CATEGORIES:
LOCATION:Hatcher Graduate Library -  
CONTACT:
END:VEVENT
BEGIN:VEVENT
DTSTAMP:20091102T150050
DTSTART;TZID=America/Detroit:20091029T153000
DTEND;TZID=America/Detroit:20091029T173000
SUMMARY:Lecture / Discussion:Department of Astronomy Colloquia Series
DESCRIPTION:A weekly lecture series with Astronomy or Astrophysics related topics. Please see  department website for featured speaker and lecture topic. There will be a brief  reception with light refreshments preceding the lecture in room 845 Dennison from  3:30-4:00 pm.
UID:1689-915696@events.umich.edu
URL:https://events.umich.edu/event/1689
CLASS:PUBLIC
STATUS:CONFIRMED
CATEGORIES:
LOCATION:Weiser Hall - 807
CONTACT:
END:VEVENT
BEGIN:VEVENT
DTSTAMP:20101111T175835
DTSTART;TZID=America/Detroit:20091029T153000
DTEND;TZID=America/Detroit:20091029T164500
SUMMARY:Workshop / Seminar:EEB Thursday Seminar Series: An integrative approach to the study of metazoan systematics: Assembling the tree
DESCRIPTION:Abstract: A vexing issue in evolutionary biology has been the reaching of a stable  Animal Tree of Life. The use of numerical methods to study morphology in a  systematic context and the advent of molecular data in the form of target-gene  approaches have revitalized the field of animal phylogenetics and have contributed  to many rearrangements in the Tree of Life. More recently\, the study of full  genomes or significant fractions through Expressed Sequence Tags (ESTs) have led  to unprecedented amounts of molecular data available to study relationships. The  use of these data in an integrative fashion with morphology and development has  yielded stable hypotheses in what we now considered a modern Animal Tree of Life.
UID:2501-920092@events.umich.edu
URL:https://events.umich.edu/event/2501
CLASS:PUBLIC
STATUS:CONFIRMED
CATEGORIES:
LOCATION:Chemistry Dow Lab - 1210
CONTACT:
END:VEVENT
BEGIN:VEVENT
DTSTAMP:20101111T175729
DTSTART;TZID=America/Detroit:20091029T160000
DTEND;TZID=America/Detroit:20091029T180000
SUMMARY:Presentation:Translation Discussion
DESCRIPTION:Panel Discussion and Performance by Pavel Lion.
UID:1634-915577@events.umich.edu
URL:https://events.umich.edu/event/1634
CLASS:PUBLIC
STATUS:CONFIRMED
CATEGORIES:
LOCATION:Michigan Union - Kuenzel Room
CONTACT:
END:VEVENT
BEGIN:VEVENT
DTSTAMP:20090817T143748
DTSTART;TZID=America/Detroit:20091029T183000
DTEND;TZID=America/Detroit:20091029T210000
SUMMARY:Other:MOLS Bike Clinic- FREE
DESCRIPTION:
UID:2451-919118@events.umich.edu
URL:https://events.umich.edu/event/2451
CLASS:PUBLIC
STATUS:CONFIRMED
CATEGORIES:
LOCATION:
CONTACT:
END:VEVENT
BEGIN:VEVENT
DTSTAMP:20101111T175712
DTSTART;TZID=America/Detroit:20091029T183000
DTEND;TZID=America/Detroit:20091029T194500
SUMMARY:Other:Yoga at Hillel
DESCRIPTION:A great workout for the body and the mind. Each Monday and Thursday\, from 6:30pm-7:45pm Hillel offers Yoga classes right here in our Hillel building. Yoga classes are taught by Rachel Portnoy\, a professional local yoga instructor from A2 Yoga. Classes are $5 for students and mats are provided. In addition\, Hillel offers free late night restorative yoga during our 24 Hour Finals Study program. To get in downward dog with Hillel\, please email Tilly\, or call Hillel at 769-0500.
UID:1445-914417@events.umich.edu
URL:https://events.umich.edu/event/1445
CLASS:PUBLIC
STATUS:CONFIRMED
CATEGORIES:
LOCATION:Hillel (Mandell L Berman Center)
CONTACT:
END:VEVENT
BEGIN:VEVENT
DTSTAMP:20101111T175848
DTSTART;TZID=America/Detroit:20091029T190000
DTEND;TZID=America/Detroit:20091029T200000
SUMMARY:Meeting:Circle K Meeting
DESCRIPTION:Learn about how you can serve the community! Circle K sponsors numerous community service projects daily that fit your schedule. This year our service hour goal is 10\,000 service hours. You can also be a part of this because anyone can volunteer with us. To find out how you can get involved you can attend a meeting or sign up for our community service projects at umcirclek.org/calendar.php. At our meetings\, you will also be able to interact with our members. We try our best to bring a sense of community to everyone. An optional social will also follow the meeting. Come learn about how you can help out and meet new people! Service really does come full circle!
UID:2929-920752@events.umich.edu
URL:https://events.umich.edu/event/2929
CLASS:PUBLIC
STATUS:CONFIRMED
CATEGORIES:
LOCATION:Michigan Union - Anderson Room
CONTACT:
END:VEVENT
BEGIN:VEVENT
DTSTAMP:20091028T152830
DTSTART;TZID=America/Detroit:20091029T190000
DTEND;TZID=America/Detroit:20091029T203000
SUMMARY:Presentation:Revolutions and Art
DESCRIPTION:Peter Kuper\, renowned artist and author\, will deliver a visual presentation covering propaganda and political graphics as effectively used by artists around the  world. Kuper is co-founder of the political graphics magazine WORLD WAR 3  ILLUSTRATED.   His cartoons have appeared in The New York Times and The New  Yorker.  Kuper has been writing and drawing MAD Magazine's Spy vs. Spy since  1997.
UID:2550-919266@events.umich.edu
URL:https://events.umich.edu/event/2550
CLASS:PUBLIC
STATUS:CONFIRMED
CATEGORIES:visual arts
LOCATION:Hatcher Graduate Library - Gallery - Room 100
CONTACT:
END:VEVENT
BEGIN:VEVENT
DTSTAMP:20101111T175724
DTSTART;TZID=America/Detroit:20091029T200000
SUMMARY:Performance:Chris Smither
DESCRIPTION:
UID:1484-915181@events.umich.edu
URL:https://events.umich.edu/event/1484
CLASS:PUBLIC
STATUS:CONFIRMED
CATEGORIES:music
LOCATION:
CONTACT:
END:VEVENT
BEGIN:VEVENT
DTSTAMP:20091029T030002
DTSTART;TZID=America/Detroit:20091029T200000
SUMMARY:Other:Michigan Chamber Players
DESCRIPTION:A Musical Equation: Pan-demon-ium = MCP  PROGRAM:  Liszt - The Second Mephisto Waltz for Piano 4 hands\; Bolcom - Graceful Ghost\; Deak - Lucy and the Count...Love Letters from Transylvania\; Gruber - Frankenstein!! a pan-demonium for chansonnier and ensemble  Stephen West (bass) Sponsored by UMS.
UID:1614-916250@events.umich.edu
URL:https://events.umich.edu/event/1614
CLASS:PUBLIC
STATUS:CONFIRMED
CATEGORIES:music
LOCATION:Walgreen Drama Center - Stamps Auditorium
CONTACT:
END:VEVENT
BEGIN:VEVENT
DTSTAMP:20101111T175754
DTSTART;TZID=America/Detroit:20091029T203000
DTEND;TZID=America/Detroit:20091029T223000
SUMMARY:Performance:Jazz Jam
DESCRIPTION:Ever wish you could study to the soothing sounds of a live jazz quartet? Now you can! Come grab a seat\, a FREE cup of coffee\, and enjoy the jammin' sounds of student musicians from the Department of Jazz and Contemporary Improvisation. Play an instrument or sing? This is also an open jam session! Bring your instrument(s) of choice and sign up to get your turn playing alongside the house band--you call the tunes!
UID:2128-917181@events.umich.edu
URL:https://events.umich.edu/event/2128
CLASS:PUBLIC
STATUS:CONFIRMED
CATEGORIES:music
LOCATION:Pierpont Commons - Leonardo&#039;s (across from Quizno&#039;s)
CONTACT:
END:VEVENT
END:VCALENDAR