BEGIN:VCALENDAR
VERSION:2.0
PRODID:-//UM//UM*Events//EN
CALSCALE:GREGORIAN
BEGIN:VTIMEZONE
TZID:America/Detroit
TZURL:http://tzurl.org/zoneinfo/America/Detroit
X-LIC-LOCATION:America/Detroit
BEGIN:DAYLIGHT
TZOFFSETFROM:-0500
TZOFFSETTO:-0400
TZNAME:EDT
DTSTART:20070311T020000
RRULE:FREQ=YEARLY;BYMONTH=3;BYDAY=2SU
END:DAYLIGHT
BEGIN:STANDARD
TZOFFSETFROM:-0400
TZOFFSETTO:-0500
TZNAME:EST
DTSTART:20071104T020000
RRULE:FREQ=YEARLY;BYMONTH=11;BYDAY=1SU
END:STANDARD
END:VTIMEZONE
BEGIN:VEVENT
DTSTAMP:20101111T175755
DTSTART;TZID=America/Detroit:20091104T000000
SUMMARY:Exhibition:Exhibit
DESCRIPTION:Economic crises on an international scale are not new\, and President Ford inherited a tough one in 1974. A new exhibit at the Ford Library in Ann Arbor shows how he attacked a troubling brew of inflation\, recession\, budget deficits and oil supply worries. This exhibit features rarely seen artifacts and archival materials from the Ford Library and Museum collections.
UID:3853-917289@events.umich.edu
URL:https://events.umich.edu/event/3853
CLASS:PUBLIC
STATUS:CONFIRMED
CATEGORIES:
LOCATION:Gerald Ford Library
CONTACT:
END:VEVENT
BEGIN:VEVENT
DTSTAMP:20101111T175751
DTSTART;TZID=America/Detroit:20091104T000000
SUMMARY:Exhibition:Exhibit
DESCRIPTION:Permanent lobby exhibits present the stories of President Gerald Ford and First Lady Betty Ford through archival photos and documents.
UID:2023-917035@events.umich.edu
URL:https://events.umich.edu/event/2023
CLASS:PUBLIC
STATUS:CONFIRMED
CATEGORIES:
LOCATION:Gerald Ford Library
CONTACT:
END:VEVENT
BEGIN:VEVENT
DTSTAMP:20101111T175620
DTSTART;TZID=America/Detroit:20091104T000000
SUMMARY:Exhibition:Permanent Exhibits at the Exhibit Museum of Natural History
DESCRIPTION:The Hall of Evolution houses Michigan's largest display of prehistoric life. More than 600 million years of life on Earth are traced through fossils\, models and dioramas. The Michigan Wildlife Gallery has a large collection of native Great Lakes birds\, mammals\, reptiles\, and amphibians\, with taxidermy mounts\, habitat scenes\, and the largest mastodon trackway on display in the world. There are also displays about some of the environmental problems faced in this region today. The Anthropology Displays feature artifacts from human cultures around the world. The Geology Displays on the fourth floor offer a large selection of rocks\, minerals and gems. These displays are updated periodically. For more information go to www.lsa.umich.edu/exhibitmuseum/exhibits/permexhibits or call 734-764-0480.
UID:452-910755@events.umich.edu
URL:https://events.umich.edu/event/452
CLASS:PUBLIC
STATUS:CONFIRMED
CATEGORIES:
LOCATION:Ruthven Museums Building
CONTACT:
END:VEVENT
BEGIN:VEVENT
DTSTAMP:20101111T175759
DTSTART;TZID=America/Detroit:20091104T080000
DTEND;TZID=America/Detroit:20091104T170000
SUMMARY:Exhibition:History of Dentistry exhibits at the Sindecuse Museum of Dentistry
DESCRIPTION:Exhibits at the Sindecuse Museum of Dentistry include Dental Operatories of the 1860s to 1930s\, St. Apollonia-Patron Saint of Dentistry and more. Call 763-0767 or go to www.dent.umich.edu/museum for more information.
UID:3856-917628@events.umich.edu
URL:https://events.umich.edu/event/3856
CLASS:PUBLIC
STATUS:CONFIRMED
CATEGORIES:
LOCATION:Dental & W.K. Kellogg Institute
CONTACT:
END:VEVENT
BEGIN:VEVENT
DTSTAMP:20101111T175733
DTSTART;TZID=America/Detroit:20091104T080000
DTEND;TZID=America/Detroit:20091104T170000
SUMMARY:Exhibition:Secrets of the Garden
DESCRIPTION:These images were taken without a camera. Ponvert places her subjects directly on a digital scanner and then alters them in Photoshop. The images in this exhibit were taken over the past three years from subjects in her garden in Ann Arbor\, Michigan. Her work has been shown at the Kerrytown Concert House\, and her garden was chosen to be on the Ann Arbor Women's Farm and Garden Walk in 2008.
UID:3843-915848@events.umich.edu
URL:https://events.umich.edu/event/3843
CLASS:PUBLIC
STATUS:CONFIRMED
CATEGORIES:
LOCATION:Cancer Center - Level 1
CONTACT:
END:VEVENT
BEGIN:VEVENT
DTSTAMP:20101111T175821
DTSTART;TZID=America/Detroit:20091104T080000
SUMMARY:Exhibition:SOMEONE TALKED!
DESCRIPTION:North Lobby\, First Floor\, Harlan Hatcher Graduate Library Exhibit: \"SOMEONE TALKED! World War II Posters from the University of Michigan Library\"
UID:2482-919159@events.umich.edu
URL:https://events.umich.edu/event/2482
CLASS:PUBLIC
STATUS:CONFIRMED
CATEGORIES:visual arts
LOCATION:Hatcher Graduate Library - North Lobby
CONTACT:
END:VEVENT
BEGIN:VEVENT
DTSTAMP:20091026T140034
DTSTART;TZID=America/Detroit:20091104T080000
SUMMARY:Exhibition:UNITED WE WIN: The University of Michigan During World War II
DESCRIPTION:Library Gallery\, First Floor\, Harlan Hatcher Graduate Library \"UNITED WE WIN: The University of Michigan During World War II\,\" an exhibit of photographs\, posters\, and other materials from the collections of the University of Michigan Library and the Bentley Historical Library
UID:1683-915608@events.umich.edu
URL:https://events.umich.edu/event/1683
CLASS:PUBLIC
STATUS:CONFIRMED
CATEGORIES:visual arts
LOCATION:Hatcher Graduate Library - Library Gallery
CONTACT:
END:VEVENT
BEGIN:VEVENT
DTSTAMP:20101111T175651
DTSTART;TZID=America/Detroit:20091104T080000
DTEND;TZID=America/Detroit:20091104T170000
SUMMARY:Exhibition:Wearable Art
DESCRIPTION:U-M School of Art & Design alumna Furtado started as a weaver over 30 years ago\, working on a loom. She is now engaged in a variety of activities as she produces her line of wearable art. Handweaving\, felting\, dyeing and beading are common tools of her trade. Lately\, she has been exploring Nuno felting\, a Japanese technique which combines wool felt with silk fabric. One of her dyeing techniques is a resist process involving clamping and applying dye in multiple steps\, creating a multiple-color\, multiple-shape design.
UID:3819-913016@events.umich.edu
URL:https://events.umich.edu/event/3819
CLASS:PUBLIC
STATUS:CONFIRMED
CATEGORIES:
LOCATION:Cancer Center - Main Lobby, Level B2
CONTACT:
END:VEVENT
BEGIN:VEVENT
DTSTAMP:20101111T175715
DTSTART;TZID=America/Detroit:20091104T080000
DTEND;TZID=America/Detroit:20091104T120000
SUMMARY:Other:Welcome Wednesday
DESCRIPTION:Join Hillel and the Alumni Association for a very special joint welcome Wednesday. Stop by and get a bagel and  cup of coffee as well as gelt\, dreidels\, and a menorah for Hanukkah!
UID:1142-914610@events.umich.edu
URL:https://events.umich.edu/event/1142
CLASS:PUBLIC
STATUS:CONFIRMED
CATEGORIES:
LOCATION:Alumni Center
CONTACT:
END:VEVENT
BEGIN:VEVENT
DTSTAMP:20090722T143534
DTSTART;TZID=America/Detroit:20091104T090000
DTEND;TZID=America/Detroit:20091104T170000
SUMMARY:Exhibition:Ida: Darwinius masillae
DESCRIPTION:\"Ida\,\" a new exhibit in the Exhibit Museum's Rotunda\, displays a high-resolution cast of an extremely rare  fossil discovered in 1983 near Messel\, Germany\, but only recently made available for study. The fossil has  proven to be a “link” between the prosimian and simian (\"anthropoid\") primate lineages. It has \"advanced\"  front teeth (incisors and canines) and second toes like those of monkeys\, and is broadly representative of what  human primate ancestors may have looked like during the Eocene epoch 47 million years ago.     Ida (prounded \"eeda\") is named after after the daughter of Dr JÃ¸rn Hurum\, the Norwegian vertebrate  paleontologist who secured one section of the fossil from an anonymous owner\, and led the research. Ida was  about eight months old\, or the equivalent of a six-year-old human.     Publication of a paper on the discovery was accompanied by a book\, The Link: Uncovering Our Earliest  Ancestors by Colin Tudge\, and a documentary shown on the History Channel (US)\, BBC One (UK)\,and various  stations in Germany and Norway.     U-M paleontologist Philip Gingerich and U-M anthropologist B. Holly Smith were two members of the \"dream  team\" invited to study Ida. The exhibit will be on display through May 2010.
UID:2124-918370@events.umich.edu
URL:https://events.umich.edu/event/2124
CLASS:PUBLIC
STATUS:CONFIRMED
CATEGORIES:welcome week,visual arts,multicultural
LOCATION:
CONTACT:
END:VEVENT
BEGIN:VEVENT
DTSTAMP:20091103T112054
DTSTART;TZID=America/Detroit:20091104T090000
SUMMARY:Exhibition:Parisa Ghaderi
DESCRIPTION:To me\, Design is a way to keep me alive and make me truly believe “I design\, so I am!”  Mostly taking on social issues\, I envision my work as a powerful weapon in dealing with challenges of the current civilized world. My greatest inspirations are among everything I see\, feel and experience.\n\nGraphic design fills me with a sense of accomplishment and integrity. It has proven to be the most amenable driving force for translating the inner vision to outer reality. Through my posters I can express my thoughts\, ideals\, joys\, and regrets to touch the mind and hearts of my fellow human beings. Having respected the true value of creativity\, I always tend to focus on novel ideas in order to make memorable and ever-lasting works of art. I adore simplicity and minimalism and this is well perceived from the direction I take in my works.\n\nI also enjoy photography -- framing everyday life\, traditions and beliefs. I do not seek to capture exceptionally rare moments and events\; to me\, every moment is unique and worth being read and seen many\, many times. I use my photography vision in my posters\, and enjoy the combination of photos with other forms of art. Through my works\, I'd like people to explore life as they never had before\, and to be more sensitive to minor happenings in its every aspect.  I am inspired by my beautiful country\, Iran\, and its rich culture. There still would be a lot more to explore and experience. Here\, I just framed a pixel of it!\n\n-Parisa Ghaderi
UID:2984-921874@events.umich.edu
URL:https://events.umich.edu/event/2984
CLASS:PUBLIC
STATUS:CONFIRMED
CATEGORIES:visual arts
LOCATION:Pierpont Commons - Wall Gallery &amp;amp; Piano Lounge
CONTACT:
END:VEVENT
BEGIN:VEVENT
DTSTAMP:20091022T143310
DTSTART;TZID=America/Detroit:20091104T090000
SUMMARY:Community Service:SERVE Sponsor-A-Family 2009 Registration Begins
DESCRIPTION:SERVE will be collaborating with Community Action Network (CAN) and Community  Leaning Post (CLP) in providing many local families with holiday gifts through our  SPONSOR-A-FAMILY project.\n\nCommunity Action Network (CAN) and Community Leaning Post (CLP) are  organizations in Washtenaw County that provide various services to low-income  families.\n\nRegister by going to the website and your group will receive a wish list of the family  or child that you will be sponsoring in November.\n\n**Please be advised that SPONSOR-A-FAMILY requires that  organizations/individuals spend a minimum of $50 on each sponsored person.  Smaller groups do have the option to sponsor an individual rather than an entire  family. Individuals may include children or male and/or females heads of  households
UID:1609-915448@events.umich.edu
URL:https://events.umich.edu/event/1609
CLASS:PUBLIC
STATUS:CONFIRMED
CATEGORIES:social justice
LOCATION:
CONTACT:
END:VEVENT
BEGIN:VEVENT
DTSTAMP:20101111T175644
DTSTART;TZID=America/Detroit:20091104T090000
DTEND;TZID=America/Detroit:20091104T170000
SUMMARY:Exhibition:Takeshi Takahara \"The Four Corners\" (Printmaking exhibit)
DESCRIPTION:Artist's reception takes place from 5:00-7:00 on Friday October 23.  Come to the  Residential College Art Gallery in East Quad to experience the printmaking works by  Takeshi Takahara.
UID:851-912616@events.umich.edu
URL:https://events.umich.edu/event/851
CLASS:PUBLIC
STATUS:CONFIRMED
CATEGORIES:visual arts
LOCATION:East Quadrangle - RC Art Gallery
CONTACT:
END:VEVENT
BEGIN:VEVENT
DTSTAMP:20101111T175638
DTSTART;TZID=America/Detroit:20091104T100000
SUMMARY:Exhibition:(Un)Natural History: The Museum Unveiled
DESCRIPTION:September 12 through December 6\, 2009\n\nRichard Barnes's series of photographs Animal Logic examines the role the museum plays in our understanding of ourselves through the acts of collecting\, preservation\, and display. Images from this large body of work include photographs of the collections from the Smithsonian Institution\, the Museum of Comparative Anatomy in Paris\, the Canadian Museum of Natural History\, and the San Francisco Academy of Science. (Un)Natural History focuses primarily on the natural history museum and by extension collecting institutions in general\, providing a kind of behind-the-scenes look at museum practice and display.\n\nThis exhibition will coincide with the UM LSA Theme Semester Meaningful Objects: Museums and the Academy. UMMA's presentation is projected to serve as part of a three-venue project highlighting different aspects of Barnes's work in partnership with the UM Institute for the Humanities–who have selected Richard Barnes as the Paula and Edwin Sidman Fellow in the Arts for 2009–and the Cranbrook Institute of Science in Bloomfield Hills\, Michigan.
UID:648-912298@events.umich.edu
URL:https://events.umich.edu/event/648
CLASS:PUBLIC
STATUS:CONFIRMED
CATEGORIES:visual arts
LOCATION:Museum of Art
CONTACT:
END:VEVENT
BEGIN:VEVENT
DTSTAMP:20101111T175806
DTSTART;TZID=America/Detroit:20091104T100000
DTEND;TZID=America/Detroit:20091104T163000
SUMMARY:Other:Apples Peas & Pumpkin Pie: Where on Earth Does Our Food Come From?
DESCRIPTION:Where do we get chocolate and bananas? What do potatoes\, carrots\, and onions  have in common? How do you grind wheat to make spaghetti? And can you really  play with your food? Get the answers to all these questions and more in an  interactive fall exhibit and display at in the Conservatory at Matthaei Botanical  Gardens. Exhibit features stations such as seeds\, roots\, and fruits where children  can grind their own flour and learn about nuts and edible fruits and vegetables\;  apple tasting\; create-a-menu activities\; and a mum\, pumpkin\, and gourd display.  Through Nov. 29. For more information call 734-647-7600
UID:2102-918130@events.umich.edu
URL:https://events.umich.edu/event/2102
CLASS:PUBLIC
STATUS:CONFIRMED
CATEGORIES:
LOCATION:
CONTACT:
END:VEVENT
BEGIN:VEVENT
DTSTAMP:20101111T175600
DTSTART;TZID=America/Detroit:20091104T100000
DTEND;TZID=America/Detroit:20091104T170000
SUMMARY:Exhibition:Stearns Collection of Music
DESCRIPTION:The Stearns Collection at the School of Music\, Theatre & Dance is one of six major collections of musical instruments in North America. The 2\,500-piece collection is internationally known and is a resource for musical and cultural education.
UID:3790-909145@events.umich.edu
URL:https://events.umich.edu/event/3790
CLASS:PUBLIC
STATUS:CONFIRMED
CATEGORIES:
LOCATION:Earl V. Moore Building
CONTACT:
END:VEVENT
BEGIN:VEVENT
DTSTAMP:20090708T120930
DTSTART;TZID=America/Detroit:20091104T100000
SUMMARY:Exhibition:The Lens of Impressionism
DESCRIPTION:October 10\, 2009 through January 3\, 2010\n\nThis exhibition advances a new argument for the origins of what was called “the new painting\,” namely that a unique convergence of forces–social\, artistic\, technological\, and commercial–along the Normandy coast of France dramatically transformed the course of photography and painting (as well as of the region itself). Within this framework\, the invention of the camera and the development of early fine art photography in that particular setting will be seen as the specific catalysts that brought about a new approach to painting.\n\nThe project will showcase paintings\, photographs\, and drawings by some of the most treasured artists in the Western canon–Gustave Courbet\, Edouard Manet\, Edgar Degas\, and Claude Monet among them–as well as pioneering photographers such as Gustave Le Gray and Henri Le Secq. Inspired by the scenic Normandy coast of France\, these works–including representations of beach scenes\, seascapes\, fishing villages\, resorts\, and the region's pastoral beauty–will be brought together with archival materials related to early tourism and regional expressions of French nationalism from popular culture for an innovative examination of the impact of the then-new medium of photography on ideas of image making\, the recording of passing time\, the capacities of painting\, and the rise of Impressionism itself.\n\nOrganized by UMMA\, this exhibition is made possible in part by the Florence Gould Foundation\, the National Endowment for the Arts\, Masco Corporation\, and the University of Michigan's Office of the Provost and Office of the Vice President for Research. Additional support has been provided by the family of Raymond F. Cunningham in his memory. Following its showing in Ann Arbor\, the exhibition will travel to the Dallas Museum of Art.
UID:2436-919898@events.umich.edu
URL:https://events.umich.edu/event/2436
CLASS:PUBLIC
STATUS:CONFIRMED
CATEGORIES:visual arts
LOCATION:Museum of Art
CONTACT:
END:VEVENT
BEGIN:VEVENT
DTSTAMP:20091028T154305
DTSTART;TZID=America/Detroit:20091104T120000
DTEND;TZID=America/Detroit:20091104T133000
SUMMARY:Presentation:Fool's Gold and Fossils
DESCRIPTION:Pyritization can produce spectacular fossils but poses challenges for collections  storage that are surmounted with state-of-the-art methos of conservation.  \n\nPresentation by Daniel J. Miller\, PhD\; UM Museum of Paleontology
UID:441-911605@events.umich.edu
URL:https://events.umich.edu/event/441
CLASS:PUBLIC
STATUS:CONFIRMED
CATEGORIES:
LOCATION:Hatcher Graduate Library - Gallery - Room 100
CONTACT:
END:VEVENT
BEGIN:VEVENT
DTSTAMP:20101111T175654
DTSTART;TZID=America/Detroit:20091104T120000
DTEND;TZID=America/Detroit:20091104T180000
SUMMARY:Exhibition:India: A Light Within - photography exhibit
DESCRIPTION:The bodily experience – textures\, sights\, sounds\, and smells – of life in Calcutta in 2007 are evoked through the photography of award-winning Carnegie-Mellon faculty member Charlee Brodsky\, and the prose and poetry of writers Zilka Joseph and Neema Bilpin Avashi.  These contemporary photos and meditations are juxtaposed with a series of photos\, \"The Dance of Hands\,\" which captures the expressive range of hand \"mudras\" in the ancient art of Odissi dance.  Renowned dance master Sreyashi Dey performs Odissi dance live in this space on Friday\, October 30.
UID:808-913179@events.umich.edu
URL:https://events.umich.edu/event/808
CLASS:PUBLIC
STATUS:CONFIRMED
CATEGORIES:visual arts
LOCATION:Duderstadt Center - Duderstadt Gallery
CONTACT:
END:VEVENT
BEGIN:VEVENT
DTSTAMP:20101111T175832
DTSTART;TZID=America/Detroit:20091104T130000
DTEND;TZID=America/Detroit:20091104T150000
SUMMARY:Workshop / Seminar:Creating Professional-looking Conference Posters
DESCRIPTION:In this workshop\, participants will learn how to use Adobe Illustrator to create high quality\, eye-catching posters. Participants will learn techniques for organizing materials and printing posters on the large format color printer located in GroundWorks\, the Media Conversion Lab at the Duderstadt Center. Basic computer skills are required\, but no prior experience with graphics applications is necessary. Regardless of the type of computer used in this session\, everything covered is applicable whether you normally use a Mac or a Windows PC.
UID:2392-919740@events.umich.edu
URL:https://events.umich.edu/event/2392
CLASS:PUBLIC
STATUS:CONFIRMED
CATEGORIES:
LOCATION:Duderstadt Center - 3336
CONTACT:
END:VEVENT
BEGIN:VEVENT
DTSTAMP:20101111T175805
DTSTART;TZID=America/Detroit:20091104T150000
DTEND;TZID=America/Detroit:20091104T163000
SUMMARY:Lecture / Discussion:Louise O'Brien: I'm Pregnant\, I Snore\, It's OK...Or Is It?
DESCRIPTION:Sleep-Disordered Breathing (SDB) is a common condition which encompasses a spectrum of sleep-related breathing disturbances from snoring at one end of the spectrum to obstructive sleep apnea (OSA) at the other. Such breathing disturbances may be characterized by repeated partial or complete upper airway obstruction during sleep\, which can result in disruption of normal ventilation\, hypoxemia\, and sleep fragmentation. The identifying symptom of SDB is habitual snoring and the vast majority of women remain undiagnosed.\n\nThere is emerging evidence that SDB may be associated with poor pregnancy outcomes including maternal hypertension and infant growth retardation. It is now well documented that SDB is independently associated with hypertension in the general population so it is possible that SDB may play some role in hypertensive disorders of pregnancy. Obesity is strongly associated with both SDB as well as poor pregnancy outcomes and since the obesity rates worldwide are increasing the prevalence of SDB is likely to also increase. Of note\, the incidence of hypertension during pregnancy\, including pre-eclampsia\, is also increasing. This raises important questions regarding the relationship of SDB to both maternal and infant health. An improved understanding of some of the vulnerabilities that are unique to pregnancy may offer opportunities to improve the health of both mothers and infants. This event is free and open to the public.
UID:2069-918084@events.umich.edu
URL:https://events.umich.edu/event/2069
CLASS:PUBLIC
STATUS:CONFIRMED
CATEGORIES:
LOCATION:Lane Hall - 2239
CONTACT:
END:VEVENT
BEGIN:VEVENT
DTSTAMP:20101111T175824
DTSTART;TZID=America/Detroit:20091104T170000
SUMMARY:Lecture / Discussion:Queer Art and Censorship after the Culture Wars Presented by Richard Meyer
DESCRIPTION:The “culture wars” that erupted over arts funding in the 1980s and 1990s were all about bodies in art –   the depiction and deployment of bodies and of sexuality in artistic works.  Sometimes religious symbols were also in play (most memorably\, perhaps\, in Andre Serrano's “Piss Christ”)\; always\, however\, religious beliefs and attitudes were at issue\, whether or not their role was blatant or claimed. \n\nUSC art historian Richard Meyer\, author of Outlaw Representation: Censorship and Homosexuality in Twentieth-Century American Art (Oxford\, 2002)\, addresses some of the ongoing effects of the culture wars on arts funding\, sexuality\, and religion.  Meyer will consider several queer artists whose work has been censored since the late 1990s in local and state contexts\, and will address the suppression of sexually explicit art from within the gay and lesbian communities and from without.\n\n Following Meyer's presentation\, Professors Holly Hughes\, Carol Jacobsen\, Petra Kuppers\, and Robin Wilson will respond.\n\n Richard Meyer is Associate Professor in the Department of Art History and Director of the Contemporary Project and the Visual Studies Graduate Certificate at the University of Southern California.   He is the author of Outlaw Representation: Censorship and Homosexuality in Twentieth-Century American Art (Oxford University Press: 2002)\, and co-author\, with Anthony Lee\, of Weegee and Naked City (University of California Press: 2008).  Last year\, he curated “Warhol's Jews: Ten Portraits Reconsidered” for the Jewish Museum in New York and the Contemporary Jewish Museum in San Francisco.  With Catherine Lord\, he has just completed a survey text titled Art and Queer Culture\, 1885-present which will appear in Phaidon's “Themes and Movements” series.
UID:2547-919264@events.umich.edu
URL:https://events.umich.edu/event/2547
CLASS:PUBLIC
STATUS:CONFIRMED
CATEGORIES:
LOCATION:Art and Architecture Building - 2104
CONTACT:
END:VEVENT
BEGIN:VEVENT
DTSTAMP:20101111T175709
DTSTART;TZID=America/Detroit:20091104T200000
SUMMARY:Performance:Erin McKeown & Jill Sobule
DESCRIPTION:
UID:1355-914234@events.umich.edu
URL:https://events.umich.edu/event/1355
CLASS:PUBLIC
STATUS:CONFIRMED
CATEGORIES:music
LOCATION:
CONTACT:
END:VEVENT
BEGIN:VEVENT
DTSTAMP:20091103T155444
DTSTART;TZID=America/Detroit:20091104T200000
DTEND;TZID=America/Detroit:20091104T213000
SUMMARY:Lecture / Discussion:Mystery\, Mess\, Glory:  Recasting the Artist's Vocation
DESCRIPTION:A lecture by Cam Anderson\, director of CIVA (Christians in the Visual Arts) on the  changing role of the artist within Christian communities as imagination and creativity  are embraced as integral to representing and exploring the divine.
UID:2843-921314@events.umich.edu
URL:https://events.umich.edu/event/2843
CLASS:PUBLIC
STATUS:CONFIRMED
CATEGORIES:visual arts
LOCATION:Rackham Graduate School (Horace H.) - Rackham Amphitheater
CONTACT:
END:VEVENT
BEGIN:VEVENT
DTSTAMP:20101111T175603
DTSTART;TZID=America/Detroit:20091104T200000
DTEND;TZID=America/Detroit:20091104T220000
SUMMARY:Other:Waffle Wednesday sponsored by FYSH
DESCRIPTION:Join FYSH (First Year Students at Hillel) on Wednesday November 4th\, 8-10pm at Hillel for some delicious homemade waffles. Meet fellow freshman and satisfy your sweet tooth!
UID:184-909464@events.umich.edu
URL:https://events.umich.edu/event/184
CLASS:PUBLIC
STATUS:CONFIRMED
CATEGORIES:
LOCATION:Hillel (Mandell L Berman Center)
CONTACT:
END:VEVENT
BEGIN:VEVENT
DTSTAMP:20090924T150751
DTSTART;TZID=America/Detroit:20091104T220000
DTEND;TZID=America/Detroit:20091104T010000
SUMMARY:Sporting Event:Hillel Ice Hockey Game
DESCRIPTION:The Hillel Ice Hockey Team kicks off its season Wednesday\, September 30 with a 10:00PM game against the Ice Elephants. Come cheer on Hillel at the Ann Arbor Ice Cube.
UID:2164-918520@events.umich.edu
URL:https://events.umich.edu/event/2164
CLASS:PUBLIC
STATUS:CONFIRMED
CATEGORIES:
LOCATION:
CONTACT:
END:VEVENT
END:VCALENDAR