BEGIN:VCALENDAR
VERSION:2.0
PRODID:-//UM//UM*Events//EN
CALSCALE:GREGORIAN
BEGIN:VTIMEZONE
TZID:America/Detroit
TZURL:http://tzurl.org/zoneinfo/America/Detroit
X-LIC-LOCATION:America/Detroit
BEGIN:DAYLIGHT
TZOFFSETFROM:-0500
TZOFFSETTO:-0400
TZNAME:EDT
DTSTART:20070311T020000
RRULE:FREQ=YEARLY;BYMONTH=3;BYDAY=2SU
END:DAYLIGHT
BEGIN:STANDARD
TZOFFSETFROM:-0400
TZOFFSETTO:-0500
TZNAME:EST
DTSTART:20071104T020000
RRULE:FREQ=YEARLY;BYMONTH=11;BYDAY=1SU
END:STANDARD
END:VTIMEZONE
BEGIN:VEVENT
DTSTAMP:20101111T175620
DTSTART;TZID=America/Detroit:20091107T000000
SUMMARY:Exhibition:Permanent Exhibits at the Exhibit Museum of Natural History
DESCRIPTION:The Hall of Evolution houses Michigan's largest display of prehistoric life. More than 600 million years of life on Earth are traced through fossils\, models and dioramas. The Michigan Wildlife Gallery has a large collection of native Great Lakes birds\, mammals\, reptiles\, and amphibians\, with taxidermy mounts\, habitat scenes\, and the largest mastodon trackway on display in the world. There are also displays about some of the environmental problems faced in this region today. The Anthropology Displays feature artifacts from human cultures around the world. The Geology Displays on the fourth floor offer a large selection of rocks\, minerals and gems. These displays are updated periodically. For more information go to www.lsa.umich.edu/exhibitmuseum/exhibits/permexhibits or call 734-764-0480.
UID:452-910758@events.umich.edu
URL:https://events.umich.edu/event/452
CLASS:PUBLIC
STATUS:CONFIRMED
CATEGORIES:
LOCATION:Ruthven Museums Building
CONTACT:
END:VEVENT
BEGIN:VEVENT
DTSTAMP:20101111T175733
DTSTART;TZID=America/Detroit:20091107T080000
DTEND;TZID=America/Detroit:20091107T170000
SUMMARY:Exhibition:Secrets of the Garden
DESCRIPTION:These images were taken without a camera. Ponvert places her subjects directly on a digital scanner and then alters them in Photoshop. The images in this exhibit were taken over the past three years from subjects in her garden in Ann Arbor\, Michigan. Her work has been shown at the Kerrytown Concert House\, and her garden was chosen to be on the Ann Arbor Women's Farm and Garden Walk in 2008.
UID:3843-915851@events.umich.edu
URL:https://events.umich.edu/event/3843
CLASS:PUBLIC
STATUS:CONFIRMED
CATEGORIES:
LOCATION:Cancer Center - Level 1
CONTACT:
END:VEVENT
BEGIN:VEVENT
DTSTAMP:20101111T175821
DTSTART;TZID=America/Detroit:20091107T080000
SUMMARY:Exhibition:SOMEONE TALKED!
DESCRIPTION:North Lobby\, First Floor\, Harlan Hatcher Graduate Library Exhibit: \"SOMEONE TALKED! World War II Posters from the University of Michigan Library\"
UID:2482-919162@events.umich.edu
URL:https://events.umich.edu/event/2482
CLASS:PUBLIC
STATUS:CONFIRMED
CATEGORIES:visual arts
LOCATION:Hatcher Graduate Library - North Lobby
CONTACT:
END:VEVENT
BEGIN:VEVENT
DTSTAMP:20091026T140034
DTSTART;TZID=America/Detroit:20091107T080000
SUMMARY:Exhibition:UNITED WE WIN: The University of Michigan During World War II
DESCRIPTION:Library Gallery\, First Floor\, Harlan Hatcher Graduate Library \"UNITED WE WIN: The University of Michigan During World War II\,\" an exhibit of photographs\, posters\, and other materials from the collections of the University of Michigan Library and the Bentley Historical Library
UID:1683-915611@events.umich.edu
URL:https://events.umich.edu/event/1683
CLASS:PUBLIC
STATUS:CONFIRMED
CATEGORIES:visual arts
LOCATION:Hatcher Graduate Library - Library Gallery
CONTACT:
END:VEVENT
BEGIN:VEVENT
DTSTAMP:20101111T175651
DTSTART;TZID=America/Detroit:20091107T080000
DTEND;TZID=America/Detroit:20091107T170000
SUMMARY:Exhibition:Wearable Art
DESCRIPTION:U-M School of Art & Design alumna Furtado started as a weaver over 30 years ago\, working on a loom. She is now engaged in a variety of activities as she produces her line of wearable art. Handweaving\, felting\, dyeing and beading are common tools of her trade. Lately\, she has been exploring Nuno felting\, a Japanese technique which combines wool felt with silk fabric. One of her dyeing techniques is a resist process involving clamping and applying dye in multiple steps\, creating a multiple-color\, multiple-shape design.
UID:3819-913019@events.umich.edu
URL:https://events.umich.edu/event/3819
CLASS:PUBLIC
STATUS:CONFIRMED
CATEGORIES:
LOCATION:Cancer Center - Main Lobby, Level B2
CONTACT:
END:VEVENT
BEGIN:VEVENT
DTSTAMP:20090722T143534
DTSTART;TZID=America/Detroit:20091107T090000
DTEND;TZID=America/Detroit:20091107T170000
SUMMARY:Exhibition:Ida: Darwinius masillae
DESCRIPTION:\"Ida\,\" a new exhibit in the Exhibit Museum's Rotunda\, displays a high-resolution cast of an extremely rare  fossil discovered in 1983 near Messel\, Germany\, but only recently made available for study. The fossil has  proven to be a “link” between the prosimian and simian (\"anthropoid\") primate lineages. It has \"advanced\"  front teeth (incisors and canines) and second toes like those of monkeys\, and is broadly representative of what  human primate ancestors may have looked like during the Eocene epoch 47 million years ago.     Ida (prounded \"eeda\") is named after after the daughter of Dr JÃ¸rn Hurum\, the Norwegian vertebrate  paleontologist who secured one section of the fossil from an anonymous owner\, and led the research. Ida was  about eight months old\, or the equivalent of a six-year-old human.     Publication of a paper on the discovery was accompanied by a book\, The Link: Uncovering Our Earliest  Ancestors by Colin Tudge\, and a documentary shown on the History Channel (US)\, BBC One (UK)\,and various  stations in Germany and Norway.     U-M paleontologist Philip Gingerich and U-M anthropologist B. Holly Smith were two members of the \"dream  team\" invited to study Ida. The exhibit will be on display through May 2010.
UID:2124-918373@events.umich.edu
URL:https://events.umich.edu/event/2124
CLASS:PUBLIC
STATUS:CONFIRMED
CATEGORIES:welcome week,visual arts,multicultural
LOCATION:
CONTACT:
END:VEVENT
BEGIN:VEVENT
DTSTAMP:20091103T112054
DTSTART;TZID=America/Detroit:20091107T090000
SUMMARY:Exhibition:Parisa Ghaderi
DESCRIPTION:To me\, Design is a way to keep me alive and make me truly believe “I design\, so I am!”  Mostly taking on social issues\, I envision my work as a powerful weapon in dealing with challenges of the current civilized world. My greatest inspirations are among everything I see\, feel and experience.\n\nGraphic design fills me with a sense of accomplishment and integrity. It has proven to be the most amenable driving force for translating the inner vision to outer reality. Through my posters I can express my thoughts\, ideals\, joys\, and regrets to touch the mind and hearts of my fellow human beings. Having respected the true value of creativity\, I always tend to focus on novel ideas in order to make memorable and ever-lasting works of art. I adore simplicity and minimalism and this is well perceived from the direction I take in my works.\n\nI also enjoy photography -- framing everyday life\, traditions and beliefs. I do not seek to capture exceptionally rare moments and events\; to me\, every moment is unique and worth being read and seen many\, many times. I use my photography vision in my posters\, and enjoy the combination of photos with other forms of art. Through my works\, I'd like people to explore life as they never had before\, and to be more sensitive to minor happenings in its every aspect.  I am inspired by my beautiful country\, Iran\, and its rich culture. There still would be a lot more to explore and experience. Here\, I just framed a pixel of it!\n\n-Parisa Ghaderi
UID:2984-921877@events.umich.edu
URL:https://events.umich.edu/event/2984
CLASS:PUBLIC
STATUS:CONFIRMED
CATEGORIES:visual arts
LOCATION:Pierpont Commons - Wall Gallery &amp;amp; Piano Lounge
CONTACT:
END:VEVENT
BEGIN:VEVENT
DTSTAMP:20091022T143310
DTSTART;TZID=America/Detroit:20091107T090000
SUMMARY:Community Service:SERVE Sponsor-A-Family 2009 Registration Begins
DESCRIPTION:SERVE will be collaborating with Community Action Network (CAN) and Community  Leaning Post (CLP) in providing many local families with holiday gifts through our  SPONSOR-A-FAMILY project.\n\nCommunity Action Network (CAN) and Community Leaning Post (CLP) are  organizations in Washtenaw County that provide various services to low-income  families.\n\nRegister by going to the website and your group will receive a wish list of the family  or child that you will be sponsoring in November.\n\n**Please be advised that SPONSOR-A-FAMILY requires that  organizations/individuals spend a minimum of $50 on each sponsored person.  Smaller groups do have the option to sponsor an individual rather than an entire  family. Individuals may include children or male and/or females heads of  households
UID:1609-915451@events.umich.edu
URL:https://events.umich.edu/event/1609
CLASS:PUBLIC
STATUS:CONFIRMED
CATEGORIES:social justice
LOCATION:
CONTACT:
END:VEVENT
BEGIN:VEVENT
DTSTAMP:20101111T175644
DTSTART;TZID=America/Detroit:20091107T090000
DTEND;TZID=America/Detroit:20091107T170000
SUMMARY:Exhibition:Takeshi Takahara \"The Four Corners\" (Printmaking exhibit)
DESCRIPTION:Artist's reception takes place from 5:00-7:00 on Friday October 23.  Come to the  Residential College Art Gallery in East Quad to experience the printmaking works by  Takeshi Takahara.
UID:851-912619@events.umich.edu
URL:https://events.umich.edu/event/851
CLASS:PUBLIC
STATUS:CONFIRMED
CATEGORIES:visual arts
LOCATION:East Quadrangle - RC Art Gallery
CONTACT:
END:VEVENT
BEGIN:VEVENT
DTSTAMP:20101111T175638
DTSTART;TZID=America/Detroit:20091107T100000
SUMMARY:Exhibition:(Un)Natural History: The Museum Unveiled
DESCRIPTION:September 12 through December 6\, 2009\n\nRichard Barnes's series of photographs Animal Logic examines the role the museum plays in our understanding of ourselves through the acts of collecting\, preservation\, and display. Images from this large body of work include photographs of the collections from the Smithsonian Institution\, the Museum of Comparative Anatomy in Paris\, the Canadian Museum of Natural History\, and the San Francisco Academy of Science. (Un)Natural History focuses primarily on the natural history museum and by extension collecting institutions in general\, providing a kind of behind-the-scenes look at museum practice and display.\n\nThis exhibition will coincide with the UM LSA Theme Semester Meaningful Objects: Museums and the Academy. UMMA's presentation is projected to serve as part of a three-venue project highlighting different aspects of Barnes's work in partnership with the UM Institute for the Humanities–who have selected Richard Barnes as the Paula and Edwin Sidman Fellow in the Arts for 2009–and the Cranbrook Institute of Science in Bloomfield Hills\, Michigan.
UID:648-912301@events.umich.edu
URL:https://events.umich.edu/event/648
CLASS:PUBLIC
STATUS:CONFIRMED
CATEGORIES:visual arts
LOCATION:Museum of Art
CONTACT:
END:VEVENT
BEGIN:VEVENT
DTSTAMP:20101111T175806
DTSTART;TZID=America/Detroit:20091107T100000
DTEND;TZID=America/Detroit:20091107T163000
SUMMARY:Other:Apples Peas & Pumpkin Pie: Where on Earth Does Our Food Come From?
DESCRIPTION:Where do we get chocolate and bananas? What do potatoes\, carrots\, and onions  have in common? How do you grind wheat to make spaghetti? And can you really  play with your food? Get the answers to all these questions and more in an  interactive fall exhibit and display at in the Conservatory at Matthaei Botanical  Gardens. Exhibit features stations such as seeds\, roots\, and fruits where children  can grind their own flour and learn about nuts and edible fruits and vegetables\;  apple tasting\; create-a-menu activities\; and a mum\, pumpkin\, and gourd display.  Through Nov. 29. For more information call 734-647-7600
UID:2102-918133@events.umich.edu
URL:https://events.umich.edu/event/2102
CLASS:PUBLIC
STATUS:CONFIRMED
CATEGORIES:
LOCATION:
CONTACT:
END:VEVENT
BEGIN:VEVENT
DTSTAMP:20090708T120930
DTSTART;TZID=America/Detroit:20091107T100000
SUMMARY:Exhibition:The Lens of Impressionism
DESCRIPTION:October 10\, 2009 through January 3\, 2010\n\nThis exhibition advances a new argument for the origins of what was called “the new painting\,” namely that a unique convergence of forces–social\, artistic\, technological\, and commercial–along the Normandy coast of France dramatically transformed the course of photography and painting (as well as of the region itself). Within this framework\, the invention of the camera and the development of early fine art photography in that particular setting will be seen as the specific catalysts that brought about a new approach to painting.\n\nThe project will showcase paintings\, photographs\, and drawings by some of the most treasured artists in the Western canon–Gustave Courbet\, Edouard Manet\, Edgar Degas\, and Claude Monet among them–as well as pioneering photographers such as Gustave Le Gray and Henri Le Secq. Inspired by the scenic Normandy coast of France\, these works–including representations of beach scenes\, seascapes\, fishing villages\, resorts\, and the region's pastoral beauty–will be brought together with archival materials related to early tourism and regional expressions of French nationalism from popular culture for an innovative examination of the impact of the then-new medium of photography on ideas of image making\, the recording of passing time\, the capacities of painting\, and the rise of Impressionism itself.\n\nOrganized by UMMA\, this exhibition is made possible in part by the Florence Gould Foundation\, the National Endowment for the Arts\, Masco Corporation\, and the University of Michigan's Office of the Provost and Office of the Vice President for Research. Additional support has been provided by the family of Raymond F. Cunningham in his memory. Following its showing in Ann Arbor\, the exhibition will travel to the Dallas Museum of Art.
UID:2436-919901@events.umich.edu
URL:https://events.umich.edu/event/2436
CLASS:PUBLIC
STATUS:CONFIRMED
CATEGORIES:visual arts
LOCATION:Museum of Art
CONTACT:
END:VEVENT
BEGIN:VEVENT
DTSTAMP:20101111T175853
DTSTART;TZID=America/Detroit:20091107T130000
DTEND;TZID=America/Detroit:20091107T170000
SUMMARY:Workshop / Seminar:Introduction to Final Cut Pro and the Digital Media Commons  Multimedia Rooms
DESCRIPTION:This hands-on orientation will introduce participants to the video editing suites available from the Digital Media Commons at the Duderstadt Center. The training will cover key concepts and functions of the Final Cut Pro software and supporting hardware including configuring\, digitizing\, editing\, creating titles\, applying effects\, batch digitizing\, media management and outputting back to tape.  The Multimedia Rooms also support the following software:  Adobe Premier\, Adobe After Effects\, Adobe Photoshop\, Flash\, DVD Studio Pro\, Motion\, Color\, Soundtrack\, Imovie\, IDVD  and other media manipulation tools. The Digital Media Commons Multimedia Rooms have been designed to be easy to use. After demonstrating appropriate use of equipment\, participants will be authorized to reserve editing suites.
UID:2727-921068@events.umich.edu
URL:https://events.umich.edu/event/2727
CLASS:PUBLIC
STATUS:CONFIRMED
CATEGORIES:
LOCATION:Duderstadt Center - 3336
CONTACT:
END:VEVENT
BEGIN:VEVENT
DTSTAMP:20091107T030002
DTSTART;TZID=America/Detroit:20091107T170000
SUMMARY:Other:Masters Recital:  Dina Neglia\, violin
DESCRIPTION:PROGRAM:  J.S. Bach - Partita No. 1 in B Minor\; Ben-Haim - Sonata in G Major\; Brahms - Violin Sonata No. 1 in G Major
UID:1332-914962@events.umich.edu
URL:https://events.umich.edu/event/1332
CLASS:PUBLIC
STATUS:CONFIRMED
CATEGORIES:music
LOCATION:Earl V. Moore Building - Britton Recital Hall
CONTACT:
END:VEVENT
BEGIN:VEVENT
DTSTAMP:20101111T175805
DTSTART;TZID=America/Detroit:20091107T190000
SUMMARY:Performance:Wizard of Oz
DESCRIPTION:The Wizard of Oz Musical Theater Production by Young People ages 5-17.
UID:2085-918110@events.umich.edu
URL:https://events.umich.edu/event/2085
CLASS:PUBLIC
STATUS:CONFIRMED
CATEGORIES:music,theater
LOCATION:Lydia Mendelssohn Theatre
CONTACT:
END:VEVENT
BEGIN:VEVENT
DTSTAMP:20101111T175726
DTSTART;TZID=America/Detroit:20091107T200000
SUMMARY:Performance:Greg Brown
DESCRIPTION:Greg Brown's mother played electric guitar\, his grandfather played banjo\, and his  father was a Holy Roller preacher in the Hacklebarney section of Iowa. Maybe that  last item explains some of his amazing charisma! Greg's first professional singing  job came at age 18 in New York City\, running hootenannies at the legendary Gerdes  Folk City. After a year\, he moved west to Los Angeles and Las Vegas\, where he was  a ghostwriter for Buck Ram of the Platters. Over three decades on the road\, Greg  has developed into the essential Midwestern songwriter\, with a deep feeling for what  makes people and communities hang together. He's a compelling performer\, aware  that in folk music less is usually more and that the intimate musical detail  communicates as well as the grand gesture. It's been a while since we've seen Greg  Brown in southeastern Michigan\, so this could be a very scarce ticket!
UID:1547-915344@events.umich.edu
URL:https://events.umich.edu/event/1547
CLASS:PUBLIC
STATUS:CONFIRMED
CATEGORIES:music
LOCATION:
CONTACT:
END:VEVENT
BEGIN:VEVENT
DTSTAMP:20101111T175613
DTSTART;TZID=America/Detroit:20091107T200000
SUMMARY:Performance:Katinka
DESCRIPTION:Concert performance of rare operetta.
UID:168-910089@events.umich.edu
URL:https://events.umich.edu/event/168
CLASS:PUBLIC
STATUS:CONFIRMED
CATEGORIES:theater,music
LOCATION:
CONTACT:
END:VEVENT
BEGIN:VEVENT
DTSTAMP:20101111T175613
DTSTART;TZID=America/Detroit:20091107T200000
SUMMARY:Performance:Michigan A Cappella Presents: 10th Annual MACFest
DESCRIPTION:Michigan A Cappella's 10th annual a cappella showcase-MACFest.
UID:188-910110@events.umich.edu
URL:https://events.umich.edu/event/188
CLASS:PUBLIC
STATUS:CONFIRMED
CATEGORIES:music
LOCATION:Rackham Graduate School (Horace H.) - Auditorium
CONTACT:
END:VEVENT
BEGIN:VEVENT
DTSTAMP:20091107T030002
DTSTART;TZID=America/Detroit:20091107T200000
SUMMARY:Other:Senior Recital:  Marta Bagratuni\, cello
DESCRIPTION:PROGRAM:  Beethoven - Sonata for cello and piano No. 4 in C Major\, Op. 102\, No. 1\; Khudoyan - Sonata for Cello Solo No. 1\; Rachmaninoff - The Lilacs Op. 21 No. 5\, Loneliness Op. 21 No. 6\, The Daisies Op. 38 No. 3\; Otaka - Mieso\; Haydn - Divertimento
UID:52-909887@events.umich.edu
URL:https://events.umich.edu/event/52
CLASS:PUBLIC
STATUS:CONFIRMED
CATEGORIES:music
LOCATION:Earl V. Moore Building - Britton Recital Hall
CONTACT:
END:VEVENT
BEGIN:VEVENT
DTSTAMP:20091107T030002
DTSTART;TZID=America/Detroit:20091107T200000
SUMMARY:Other:STMD at UMMA:  Debussy’s Musique a moi
DESCRIPTION:Claude Debussy's search for immediate\, evocative sounds removed from musical tradition has much in common with that of the Impressionists.  Ambivalent about the label for himself\, Debussy's oeuvre can only at times be understood as sharing an impressionist aesthetic.  This program examines Debussy's journey toward his “musique Ã  moi\,” from the celebrated early string quartet\, through the well-known Prélude Ã  l'après-midi d'un faune\, to less familiar works: Deux danses\, juxtaposing Debussy's eastern and medieval influences\; Cinq Poèmes de Baudelaire\, his most Wagnerian in style\; and Trois Poèmes de Mallarmé\, among his very last works.  Ranging in forces from solo vocal to choral and orchestral\, the program features SMTD students with performance faculty Amy Porter\, flute\, and Caroline Helton\, soprano\, and alumni Amy Ley\, harp\, Jennifer Goltz\, soprano\, and Rachel Lauber\, conductor.
UID:1276-914163@events.umich.edu
URL:https://events.umich.edu/event/1276
CLASS:PUBLIC
STATUS:CONFIRMED
CATEGORIES:music
LOCATION:Museum of Art -  
CONTACT:
END:VEVENT
END:VCALENDAR