BEGIN:VCALENDAR
VERSION:2.0
PRODID:-//UM//UM*Events//EN
CALSCALE:GREGORIAN
BEGIN:VTIMEZONE
TZID:America/Detroit
TZURL:http://tzurl.org/zoneinfo/America/Detroit
X-LIC-LOCATION:America/Detroit
BEGIN:DAYLIGHT
TZOFFSETFROM:-0500
TZOFFSETTO:-0400
TZNAME:EDT
DTSTART:20070311T020000
RRULE:FREQ=YEARLY;BYMONTH=3;BYDAY=2SU
END:DAYLIGHT
BEGIN:STANDARD
TZOFFSETFROM:-0400
TZOFFSETTO:-0500
TZNAME:EST
DTSTART:20071104T020000
RRULE:FREQ=YEARLY;BYMONTH=11;BYDAY=1SU
END:STANDARD
END:VTIMEZONE
BEGIN:VEVENT
DTSTAMP:20101111T175755
DTSTART;TZID=America/Detroit:20091111T000000
SUMMARY:Exhibition:Exhibit
DESCRIPTION:Economic crises on an international scale are not new\, and President Ford inherited a tough one in 1974. A new exhibit at the Ford Library in Ann Arbor shows how he attacked a troubling brew of inflation\, recession\, budget deficits and oil supply worries. This exhibit features rarely seen artifacts and archival materials from the Ford Library and Museum collections.
UID:3853-917294@events.umich.edu
URL:https://events.umich.edu/event/3853
CLASS:PUBLIC
STATUS:CONFIRMED
CATEGORIES:
LOCATION:Gerald Ford Library
CONTACT:
END:VEVENT
BEGIN:VEVENT
DTSTAMP:20101111T175620
DTSTART;TZID=America/Detroit:20091111T000000
SUMMARY:Exhibition:Permanent Exhibits at the Exhibit Museum of Natural History
DESCRIPTION:The Hall of Evolution houses Michigan's largest display of prehistoric life. More than 600 million years of life on Earth are traced through fossils\, models and dioramas. The Michigan Wildlife Gallery has a large collection of native Great Lakes birds\, mammals\, reptiles\, and amphibians\, with taxidermy mounts\, habitat scenes\, and the largest mastodon trackway on display in the world. There are also displays about some of the environmental problems faced in this region today. The Anthropology Displays feature artifacts from human cultures around the world. The Geology Displays on the fourth floor offer a large selection of rocks\, minerals and gems. These displays are updated periodically. For more information go to www.lsa.umich.edu/exhibitmuseum/exhibits/permexhibits or call 734-764-0480.
UID:452-910762@events.umich.edu
URL:https://events.umich.edu/event/452
CLASS:PUBLIC
STATUS:CONFIRMED
CATEGORIES:
LOCATION:Ruthven Museums Building
CONTACT:
END:VEVENT
BEGIN:VEVENT
DTSTAMP:20101111T175759
DTSTART;TZID=America/Detroit:20091111T080000
DTEND;TZID=America/Detroit:20091111T170000
SUMMARY:Exhibition:History of Dentistry exhibits at the Sindecuse Museum of Dentistry
DESCRIPTION:Exhibits at the Sindecuse Museum of Dentistry include Dental Operatories of the 1860s to 1930s\, St. Apollonia-Patron Saint of Dentistry and more. Call 763-0767 or go to www.dent.umich.edu/museum for more information.
UID:3856-917633@events.umich.edu
URL:https://events.umich.edu/event/3856
CLASS:PUBLIC
STATUS:CONFIRMED
CATEGORIES:
LOCATION:Dental & W.K. Kellogg Institute
CONTACT:
END:VEVENT
BEGIN:VEVENT
DTSTAMP:20101111T175733
DTSTART;TZID=America/Detroit:20091111T080000
DTEND;TZID=America/Detroit:20091111T170000
SUMMARY:Exhibition:Secrets of the Garden
DESCRIPTION:These images were taken without a camera. Ponvert places her subjects directly on a digital scanner and then alters them in Photoshop. The images in this exhibit were taken over the past three years from subjects in her garden in Ann Arbor\, Michigan. Her work has been shown at the Kerrytown Concert House\, and her garden was chosen to be on the Ann Arbor Women's Farm and Garden Walk in 2008.
UID:3843-915855@events.umich.edu
URL:https://events.umich.edu/event/3843
CLASS:PUBLIC
STATUS:CONFIRMED
CATEGORIES:
LOCATION:Cancer Center - Level 1
CONTACT:
END:VEVENT
BEGIN:VEVENT
DTSTAMP:20101111T175821
DTSTART;TZID=America/Detroit:20091111T080000
SUMMARY:Exhibition:SOMEONE TALKED!
DESCRIPTION:North Lobby\, First Floor\, Harlan Hatcher Graduate Library Exhibit: \"SOMEONE TALKED! World War II Posters from the University of Michigan Library\"
UID:2482-919166@events.umich.edu
URL:https://events.umich.edu/event/2482
CLASS:PUBLIC
STATUS:CONFIRMED
CATEGORIES:visual arts
LOCATION:Hatcher Graduate Library - North Lobby
CONTACT:
END:VEVENT
BEGIN:VEVENT
DTSTAMP:20091026T140034
DTSTART;TZID=America/Detroit:20091111T080000
SUMMARY:Exhibition:UNITED WE WIN: The University of Michigan During World War II
DESCRIPTION:Library Gallery\, First Floor\, Harlan Hatcher Graduate Library \"UNITED WE WIN: The University of Michigan During World War II\,\" an exhibit of photographs\, posters\, and other materials from the collections of the University of Michigan Library and the Bentley Historical Library
UID:1683-915615@events.umich.edu
URL:https://events.umich.edu/event/1683
CLASS:PUBLIC
STATUS:CONFIRMED
CATEGORIES:visual arts
LOCATION:Hatcher Graduate Library - Library Gallery
CONTACT:
END:VEVENT
BEGIN:VEVENT
DTSTAMP:20101111T175651
DTSTART;TZID=America/Detroit:20091111T080000
DTEND;TZID=America/Detroit:20091111T170000
SUMMARY:Exhibition:Wearable Art
DESCRIPTION:U-M School of Art & Design alumna Furtado started as a weaver over 30 years ago\, working on a loom. She is now engaged in a variety of activities as she produces her line of wearable art. Handweaving\, felting\, dyeing and beading are common tools of her trade. Lately\, she has been exploring Nuno felting\, a Japanese technique which combines wool felt with silk fabric. One of her dyeing techniques is a resist process involving clamping and applying dye in multiple steps\, creating a multiple-color\, multiple-shape design.
UID:3819-913023@events.umich.edu
URL:https://events.umich.edu/event/3819
CLASS:PUBLIC
STATUS:CONFIRMED
CATEGORIES:
LOCATION:Cancer Center - Main Lobby, Level B2
CONTACT:
END:VEVENT
BEGIN:VEVENT
DTSTAMP:20090722T143534
DTSTART;TZID=America/Detroit:20091111T090000
DTEND;TZID=America/Detroit:20091111T170000
SUMMARY:Exhibition:Ida: Darwinius masillae
DESCRIPTION:\"Ida\,\" a new exhibit in the Exhibit Museum's Rotunda\, displays a high-resolution cast of an extremely rare  fossil discovered in 1983 near Messel\, Germany\, but only recently made available for study. The fossil has  proven to be a “link” between the prosimian and simian (\"anthropoid\") primate lineages. It has \"advanced\"  front teeth (incisors and canines) and second toes like those of monkeys\, and is broadly representative of what  human primate ancestors may have looked like during the Eocene epoch 47 million years ago.     Ida (prounded \"eeda\") is named after after the daughter of Dr JÃ¸rn Hurum\, the Norwegian vertebrate  paleontologist who secured one section of the fossil from an anonymous owner\, and led the research. Ida was  about eight months old\, or the equivalent of a six-year-old human.     Publication of a paper on the discovery was accompanied by a book\, The Link: Uncovering Our Earliest  Ancestors by Colin Tudge\, and a documentary shown on the History Channel (US)\, BBC One (UK)\,and various  stations in Germany and Norway.     U-M paleontologist Philip Gingerich and U-M anthropologist B. Holly Smith were two members of the \"dream  team\" invited to study Ida. The exhibit will be on display through May 2010.
UID:2124-918377@events.umich.edu
URL:https://events.umich.edu/event/2124
CLASS:PUBLIC
STATUS:CONFIRMED
CATEGORIES:welcome week,visual arts,multicultural
LOCATION:
CONTACT:
END:VEVENT
BEGIN:VEVENT
DTSTAMP:20091103T112054
DTSTART;TZID=America/Detroit:20091111T090000
SUMMARY:Exhibition:Parisa Ghaderi
DESCRIPTION:To me\, Design is a way to keep me alive and make me truly believe “I design\, so I am!”  Mostly taking on social issues\, I envision my work as a powerful weapon in dealing with challenges of the current civilized world. My greatest inspirations are among everything I see\, feel and experience.\n\nGraphic design fills me with a sense of accomplishment and integrity. It has proven to be the most amenable driving force for translating the inner vision to outer reality. Through my posters I can express my thoughts\, ideals\, joys\, and regrets to touch the mind and hearts of my fellow human beings. Having respected the true value of creativity\, I always tend to focus on novel ideas in order to make memorable and ever-lasting works of art. I adore simplicity and minimalism and this is well perceived from the direction I take in my works.\n\nI also enjoy photography -- framing everyday life\, traditions and beliefs. I do not seek to capture exceptionally rare moments and events\; to me\, every moment is unique and worth being read and seen many\, many times. I use my photography vision in my posters\, and enjoy the combination of photos with other forms of art. Through my works\, I'd like people to explore life as they never had before\, and to be more sensitive to minor happenings in its every aspect.  I am inspired by my beautiful country\, Iran\, and its rich culture. There still would be a lot more to explore and experience. Here\, I just framed a pixel of it!\n\n-Parisa Ghaderi
UID:2984-921881@events.umich.edu
URL:https://events.umich.edu/event/2984
CLASS:PUBLIC
STATUS:CONFIRMED
CATEGORIES:visual arts
LOCATION:Pierpont Commons - Wall Gallery &amp;amp; Piano Lounge
CONTACT:
END:VEVENT
BEGIN:VEVENT
DTSTAMP:20091022T143310
DTSTART;TZID=America/Detroit:20091111T090000
SUMMARY:Community Service:SERVE Sponsor-A-Family 2009 Registration Begins
DESCRIPTION:SERVE will be collaborating with Community Action Network (CAN) and Community  Leaning Post (CLP) in providing many local families with holiday gifts through our  SPONSOR-A-FAMILY project.\n\nCommunity Action Network (CAN) and Community Leaning Post (CLP) are  organizations in Washtenaw County that provide various services to low-income  families.\n\nRegister by going to the website and your group will receive a wish list of the family  or child that you will be sponsoring in November.\n\n**Please be advised that SPONSOR-A-FAMILY requires that  organizations/individuals spend a minimum of $50 on each sponsored person.  Smaller groups do have the option to sponsor an individual rather than an entire  family. Individuals may include children or male and/or females heads of  households
UID:1609-915455@events.umich.edu
URL:https://events.umich.edu/event/1609
CLASS:PUBLIC
STATUS:CONFIRMED
CATEGORIES:social justice
LOCATION:
CONTACT:
END:VEVENT
BEGIN:VEVENT
DTSTAMP:20101111T175644
DTSTART;TZID=America/Detroit:20091111T090000
DTEND;TZID=America/Detroit:20091111T170000
SUMMARY:Exhibition:Takeshi Takahara \"The Four Corners\" (Printmaking exhibit)
DESCRIPTION:Artist's reception takes place from 5:00-7:00 on Friday October 23.  Come to the  Residential College Art Gallery in East Quad to experience the printmaking works by  Takeshi Takahara.
UID:851-912623@events.umich.edu
URL:https://events.umich.edu/event/851
CLASS:PUBLIC
STATUS:CONFIRMED
CATEGORIES:visual arts
LOCATION:East Quadrangle - RC Art Gallery
CONTACT:
END:VEVENT
BEGIN:VEVENT
DTSTAMP:20101111T175638
DTSTART;TZID=America/Detroit:20091111T100000
SUMMARY:Exhibition:(Un)Natural History: The Museum Unveiled
DESCRIPTION:September 12 through December 6\, 2009\n\nRichard Barnes's series of photographs Animal Logic examines the role the museum plays in our understanding of ourselves through the acts of collecting\, preservation\, and display. Images from this large body of work include photographs of the collections from the Smithsonian Institution\, the Museum of Comparative Anatomy in Paris\, the Canadian Museum of Natural History\, and the San Francisco Academy of Science. (Un)Natural History focuses primarily on the natural history museum and by extension collecting institutions in general\, providing a kind of behind-the-scenes look at museum practice and display.\n\nThis exhibition will coincide with the UM LSA Theme Semester Meaningful Objects: Museums and the Academy. UMMA's presentation is projected to serve as part of a three-venue project highlighting different aspects of Barnes's work in partnership with the UM Institute for the Humanities–who have selected Richard Barnes as the Paula and Edwin Sidman Fellow in the Arts for 2009–and the Cranbrook Institute of Science in Bloomfield Hills\, Michigan.
UID:648-912305@events.umich.edu
URL:https://events.umich.edu/event/648
CLASS:PUBLIC
STATUS:CONFIRMED
CATEGORIES:visual arts
LOCATION:Museum of Art
CONTACT:
END:VEVENT
BEGIN:VEVENT
DTSTAMP:20101111T175806
DTSTART;TZID=America/Detroit:20091111T100000
DTEND;TZID=America/Detroit:20091111T163000
SUMMARY:Other:Apples Peas & Pumpkin Pie: Where on Earth Does Our Food Come From?
DESCRIPTION:Where do we get chocolate and bananas? What do potatoes\, carrots\, and onions  have in common? How do you grind wheat to make spaghetti? And can you really  play with your food? Get the answers to all these questions and more in an  interactive fall exhibit and display at in the Conservatory at Matthaei Botanical  Gardens. Exhibit features stations such as seeds\, roots\, and fruits where children  can grind their own flour and learn about nuts and edible fruits and vegetables\;  apple tasting\; create-a-menu activities\; and a mum\, pumpkin\, and gourd display.  Through Nov. 29. For more information call 734-647-7600
UID:2102-918136@events.umich.edu
URL:https://events.umich.edu/event/2102
CLASS:PUBLIC
STATUS:CONFIRMED
CATEGORIES:
LOCATION:
CONTACT:
END:VEVENT
BEGIN:VEVENT
DTSTAMP:20101111T175600
DTSTART;TZID=America/Detroit:20091111T100000
DTEND;TZID=America/Detroit:20091111T170000
SUMMARY:Exhibition:Stearns Collection of Music
DESCRIPTION:The Stearns Collection at the School of Music\, Theatre & Dance is one of six major collections of musical instruments in North America. The 2\,500-piece collection is internationally known and is a resource for musical and cultural education.
UID:3790-909150@events.umich.edu
URL:https://events.umich.edu/event/3790
CLASS:PUBLIC
STATUS:CONFIRMED
CATEGORIES:
LOCATION:Earl V. Moore Building
CONTACT:
END:VEVENT
BEGIN:VEVENT
DTSTAMP:20090708T120930
DTSTART;TZID=America/Detroit:20091111T100000
SUMMARY:Exhibition:The Lens of Impressionism
DESCRIPTION:October 10\, 2009 through January 3\, 2010\n\nThis exhibition advances a new argument for the origins of what was called “the new painting\,” namely that a unique convergence of forces–social\, artistic\, technological\, and commercial–along the Normandy coast of France dramatically transformed the course of photography and painting (as well as of the region itself). Within this framework\, the invention of the camera and the development of early fine art photography in that particular setting will be seen as the specific catalysts that brought about a new approach to painting.\n\nThe project will showcase paintings\, photographs\, and drawings by some of the most treasured artists in the Western canon–Gustave Courbet\, Edouard Manet\, Edgar Degas\, and Claude Monet among them–as well as pioneering photographers such as Gustave Le Gray and Henri Le Secq. Inspired by the scenic Normandy coast of France\, these works–including representations of beach scenes\, seascapes\, fishing villages\, resorts\, and the region's pastoral beauty–will be brought together with archival materials related to early tourism and regional expressions of French nationalism from popular culture for an innovative examination of the impact of the then-new medium of photography on ideas of image making\, the recording of passing time\, the capacities of painting\, and the rise of Impressionism itself.\n\nOrganized by UMMA\, this exhibition is made possible in part by the Florence Gould Foundation\, the National Endowment for the Arts\, Masco Corporation\, and the University of Michigan's Office of the Provost and Office of the Vice President for Research. Additional support has been provided by the family of Raymond F. Cunningham in his memory. Following its showing in Ann Arbor\, the exhibition will travel to the Dallas Museum of Art.
UID:2436-919905@events.umich.edu
URL:https://events.umich.edu/event/2436
CLASS:PUBLIC
STATUS:CONFIRMED
CATEGORIES:visual arts
LOCATION:Museum of Art
CONTACT:
END:VEVENT
BEGIN:VEVENT
DTSTAMP:20091111T030003
DTSTART;TZID=America/Detroit:20091111T121500
SUMMARY:Other:Brown Bag Organ Series:  Edward Maki-Schramm
DESCRIPTION:Thirty minutes of organ solo music performed by local musicians.  Bring lunch or purchase at the Crossroads Cafe.
UID:1310-914944@events.umich.edu
URL:https://events.umich.edu/event/1310
CLASS:PUBLIC
STATUS:CONFIRMED
CATEGORIES:music
LOCATION:School of Public Health Bldg I and Crossroads and Tower - Community Lounge
CONTACT:
END:VEVENT
BEGIN:VEVENT
DTSTAMP:20101111T175902
DTSTART;TZID=America/Detroit:20091111T160000
DTEND;TZID=America/Detroit:20091111T170000
SUMMARY:Workshop / Seminar:Finding Funding for Graduate Students: Identifying Grants for Fellowship & Dissertation Support
DESCRIPTION:This session will serve as an introduction to digital and other informational resources for graduate students seeking funding for their work. The session will cover how to formulate a search strategy and will introduce several key internet tools including the Community of Science database\, the Foundation Centers Foundation Directory Online database\, and other resources. The session is hands-on\, with time to do individualized searching with the Foundation and Grants Librarian.
UID:2882-921641@events.umich.edu
URL:https://events.umich.edu/event/2882
CLASS:PUBLIC
STATUS:CONFIRMED
CATEGORIES:
LOCATION:Shapiro Library - 4059
CONTACT:
END:VEVENT
BEGIN:VEVENT
DTSTAMP:20101111T175700
DTSTART;TZID=America/Detroit:20091111T160000
DTEND;TZID=America/Detroit:20091111T180000
SUMMARY:Workshop / Seminar:Using Word *2007* Effectively for Your Dissertation (for Windows Users)
DESCRIPTION:Cut time spent sitting at your computer toiling away at Microsoft Word! In this workshop\, youll learn how to use Word features effectively and efficiently\, including: creating a basic template\, inserting footnotes\, images and page numbers\, generating tables of contents and figures\; and more! Participants should have basic experience using MS Word. <b> Note this version of the workshop specifically uses Office 2007 (Windows).</b>
UID:1040-913702@events.umich.edu
URL:https://events.umich.edu/event/1040
CLASS:PUBLIC
STATUS:CONFIRMED
CATEGORIES:
LOCATION:Hatcher Graduate Library - 206
CONTACT:
END:VEVENT
BEGIN:VEVENT
DTSTAMP:20101111T175745
DTSTART;TZID=America/Detroit:20091111T173000
DTEND;TZID=America/Detroit:20091111T193000
SUMMARY:Lecture / Discussion:Science Café: Museums\, Parents\, and Science Education: What’s Next?
DESCRIPTION:At Conor O'Neill's Traditional Irish Pub\, 318 South Main Street\, Ann Arbor. Science education is crucial for citizens of the 21st century.  Can experiences at museums affect children's interest and achievement in science?  How can parents best use these community resources? On a policy level\, what can schools and museums do to raise the bar in science literacy\, for both children and adults? Join Professor Pamela Davis-Kean of the UM's Department of Psychology and the Institute for Social Research\, and Jon Miller\, the John A. Hannah Professor of Integrative Studies at Michigan State University.  Join us for hors d'oeuvres at 5:30 and a brief presentation at 6:00 pm\, followed by discussion.? Participants must be 21 to purchase alcoholic beverages.? Everyone is welcome and invited to purchase additional food and beverages.
UID:1777-916636@events.umich.edu
URL:https://events.umich.edu/event/1777
CLASS:PUBLIC
STATUS:CONFIRMED
CATEGORIES:
LOCATION:
CONTACT:
END:VEVENT
BEGIN:VEVENT
DTSTAMP:20101111T175737
DTSTART;TZID=America/Detroit:20091111T190000
DTEND;TZID=America/Detroit:20091111T213000
SUMMARY:Film Screening:MuJew Movie Night: Journey Into America
DESCRIPTION:MuJew will be hosting a movie night on Wednesday\, November 11th in Dennison\, room 213\, from 7-9:30pm. The movie we will be showing is called \"Journey Into America\". For more information about the movie\, please follow this link: http://newsweek.washingtonpost.com/onfaith/eboo_patel/2009/10/journey_into_america.html. Please plan on attending this event since it will be sponsored by MuJew and can be considered their first actual event of the 09-10 school year. I have been informed of the Jewish students who will be attending/who are interested in attending already and take comfort in knowing that they will be taking the time out of their day to watch a movie about what it is like to be a MUSLIM in America\; please take the time to come out and build some new friendships with our Jewish peers so that they can learn about the Muslim experience from your lips and not just a projector screen. Email Husnah Khan at husnahk@umich.edu  if you have any questions. Thanks! \n\n The movie is called Journey Into America (Akber Ahmed's film). MuJew is putting on this film as part of a nationwide Muslim Film Festival put on by Project Nur. Project Nur (\"PN\") is a \"new light on campus\" that creates a distinct and alternative Muslim voice: a civic identity grounded in pluralism and moderate thinking and action\, one that dispels the perception of a monolithic Muslim voice.  PN is a student-led initiative of the American Islamic Congress which was created after 9/11 as a non-religious\, civic initiative challenging increasingly negative perceptions of Muslims by advocating responsible leadership and understanding.  PN emphasizes civic action\, and does so with the goal of forging a cohesive and mutually respectful multicultural community. It is PN's belief that only in taking action with different people\, addressing issues affecting all humans\, do we truly come to understand the meaning and reality of co-existence.  As such\, PN is a multi-cultural and diverse community of civic-minded university students who are committed towards the advancement of human rights\, civil rights\, social justice\, tolerance\, understanding\, and co-existence.  For more information about PN\, see our website at www.projectnur.org.
UID:1535-916058@events.umich.edu
URL:https://events.umich.edu/event/1535
CLASS:PUBLIC
STATUS:CONFIRMED
CATEGORIES:
LOCATION:Weiser Hall - 213
CONTACT:
END:VEVENT
BEGIN:VEVENT
DTSTAMP:20091026T134947
DTSTART;TZID=America/Detroit:20091111T190000
SUMMARY:Performance:SOMEONE TALKED! MEMORIES OF WORLD WAR II
DESCRIPTION:Library Gallery\, First Floor\, Harlan Hatcher Graduate Library CD release party celebrating \"SOMEONE TALKED! MEMORIES OF WORLD WAR II\" featuring Joan Morris\, mezzo-soprano\; Robert White\, tenor\; William Bolcom\, piano\; and Hazen Schumacher\, narrator\; with a special appearance by students from Joan Morris's Cabaret Performance class.  The performers will offer a generous sampling of songs from the CD.
UID:2319-918842@events.umich.edu
URL:https://events.umich.edu/event/2319
CLASS:PUBLIC
STATUS:CONFIRMED
CATEGORIES:music
LOCATION:Hatcher Graduate Library - Library Gallery
CONTACT:
END:VEVENT
BEGIN:VEVENT
DTSTAMP:20101111T175726
DTSTART;TZID=America/Detroit:20091111T193000
SUMMARY:Performance:Keb Mo
DESCRIPTION:Keb' Mo' is a true creative force\, a charismatic musician who never stops exploring  and has the gift of bringing audiences along with him on his musical journey. His  music is always new\, but it also has the classic blues function of bringing comfort  and hope in a difficult world. The blues\, for Keb' Mo'\, is a healing power\, and a path  of creative renewal.
UID:1525-915323@events.umich.edu
URL:https://events.umich.edu/event/1525
CLASS:PUBLIC
STATUS:CONFIRMED
CATEGORIES:music
LOCATION:
CONTACT:
END:VEVENT
BEGIN:VEVENT
DTSTAMP:20091111T030003
DTSTART;TZID=America/Detroit:20091111T200000
SUMMARY:Other:Campus Symphony Orchestra
DESCRIPTION:Yaniv Dinur and Yaniv Segal\, graduate student conductors.  PROGRAM:  Elgar - Cello Concerto  Adrienne Cheng\, Winner CSO Concerto Competition\; Shostakovich - Symphony No. 5
UID:2357-918956@events.umich.edu
URL:https://events.umich.edu/event/2357
CLASS:PUBLIC
STATUS:CONFIRMED
CATEGORIES:music
LOCATION:Hill Auditorium -  
CONTACT:
END:VEVENT
BEGIN:VEVENT
DTSTAMP:20091111T030003
DTSTART;TZID=America/Detroit:20091111T200000
SUMMARY:Other:Guest Recital: Fujii Marimba Trio
DESCRIPTION:Mustuko Fujii is widely recognized in Japan as one the leading proponents of the marimba. She has performed and held master classes in Japan\, China\, Indonesia\, Germany\, the United States\, and the Netherlands. Mutsuko teaches at the Senzoku Gakuen in Tokyo and serves as Vice-Chairman of Japan Total Music Institute. Haruka Fujii uses New York City as the base for her international multi-percussion career. She frequently collaborates with Tan Dun by performing his percussion concerti and operas across the world. She has appeared as soloist with major orchestras including Munich\, Sydney\, Lyon\, Hong Kong\, and the Metropolitan Opera. Rika Fujii is an active percussionist in Tokyo. She performs frequently in theatrical and orchestral settings as well as being heavily involved in Taiko drumming. Rika is a graduate of Toho Gakuen where she was a student of Keiko Abe.
UID:718-911368@events.umich.edu
URL:https://events.umich.edu/event/718
CLASS:PUBLIC
STATUS:CONFIRMED
CATEGORIES:music
LOCATION:Earl V. Moore Building - Britton Recital Hall
CONTACT:
END:VEVENT
BEGIN:VEVENT
DTSTAMP:20091111T030003
DTSTART;TZID=America/Detroit:20091111T200000
SUMMARY:Other:Student Harpsichord Recital
DESCRIPTION:Students of Professor Edward Parmentier.
UID:1741-916567@events.umich.edu
URL:https://events.umich.edu/event/1741
CLASS:PUBLIC
STATUS:CONFIRMED
CATEGORIES:music
LOCATION:Earl V. Moore Building - Blanche Anderson Moore Hall
CONTACT:
END:VEVENT
BEGIN:VEVENT
DTSTAMP:20090924T150751
DTSTART;TZID=America/Detroit:20091111T220000
DTEND;TZID=America/Detroit:20091111T010000
SUMMARY:Sporting Event:Hillel Ice Hockey Game
DESCRIPTION:The Hillel Ice Hockey Team kicks off its season Wednesday\, September 30 with a 10:00PM game against the Ice Elephants. Come cheer on Hillel at the Ann Arbor Ice Cube.
UID:2164-918521@events.umich.edu
URL:https://events.umich.edu/event/2164
CLASS:PUBLIC
STATUS:CONFIRMED
CATEGORIES:
LOCATION:
CONTACT:
END:VEVENT
END:VCALENDAR