BEGIN:VCALENDAR
VERSION:2.0
PRODID:-//UM//UM*Events//EN
CALSCALE:GREGORIAN
BEGIN:VTIMEZONE
TZID:America/Detroit
TZURL:http://tzurl.org/zoneinfo/America/Detroit
X-LIC-LOCATION:America/Detroit
BEGIN:DAYLIGHT
TZOFFSETFROM:-0500
TZOFFSETTO:-0400
TZNAME:EDT
DTSTART:20070311T020000
RRULE:FREQ=YEARLY;BYMONTH=3;BYDAY=2SU
END:DAYLIGHT
BEGIN:STANDARD
TZOFFSETFROM:-0400
TZOFFSETTO:-0500
TZNAME:EST
DTSTART:20071104T020000
RRULE:FREQ=YEARLY;BYMONTH=11;BYDAY=1SU
END:STANDARD
END:VTIMEZONE
BEGIN:VEVENT
DTSTAMP:20101111T175755
DTSTART;TZID=America/Detroit:20091112T000000
SUMMARY:Exhibition:Exhibit
DESCRIPTION:Economic crises on an international scale are not new\, and President Ford inherited a tough one in 1974. A new exhibit at the Ford Library in Ann Arbor shows how he attacked a troubling brew of inflation\, recession\, budget deficits and oil supply worries. This exhibit features rarely seen artifacts and archival materials from the Ford Library and Museum collections.
UID:3853-917295@events.umich.edu
URL:https://events.umich.edu/event/3853
CLASS:PUBLIC
STATUS:CONFIRMED
CATEGORIES:
LOCATION:Gerald Ford Library
CONTACT:
END:VEVENT
BEGIN:VEVENT
DTSTAMP:20101111T175751
DTSTART;TZID=America/Detroit:20091112T000000
SUMMARY:Exhibition:Exhibit
DESCRIPTION:Permanent lobby exhibits present the stories of President Gerald Ford and First Lady Betty Ford through archival photos and documents.
UID:2023-917040@events.umich.edu
URL:https://events.umich.edu/event/2023
CLASS:PUBLIC
STATUS:CONFIRMED
CATEGORIES:
LOCATION:Gerald Ford Library
CONTACT:
END:VEVENT
BEGIN:VEVENT
DTSTAMP:20101111T175620
DTSTART;TZID=America/Detroit:20091112T000000
SUMMARY:Exhibition:Permanent Exhibits at the Exhibit Museum of Natural History
DESCRIPTION:The Hall of Evolution houses Michigan's largest display of prehistoric life. More than 600 million years of life on Earth are traced through fossils\, models and dioramas. The Michigan Wildlife Gallery has a large collection of native Great Lakes birds\, mammals\, reptiles\, and amphibians\, with taxidermy mounts\, habitat scenes\, and the largest mastodon trackway on display in the world. There are also displays about some of the environmental problems faced in this region today. The Anthropology Displays feature artifacts from human cultures around the world. The Geology Displays on the fourth floor offer a large selection of rocks\, minerals and gems. These displays are updated periodically. For more information go to www.lsa.umich.edu/exhibitmuseum/exhibits/permexhibits or call 734-764-0480.
UID:452-910763@events.umich.edu
URL:https://events.umich.edu/event/452
CLASS:PUBLIC
STATUS:CONFIRMED
CATEGORIES:
LOCATION:Ruthven Museums Building
CONTACT:
END:VEVENT
BEGIN:VEVENT
DTSTAMP:20101111T175759
DTSTART;TZID=America/Detroit:20091112T080000
DTEND;TZID=America/Detroit:20091112T170000
SUMMARY:Exhibition:History of Dentistry exhibits at the Sindecuse Museum of Dentistry
DESCRIPTION:Exhibits at the Sindecuse Museum of Dentistry include Dental Operatories of the 1860s to 1930s\, St. Apollonia-Patron Saint of Dentistry and more. Call 763-0767 or go to www.dent.umich.edu/museum for more information.
UID:3856-917634@events.umich.edu
URL:https://events.umich.edu/event/3856
CLASS:PUBLIC
STATUS:CONFIRMED
CATEGORIES:
LOCATION:Dental & W.K. Kellogg Institute
CONTACT:
END:VEVENT
BEGIN:VEVENT
DTSTAMP:20101111T175733
DTSTART;TZID=America/Detroit:20091112T080000
DTEND;TZID=America/Detroit:20091112T170000
SUMMARY:Exhibition:Secrets of the Garden
DESCRIPTION:These images were taken without a camera. Ponvert places her subjects directly on a digital scanner and then alters them in Photoshop. The images in this exhibit were taken over the past three years from subjects in her garden in Ann Arbor\, Michigan. Her work has been shown at the Kerrytown Concert House\, and her garden was chosen to be on the Ann Arbor Women's Farm and Garden Walk in 2008.
UID:3843-915856@events.umich.edu
URL:https://events.umich.edu/event/3843
CLASS:PUBLIC
STATUS:CONFIRMED
CATEGORIES:
LOCATION:Cancer Center - Level 1
CONTACT:
END:VEVENT
BEGIN:VEVENT
DTSTAMP:20101111T175821
DTSTART;TZID=America/Detroit:20091112T080000
SUMMARY:Exhibition:SOMEONE TALKED!
DESCRIPTION:North Lobby\, First Floor\, Harlan Hatcher Graduate Library Exhibit: \"SOMEONE TALKED! World War II Posters from the University of Michigan Library\"
UID:2482-919167@events.umich.edu
URL:https://events.umich.edu/event/2482
CLASS:PUBLIC
STATUS:CONFIRMED
CATEGORIES:visual arts
LOCATION:Hatcher Graduate Library - North Lobby
CONTACT:
END:VEVENT
BEGIN:VEVENT
DTSTAMP:20091026T140034
DTSTART;TZID=America/Detroit:20091112T080000
SUMMARY:Exhibition:UNITED WE WIN: The University of Michigan During World War II
DESCRIPTION:Library Gallery\, First Floor\, Harlan Hatcher Graduate Library \"UNITED WE WIN: The University of Michigan During World War II\,\" an exhibit of photographs\, posters\, and other materials from the collections of the University of Michigan Library and the Bentley Historical Library
UID:1683-915616@events.umich.edu
URL:https://events.umich.edu/event/1683
CLASS:PUBLIC
STATUS:CONFIRMED
CATEGORIES:visual arts
LOCATION:Hatcher Graduate Library - Library Gallery
CONTACT:
END:VEVENT
BEGIN:VEVENT
DTSTAMP:20101111T175651
DTSTART;TZID=America/Detroit:20091112T080000
DTEND;TZID=America/Detroit:20091112T170000
SUMMARY:Exhibition:Wearable Art
DESCRIPTION:U-M School of Art & Design alumna Furtado started as a weaver over 30 years ago\, working on a loom. She is now engaged in a variety of activities as she produces her line of wearable art. Handweaving\, felting\, dyeing and beading are common tools of her trade. Lately\, she has been exploring Nuno felting\, a Japanese technique which combines wool felt with silk fabric. One of her dyeing techniques is a resist process involving clamping and applying dye in multiple steps\, creating a multiple-color\, multiple-shape design.
UID:3819-913024@events.umich.edu
URL:https://events.umich.edu/event/3819
CLASS:PUBLIC
STATUS:CONFIRMED
CATEGORIES:
LOCATION:Cancer Center - Main Lobby, Level B2
CONTACT:
END:VEVENT
BEGIN:VEVENT
DTSTAMP:20090722T143534
DTSTART;TZID=America/Detroit:20091112T090000
DTEND;TZID=America/Detroit:20091112T170000
SUMMARY:Exhibition:Ida: Darwinius masillae
DESCRIPTION:\"Ida\,\" a new exhibit in the Exhibit Museum's Rotunda\, displays a high-resolution cast of an extremely rare  fossil discovered in 1983 near Messel\, Germany\, but only recently made available for study. The fossil has  proven to be a “link” between the prosimian and simian (\"anthropoid\") primate lineages. It has \"advanced\"  front teeth (incisors and canines) and second toes like those of monkeys\, and is broadly representative of what  human primate ancestors may have looked like during the Eocene epoch 47 million years ago.     Ida (prounded \"eeda\") is named after after the daughter of Dr JÃ¸rn Hurum\, the Norwegian vertebrate  paleontologist who secured one section of the fossil from an anonymous owner\, and led the research. Ida was  about eight months old\, or the equivalent of a six-year-old human.     Publication of a paper on the discovery was accompanied by a book\, The Link: Uncovering Our Earliest  Ancestors by Colin Tudge\, and a documentary shown on the History Channel (US)\, BBC One (UK)\,and various  stations in Germany and Norway.     U-M paleontologist Philip Gingerich and U-M anthropologist B. Holly Smith were two members of the \"dream  team\" invited to study Ida. The exhibit will be on display through May 2010.
UID:2124-918378@events.umich.edu
URL:https://events.umich.edu/event/2124
CLASS:PUBLIC
STATUS:CONFIRMED
CATEGORIES:welcome week,visual arts,multicultural
LOCATION:
CONTACT:
END:VEVENT
BEGIN:VEVENT
DTSTAMP:20091103T112054
DTSTART;TZID=America/Detroit:20091112T090000
SUMMARY:Exhibition:Parisa Ghaderi
DESCRIPTION:To me\, Design is a way to keep me alive and make me truly believe “I design\, so I am!”  Mostly taking on social issues\, I envision my work as a powerful weapon in dealing with challenges of the current civilized world. My greatest inspirations are among everything I see\, feel and experience.\n\nGraphic design fills me with a sense of accomplishment and integrity. It has proven to be the most amenable driving force for translating the inner vision to outer reality. Through my posters I can express my thoughts\, ideals\, joys\, and regrets to touch the mind and hearts of my fellow human beings. Having respected the true value of creativity\, I always tend to focus on novel ideas in order to make memorable and ever-lasting works of art. I adore simplicity and minimalism and this is well perceived from the direction I take in my works.\n\nI also enjoy photography -- framing everyday life\, traditions and beliefs. I do not seek to capture exceptionally rare moments and events\; to me\, every moment is unique and worth being read and seen many\, many times. I use my photography vision in my posters\, and enjoy the combination of photos with other forms of art. Through my works\, I'd like people to explore life as they never had before\, and to be more sensitive to minor happenings in its every aspect.  I am inspired by my beautiful country\, Iran\, and its rich culture. There still would be a lot more to explore and experience. Here\, I just framed a pixel of it!\n\n-Parisa Ghaderi
UID:2984-921882@events.umich.edu
URL:https://events.umich.edu/event/2984
CLASS:PUBLIC
STATUS:CONFIRMED
CATEGORIES:visual arts
LOCATION:Pierpont Commons - Wall Gallery &amp;amp; Piano Lounge
CONTACT:
END:VEVENT
BEGIN:VEVENT
DTSTAMP:20091022T143310
DTSTART;TZID=America/Detroit:20091112T090000
SUMMARY:Community Service:SERVE Sponsor-A-Family 2009 Registration Begins
DESCRIPTION:SERVE will be collaborating with Community Action Network (CAN) and Community  Leaning Post (CLP) in providing many local families with holiday gifts through our  SPONSOR-A-FAMILY project.\n\nCommunity Action Network (CAN) and Community Leaning Post (CLP) are  organizations in Washtenaw County that provide various services to low-income  families.\n\nRegister by going to the website and your group will receive a wish list of the family  or child that you will be sponsoring in November.\n\n**Please be advised that SPONSOR-A-FAMILY requires that  organizations/individuals spend a minimum of $50 on each sponsored person.  Smaller groups do have the option to sponsor an individual rather than an entire  family. Individuals may include children or male and/or females heads of  households
UID:1609-915456@events.umich.edu
URL:https://events.umich.edu/event/1609
CLASS:PUBLIC
STATUS:CONFIRMED
CATEGORIES:social justice
LOCATION:
CONTACT:
END:VEVENT
BEGIN:VEVENT
DTSTAMP:20101111T175644
DTSTART;TZID=America/Detroit:20091112T090000
DTEND;TZID=America/Detroit:20091112T170000
SUMMARY:Exhibition:Takeshi Takahara \"The Four Corners\" (Printmaking exhibit)
DESCRIPTION:Artist's reception takes place from 5:00-7:00 on Friday October 23.  Come to the  Residential College Art Gallery in East Quad to experience the printmaking works by  Takeshi Takahara.
UID:851-912624@events.umich.edu
URL:https://events.umich.edu/event/851
CLASS:PUBLIC
STATUS:CONFIRMED
CATEGORIES:visual arts
LOCATION:East Quadrangle - RC Art Gallery
CONTACT:
END:VEVENT
BEGIN:VEVENT
DTSTAMP:20101111T175638
DTSTART;TZID=America/Detroit:20091112T100000
SUMMARY:Exhibition:(Un)Natural History: The Museum Unveiled
DESCRIPTION:September 12 through December 6\, 2009\n\nRichard Barnes's series of photographs Animal Logic examines the role the museum plays in our understanding of ourselves through the acts of collecting\, preservation\, and display. Images from this large body of work include photographs of the collections from the Smithsonian Institution\, the Museum of Comparative Anatomy in Paris\, the Canadian Museum of Natural History\, and the San Francisco Academy of Science. (Un)Natural History focuses primarily on the natural history museum and by extension collecting institutions in general\, providing a kind of behind-the-scenes look at museum practice and display.\n\nThis exhibition will coincide with the UM LSA Theme Semester Meaningful Objects: Museums and the Academy. UMMA's presentation is projected to serve as part of a three-venue project highlighting different aspects of Barnes's work in partnership with the UM Institute for the Humanities–who have selected Richard Barnes as the Paula and Edwin Sidman Fellow in the Arts for 2009–and the Cranbrook Institute of Science in Bloomfield Hills\, Michigan.
UID:648-912306@events.umich.edu
URL:https://events.umich.edu/event/648
CLASS:PUBLIC
STATUS:CONFIRMED
CATEGORIES:visual arts
LOCATION:Museum of Art
CONTACT:
END:VEVENT
BEGIN:VEVENT
DTSTAMP:20101111T175806
DTSTART;TZID=America/Detroit:20091112T100000
DTEND;TZID=America/Detroit:20091112T163000
SUMMARY:Other:Apples Peas & Pumpkin Pie: Where on Earth Does Our Food Come From?
DESCRIPTION:Where do we get chocolate and bananas? What do potatoes\, carrots\, and onions  have in common? How do you grind wheat to make spaghetti? And can you really  play with your food? Get the answers to all these questions and more in an  interactive fall exhibit and display at in the Conservatory at Matthaei Botanical  Gardens. Exhibit features stations such as seeds\, roots\, and fruits where children  can grind their own flour and learn about nuts and edible fruits and vegetables\;  apple tasting\; create-a-menu activities\; and a mum\, pumpkin\, and gourd display.  Through Nov. 29. For more information call 734-647-7600
UID:2102-918137@events.umich.edu
URL:https://events.umich.edu/event/2102
CLASS:PUBLIC
STATUS:CONFIRMED
CATEGORIES:
LOCATION:
CONTACT:
END:VEVENT
BEGIN:VEVENT
DTSTAMP:20101111T175600
DTSTART;TZID=America/Detroit:20091112T100000
DTEND;TZID=America/Detroit:20091112T170000
SUMMARY:Exhibition:Stearns Collection of Music
DESCRIPTION:The Stearns Collection at the School of Music\, Theatre & Dance is one of six major collections of musical instruments in North America. The 2\,500-piece collection is internationally known and is a resource for musical and cultural education.
UID:3790-909151@events.umich.edu
URL:https://events.umich.edu/event/3790
CLASS:PUBLIC
STATUS:CONFIRMED
CATEGORIES:
LOCATION:Earl V. Moore Building
CONTACT:
END:VEVENT
BEGIN:VEVENT
DTSTAMP:20090708T120930
DTSTART;TZID=America/Detroit:20091112T100000
SUMMARY:Exhibition:The Lens of Impressionism
DESCRIPTION:October 10\, 2009 through January 3\, 2010\n\nThis exhibition advances a new argument for the origins of what was called “the new painting\,” namely that a unique convergence of forces–social\, artistic\, technological\, and commercial–along the Normandy coast of France dramatically transformed the course of photography and painting (as well as of the region itself). Within this framework\, the invention of the camera and the development of early fine art photography in that particular setting will be seen as the specific catalysts that brought about a new approach to painting.\n\nThe project will showcase paintings\, photographs\, and drawings by some of the most treasured artists in the Western canon–Gustave Courbet\, Edouard Manet\, Edgar Degas\, and Claude Monet among them–as well as pioneering photographers such as Gustave Le Gray and Henri Le Secq. Inspired by the scenic Normandy coast of France\, these works–including representations of beach scenes\, seascapes\, fishing villages\, resorts\, and the region's pastoral beauty–will be brought together with archival materials related to early tourism and regional expressions of French nationalism from popular culture for an innovative examination of the impact of the then-new medium of photography on ideas of image making\, the recording of passing time\, the capacities of painting\, and the rise of Impressionism itself.\n\nOrganized by UMMA\, this exhibition is made possible in part by the Florence Gould Foundation\, the National Endowment for the Arts\, Masco Corporation\, and the University of Michigan's Office of the Provost and Office of the Vice President for Research. Additional support has been provided by the family of Raymond F. Cunningham in his memory. Following its showing in Ann Arbor\, the exhibition will travel to the Dallas Museum of Art.
UID:2436-919906@events.umich.edu
URL:https://events.umich.edu/event/2436
CLASS:PUBLIC
STATUS:CONFIRMED
CATEGORIES:visual arts
LOCATION:Museum of Art
CONTACT:
END:VEVENT
BEGIN:VEVENT
DTSTAMP:20101111T175820
DTSTART;TZID=America/Detroit:20091112T110000
DTEND;TZID=America/Detroit:20091112T130000
SUMMARY:Performance:Beats N' Eats
DESCRIPTION:Enjoy the relaxing sounds of talented U-M student performers over lunch! Beats N' Eats takes place every Thursday from 11a-1p in either the Union MUG or League Underground. Interested in performance opportunities? Contact University Unions Arts & Programs at uuap@umich.edu or 734-763-3202.
UID:2470-919139@events.umich.edu
URL:https://events.umich.edu/event/2470
CLASS:PUBLIC
STATUS:CONFIRMED
CATEGORIES:music
LOCATION:Michigan Union - MUG
CONTACT:
END:VEVENT
BEGIN:VEVENT
DTSTAMP:20101111T175651
DTSTART;TZID=America/Detroit:20091112T120000
SUMMARY:Performance:Folk Rock
DESCRIPTION:With Bob Huffman on guitar and vocals\, Tracy Huffman on vocals\, Carrie Pierce on cello and Kyle Rasmussen on percussion\, Souls Alike forms a dynamite folk-rock quartet. Bob Huffman studied music in Hollywood and Boston and is currently a music therapist at Mott Children's Hospital. Tracy has been a vocalist in bands throughout the Midwest since 1984 and serves as a minister in Ann Arbor. Kyle has played in various bands and community theatre performances\, and he works as a psychologist/therapist in Ann Arbor. They'll play originals and favorites by artists such as Sheryl Crow\, Patty Griffin and Sarah McLachlan.
UID:1084-912920@events.umich.edu
URL:https://events.umich.edu/event/1084
CLASS:PUBLIC
STATUS:CONFIRMED
CATEGORIES:music
LOCATION:University Hospitals - Main Lobby, Floor 1
CONTACT:
END:VEVENT
BEGIN:VEVENT
DTSTAMP:20101111T175752
DTSTART;TZID=America/Detroit:20091112T150000
DTEND;TZID=America/Detroit:20091112T160000
SUMMARY:Workshop / Seminar:Using Excel 2007 (Windows) for Research
DESCRIPTION:Once you know the basics of Excel - how to format cells\, add a formula\, create a chart - youre ready to move on to other skills that can make it easier to analyze your data. In this hands-on workshop\, well look at some advanced filtering and conditional formatting (for example\, making cells of all the blanks red). In addition\, well look at the basics of creating a pivot table so you can quickly look at your data results.
UID:2028-917057@events.umich.edu
URL:https://events.umich.edu/event/2028
CLASS:PUBLIC
STATUS:CONFIRMED
CATEGORIES:
LOCATION:Hatcher Graduate Library - 206
CONTACT:
END:VEVENT
BEGIN:VEVENT
DTSTAMP:20091102T150050
DTSTART;TZID=America/Detroit:20091112T153000
DTEND;TZID=America/Detroit:20091112T173000
SUMMARY:Lecture / Discussion:Department of Astronomy Colloquia Series
DESCRIPTION:A weekly lecture series with Astronomy or Astrophysics related topics. Please see  department website for featured speaker and lecture topic. There will be a brief  reception with light refreshments preceding the lecture in room 845 Dennison from  3:30-4:00 pm.
UID:1689-915698@events.umich.edu
URL:https://events.umich.edu/event/1689
CLASS:PUBLIC
STATUS:CONFIRMED
CATEGORIES:
LOCATION:Weiser Hall - 807
CONTACT:
END:VEVENT
BEGIN:VEVENT
DTSTAMP:20101111T175746
DTSTART;TZID=America/Detroit:20091112T153000
DTEND;TZID=America/Detroit:20091112T164500
SUMMARY:Workshop / Seminar:EEB Thursday Seminar Series: The bioeconomics of invasive species: Examples from the emerald ash borer and zebra mussel invasions.
DESCRIPTION:Abstract: In a bioeconomic framework to address the threat of invasive species  there are two basic objectives: 1) to provide estimates of the regional economic  impact an invasive species will potentially inflict upon a region\; 2) to provide policy- makers with quantitative guidance for cost-effective alternative strategies to control\,  prevent\, or slow the spread of the species. Within this framework I will address the  spread of dreissenid mussels to the western U.S.  and the spread of emerald ash borer in Ohio and Michigan. Recently\, dreissenid mussels were discovered in the lower Colorado River. This  infestation constituted the first population of dreissenid mussels west of the 100th  Meridian and has the potential to increase their rate of spread in the western U.S.  First\, we forecasted the potential spread of dreissenid mussels throughout the  entire United States by predicting the overland movement of recreational boaters  with a production-constrained gravity model. Second\, we used a computable general  equilibrium model to determine the economic impact of a dreissenid introduction on  the Columbia River basin. Our results predict that the relative probability of a  dreissenid introduction to the Columbia River Basin has increased by ~25%  compared to a previously published model based on the pre-Colorado invasion  situation. Our economic analysis indicates that a dreissenid mussel invasion of the  Columbia River Basin would result in a mean annual welfare loss of roughly $5  million. The emerald ash borer is poised to wipe out native ashes in North America with  expected catastrophic losses to the ash tree forestry. To explore the bioeconomics  of this invasion\, we 1) estimated the potential 2) built a dispersal model  incorporating both the ability of the emerald ash borer to spread naturally and via  human-mediated dispersal 3) estimated the value of the ash industry using a  computable general equilibrium model (CGE) and the potential direct costs to urban  areas and 4) explored the costs and potential effectiveness of eradication efforts.  Our results suggests the welfare loss to both Ohio and Michigan would be over $50  million annually\, and that slowing the spread optimally would have cost over $1  billion. We hope our results will provide policy-makers with quantitative guidance for  management of these invasive species.
UID:1827-916662@events.umich.edu
URL:https://events.umich.edu/event/1827
CLASS:PUBLIC
STATUS:CONFIRMED
CATEGORIES:
LOCATION:Chemistry Dow Lab - 1210
CONTACT:
END:VEVENT
BEGIN:VEVENT
DTSTAMP:20101111T175905
DTSTART;TZID=America/Detroit:20091112T173000
DTEND;TZID=America/Detroit:20091112T193000
SUMMARY:Lecture / Discussion:Public Lecture:  Museums and the Public Understanding of Science
DESCRIPTION:Miller will describe the public use of informal science learning resources over the last 20 years – museums\, books\, television\, Internet – and discuss emerging patterns in adult science learning. He will suggest that the traditional “warehouse” model of adult learning is being rapidly replaced by a “just-in-time” model and that this transition is fostered by the current revolution in communication technologies. He will conclude with a discussion of the various roles that museums might play in the 21st century.\n\nJon Miller is the John A. Hannah Professor of Integrative Studies and Director of the International Center for the Advancement of Scientific Literacy at Michigan State University.  He directed biennial national surveys for the National Science Board for 20 years\, the results of which were reported in Science and Engineering Indicators. He has pioneered the definition and measurement of scientific literacy and his approach to the public understanding of science has been replicated in more than 40 countries. Jon is currently the Director of the Longitudinal Study of American Youth (LSAY)\, now located at Michigan State University.
UID:2973-921862@events.umich.edu
URL:https://events.umich.edu/event/2973
CLASS:PUBLIC
STATUS:CONFIRMED
CATEGORIES:
LOCATION:Ruthven Museums Building
CONTACT:
END:VEVENT
BEGIN:VEVENT
DTSTAMP:20101111T175822
DTSTART;TZID=America/Detroit:20091112T183000
DTEND;TZID=America/Detroit:20091112T203000
SUMMARY:Workshop / Seminar:MOLS Map and Compass Clinic
DESCRIPTION:Orienteering – just a fancy way of saying land navigation – is not as specialized or difficult a skill  as it is often made out to be. You too can be a wilderness navigation pro with just a little bit of  instruction with map and compass. Join Outdoor Adventures for the “map and compass” MOLS  clinic to see for yourself!
UID:2503-919191@events.umich.edu
URL:https://events.umich.edu/event/2503
CLASS:PUBLIC
STATUS:CONFIRMED
CATEGORIES:
LOCATION:
CONTACT:
END:VEVENT
BEGIN:VEVENT
DTSTAMP:20101111T175712
DTSTART;TZID=America/Detroit:20091112T183000
DTEND;TZID=America/Detroit:20091112T194500
SUMMARY:Other:Yoga at Hillel
DESCRIPTION:A great workout for the body and the mind. Each Monday and Thursday\, from 6:30pm-7:45pm Hillel offers Yoga classes right here in our Hillel building. Yoga classes are taught by Rachel Portnoy\, a professional local yoga instructor from A2 Yoga. Classes are $5 for students and mats are provided. In addition\, Hillel offers free late night restorative yoga during our 24 Hour Finals Study program. To get in downward dog with Hillel\, please email Tilly\, or call Hillel at 769-0500.
UID:1445-914421@events.umich.edu
URL:https://events.umich.edu/event/1445
CLASS:PUBLIC
STATUS:CONFIRMED
CATEGORIES:
LOCATION:Hillel (Mandell L Berman Center)
CONTACT:
END:VEVENT
BEGIN:VEVENT
DTSTAMP:20101111T175651
DTSTART;TZID=America/Detroit:20091112T190000
DTEND;TZID=America/Detroit:20091112T200000
SUMMARY:Meeting:Circle K Meeting
DESCRIPTION:Learn about how you can serve the community! Circle K sponsors numerous community service projects daily that fit your schedule. This year our service hour goal is 10\,000 service hours. You can also be a part of this because anyone can volunteer with us. To find out how you can get involved you can attend a meeting or sign up for our community service projects at umcirclek.org/calendar.php. At our meetings\, you will also be able to interact with our members. We try our best to bring a sense of community to everyone. An optional social will also follow the meeting. Come learn about how you can help out and meet new people! Service really does come full circle!
UID:1087-912923@events.umich.edu
URL:https://events.umich.edu/event/1087
CLASS:PUBLIC
STATUS:CONFIRMED
CATEGORIES:
LOCATION:Michigan League - Henderson Room
CONTACT:
END:VEVENT
BEGIN:VEVENT
DTSTAMP:20101111T175820
DTSTART;TZID=America/Detroit:20091112T190000
SUMMARY:Lecture / Discussion:Translation Lecture
DESCRIPTION:A screening of Sato Makoto's documentary and colloquium by Abe Mark Nornes\,  subtitler of the film and Chair of the Department of Screen Arts & Culture and  Professor in Asian Languages and Cultures\, University of Michigan
UID:2466-919131@events.umich.edu
URL:https://events.umich.edu/event/2466
CLASS:PUBLIC
STATUS:CONFIRMED
CATEGORIES:
LOCATION:Museum of Art - Helmut Stern Auditorium
CONTACT:
END:VEVENT
BEGIN:VEVENT
DTSTAMP:20091112T030003
DTSTART;TZID=America/Detroit:20091112T193000
SUMMARY:Other:Marriage of Figaro
DESCRIPTION:University Opera Theatre  by Wolfgang Amadeus Mozart and Lorenzo da Ponte Directed by Robert Swedberg University Symphony Orchestra conducted by Kenneth Kiesler  The perfect melding of words and music in a delightful comedy.  Sung in Italian with projected English translations.  Tickets available at the League Ticket Office 734-764-2538.
UID:1804-915967@events.umich.edu
URL:https://events.umich.edu/event/1804
CLASS:PUBLIC
STATUS:CONFIRMED
CATEGORIES:theater,music
LOCATION:Power Center for the Performing Arts -  
CONTACT:
END:VEVENT
BEGIN:VEVENT
DTSTAMP:20091112T030003
DTSTART;TZID=America/Detroit:20091112T200000
SUMMARY:Other:Creative Arts Orchestra
DESCRIPTION:
UID:2509-919196@events.umich.edu
URL:https://events.umich.edu/event/2509
CLASS:PUBLIC
STATUS:CONFIRMED
CATEGORIES:music
LOCATION:Rackham Graduate School (Horace H.) - Auditorium
CONTACT:
END:VEVENT
BEGIN:VEVENT
DTSTAMP:20091020T080606
DTSTART;TZID=America/Detroit:20091112T200000
DTEND;TZID=America/Detroit:20091112T210000
SUMMARY:Other:Figure Drawing Workshops
DESCRIPTION:The Lloyd Hall Scholars Program is pleased to offer Open Figure Drawing Sessions every Tuesday and Thursday evening throughout the semester. These drawing sessions feature live models in a casual studio setting. Non-instructional\, limited supplies available. Beginners are always welcome.
UID:1414-915087@events.umich.edu
URL:https://events.umich.edu/event/1414
CLASS:PUBLIC
STATUS:CONFIRMED
CATEGORIES:visual arts
LOCATION:Alice Lloyd Hall - Art Studio located on ground floor
CONTACT:
END:VEVENT
BEGIN:VEVENT
DTSTAMP:20101111T175744
DTSTART;TZID=America/Detroit:20091112T200000
SUMMARY:Performance:Jake Shimabukuro
DESCRIPTION:
UID:1739-916565@events.umich.edu
URL:https://events.umich.edu/event/1739
CLASS:PUBLIC
STATUS:CONFIRMED
CATEGORIES:music
LOCATION:
CONTACT:
END:VEVENT
END:VCALENDAR