BEGIN:VCALENDAR
VERSION:2.0
PRODID:-//UM//UM*Events//EN
CALSCALE:GREGORIAN
BEGIN:VTIMEZONE
TZID:America/Detroit
TZURL:http://tzurl.org/zoneinfo/America/Detroit
X-LIC-LOCATION:America/Detroit
BEGIN:DAYLIGHT
TZOFFSETFROM:-0500
TZOFFSETTO:-0400
TZNAME:EDT
DTSTART:20070311T020000
RRULE:FREQ=YEARLY;BYMONTH=3;BYDAY=2SU
END:DAYLIGHT
BEGIN:STANDARD
TZOFFSETFROM:-0400
TZOFFSETTO:-0500
TZNAME:EST
DTSTART:20071104T020000
RRULE:FREQ=YEARLY;BYMONTH=11;BYDAY=1SU
END:STANDARD
END:VTIMEZONE
BEGIN:VEVENT
DTSTAMP:20101111T175755
DTSTART;TZID=America/Detroit:20091207T000000
SUMMARY:Exhibition:Exhibit
DESCRIPTION:Economic crises on an international scale are not new\, and President Ford inherited a tough one in 1974. A new exhibit at the Ford Library in Ann Arbor shows how he attacked a troubling brew of inflation\, recession\, budget deficits and oil supply worries. This exhibit features rarely seen artifacts and archival materials from the Ford Library and Museum collections.
UID:3853-917312@events.umich.edu
URL:https://events.umich.edu/event/3853
CLASS:PUBLIC
STATUS:CONFIRMED
CATEGORIES:
LOCATION:Gerald Ford Library
CONTACT:
END:VEVENT
BEGIN:VEVENT
DTSTAMP:20100110T230807
DTSTART;TZID=America/Detroit:20091207T000000
SUMMARY:Auditions:Human Rights and The Humanities Art Exhibit-CALL FOR SUBMISSION
DESCRIPTION:CALL FOR ART  GOT ART? WE WANT TO SHOWCASE YOUR WORK. We are collecting art to  exhibit as part of our 2010 conference\, Human Rights & the Humanities\, to be held February 5 &  6 at the Michigan Union in Ann Arbor. We are looking for artwork that addresses human rights  issues in creative and effective ways. All artwork is welcomed for submission but due to space  restrictions\, we can only accommodate certain mediums. Please refer to the attached guidelines  or contact hrteandarts@umich.edu for more details!  Sponsored by Human Rights Through  Education      University of Michigan-Ann Arbor).  EMAIL ALL SUBMISSIONS TO  hrteandarts@umich.edu
UID:555-911807@events.umich.edu
URL:https://events.umich.edu/event/555
CLASS:PUBLIC
STATUS:CONFIRMED
CATEGORIES:architecture,film,literary arts,multicultural,social justice,visual arts
LOCATION:Michigan Union - Outside of Amer&#039;s
CONTACT:
END:VEVENT
BEGIN:VEVENT
DTSTAMP:20101111T175620
DTSTART;TZID=America/Detroit:20091207T000000
SUMMARY:Exhibition:Permanent Exhibits at the Exhibit Museum of Natural History
DESCRIPTION:The Hall of Evolution houses Michigan's largest display of prehistoric life. More than 600 million years of life on Earth are traced through fossils\, models and dioramas. The Michigan Wildlife Gallery has a large collection of native Great Lakes birds\, mammals\, reptiles\, and amphibians\, with taxidermy mounts\, habitat scenes\, and the largest mastodon trackway on display in the world. There are also displays about some of the environmental problems faced in this region today. The Anthropology Displays feature artifacts from human cultures around the world. The Geology Displays on the fourth floor offer a large selection of rocks\, minerals and gems. These displays are updated periodically. For more information go to www.lsa.umich.edu/exhibitmuseum/exhibits/permexhibits or call 734-764-0480.
UID:452-910788@events.umich.edu
URL:https://events.umich.edu/event/452
CLASS:PUBLIC
STATUS:CONFIRMED
CATEGORIES:
LOCATION:Ruthven Museums Building
CONTACT:
END:VEVENT
BEGIN:VEVENT
DTSTAMP:20101111T175601
DTSTART;TZID=America/Detroit:20091207T080000
DTEND;TZID=America/Detroit:20091207T200000
SUMMARY:Exhibition:Art Under The Microscope: BioArtography Quilts
DESCRIPTION:This unique collection of art quilts is inspired by scientific photographs taken by researchers at the U-M Center for Organogenesis. In the course of diagnostic research\, the microscope and special stains are used to examine tissues for alterations in structure or function that are characteristic of health or disease. The beauty of the photographs of these tiny biological structures\, which is a fascinating combination of art and science\, inspired this series of quilts by the Washington DC group\, Fiber Artists @ Loose Ends. Fiber artists chose from among these BioArtography images to design their quilts. This traveling exhibit\, sponsored by the Society for the Arts in Healthcare in partnership with Gifts of Art and the Center for Organogenesis\, aims to honor these scientific research efforts\, enrich community spaces by bringing the arts into everyday life and raise public awareness about the importance of the arts in healthcare settings.
UID:72-909337@events.umich.edu
URL:https://events.umich.edu/event/72
CLASS:PUBLIC
STATUS:CONFIRMED
CATEGORIES:visual arts
LOCATION:
CONTACT:
END:VEVENT
BEGIN:VEVENT
DTSTAMP:20101111T175831
DTSTART;TZID=America/Detroit:20091207T080000
DTEND;TZID=America/Detroit:20091207T200000
SUMMARY:Exhibition:Byways of Great Britain & Ireland
DESCRIPTION:Combining her love of travel and photography\, U-M alum Cheryl Hogue tours extensively through England\, Scotland\, and Ireland. Hogue's images\, created by both small and medium format cameras\, are sold professionally with applications in retail books\, calendar art\, magazine covers\, text books\, travel brochures\, and other media. The subject matter in this exhibit includes many of the lesser known islands such as the Isle of Lewis in the outer Hebrides and Orkney off of Scotland.
UID:2367-919700@events.umich.edu
URL:https://events.umich.edu/event/2367
CLASS:PUBLIC
STATUS:CONFIRMED
CATEGORIES:visual arts
LOCATION:
CONTACT:
END:VEVENT
BEGIN:VEVENT
DTSTAMP:20101111T175722
DTSTART;TZID=America/Detroit:20091207T080000
DTEND;TZID=America/Detroit:20091207T200000
SUMMARY:Exhibition:Contemplations: Chair Series II Paintings
DESCRIPTION:In her acrylic\, ink and mixed media paintings\, Candace Compton Pappas speaks boldly about the quiet she observes. Pappas' work arises from self-exploration and reflection on the natural environment\, community\, and family that surround her. Chair\, house\, and birds are repeated themes in her work. Born and raised in the San Francisco Bay Area\, Pappas grew up amidst the Bay Area Figurative Movement\, and later she moved to Los Angeles and was immersed in the LA Feminist Art Movement\, Conceptualism\, and Performance Art. For the last 15 years she has lived\, raised her family\, and continued her art career in Chelsea\, Michigan.
UID:1382-915045@events.umich.edu
URL:https://events.umich.edu/event/1382
CLASS:PUBLIC
STATUS:CONFIRMED
CATEGORIES:visual arts
LOCATION:University Hospitals - Lobby Floor 1
CONTACT:
END:VEVENT
BEGIN:VEVENT
DTSTAMP:20101111T175635
DTSTART;TZID=America/Detroit:20091207T080000
DTEND;TZID=America/Detroit:20091207T200000
SUMMARY:Exhibition:Deep Blue: Ceramics
DESCRIPTION:Sadashi Inuzuka was born in Kyoto\, Japan and received his MFA from the Cranbrook Academy of Art\, Bloomfield Hills\, MI in 1987. He is known for his large installations that explore the intersection of human society and the natural world\; traditional and innovative process\; art and science\; and ceramics and video. Currently\, he is a Professor of Art at the U-M School of Art & Design. This exhibit is a part of Art and Abilities: Investing in Ability Week\, Oct. 21-31\, 2009\; in addition\, Inuzuka will be giving both a lecture and a children's workshop inspired by the theme of art and abilities.  More information is at the bottom center of our website: http://www.med.umich.edu/goa .
UID:537-911766@events.umich.edu
URL:https://events.umich.edu/event/537
CLASS:PUBLIC
STATUS:CONFIRMED
CATEGORIES:visual arts
LOCATION:
CONTACT:
END:VEVENT
BEGIN:VEVENT
DTSTAMP:20101111T175759
DTSTART;TZID=America/Detroit:20091207T080000
DTEND;TZID=America/Detroit:20091207T170000
SUMMARY:Exhibition:History of Dentistry exhibits at the Sindecuse Museum of Dentistry
DESCRIPTION:Exhibits at the Sindecuse Museum of Dentistry include Dental Operatories of the 1860s to 1930s\, St. Apollonia-Patron Saint of Dentistry and more. Call 763-0767 or go to www.dent.umich.edu/museum for more information.
UID:3856-917651@events.umich.edu
URL:https://events.umich.edu/event/3856
CLASS:PUBLIC
STATUS:CONFIRMED
CATEGORIES:
LOCATION:Dental & W.K. Kellogg Institute
CONTACT:
END:VEVENT
BEGIN:VEVENT
DTSTAMP:20091112T153833
DTSTART;TZID=America/Detroit:20091207T080000
DTEND;TZID=America/Detroit:20091207T200000
SUMMARY:Exhibition:Motawi at Home: Ceramic Art Tile
DESCRIPTION:This locally owned\, nationally known art studio creates unique handmade tile reflecting the classic style and craftsmanship of America's historic Arts & Crafts movement. Brother and sister duo Karim and Nawal Motawi\, both U of M alumni\, are committed to handcrafting tile with vibrant\, earthy glazes. Their passion is exploring new design and technical ideas\, while maintaining a sustainable business that is a positive force in the community. Motawi Tileworks\, now 17 years old\, is a leader in the art tile market with 25 artisans on staff. In addition to this exhibit of newly released tiles\, the U-M Health System has Motawi tile murals in the east and west Patient Elevator lobbies on floors 1-8. A free Make-A-Tile workshop will be held in the gallery on Thursday\, Oct. 29 from 12:00-1:30 p.m.
UID:1446-915137@events.umich.edu
URL:https://events.umich.edu/event/1446
CLASS:PUBLIC
STATUS:CONFIRMED
CATEGORIES:visual arts
LOCATION:
CONTACT:
END:VEVENT
BEGIN:VEVENT
DTSTAMP:20101111T175733
DTSTART;TZID=America/Detroit:20091207T080000
DTEND;TZID=America/Detroit:20091207T170000
SUMMARY:Exhibition:Secrets of the Garden
DESCRIPTION:These images were taken without a camera. Ponvert places her subjects directly on a digital scanner and then alters them in Photoshop. The images in this exhibit were taken over the past three years from subjects in her garden in Ann Arbor\, Michigan. Her work has been shown at the Kerrytown Concert House\, and her garden was chosen to be on the Ann Arbor Women's Farm and Garden Walk in 2008.
UID:3843-915881@events.umich.edu
URL:https://events.umich.edu/event/3843
CLASS:PUBLIC
STATUS:CONFIRMED
CATEGORIES:
LOCATION:Cancer Center - Level 1
CONTACT:
END:VEVENT
BEGIN:VEVENT
DTSTAMP:20101111T175613
DTSTART;TZID=America/Detroit:20091207T080000
DTEND;TZID=America/Detroit:20091207T200000
SUMMARY:Exhibition:The Animal Pieces: Ceramics
DESCRIPTION:The pieces in this show address the intertwined relationships of animals and humans. In this body of work\, Craig Hinshaw explores how both animals and humans are affected by such issues as consumerism\, ecology and pollution. He explores these themes in both the subject matter and the way that he manipulates the forms. However\, an element of humor softens the tensions he creates with these challenging subjects\, bringing levity to the work and raising questions rather than answering them. In addition to his own work\, Hinshaw has a passion for teaching young children – he was voted Michigan Art Teacher of the Year around the time of an opening of his work at Ezar Gallery in New York City.
UID:211-910155@events.umich.edu
URL:https://events.umich.edu/event/211
CLASS:PUBLIC
STATUS:CONFIRMED
CATEGORIES:visual arts
LOCATION:
CONTACT:
END:VEVENT
BEGIN:VEVENT
DTSTAMP:20101111T175811
DTSTART;TZID=America/Detroit:20091207T080000
DTEND;TZID=America/Detroit:20091207T200000
SUMMARY:Exhibition:The People of My World
DESCRIPTION:Formerly a Mechanical Engineer\, Ludmila Ketslakh's interest in photography was triggered by a number of factors: her desire to explore different parts of the world\, to seek and document unique cultures\, and to challenge the insidious forces of dilution and uniformity in society. She fervently believes that the world is a beautiful and mystifying place\, and that the people of her world are profoundly diverse and fascinating\, each with their own unique experiences that define their images. Observers of Ketslakh's photography are captivated by its reality and absorbed into the emotion captured by her lens.
UID:2233-918710@events.umich.edu
URL:https://events.umich.edu/event/2233
CLASS:PUBLIC
STATUS:CONFIRMED
CATEGORIES:visual arts
LOCATION:
CONTACT:
END:VEVENT
BEGIN:VEVENT
DTSTAMP:20101111T175651
DTSTART;TZID=America/Detroit:20091207T080000
DTEND;TZID=America/Detroit:20091207T170000
SUMMARY:Exhibition:Wearable Art
DESCRIPTION:U-M School of Art & Design alumna Furtado started as a weaver over 30 years ago\, working on a loom. She is now engaged in a variety of activities as she produces her line of wearable art. Handweaving\, felting\, dyeing and beading are common tools of her trade. Lately\, she has been exploring Nuno felting\, a Japanese technique which combines wool felt with silk fabric. One of her dyeing techniques is a resist process involving clamping and applying dye in multiple steps\, creating a multiple-color\, multiple-shape design.
UID:3819-913049@events.umich.edu
URL:https://events.umich.edu/event/3819
CLASS:PUBLIC
STATUS:CONFIRMED
CATEGORIES:
LOCATION:Cancer Center - Main Lobby, Level B2
CONTACT:
END:VEVENT
BEGIN:VEVENT
DTSTAMP:20091029T160553
DTSTART;TZID=America/Detroit:20091207T090000
DTEND;TZID=America/Detroit:20091207T170000
SUMMARY:Exhibition:Book of Iterations
DESCRIPTION:This provocative exhibition is comprised of two “bone books” made of horse  skeletons and covered in hand-written texts\, burnished in gold leaf\, and shod in  silver shoes.  Three bridled horse skulls inscribed and leafed become cabinets for  ephemeral objects and imagery clasped in the hands of priest figures dominating  war landscapes.\n\nInscribed text references medieval and early modern Christianity from the first and  second world war\, and archival texts\, produced in the 1870's in the now extinct  Bushman language “ |xam.” \n\nThrough themes of sacrifice and redemption\, the artist explores relic and archive in  the context of writing and language\, and considers the interchange between text  and textuality\, the visible and the invisible world.\n\nThe exhibition maps out the imaginary boundaries and landmarks of the  miraculous history of the book\, what it might look like\, and where it might lead us  in an ongoing journey.\n\nPippa Skotnes is the Andrew W. Mellon Fellow at the U-M Institute for the  Humanities. She is professor of fine art and director of the Center for Curating the  Archive at the Michaelis School of Fine Art\, University of Capetown\, South  Africa.\n\nProfessor Skotnes will be also be presenting the Wednesday Night Museums  lecture “Curating the Archive: Representing Scattered Collections of the Colonial  Past\,” on December 2\, 2009\, 7:30\, Helmut Stern Auditorium\, University of Michigan  Museum of Art.\n\nA corresponding conference\, “Archive\, Museum\, and the Safe House of Language”  takes place on Thursday\, December 3\, 2009\, 9am-4:30pm at the Institute for the  Humanities\, room 2022\, 202 S. Thayer\, Ann Arbor.
UID:1615-915484@events.umich.edu
URL:https://events.umich.edu/event/1615
CLASS:PUBLIC
STATUS:CONFIRMED
CATEGORIES:literary arts,multicultural,visual arts
LOCATION:202 S. Thayer - 1010
CONTACT:
END:VEVENT
BEGIN:VEVENT
DTSTAMP:20090722T143534
DTSTART;TZID=America/Detroit:20091207T090000
DTEND;TZID=America/Detroit:20091207T170000
SUMMARY:Exhibition:Ida: Darwinius masillae
DESCRIPTION:\"Ida\,\" a new exhibit in the Exhibit Museum's Rotunda\, displays a high-resolution cast of an extremely rare  fossil discovered in 1983 near Messel\, Germany\, but only recently made available for study. The fossil has  proven to be a “link” between the prosimian and simian (\"anthropoid\") primate lineages. It has \"advanced\"  front teeth (incisors and canines) and second toes like those of monkeys\, and is broadly representative of what  human primate ancestors may have looked like during the Eocene epoch 47 million years ago.     Ida (prounded \"eeda\") is named after after the daughter of Dr JÃ¸rn Hurum\, the Norwegian vertebrate  paleontologist who secured one section of the fossil from an anonymous owner\, and led the research. Ida was  about eight months old\, or the equivalent of a six-year-old human.     Publication of a paper on the discovery was accompanied by a book\, The Link: Uncovering Our Earliest  Ancestors by Colin Tudge\, and a documentary shown on the History Channel (US)\, BBC One (UK)\,and various  stations in Germany and Norway.     U-M paleontologist Philip Gingerich and U-M anthropologist B. Holly Smith were two members of the \"dream  team\" invited to study Ida. The exhibit will be on display through May 2010.
UID:2124-918403@events.umich.edu
URL:https://events.umich.edu/event/2124
CLASS:PUBLIC
STATUS:CONFIRMED
CATEGORIES:welcome week,visual arts,multicultural
LOCATION:
CONTACT:
END:VEVENT
BEGIN:VEVENT
DTSTAMP:20101111T175638
DTSTART;TZID=America/Detroit:20091207T100000
SUMMARY:Exhibition:(Un)Natural History: The Museum Unveiled
DESCRIPTION:September 12 through December 6\, 2009\n\nRichard Barnes's series of photographs Animal Logic examines the role the museum plays in our understanding of ourselves through the acts of collecting\, preservation\, and display. Images from this large body of work include photographs of the collections from the Smithsonian Institution\, the Museum of Comparative Anatomy in Paris\, the Canadian Museum of Natural History\, and the San Francisco Academy of Science. (Un)Natural History focuses primarily on the natural history museum and by extension collecting institutions in general\, providing a kind of behind-the-scenes look at museum practice and display.\n\nThis exhibition will coincide with the UM LSA Theme Semester Meaningful Objects: Museums and the Academy. UMMA's presentation is projected to serve as part of a three-venue project highlighting different aspects of Barnes's work in partnership with the UM Institute for the Humanities–who have selected Richard Barnes as the Paula and Edwin Sidman Fellow in the Arts for 2009–and the Cranbrook Institute of Science in Bloomfield Hills\, Michigan.
UID:648-912220@events.umich.edu
URL:https://events.umich.edu/event/648
CLASS:PUBLIC
STATUS:CONFIRMED
CATEGORIES:visual arts
LOCATION:Museum of Art
CONTACT:
END:VEVENT
BEGIN:VEVENT
DTSTAMP:20101111T175600
DTSTART;TZID=America/Detroit:20091207T100000
DTEND;TZID=America/Detroit:20091207T170000
SUMMARY:Exhibition:Stearns Collection of Music
DESCRIPTION:The Stearns Collection at the School of Music\, Theatre & Dance is one of six major collections of musical instruments in North America. The 2\,500-piece collection is internationally known and is a resource for musical and cultural education.
UID:3790-909168@events.umich.edu
URL:https://events.umich.edu/event/3790
CLASS:PUBLIC
STATUS:CONFIRMED
CATEGORIES:
LOCATION:Earl V. Moore Building
CONTACT:
END:VEVENT
BEGIN:VEVENT
DTSTAMP:20090708T120930
DTSTART;TZID=America/Detroit:20091207T100000
SUMMARY:Exhibition:The Lens of Impressionism
DESCRIPTION:October 10\, 2009 through January 3\, 2010\n\nThis exhibition advances a new argument for the origins of what was called “the new painting\,” namely that a unique convergence of forces–social\, artistic\, technological\, and commercial–along the Normandy coast of France dramatically transformed the course of photography and painting (as well as of the region itself). Within this framework\, the invention of the camera and the development of early fine art photography in that particular setting will be seen as the specific catalysts that brought about a new approach to painting.\n\nThe project will showcase paintings\, photographs\, and drawings by some of the most treasured artists in the Western canon–Gustave Courbet\, Edouard Manet\, Edgar Degas\, and Claude Monet among them–as well as pioneering photographers such as Gustave Le Gray and Henri Le Secq. Inspired by the scenic Normandy coast of France\, these works–including representations of beach scenes\, seascapes\, fishing villages\, resorts\, and the region's pastoral beauty–will be brought together with archival materials related to early tourism and regional expressions of French nationalism from popular culture for an innovative examination of the impact of the then-new medium of photography on ideas of image making\, the recording of passing time\, the capacities of painting\, and the rise of Impressionism itself.\n\nOrganized by UMMA\, this exhibition is made possible in part by the Florence Gould Foundation\, the National Endowment for the Arts\, Masco Corporation\, and the University of Michigan's Office of the Provost and Office of the Vice President for Research. Additional support has been provided by the family of Raymond F. Cunningham in his memory. Following its showing in Ann Arbor\, the exhibition will travel to the Dallas Museum of Art.
UID:2436-919931@events.umich.edu
URL:https://events.umich.edu/event/2436
CLASS:PUBLIC
STATUS:CONFIRMED
CATEGORIES:visual arts
LOCATION:Museum of Art
CONTACT:
END:VEVENT
BEGIN:VEVENT
DTSTAMP:20101111T175601
DTSTART;TZID=America/Detroit:20091207T120000
DTEND;TZID=America/Detroit:20091207T130000
SUMMARY:Other:Jews\, Food\, and Sustainability- what do these have in common?
DESCRIPTION:Be part of a lunchtime discussion group that will study and discuss the Hazon sourcebook \"Food for Thought.\" FRIDAYS\, 12-1:00 pm\, until December 11 at the commons area of the School of Natural Resources and Environment in the Dana Building. For more information contact Tilly @tillys@umich.edu.
UID:80-909346@events.umich.edu
URL:https://events.umich.edu/event/80
CLASS:PUBLIC
STATUS:CONFIRMED
CATEGORIES:social justice
LOCATION:Dana Natural Resources  Building - Commons Area
CONTACT:
END:VEVENT
BEGIN:VEVENT
DTSTAMP:20101111T175719
DTSTART;TZID=America/Detroit:20091207T160000
SUMMARY:Lecture / Discussion:Translation Lecture
DESCRIPTION:Lecture on Maenads in Britain by Fiona Macintosh\, University of Oxford
UID:1279-914913@events.umich.edu
URL:https://events.umich.edu/event/1279
CLASS:PUBLIC
STATUS:CONFIRMED
CATEGORIES:
LOCATION:Angell Hall - 3222 - English Department
CONTACT:
END:VEVENT
BEGIN:VEVENT
DTSTAMP:20101111T175842
DTSTART;TZID=America/Detroit:20091207T180000
DTEND;TZID=America/Detroit:20091207T200000
SUMMARY:Other:Free and Anonymous HIV Testing
DESCRIPTION:Free and Anonymous HIV Testing each Monday\, 6:00p-8:00p Spectrum Center\, 3rd Floor Michigan Union sponsored by HARC\, the HIV/AIDS Resource Center Free and Anonymous\, needle-free\, results in 7-10 days.
UID:2761-920470@events.umich.edu
URL:https://events.umich.edu/event/2761
CLASS:PUBLIC
STATUS:CONFIRMED
CATEGORIES:
LOCATION:Michigan Union - 3200
CONTACT:
END:VEVENT
BEGIN:VEVENT
DTSTAMP:20091207T030002
DTSTART;TZID=America/Detroit:20091207T200000
SUMMARY:Other:Faculty Recital:  A Concert in Three Parts
DESCRIPTION:A concert featuring new music by E/N/D\, E3Q and a new work entitled E/N/D plus Three ”¢ Big Enigmas Meet the Movements of NOW.   The concert will feature UM Professors Michael Gould (Drums/Percussion)\, Andrew Bishop (Saxophone)\, Katri Ervamaa (Cello)\, Mark Kirshcemann (trumpet) and the poetry of Ken Mikolowski.  Guests include the modern dance of Nadja Raszewski (Berlin\, Germany)\, Anders Ã…strand (vibraphone) and Mikael Berglund (bass) from Stockholm\, Sweden.   Mr. Mikolowki’s poems have inspired E/N/D to create a new work that like Ken’s poems distill the essence of an idea down to the shortest idea\, arch or theme.   A majority of his poems are four words to a few paragraphs–he is the Twitter (ologist) of poets distilling down the essence or affect of emotion\, place and being.
UID:1775-916634@events.umich.edu
URL:https://events.umich.edu/event/1775
CLASS:PUBLIC
STATUS:CONFIRMED
CATEGORIES:music
LOCATION:
CONTACT:
END:VEVENT
BEGIN:VEVENT
DTSTAMP:20101111T175806
DTSTART;TZID=America/Detroit:20091207T200000
SUMMARY:Performance:RC Music Faculty Recital
DESCRIPTION:A Concert in Three Parts Part One: The Music of E3Q (Katri Ervamaa-Cello\, Mark Kirschenmann- Trumpet/Electronics\, Michael Gould-Drums/Percussion) Part Two: The Music of E/N/D (Anders Ã…strand-Vibraphone/Marimba\, Micke Berglund- Bass\, Michael Gould-Drumset) Part Three: E/N/D plus Three ”¢ Big Enigmas Meet the Movements of NOW  (world  premiere) UM Professor's Michael Gould-Drumset/Percussion\, Andrew Bishop- Saxophone\, Ken Mikolowski-Poet with special guests-Anders Ã…strand (Stockholm\,  Sweden)\, Micke Berglund (Stockholm\, Sweden)\, Nadja Raszewski (Berlin\, Germany).\n\nWORLD PREMIERE\n\nE/N/D plus Three ”¢ Big Enigmas Meet the Movements of NOW.  E/N/D Anders Ã…strand\, Vibraphone\, Stockholm\, Sweden Mikael Berglund\, Bass\, Stockholm\, Sweden Michael Gould\, Drumset/Percussion\, Ann Arbor\, Michigan  Plus Three Ken Mikolowski\, Poet\, Detroit\, Michigan Nadja Raszewski\, Dancer/Choreographer\, Berlin\, Germany Andrew Bishop\, Saxophone\, Ann Arbor\, MI\n\nA concert featuring new music by E/N/D\, the poetry of Ken Mikolowski and the  modern dance of Nadja Raszewski with special guest Andrew Bishop on Saxophone.   Mr. Mikolowki's poems have inspired E/N/D to create new works\, improvisations and  interludes that like Ken's poems distill the essence of an idea down to the shortest  idea\, arch or theme.   A majority of his poems are four words to a few paragraphs– he is the Twitter (ologist) of poets distilling down the essence or affect of emotion\,  place and being.  The concert will showcase these poems while mixing a diversity of  styles\, contemporary improvisation and dance accompaniment.
UID:2120-918169@events.umich.edu
URL:https://events.umich.edu/event/2120
CLASS:PUBLIC
STATUS:CONFIRMED
CATEGORIES:music,literary arts,dance
LOCATION:East Quadrangle - Keene Theater
CONTACT:
END:VEVENT
BEGIN:VEVENT
DTSTAMP:20091207T030002
DTSTART;TZID=America/Detroit:20091207T200000
SUMMARY:Other:Student String Quartet Recital
DESCRIPTION:
UID:1127-913077@events.umich.edu
URL:https://events.umich.edu/event/1127
CLASS:PUBLIC
STATUS:CONFIRMED
CATEGORIES:music
LOCATION:Earl V. Moore Building - Blanche Anderson Moore Hall
CONTACT:
END:VEVENT
BEGIN:VEVENT
DTSTAMP:20101111T175734
DTSTART;TZID=America/Detroit:20091207T200000
DTEND;TZID=America/Detroit:20091207T210000
SUMMARY:Other:SURVIVAL BINGO
DESCRIPTION:Students play a fast-paced game of bingo for the chance to win prizes that'll help  them to \"SURVIVE\" the semester.\n\nPRIZES include detergent\, snacks\, beverages\, etc.\n\nThis event takes place twice a month on Mondays at 8pm. It will be held in the U- Club (Union) or Commons Cafe (Pierpont).\n\nTHIS IS A FREE EVENT!!!\n\nCome...Play...Win...ENJOY!!!
UID:1797-915962@events.umich.edu
URL:https://events.umich.edu/event/1797
CLASS:PUBLIC
STATUS:CONFIRMED
CATEGORIES:
LOCATION:Michigan Union - UNIVERSITY CLUB
CONTACT:
END:VEVENT
BEGIN:VEVENT
DTSTAMP:20091207T030002
DTSTART;TZID=America/Detroit:20091207T200000
SUMMARY:Other:Symphony Band
DESCRIPTION:Michael Haithcock\, conductor.  “Dialogues and Entertainments”.  Various musical connotations of the words dialogue and entertainment are explored as music of the distant past is juxtaposed with recent repertoire heavily influenced by pop culture.  featuring Andy Hall (saxophone) and Jennifer Goltz (soprano).    Pre-concert discussion at 7:15 on the lower level of Hill Auditorium featuring composer Michael Daugherty.   PROGRAM:  Gabrielli - Three Pieces\; Bach - Tocata and Fugue in D Minor\; Kraft - Dialogues and Entertainments\; Ter Veldhuis - Tallahatchie Concerto\; Daugherty - Bells for Stokowski
UID:74-909339@events.umich.edu
URL:https://events.umich.edu/event/74
CLASS:PUBLIC
STATUS:CONFIRMED
CATEGORIES:music
LOCATION:Hill Auditorium -  
CONTACT:
END:VEVENT
END:VCALENDAR