BEGIN:VCALENDAR
VERSION:2.0
PRODID:-//UM//UM*Events//EN
CALSCALE:GREGORIAN
BEGIN:VTIMEZONE
TZID:America/Detroit
TZURL:http://tzurl.org/zoneinfo/America/Detroit
X-LIC-LOCATION:America/Detroit
BEGIN:DAYLIGHT
TZOFFSETFROM:-0500
TZOFFSETTO:-0400
TZNAME:EDT
DTSTART:20070311T020000
RRULE:FREQ=YEARLY;BYMONTH=3;BYDAY=2SU
END:DAYLIGHT
BEGIN:STANDARD
TZOFFSETFROM:-0400
TZOFFSETTO:-0500
TZNAME:EST
DTSTART:20071104T020000
RRULE:FREQ=YEARLY;BYMONTH=11;BYDAY=1SU
END:STANDARD
END:VTIMEZONE
BEGIN:VEVENT
DTSTAMP:20101111T175755
DTSTART;TZID=America/Detroit:20091209T000000
SUMMARY:Exhibition:Exhibit
DESCRIPTION:Economic crises on an international scale are not new\, and President Ford inherited a tough one in 1974. A new exhibit at the Ford Library in Ann Arbor shows how he attacked a troubling brew of inflation\, recession\, budget deficits and oil supply worries. This exhibit features rarely seen artifacts and archival materials from the Ford Library and Museum collections.
UID:3853-917314@events.umich.edu
URL:https://events.umich.edu/event/3853
CLASS:PUBLIC
STATUS:CONFIRMED
CATEGORIES:
LOCATION:Gerald Ford Library
CONTACT:
END:VEVENT
BEGIN:VEVENT
DTSTAMP:20100110T230807
DTSTART;TZID=America/Detroit:20091209T000000
SUMMARY:Auditions:Human Rights and The Humanities Art Exhibit-CALL FOR SUBMISSION
DESCRIPTION:CALL FOR ART  GOT ART? WE WANT TO SHOWCASE YOUR WORK. We are collecting art to  exhibit as part of our 2010 conference\, Human Rights & the Humanities\, to be held February 5 &  6 at the Michigan Union in Ann Arbor. We are looking for artwork that addresses human rights  issues in creative and effective ways. All artwork is welcomed for submission but due to space  restrictions\, we can only accommodate certain mediums. Please refer to the attached guidelines  or contact hrteandarts@umich.edu for more details!  Sponsored by Human Rights Through  Education      University of Michigan-Ann Arbor).  EMAIL ALL SUBMISSIONS TO  hrteandarts@umich.edu
UID:555-911809@events.umich.edu
URL:https://events.umich.edu/event/555
CLASS:PUBLIC
STATUS:CONFIRMED
CATEGORIES:visual arts,architecture,film,literary arts,multicultural,social justice
LOCATION:Michigan Union - Outside of Amer&#039;s
CONTACT:
END:VEVENT
BEGIN:VEVENT
DTSTAMP:20101111T175620
DTSTART;TZID=America/Detroit:20091209T000000
SUMMARY:Exhibition:Permanent Exhibits at the Exhibit Museum of Natural History
DESCRIPTION:The Hall of Evolution houses Michigan's largest display of prehistoric life. More than 600 million years of life on Earth are traced through fossils\, models and dioramas. The Michigan Wildlife Gallery has a large collection of native Great Lakes birds\, mammals\, reptiles\, and amphibians\, with taxidermy mounts\, habitat scenes\, and the largest mastodon trackway on display in the world. There are also displays about some of the environmental problems faced in this region today. The Anthropology Displays feature artifacts from human cultures around the world. The Geology Displays on the fourth floor offer a large selection of rocks\, minerals and gems. These displays are updated periodically. For more information go to www.lsa.umich.edu/exhibitmuseum/exhibits/permexhibits or call 734-764-0480.
UID:452-910790@events.umich.edu
URL:https://events.umich.edu/event/452
CLASS:PUBLIC
STATUS:CONFIRMED
CATEGORIES:
LOCATION:Ruthven Museums Building
CONTACT:
END:VEVENT
BEGIN:VEVENT
DTSTAMP:20101111T175759
DTSTART;TZID=America/Detroit:20091209T080000
DTEND;TZID=America/Detroit:20091209T170000
SUMMARY:Exhibition:History of Dentistry exhibits at the Sindecuse Museum of Dentistry
DESCRIPTION:Exhibits at the Sindecuse Museum of Dentistry include Dental Operatories of the 1860s to 1930s\, St. Apollonia-Patron Saint of Dentistry and more. Call 763-0767 or go to www.dent.umich.edu/museum for more information.
UID:3856-917653@events.umich.edu
URL:https://events.umich.edu/event/3856
CLASS:PUBLIC
STATUS:CONFIRMED
CATEGORIES:
LOCATION:Dental & W.K. Kellogg Institute
CONTACT:
END:VEVENT
BEGIN:VEVENT
DTSTAMP:20091029T160553
DTSTART;TZID=America/Detroit:20091209T090000
DTEND;TZID=America/Detroit:20091209T170000
SUMMARY:Exhibition:Book of Iterations
DESCRIPTION:This provocative exhibition is comprised of two “bone books” made of horse  skeletons and covered in hand-written texts\, burnished in gold leaf\, and shod in  silver shoes.  Three bridled horse skulls inscribed and leafed become cabinets for  ephemeral objects and imagery clasped in the hands of priest figures dominating  war landscapes.\n\nInscribed text references medieval and early modern Christianity from the first and  second world war\, and archival texts\, produced in the 1870's in the now extinct  Bushman language “ |xam.” \n\nThrough themes of sacrifice and redemption\, the artist explores relic and archive in  the context of writing and language\, and considers the interchange between text  and textuality\, the visible and the invisible world.\n\nThe exhibition maps out the imaginary boundaries and landmarks of the  miraculous history of the book\, what it might look like\, and where it might lead us  in an ongoing journey.\n\nPippa Skotnes is the Andrew W. Mellon Fellow at the U-M Institute for the  Humanities. She is professor of fine art and director of the Center for Curating the  Archive at the Michaelis School of Fine Art\, University of Capetown\, South  Africa.\n\nProfessor Skotnes will be also be presenting the Wednesday Night Museums  lecture “Curating the Archive: Representing Scattered Collections of the Colonial  Past\,” on December 2\, 2009\, 7:30\, Helmut Stern Auditorium\, University of Michigan  Museum of Art.\n\nA corresponding conference\, “Archive\, Museum\, and the Safe House of Language”  takes place on Thursday\, December 3\, 2009\, 9am-4:30pm at the Institute for the  Humanities\, room 2022\, 202 S. Thayer\, Ann Arbor.
UID:1615-915486@events.umich.edu
URL:https://events.umich.edu/event/1615
CLASS:PUBLIC
STATUS:CONFIRMED
CATEGORIES:literary arts,multicultural,visual arts
LOCATION:202 S. Thayer - 1010
CONTACT:
END:VEVENT
BEGIN:VEVENT
DTSTAMP:20090722T143534
DTSTART;TZID=America/Detroit:20091209T090000
DTEND;TZID=America/Detroit:20091209T170000
SUMMARY:Exhibition:Ida: Darwinius masillae
DESCRIPTION:\"Ida\,\" a new exhibit in the Exhibit Museum's Rotunda\, displays a high-resolution cast of an extremely rare  fossil discovered in 1983 near Messel\, Germany\, but only recently made available for study. The fossil has  proven to be a “link” between the prosimian and simian (\"anthropoid\") primate lineages. It has \"advanced\"  front teeth (incisors and canines) and second toes like those of monkeys\, and is broadly representative of what  human primate ancestors may have looked like during the Eocene epoch 47 million years ago.     Ida (prounded \"eeda\") is named after after the daughter of Dr JÃ¸rn Hurum\, the Norwegian vertebrate  paleontologist who secured one section of the fossil from an anonymous owner\, and led the research. Ida was  about eight months old\, or the equivalent of a six-year-old human.     Publication of a paper on the discovery was accompanied by a book\, The Link: Uncovering Our Earliest  Ancestors by Colin Tudge\, and a documentary shown on the History Channel (US)\, BBC One (UK)\,and various  stations in Germany and Norway.     U-M paleontologist Philip Gingerich and U-M anthropologist B. Holly Smith were two members of the \"dream  team\" invited to study Ida. The exhibit will be on display through May 2010.
UID:2124-918405@events.umich.edu
URL:https://events.umich.edu/event/2124
CLASS:PUBLIC
STATUS:CONFIRMED
CATEGORIES:welcome week,visual arts,multicultural
LOCATION:
CONTACT:
END:VEVENT
BEGIN:VEVENT
DTSTAMP:20101111T175638
DTSTART;TZID=America/Detroit:20091209T100000
SUMMARY:Exhibition:(Un)Natural History: The Museum Unveiled
DESCRIPTION:September 12 through December 6\, 2009\n\nRichard Barnes's series of photographs Animal Logic examines the role the museum plays in our understanding of ourselves through the acts of collecting\, preservation\, and display. Images from this large body of work include photographs of the collections from the Smithsonian Institution\, the Museum of Comparative Anatomy in Paris\, the Canadian Museum of Natural History\, and the San Francisco Academy of Science. (Un)Natural History focuses primarily on the natural history museum and by extension collecting institutions in general\, providing a kind of behind-the-scenes look at museum practice and display.\n\nThis exhibition will coincide with the UM LSA Theme Semester Meaningful Objects: Museums and the Academy. UMMA's presentation is projected to serve as part of a three-venue project highlighting different aspects of Barnes's work in partnership with the UM Institute for the Humanities–who have selected Richard Barnes as the Paula and Edwin Sidman Fellow in the Arts for 2009–and the Cranbrook Institute of Science in Bloomfield Hills\, Michigan.
UID:648-912222@events.umich.edu
URL:https://events.umich.edu/event/648
CLASS:PUBLIC
STATUS:CONFIRMED
CATEGORIES:visual arts
LOCATION:Museum of Art
CONTACT:
END:VEVENT
BEGIN:VEVENT
DTSTAMP:20101111T175600
DTSTART;TZID=America/Detroit:20091209T100000
DTEND;TZID=America/Detroit:20091209T170000
SUMMARY:Exhibition:Stearns Collection of Music
DESCRIPTION:The Stearns Collection at the School of Music\, Theatre & Dance is one of six major collections of musical instruments in North America. The 2\,500-piece collection is internationally known and is a resource for musical and cultural education.
UID:3790-909170@events.umich.edu
URL:https://events.umich.edu/event/3790
CLASS:PUBLIC
STATUS:CONFIRMED
CATEGORIES:
LOCATION:Earl V. Moore Building
CONTACT:
END:VEVENT
BEGIN:VEVENT
DTSTAMP:20090708T120930
DTSTART;TZID=America/Detroit:20091209T100000
SUMMARY:Exhibition:The Lens of Impressionism
DESCRIPTION:October 10\, 2009 through January 3\, 2010\n\nThis exhibition advances a new argument for the origins of what was called “the new painting\,” namely that a unique convergence of forces–social\, artistic\, technological\, and commercial–along the Normandy coast of France dramatically transformed the course of photography and painting (as well as of the region itself). Within this framework\, the invention of the camera and the development of early fine art photography in that particular setting will be seen as the specific catalysts that brought about a new approach to painting.\n\nThe project will showcase paintings\, photographs\, and drawings by some of the most treasured artists in the Western canon–Gustave Courbet\, Edouard Manet\, Edgar Degas\, and Claude Monet among them–as well as pioneering photographers such as Gustave Le Gray and Henri Le Secq. Inspired by the scenic Normandy coast of France\, these works–including representations of beach scenes\, seascapes\, fishing villages\, resorts\, and the region's pastoral beauty–will be brought together with archival materials related to early tourism and regional expressions of French nationalism from popular culture for an innovative examination of the impact of the then-new medium of photography on ideas of image making\, the recording of passing time\, the capacities of painting\, and the rise of Impressionism itself.\n\nOrganized by UMMA\, this exhibition is made possible in part by the Florence Gould Foundation\, the National Endowment for the Arts\, Masco Corporation\, and the University of Michigan's Office of the Provost and Office of the Vice President for Research. Additional support has been provided by the family of Raymond F. Cunningham in his memory. Following its showing in Ann Arbor\, the exhibition will travel to the Dallas Museum of Art.
UID:2436-919933@events.umich.edu
URL:https://events.umich.edu/event/2436
CLASS:PUBLIC
STATUS:CONFIRMED
CATEGORIES:visual arts
LOCATION:Museum of Art
CONTACT:
END:VEVENT
BEGIN:VEVENT
DTSTAMP:20101111T175601
DTSTART;TZID=America/Detroit:20091209T120000
DTEND;TZID=America/Detroit:20091209T130000
SUMMARY:Other:Jews\, Food\, and Sustainability- what do these have in common?
DESCRIPTION:Be part of a lunchtime discussion group that will study and discuss the Hazon sourcebook \"Food for Thought.\" FRIDAYS\, 12-1:00 pm\, until December 11 at the commons area of the School of Natural Resources and Environment in the Dana Building. For more information contact Tilly @tillys@umich.edu.
UID:80-909348@events.umich.edu
URL:https://events.umich.edu/event/80
CLASS:PUBLIC
STATUS:CONFIRMED
CATEGORIES:social justice
LOCATION:Dana Natural Resources  Building - Commons Area
CONTACT:
END:VEVENT
BEGIN:VEVENT
DTSTAMP:20101111T175744
DTSTART;TZID=America/Detroit:20091209T130000
DTEND;TZID=America/Detroit:20091209T150000
SUMMARY:Workshop / Seminar:Creating Professional-looking Conference Posters
DESCRIPTION:In this workshop\, participants will learn how to use Adobe Illustrator to create high quality\, eye-catching posters. Participants will learn techniques for organizing materials and printing posters on the large format color printer located in GroundWorks\, the Media Conversion Lab at the Duderstadt Center. Basic computer skills are required\, but no prior experience with graphics applications is necessary. Regardless of the type of computer used in this session\, everything covered is applicable whether you normally use a Mac or a Windows PC.
UID:1737-916563@events.umich.edu
URL:https://events.umich.edu/event/1737
CLASS:PUBLIC
STATUS:CONFIRMED
CATEGORIES:
LOCATION:Duderstadt Center - 3336
CONTACT:
END:VEVENT
BEGIN:VEVENT
DTSTAMP:20101111T175739
DTSTART;TZID=America/Detroit:20091209T170000
DTEND;TZID=America/Detroit:20091209T210000
SUMMARY:Other:M Rock Free Clmbing Day
DESCRIPTION:
UID:1618-916252@events.umich.edu
URL:https://events.umich.edu/event/1618
CLASS:PUBLIC
STATUS:CONFIRMED
CATEGORIES:
LOCATION:Intramural Sports Building
CONTACT:
END:VEVENT
BEGIN:VEVENT
DTSTAMP:20091206T002120
DTSTART;TZID=America/Detroit:20091209T180000
DTEND;TZID=America/Detroit:20091209T193000
SUMMARY:Presentation:How to Effectively and Accurately Market Yourself On Your Resume
DESCRIPTION:Ever wondered how to accurately and effectively communicate your experiences and  skills on your resume? If you have\, then come to this resume workshop sponsored by  the LSA Honor Council and The Career Center.\n\nThis event will be catered by NYPD pizza and Rendezvous Cafe.
UID:2744-920456@events.umich.edu
URL:https://events.umich.edu/event/2744
CLASS:PUBLIC
STATUS:CONFIRMED
CATEGORIES:
LOCATION:Student Activities Building - Rm 3200 Career Center conference room
CONTACT:
END:VEVENT
BEGIN:VEVENT
DTSTAMP:20101111T175800
DTSTART;TZID=America/Detroit:20091209T190000
DTEND;TZID=America/Detroit:20091209T203000
SUMMARY:Conference / Symposium:9s Politics of Writing Lecture. “How to Make a Revolution: A Guide to Romania’s Fin-de-Siècle Media Spectacle as Performed by a Dying Regime\, a Willing Populace\, and the International Press Corps.”
DESCRIPTION:Further Information:\n\nAbout his lecture\, Andrei Codrescu writes\, “I covered the events in Romania in 1989-1990 for NPR and ABC News\, and I documented the return to my native country in The Hole in the Flag: an Exile's Story of Return & Revolution (Morrow 1991\, Avon 1992). I have returned numerous times since and I started writing in Romanian again\, picking up the thread severed at age 19 in 1965. Now\, twenty years after the coup\, or “revolution” that ended in the execution of Nicolae and Elena Ceausescu\, Romania is a different country\, a member of the European Union\, and an ardent convert to capitalism. My talk will focus on reality and appearances in Romania\, and the role of the media\, of which I am a part\, in shaping the images of the “revolution” and those of the new Romania.”\n\nAndrei Codrescu's career spans four decades as novelist\, poet\, journalist\, filmmaker\, commentator\, and educator. His work has been distinguished with numerous awards\, including the Peabody Award and the Pushcart Prize. He was MacCurdy Distinguished Professor of English at Louisiana State University from 1984 until 2009\, and continues to edit Exquisite Corpse: A Journal of Life and Letters\, an online journal he founded at LSU in 1983. His most recent book is The Posthuman Dada Guide: tzara and lenin play chess (Princeton 2009).\n\n“The Nines: Brinks\, Cusps\, and Perceptions of Possibility–from 1789–2009” In Fall 2009\, the Weiser Center for Europe and Eurasia\, along with other partnering units at the University of Michigan\, will present programs exploring the relationship between world-historic events and the alternative futures they inspired. From the explosion of alternatives in 1919 to the normalization of democratic destinies in 1989\, from the crisis of 1929 to the anxieties of 2009\, this series will delve into the many iconic “nines” of the modern era.\n\nDescription: Andrei Codrescu\, poet\, essayist\, and novelist. Sponsors: CREES\, Avant Garde Interest Group\, CES-EUC\, Department of English\, GLL\, International Institute\, MFA in Creative Writing Program.
UID:3858-917822@events.umich.edu
URL:https://events.umich.edu/event/3858
CLASS:PUBLIC
STATUS:CONFIRMED
CATEGORIES:
LOCATION:Rackham Graduate School (Horace H.) - Auditorium
CONTACT:
END:VEVENT
BEGIN:VEVENT
DTSTAMP:20091209T030002
DTSTART;TZID=America/Detroit:20091209T200000
SUMMARY:Other:Concert Band
DESCRIPTION:Rodney Dorsey\, conductor.  PROGRAM: Grainger - Children’s March\; Ticheli - Sanctuary\; Corigliano - Gazebo Dances\; Krommer - Partita in B-flat Major\, Op. 45\, No. 3\; Freund - Jug Blues and Fat Pickin’\; Gould - Symphony for Band
UID:279-909667@events.umich.edu
URL:https://events.umich.edu/event/279
CLASS:PUBLIC
STATUS:CONFIRMED
CATEGORIES:music
LOCATION:Hill Auditorium -  
CONTACT:
END:VEVENT
BEGIN:VEVENT
DTSTAMP:20091209T030002
DTSTART;TZID=America/Detroit:20091209T200000
SUMMARY:Other:Michigan Mobile Phone Ensemble
DESCRIPTION:The Michigan Mobile Phone Ensemble (or MiPhos) is presenting its premiere public concert featuring all new works by students in Performing Arts Technology and Electrical Engineering and Computer Science at the University of Michigan.MiPhos was developed during a new multi-disciplinary course taught during the Fall 2009 semester. It merges engineering practices\, mobile phone programming\, and sound synthesis with new music performance\, composition and interactive media arts. Students designed and developed their own new mobile phone instruments and composed new electronic music works exploring the creative potential of their own technical creations.All new works written and performed by: Owen Campbell\, Justin Crowell\, Rishi  Daftuar\, Sivan Jacobovitz\, Devin Kerr\, Eric Lapointe\, Colin Neville\, Matthew Steele\, Raphael Szymanski\, Nathan Zukoff\, Colin Zyskowski.
UID:2763-921135@events.umich.edu
URL:https://events.umich.edu/event/2763
CLASS:PUBLIC
STATUS:CONFIRMED
CATEGORIES:music
LOCATION:Earl V. Moore Building - Britton Recital Hall
CONTACT:
END:VEVENT
BEGIN:VEVENT
DTSTAMP:20091209T030002
DTSTART;TZID=America/Detroit:20091209T200000
SUMMARY:Other:Orpheus Singers
DESCRIPTION:Bach Concert: Motet 6 (Lobet den Herrn)\; Cantatas 70 and 147 (including \"Jesu\, joy of man's desiring\")
UID:2131-917192@events.umich.edu
URL:https://events.umich.edu/event/2131
CLASS:PUBLIC
STATUS:CONFIRMED
CATEGORIES:music
LOCATION:Walgreen Drama Center - Stamps Auditorium
CONTACT:
END:VEVENT
END:VCALENDAR