BEGIN:VCALENDAR
VERSION:2.0
PRODID:-//UM//UM*Events//EN
CALSCALE:GREGORIAN
BEGIN:VTIMEZONE
TZID:America/Detroit
TZURL:http://tzurl.org/zoneinfo/America/Detroit
X-LIC-LOCATION:America/Detroit
BEGIN:DAYLIGHT
TZOFFSETFROM:-0500
TZOFFSETTO:-0400
TZNAME:EDT
DTSTART:20070311T020000
RRULE:FREQ=YEARLY;BYMONTH=3;BYDAY=2SU
END:DAYLIGHT
BEGIN:STANDARD
TZOFFSETFROM:-0400
TZOFFSETTO:-0500
TZNAME:EST
DTSTART:20071104T020000
RRULE:FREQ=YEARLY;BYMONTH=11;BYDAY=1SU
END:STANDARD
END:VTIMEZONE
BEGIN:VEVENT
DTSTAMP:20101111T175755
DTSTART;TZID=America/Detroit:20091210T000000
SUMMARY:Exhibition:Exhibit
DESCRIPTION:Economic crises on an international scale are not new\, and President Ford inherited a tough one in 1974. A new exhibit at the Ford Library in Ann Arbor shows how he attacked a troubling brew of inflation\, recession\, budget deficits and oil supply worries. This exhibit features rarely seen artifacts and archival materials from the Ford Library and Museum collections.
UID:3853-917315@events.umich.edu
URL:https://events.umich.edu/event/3853
CLASS:PUBLIC
STATUS:CONFIRMED
CATEGORIES:
LOCATION:Gerald Ford Library
CONTACT:
END:VEVENT
BEGIN:VEVENT
DTSTAMP:20100110T230807
DTSTART;TZID=America/Detroit:20091210T000000
SUMMARY:Auditions:Human Rights and The Humanities Art Exhibit-CALL FOR SUBMISSION
DESCRIPTION:CALL FOR ART  GOT ART? WE WANT TO SHOWCASE YOUR WORK. We are collecting art to  exhibit as part of our 2010 conference\, Human Rights & the Humanities\, to be held February 5 &  6 at the Michigan Union in Ann Arbor. We are looking for artwork that addresses human rights  issues in creative and effective ways. All artwork is welcomed for submission but due to space  restrictions\, we can only accommodate certain mediums. Please refer to the attached guidelines  or contact hrteandarts@umich.edu for more details!  Sponsored by Human Rights Through  Education      University of Michigan-Ann Arbor).  EMAIL ALL SUBMISSIONS TO  hrteandarts@umich.edu
UID:555-911810@events.umich.edu
URL:https://events.umich.edu/event/555
CLASS:PUBLIC
STATUS:CONFIRMED
CATEGORIES:architecture,film,literary arts,multicultural,social justice,visual arts
LOCATION:Michigan Union - Outside of Amer&#039;s
CONTACT:
END:VEVENT
BEGIN:VEVENT
DTSTAMP:20101111T175620
DTSTART;TZID=America/Detroit:20091210T000000
SUMMARY:Exhibition:Permanent Exhibits at the Exhibit Museum of Natural History
DESCRIPTION:The Hall of Evolution houses Michigan's largest display of prehistoric life. More than 600 million years of life on Earth are traced through fossils\, models and dioramas. The Michigan Wildlife Gallery has a large collection of native Great Lakes birds\, mammals\, reptiles\, and amphibians\, with taxidermy mounts\, habitat scenes\, and the largest mastodon trackway on display in the world. There are also displays about some of the environmental problems faced in this region today. The Anthropology Displays feature artifacts from human cultures around the world. The Geology Displays on the fourth floor offer a large selection of rocks\, minerals and gems. These displays are updated periodically. For more information go to www.lsa.umich.edu/exhibitmuseum/exhibits/permexhibits or call 734-764-0480.
UID:452-910791@events.umich.edu
URL:https://events.umich.edu/event/452
CLASS:PUBLIC
STATUS:CONFIRMED
CATEGORIES:
LOCATION:Ruthven Museums Building
CONTACT:
END:VEVENT
BEGIN:VEVENT
DTSTAMP:20101111T175759
DTSTART;TZID=America/Detroit:20091210T080000
DTEND;TZID=America/Detroit:20091210T170000
SUMMARY:Exhibition:History of Dentistry exhibits at the Sindecuse Museum of Dentistry
DESCRIPTION:Exhibits at the Sindecuse Museum of Dentistry include Dental Operatories of the 1860s to 1930s\, St. Apollonia-Patron Saint of Dentistry and more. Call 763-0767 or go to www.dent.umich.edu/museum for more information.
UID:3856-917654@events.umich.edu
URL:https://events.umich.edu/event/3856
CLASS:PUBLIC
STATUS:CONFIRMED
CATEGORIES:
LOCATION:Dental & W.K. Kellogg Institute
CONTACT:
END:VEVENT
BEGIN:VEVENT
DTSTAMP:20091029T160553
DTSTART;TZID=America/Detroit:20091210T090000
DTEND;TZID=America/Detroit:20091210T170000
SUMMARY:Exhibition:Book of Iterations
DESCRIPTION:This provocative exhibition is comprised of two “bone books” made of horse  skeletons and covered in hand-written texts\, burnished in gold leaf\, and shod in  silver shoes.  Three bridled horse skulls inscribed and leafed become cabinets for  ephemeral objects and imagery clasped in the hands of priest figures dominating  war landscapes.\n\nInscribed text references medieval and early modern Christianity from the first and  second world war\, and archival texts\, produced in the 1870's in the now extinct  Bushman language “ |xam.” \n\nThrough themes of sacrifice and redemption\, the artist explores relic and archive in  the context of writing and language\, and considers the interchange between text  and textuality\, the visible and the invisible world.\n\nThe exhibition maps out the imaginary boundaries and landmarks of the  miraculous history of the book\, what it might look like\, and where it might lead us  in an ongoing journey.\n\nPippa Skotnes is the Andrew W. Mellon Fellow at the U-M Institute for the  Humanities. She is professor of fine art and director of the Center for Curating the  Archive at the Michaelis School of Fine Art\, University of Capetown\, South  Africa.\n\nProfessor Skotnes will be also be presenting the Wednesday Night Museums  lecture “Curating the Archive: Representing Scattered Collections of the Colonial  Past\,” on December 2\, 2009\, 7:30\, Helmut Stern Auditorium\, University of Michigan  Museum of Art.\n\nA corresponding conference\, “Archive\, Museum\, and the Safe House of Language”  takes place on Thursday\, December 3\, 2009\, 9am-4:30pm at the Institute for the  Humanities\, room 2022\, 202 S. Thayer\, Ann Arbor.
UID:1615-915487@events.umich.edu
URL:https://events.umich.edu/event/1615
CLASS:PUBLIC
STATUS:CONFIRMED
CATEGORIES:visual arts,multicultural,literary arts
LOCATION:202 S. Thayer - 1010
CONTACT:
END:VEVENT
BEGIN:VEVENT
DTSTAMP:20090722T143534
DTSTART;TZID=America/Detroit:20091210T090000
DTEND;TZID=America/Detroit:20091210T170000
SUMMARY:Exhibition:Ida: Darwinius masillae
DESCRIPTION:\"Ida\,\" a new exhibit in the Exhibit Museum's Rotunda\, displays a high-resolution cast of an extremely rare  fossil discovered in 1983 near Messel\, Germany\, but only recently made available for study. The fossil has  proven to be a “link” between the prosimian and simian (\"anthropoid\") primate lineages. It has \"advanced\"  front teeth (incisors and canines) and second toes like those of monkeys\, and is broadly representative of what  human primate ancestors may have looked like during the Eocene epoch 47 million years ago.     Ida (prounded \"eeda\") is named after after the daughter of Dr JÃ¸rn Hurum\, the Norwegian vertebrate  paleontologist who secured one section of the fossil from an anonymous owner\, and led the research. Ida was  about eight months old\, or the equivalent of a six-year-old human.     Publication of a paper on the discovery was accompanied by a book\, The Link: Uncovering Our Earliest  Ancestors by Colin Tudge\, and a documentary shown on the History Channel (US)\, BBC One (UK)\,and various  stations in Germany and Norway.     U-M paleontologist Philip Gingerich and U-M anthropologist B. Holly Smith were two members of the \"dream  team\" invited to study Ida. The exhibit will be on display through May 2010.
UID:2124-918406@events.umich.edu
URL:https://events.umich.edu/event/2124
CLASS:PUBLIC
STATUS:CONFIRMED
CATEGORIES:welcome week,visual arts,multicultural
LOCATION:
CONTACT:
END:VEVENT
BEGIN:VEVENT
DTSTAMP:20101111T175638
DTSTART;TZID=America/Detroit:20091210T100000
SUMMARY:Exhibition:(Un)Natural History: The Museum Unveiled
DESCRIPTION:September 12 through December 6\, 2009\n\nRichard Barnes's series of photographs Animal Logic examines the role the museum plays in our understanding of ourselves through the acts of collecting\, preservation\, and display. Images from this large body of work include photographs of the collections from the Smithsonian Institution\, the Museum of Comparative Anatomy in Paris\, the Canadian Museum of Natural History\, and the San Francisco Academy of Science. (Un)Natural History focuses primarily on the natural history museum and by extension collecting institutions in general\, providing a kind of behind-the-scenes look at museum practice and display.\n\nThis exhibition will coincide with the UM LSA Theme Semester Meaningful Objects: Museums and the Academy. UMMA's presentation is projected to serve as part of a three-venue project highlighting different aspects of Barnes's work in partnership with the UM Institute for the Humanities–who have selected Richard Barnes as the Paula and Edwin Sidman Fellow in the Arts for 2009–and the Cranbrook Institute of Science in Bloomfield Hills\, Michigan.
UID:648-912223@events.umich.edu
URL:https://events.umich.edu/event/648
CLASS:PUBLIC
STATUS:CONFIRMED
CATEGORIES:visual arts
LOCATION:Museum of Art
CONTACT:
END:VEVENT
BEGIN:VEVENT
DTSTAMP:20101111T175600
DTSTART;TZID=America/Detroit:20091210T100000
DTEND;TZID=America/Detroit:20091210T170000
SUMMARY:Exhibition:Stearns Collection of Music
DESCRIPTION:The Stearns Collection at the School of Music\, Theatre & Dance is one of six major collections of musical instruments in North America. The 2\,500-piece collection is internationally known and is a resource for musical and cultural education.
UID:3790-909171@events.umich.edu
URL:https://events.umich.edu/event/3790
CLASS:PUBLIC
STATUS:CONFIRMED
CATEGORIES:
LOCATION:Earl V. Moore Building
CONTACT:
END:VEVENT
BEGIN:VEVENT
DTSTAMP:20090708T120930
DTSTART;TZID=America/Detroit:20091210T100000
SUMMARY:Exhibition:The Lens of Impressionism
DESCRIPTION:October 10\, 2009 through January 3\, 2010\n\nThis exhibition advances a new argument for the origins of what was called “the new painting\,” namely that a unique convergence of forces–social\, artistic\, technological\, and commercial–along the Normandy coast of France dramatically transformed the course of photography and painting (as well as of the region itself). Within this framework\, the invention of the camera and the development of early fine art photography in that particular setting will be seen as the specific catalysts that brought about a new approach to painting.\n\nThe project will showcase paintings\, photographs\, and drawings by some of the most treasured artists in the Western canon–Gustave Courbet\, Edouard Manet\, Edgar Degas\, and Claude Monet among them–as well as pioneering photographers such as Gustave Le Gray and Henri Le Secq. Inspired by the scenic Normandy coast of France\, these works–including representations of beach scenes\, seascapes\, fishing villages\, resorts\, and the region's pastoral beauty–will be brought together with archival materials related to early tourism and regional expressions of French nationalism from popular culture for an innovative examination of the impact of the then-new medium of photography on ideas of image making\, the recording of passing time\, the capacities of painting\, and the rise of Impressionism itself.\n\nOrganized by UMMA\, this exhibition is made possible in part by the Florence Gould Foundation\, the National Endowment for the Arts\, Masco Corporation\, and the University of Michigan's Office of the Provost and Office of the Vice President for Research. Additional support has been provided by the family of Raymond F. Cunningham in his memory. Following its showing in Ann Arbor\, the exhibition will travel to the Dallas Museum of Art.
UID:2436-919934@events.umich.edu
URL:https://events.umich.edu/event/2436
CLASS:PUBLIC
STATUS:CONFIRMED
CATEGORIES:visual arts
LOCATION:Museum of Art
CONTACT:
END:VEVENT
BEGIN:VEVENT
DTSTAMP:20101111T175624
DTSTART;TZID=America/Detroit:20091210T110000
DTEND;TZID=America/Detroit:20091210T130000
SUMMARY:Performance:Beats N' Eats
DESCRIPTION:Enjoy the relaxing sounds of talented U-M student performers over lunch! Beats N' Eats takes place every Thursday from 11a-1p in either the Union MUG or League Underground. Interested in performance opportunities? Contact University Unions Arts & Programs at uuap@umich.edu or 734-763-3202.
UID:552-911069@events.umich.edu
URL:https://events.umich.edu/event/552
CLASS:PUBLIC
STATUS:CONFIRMED
CATEGORIES:music
LOCATION:Michigan League - Underground
CONTACT:
END:VEVENT
BEGIN:VEVENT
DTSTAMP:20101111T175806
DTSTART;TZID=America/Detroit:20091210T120000
SUMMARY:Performance:Gifts of Art Holiday Violin Recital
DESCRIPTION:Instructors Wendy Azrak and Anna Bittar\, from the Ann Arbor Suzuki Institute\, present a program of their violin student's work. The students learn music using Dr. Shinichi Suzuki's idea that \"Every child can learn\,\" and they range in ages from 3-18. Both instructors have private as well as group lessons. The group also performs a holiday concert each year at the Power Center before the Nutcracker ballet.
UID:2118-918167@events.umich.edu
URL:https://events.umich.edu/event/2118
CLASS:PUBLIC
STATUS:CONFIRMED
CATEGORIES:music
LOCATION:University Hospitals - Main Lobby, Floor 1
CONTACT:
END:VEVENT
BEGIN:VEVENT
DTSTAMP:20101111T175601
DTSTART;TZID=America/Detroit:20091210T120000
DTEND;TZID=America/Detroit:20091210T130000
SUMMARY:Other:Jews\, Food\, and Sustainability- what do these have in common?
DESCRIPTION:Be part of a lunchtime discussion group that will study and discuss the Hazon sourcebook \"Food for Thought.\" FRIDAYS\, 12-1:00 pm\, until December 11 at the commons area of the School of Natural Resources and Environment in the Dana Building. For more information contact Tilly @tillys@umich.edu.
UID:80-909349@events.umich.edu
URL:https://events.umich.edu/event/80
CLASS:PUBLIC
STATUS:CONFIRMED
CATEGORIES:social justice
LOCATION:Dana Natural Resources  Building - Commons Area
CONTACT:
END:VEVENT
BEGIN:VEVENT
DTSTAMP:20091102T150050
DTSTART;TZID=America/Detroit:20091210T153000
DTEND;TZID=America/Detroit:20091210T173000
SUMMARY:Lecture / Discussion:Department of Astronomy Colloquia Series
DESCRIPTION:A weekly lecture series with Astronomy or Astrophysics related topics. Please see  department website for featured speaker and lecture topic. There will be a brief  reception with light refreshments preceding the lecture in room 845 Dennison from  3:30-4:00 pm.
UID:1689-915701@events.umich.edu
URL:https://events.umich.edu/event/1689
CLASS:PUBLIC
STATUS:CONFIRMED
CATEGORIES:
LOCATION:Weiser Hall - 807
CONTACT:
END:VEVENT
BEGIN:VEVENT
DTSTAMP:20091124T102633
DTSTART;TZID=America/Detroit:20091210T160000
DTEND;TZID=America/Detroit:20091210T173000
SUMMARY:Presentation:9s Conversations on Europe/CREES Lecture.
DESCRIPTION:Grigore Pop-Eleches\, assistant professor of politics and public and international affairs\, Woodrow Wilson School of Public and International Affairs\, Princeton University. Sponsors: CES-EUC\, CREES\, WCED.\n\nPart of “The Nines: Brinks\, Cusps\, and Perceptions of Possibility–from 1789–2009”
UID:77-909905@events.umich.edu
URL:https://events.umich.edu/event/77
CLASS:PUBLIC
STATUS:CONFIRMED
CATEGORIES:
LOCATION:School of Social Work Building - 1636 II
CONTACT:
END:VEVENT
BEGIN:VEVENT
DTSTAMP:20101111T175848
DTSTART;TZID=America/Detroit:20091210T190000
DTEND;TZID=America/Detroit:20091210T200000
SUMMARY:Meeting:Circle K Meeting
DESCRIPTION:Learn about how you can serve the community! Circle K sponsors numerous community service projects daily that fit your schedule. This year our service hour goal is 10\,000 service hours. You can also be a part of this because anyone can volunteer with us. To find out how you can get involved you can attend a meeting or sign up for our community service projects at umcirclek.org/calendar.php. At our meetings\, you will also be able to interact with our members. We try our best to bring a sense of community to everyone. An optional social will also follow the meeting. Come learn about how you can help out and meet new people! Service really does come full circle!
UID:2929-920755@events.umich.edu
URL:https://events.umich.edu/event/2929
CLASS:PUBLIC
STATUS:CONFIRMED
CATEGORIES:
LOCATION:Michigan Union - Anderson Room
CONTACT:
END:VEVENT
BEGIN:VEVENT
DTSTAMP:20091210T030002
DTSTART;TZID=America/Detroit:20091210T193000
SUMMARY:Other:Macbeth
DESCRIPTION:Dept. of Theatre & Drama.  by William Shakespeare.  Directed by Philip Kerr What happens when ambition eclipses civility? The classic tragedy about one couple’s ruthless pursuit of power.  Tickets available at the League Ticket Office 734-764-2538.
UID:1269-914897@events.umich.edu
URL:https://events.umich.edu/event/1269
CLASS:PUBLIC
STATUS:CONFIRMED
CATEGORIES:theater,music
LOCATION:Power Center for the Performing Arts -  
CONTACT:
END:VEVENT
BEGIN:VEVENT
DTSTAMP:20091210T030002
DTSTART;TZID=America/Detroit:20091210T193000
SUMMARY:Other:See Rock City and Other Destinations
DESCRIPTION:Dept. of Musical Theatre Studio Production  by Brad Alexander and Adam Mathias.  Directed by Brent Wagner Music Direction by Cynthia Kortman Westphal   League Ticket Office  734-764-2538.
UID:1893-916049@events.umich.edu
URL:https://events.umich.edu/event/1893
CLASS:PUBLIC
STATUS:CONFIRMED
CATEGORIES:theater,music
LOCATION:Walgreen Drama Center - Arthur Miller Theatre
CONTACT:
END:VEVENT
BEGIN:VEVENT
DTSTAMP:20101111T175831
DTSTART;TZID=America/Detroit:20091210T200000
SUMMARY:Performance:Bill Kirchen Honky-Tonk Holiday wsg George Bedard
DESCRIPTION:
UID:2381-919733@events.umich.edu
URL:https://events.umich.edu/event/2381
CLASS:PUBLIC
STATUS:CONFIRMED
CATEGORIES:music
LOCATION:
CONTACT:
END:VEVENT
BEGIN:VEVENT
DTSTAMP:20101111T175722
DTSTART;TZID=America/Detroit:20091210T200000
DTEND;TZID=America/Detroit:20091210T220000
SUMMARY:Other:Challah Tasting
DESCRIPTION:Who knew challah could come in so many flavors? Take a break from studying for finals and enjoy delicious homemade food with your friends at Hillel on December 10 from 8:00-10:00 pm. Event is free\, but donations are accepted and there will be raffles and contests to win challot. All proceeds benefit Challah For Hunger and Will Work For Food. Join the Facebook Group! See you there!
UID:1399-915063@events.umich.edu
URL:https://events.umich.edu/event/1399
CLASS:PUBLIC
STATUS:CONFIRMED
CATEGORIES:
LOCATION:
CONTACT:
END:VEVENT
BEGIN:VEVENT
DTSTAMP:20091210T030003
DTSTART;TZID=America/Detroit:20091210T200000
SUMMARY:Other:Dance and Related Arts Show
DESCRIPTION:An evening of experimental theater incorporating dance\, video\, text and sound.
UID:2478-920077@events.umich.edu
URL:https://events.umich.edu/event/2478
CLASS:PUBLIC
STATUS:CONFIRMED
CATEGORIES:dance,music
LOCATION:Dance Building - Betty Pease Studio Theatre
CONTACT:
END:VEVENT
BEGIN:VEVENT
DTSTAMP:20101111T175826
DTSTART;TZID=America/Detroit:20091210T200000
DTEND;TZID=America/Detroit:20091210T220000
SUMMARY:Class / Instruction:Michigan's Best Dance Crew
DESCRIPTION:Many auditioned\, and few were chosen. Come witness the top dance crews on UofM's campus compete for $450 in prizes! Winners are based on the audience's vote\; so bring friends and cheer on the top dance crews.
UID:2612-919353@events.umich.edu
URL:https://events.umich.edu/event/2612
CLASS:PUBLIC
STATUS:CONFIRMED
CATEGORIES:
LOCATION:Michigan Union - Ballroom
CONTACT:
END:VEVENT
BEGIN:VEVENT
DTSTAMP:20091210T030003
DTSTART;TZID=America/Detroit:20091210T200000
SUMMARY:Other:Senior Directing Theses:  O Lovely Glowworm
DESCRIPTION:Laura Przybysz's senior directing thesis 'O Lovely Glowworm' is a tragicomic and absurd play that includes everything from Irish accents\, talking goats\, floating worms\, an intellectual mermaid\, and really big guns – it will take the audience on a journey of emotional turmoil and remind us all of the power of hope.
UID:1854-916012@events.umich.edu
URL:https://events.umich.edu/event/1854
CLASS:PUBLIC
STATUS:CONFIRMED
CATEGORIES:theater,music
LOCATION:Walgreen Drama Center - Studio One
CONTACT:
END:VEVENT
BEGIN:VEVENT
DTSTAMP:20101111T175754
DTSTART;TZID=America/Detroit:20091210T203000
DTEND;TZID=America/Detroit:20091210T223000
SUMMARY:Performance:Jazz Jam
DESCRIPTION:Ever wish you could study to the soothing sounds of a live jazz quartet? Now you can! Come grab a seat\, a FREE cup of coffee\, and enjoy the jammin' sounds of student musicians from the Department of Jazz and Contemporary Improvisation. Play an instrument or sing? This is also an open jam session! Bring your instrument(s) of choice and sign up to get your turn playing alongside the house band--you call the tunes!
UID:2128-917184@events.umich.edu
URL:https://events.umich.edu/event/2128
CLASS:PUBLIC
STATUS:CONFIRMED
CATEGORIES:music
LOCATION:Pierpont Commons - Leonardo&#039;s (across from Quizno&#039;s)
CONTACT:
END:VEVENT
END:VCALENDAR