BEGIN:VCALENDAR
VERSION:2.0
PRODID:-//UM//UM*Events//EN
CALSCALE:GREGORIAN
BEGIN:VTIMEZONE
TZID:America/Detroit
TZURL:http://tzurl.org/zoneinfo/America/Detroit
X-LIC-LOCATION:America/Detroit
BEGIN:DAYLIGHT
TZOFFSETFROM:-0500
TZOFFSETTO:-0400
TZNAME:EDT
DTSTART:20070311T020000
RRULE:FREQ=YEARLY;BYMONTH=3;BYDAY=2SU
END:DAYLIGHT
BEGIN:STANDARD
TZOFFSETFROM:-0400
TZOFFSETTO:-0500
TZNAME:EST
DTSTART:20071104T020000
RRULE:FREQ=YEARLY;BYMONTH=11;BYDAY=1SU
END:STANDARD
END:VTIMEZONE
BEGIN:VEVENT
DTSTAMP:20100110T230807
DTSTART;TZID=America/Detroit:20091212T000000
SUMMARY:Auditions:Human Rights and The Humanities Art Exhibit-CALL FOR SUBMISSION
DESCRIPTION:CALL FOR ART  GOT ART? WE WANT TO SHOWCASE YOUR WORK. We are collecting art to  exhibit as part of our 2010 conference\, Human Rights & the Humanities\, to be held February 5 &  6 at the Michigan Union in Ann Arbor. We are looking for artwork that addresses human rights  issues in creative and effective ways. All artwork is welcomed for submission but due to space  restrictions\, we can only accommodate certain mediums. Please refer to the attached guidelines  or contact hrteandarts@umich.edu for more details!  Sponsored by Human Rights Through  Education      University of Michigan-Ann Arbor).  EMAIL ALL SUBMISSIONS TO  hrteandarts@umich.edu
UID:555-911812@events.umich.edu
URL:https://events.umich.edu/event/555
CLASS:PUBLIC
STATUS:CONFIRMED
CATEGORIES:architecture,film,literary arts,multicultural,social justice,visual arts
LOCATION:Michigan Union - Outside of Amer&#039;s
CONTACT:
END:VEVENT
BEGIN:VEVENT
DTSTAMP:20101111T175620
DTSTART;TZID=America/Detroit:20091212T000000
SUMMARY:Exhibition:Permanent Exhibits at the Exhibit Museum of Natural History
DESCRIPTION:The Hall of Evolution houses Michigan's largest display of prehistoric life. More than 600 million years of life on Earth are traced through fossils\, models and dioramas. The Michigan Wildlife Gallery has a large collection of native Great Lakes birds\, mammals\, reptiles\, and amphibians\, with taxidermy mounts\, habitat scenes\, and the largest mastodon trackway on display in the world. There are also displays about some of the environmental problems faced in this region today. The Anthropology Displays feature artifacts from human cultures around the world. The Geology Displays on the fourth floor offer a large selection of rocks\, minerals and gems. These displays are updated periodically. For more information go to www.lsa.umich.edu/exhibitmuseum/exhibits/permexhibits or call 734-764-0480.
UID:452-910793@events.umich.edu
URL:https://events.umich.edu/event/452
CLASS:PUBLIC
STATUS:CONFIRMED
CATEGORIES:
LOCATION:Ruthven Museums Building
CONTACT:
END:VEVENT
BEGIN:VEVENT
DTSTAMP:20091029T160553
DTSTART;TZID=America/Detroit:20091212T090000
DTEND;TZID=America/Detroit:20091212T170000
SUMMARY:Exhibition:Book of Iterations
DESCRIPTION:This provocative exhibition is comprised of two “bone books” made of horse  skeletons and covered in hand-written texts\, burnished in gold leaf\, and shod in  silver shoes.  Three bridled horse skulls inscribed and leafed become cabinets for  ephemeral objects and imagery clasped in the hands of priest figures dominating  war landscapes.\n\nInscribed text references medieval and early modern Christianity from the first and  second world war\, and archival texts\, produced in the 1870's in the now extinct  Bushman language “ |xam.” \n\nThrough themes of sacrifice and redemption\, the artist explores relic and archive in  the context of writing and language\, and considers the interchange between text  and textuality\, the visible and the invisible world.\n\nThe exhibition maps out the imaginary boundaries and landmarks of the  miraculous history of the book\, what it might look like\, and where it might lead us  in an ongoing journey.\n\nPippa Skotnes is the Andrew W. Mellon Fellow at the U-M Institute for the  Humanities. She is professor of fine art and director of the Center for Curating the  Archive at the Michaelis School of Fine Art\, University of Capetown\, South  Africa.\n\nProfessor Skotnes will be also be presenting the Wednesday Night Museums  lecture “Curating the Archive: Representing Scattered Collections of the Colonial  Past\,” on December 2\, 2009\, 7:30\, Helmut Stern Auditorium\, University of Michigan  Museum of Art.\n\nA corresponding conference\, “Archive\, Museum\, and the Safe House of Language”  takes place on Thursday\, December 3\, 2009\, 9am-4:30pm at the Institute for the  Humanities\, room 2022\, 202 S. Thayer\, Ann Arbor.
UID:1615-915489@events.umich.edu
URL:https://events.umich.edu/event/1615
CLASS:PUBLIC
STATUS:CONFIRMED
CATEGORIES:visual arts,multicultural,literary arts
LOCATION:202 S. Thayer - 1010
CONTACT:
END:VEVENT
BEGIN:VEVENT
DTSTAMP:20090722T143534
DTSTART;TZID=America/Detroit:20091212T090000
DTEND;TZID=America/Detroit:20091212T170000
SUMMARY:Exhibition:Ida: Darwinius masillae
DESCRIPTION:\"Ida\,\" a new exhibit in the Exhibit Museum's Rotunda\, displays a high-resolution cast of an extremely rare  fossil discovered in 1983 near Messel\, Germany\, but only recently made available for study. The fossil has  proven to be a “link” between the prosimian and simian (\"anthropoid\") primate lineages. It has \"advanced\"  front teeth (incisors and canines) and second toes like those of monkeys\, and is broadly representative of what  human primate ancestors may have looked like during the Eocene epoch 47 million years ago.     Ida (prounded \"eeda\") is named after after the daughter of Dr JÃ¸rn Hurum\, the Norwegian vertebrate  paleontologist who secured one section of the fossil from an anonymous owner\, and led the research. Ida was  about eight months old\, or the equivalent of a six-year-old human.     Publication of a paper on the discovery was accompanied by a book\, The Link: Uncovering Our Earliest  Ancestors by Colin Tudge\, and a documentary shown on the History Channel (US)\, BBC One (UK)\,and various  stations in Germany and Norway.     U-M paleontologist Philip Gingerich and U-M anthropologist B. Holly Smith were two members of the \"dream  team\" invited to study Ida. The exhibit will be on display through May 2010.
UID:2124-918408@events.umich.edu
URL:https://events.umich.edu/event/2124
CLASS:PUBLIC
STATUS:CONFIRMED
CATEGORIES:welcome week,visual arts,multicultural
LOCATION:
CONTACT:
END:VEVENT
BEGIN:VEVENT
DTSTAMP:20101111T175638
DTSTART;TZID=America/Detroit:20091212T100000
SUMMARY:Exhibition:(Un)Natural History: The Museum Unveiled
DESCRIPTION:September 12 through December 6\, 2009\n\nRichard Barnes's series of photographs Animal Logic examines the role the museum plays in our understanding of ourselves through the acts of collecting\, preservation\, and display. Images from this large body of work include photographs of the collections from the Smithsonian Institution\, the Museum of Comparative Anatomy in Paris\, the Canadian Museum of Natural History\, and the San Francisco Academy of Science. (Un)Natural History focuses primarily on the natural history museum and by extension collecting institutions in general\, providing a kind of behind-the-scenes look at museum practice and display.\n\nThis exhibition will coincide with the UM LSA Theme Semester Meaningful Objects: Museums and the Academy. UMMA's presentation is projected to serve as part of a three-venue project highlighting different aspects of Barnes's work in partnership with the UM Institute for the Humanities–who have selected Richard Barnes as the Paula and Edwin Sidman Fellow in the Arts for 2009–and the Cranbrook Institute of Science in Bloomfield Hills\, Michigan.
UID:648-912225@events.umich.edu
URL:https://events.umich.edu/event/648
CLASS:PUBLIC
STATUS:CONFIRMED
CATEGORIES:visual arts
LOCATION:Museum of Art
CONTACT:
END:VEVENT
BEGIN:VEVENT
DTSTAMP:20090708T120930
DTSTART;TZID=America/Detroit:20091212T100000
SUMMARY:Exhibition:The Lens of Impressionism
DESCRIPTION:October 10\, 2009 through January 3\, 2010\n\nThis exhibition advances a new argument for the origins of what was called “the new painting\,” namely that a unique convergence of forces–social\, artistic\, technological\, and commercial–along the Normandy coast of France dramatically transformed the course of photography and painting (as well as of the region itself). Within this framework\, the invention of the camera and the development of early fine art photography in that particular setting will be seen as the specific catalysts that brought about a new approach to painting.\n\nThe project will showcase paintings\, photographs\, and drawings by some of the most treasured artists in the Western canon–Gustave Courbet\, Edouard Manet\, Edgar Degas\, and Claude Monet among them–as well as pioneering photographers such as Gustave Le Gray and Henri Le Secq. Inspired by the scenic Normandy coast of France\, these works–including representations of beach scenes\, seascapes\, fishing villages\, resorts\, and the region's pastoral beauty–will be brought together with archival materials related to early tourism and regional expressions of French nationalism from popular culture for an innovative examination of the impact of the then-new medium of photography on ideas of image making\, the recording of passing time\, the capacities of painting\, and the rise of Impressionism itself.\n\nOrganized by UMMA\, this exhibition is made possible in part by the Florence Gould Foundation\, the National Endowment for the Arts\, Masco Corporation\, and the University of Michigan's Office of the Provost and Office of the Vice President for Research. Additional support has been provided by the family of Raymond F. Cunningham in his memory. Following its showing in Ann Arbor\, the exhibition will travel to the Dallas Museum of Art.
UID:2436-919936@events.umich.edu
URL:https://events.umich.edu/event/2436
CLASS:PUBLIC
STATUS:CONFIRMED
CATEGORIES:visual arts
LOCATION:Museum of Art
CONTACT:
END:VEVENT
BEGIN:VEVENT
DTSTAMP:20101111T175903
DTSTART;TZID=America/Detroit:20091212T130000
DTEND;TZID=America/Detroit:20091212T170000
SUMMARY:Workshop / Seminar:Advanced Final Cut Pro Workshop presented by the Digital Media Commons
DESCRIPTION:This hands-on orientation is for individuals familiar with the basic operations and feature of Final Cut Pro\, as demonstrated in the Ã¬Introduction to Final Cut Pro and the Digital Media CommonsÃ­ Multimedia RoomsÃ® workshop and wants to learn more.  The training will cover advanced features and tools such as digitizing with key frames\, batch digitizing\, advanced media management\, sequence nesting\, multilayered still images\, advance trim and roll tools\, effects and titles.   Exporting to DVD applications such as iDVD and DVD Studio Pro will also be covered.  The last hour of the workshop will be a question and answer session to focus on specific needs of users.  This hands-on orientation will not authorize users to use the Multimedia Rooms.  Users will of first attended an orientation or previous workshop or can attend an orientation at another time to gain access to the Multimedia Rooms. Questions and requests for specific topics for the question and answer section of the workshop can be emailed to Steve Eberle at seberle@umich.edu.
UID:2920-921703@events.umich.edu
URL:https://events.umich.edu/event/2920
CLASS:PUBLIC
STATUS:CONFIRMED
CATEGORIES:
LOCATION:Duderstadt Center - 3336
CONTACT:
END:VEVENT
BEGIN:VEVENT
DTSTAMP:20091212T030003
DTSTART;TZID=America/Detroit:20091212T140000
SUMMARY:Other:See Rock City and Other Destinations
DESCRIPTION:Dept. of Musical Theatre Studio Production  by Brad Alexander and Adam Mathias.  Directed by Brent Wagner Music Direction by Cynthia Kortman Westphal   League Ticket Office  734-764-2538.
UID:2027-918017@events.umich.edu
URL:https://events.umich.edu/event/2027
CLASS:PUBLIC
STATUS:CONFIRMED
CATEGORIES:music,theater
LOCATION:Walgreen Drama Center - Arthur Miller Theatre
CONTACT:
END:VEVENT
BEGIN:VEVENT
DTSTAMP:20091212T030003
DTSTART;TZID=America/Detroit:20091212T140000
SUMMARY:Other:Senior Directing Theses:  O Lovely Glowworm
DESCRIPTION:Laura Przybysz's senior directing thesis 'O Lovely Glowworm' is a tragicomic and absurd play that includes everything from Irish accents\, talking goats\, floating worms\, an intellectual mermaid\, and really big guns – it will take the audience on a journey of emotional turmoil and remind us all of the power of hope.
UID:1906-916735@events.umich.edu
URL:https://events.umich.edu/event/1906
CLASS:PUBLIC
STATUS:CONFIRMED
CATEGORIES:theater,music
LOCATION:Walgreen Drama Center - Studio One
CONTACT:
END:VEVENT
BEGIN:VEVENT
DTSTAMP:20091212T030003
DTSTART;TZID=America/Detroit:20091212T140000
SUMMARY:Other:Student Recital: Katrina Deady\, piano
DESCRIPTION:PROGRAM: Bach - Prelude and Fugue in E Minor\, BWV 855\; Beethoven - Sonata in A Major\, Op. 2 No. 2\; Prokofiev - Pieces from Romeo and Juliet\; Chopin - Scherzo in C-sharp Minor\, No. 3
UID:584-911154@events.umich.edu
URL:https://events.umich.edu/event/584
CLASS:PUBLIC
STATUS:CONFIRMED
CATEGORIES:music
LOCATION:Earl V. Moore Building - Britton Recital Hall
CONTACT:
END:VEVENT
BEGIN:VEVENT
DTSTAMP:20091212T030003
DTSTART;TZID=America/Detroit:20091212T160000
SUMMARY:Other:Early Music Ensemble
DESCRIPTION:Works of de West\, Bryd\, Couperin\, Frescobaldi\, Lawes\, Telemann\, J.S. Bach\, Leclair and others.
UID:2600-920237@events.umich.edu
URL:https://events.umich.edu/event/2600
CLASS:PUBLIC
STATUS:CONFIRMED
CATEGORIES:music
LOCATION:Earl V. Moore Building - Blanche Anderson Moore Hall
CONTACT:
END:VEVENT
BEGIN:VEVENT
DTSTAMP:20091212T030003
DTSTART;TZID=America/Detroit:20091212T170000
SUMMARY:Other:Student Recital\, Katharine Ball\, soprano
DESCRIPTION:PROGRAM:  Handel - Selections from Giulio Cesare\; Debussy - FÃªtes Galantes I\; Mahler - Selections from Das Knabenwunderhorn\;Bernstein - Selections from Mass\; DvoYÃ¡kSelections from Love Songs Op. 83\; Bernstein - Extinguish My Eyes/When my soul touches yours\; Puccini - Selections from La Bohème
UID:1867-916021@events.umich.edu
URL:https://events.umich.edu/event/1867
CLASS:PUBLIC
STATUS:CONFIRMED
CATEGORIES:music
LOCATION:Earl V. Moore Building - Britton Recital Hall
CONTACT:
END:VEVENT
BEGIN:VEVENT
DTSTAMP:20091212T030003
DTSTART;TZID=America/Detroit:20091212T170000
SUMMARY:Other:Student Recital:  Katie Nix\, soprano
DESCRIPTION:PROGRAM:  Heggie - Eve-Song\; Arr. Burleigh - Deep River\; Arr. Dent - Soon One Morn\; Hahn - Y'a des arbres (from Ciboulette)\; Strauss - Mein Herr Marquis (from Die Fledermaus)\; Cage - Selections from the Song Books\; Warshawsky - Oyfn Pripetshik\; A Glezele Yash\; Tsarfat - Yidish Tango\; Webber - I Don't Know How to Love Him (from Jesus Christ Superstar)\; Schwartz - The Spark of Creation (from Children of Eden)
UID:2523-919235@events.umich.edu
URL:https://events.umich.edu/event/2523
CLASS:PUBLIC
STATUS:CONFIRMED
CATEGORIES:music
LOCATION:Earl V. Moore Building - McIntosh Theatre
CONTACT:
END:VEVENT
BEGIN:VEVENT
DTSTAMP:20101111T175646
DTSTART;TZID=America/Detroit:20091212T200000
DTEND;TZID=America/Detroit:20091212T220000
SUMMARY:Performance:Amazin' Blue presents \"The Fabulous Life of Amazin' Blue\"
DESCRIPTION:Join the oldest coed a cappella group on campus for their winter concert on Saturday\, December 12th. Be prepared to find out all about the Fabulous Life of Amazin' Blue and be entertained by some awesome music. You'll hear a variety of songs by artists such as John Mayer\, Kanye West\, Ingrid Michaelson\, Johnny Cash\, U2 and more!
UID:873-912667@events.umich.edu
URL:https://events.umich.edu/event/873
CLASS:PUBLIC
STATUS:CONFIRMED
CATEGORIES:music
LOCATION:Rackham Graduate School (Horace H.)
CONTACT:
END:VEVENT
BEGIN:VEVENT
DTSTAMP:20101111T175904
DTSTART;TZID=America/Detroit:20091212T200000
SUMMARY:Performance:Fabulous Life of AB:
DESCRIPTION:Amazin' Blue's Fall a cappella concert.
UID:2940-921739@events.umich.edu
URL:https://events.umich.edu/event/2940
CLASS:PUBLIC
STATUS:CONFIRMED
CATEGORIES:music
LOCATION:Rackham Graduate School (Horace H.) - Auditorium
CONTACT:
END:VEVENT
BEGIN:VEVENT
DTSTAMP:20101111T175714
DTSTART;TZID=America/Detroit:20091212T200000
SUMMARY:Performance:Janis Ian
DESCRIPTION:
UID:1501-914593@events.umich.edu
URL:https://events.umich.edu/event/1501
CLASS:PUBLIC
STATUS:CONFIRMED
CATEGORIES:music
LOCATION:
CONTACT:
END:VEVENT
BEGIN:VEVENT
DTSTAMP:20091212T030002
DTSTART;TZID=America/Detroit:20091212T200000
SUMMARY:Other:Macbeth
DESCRIPTION:Dept. of Theatre & Drama.  by William Shakespeare.  Directed by Philip Kerr What happens when ambition eclipses civility? The classic tragedy about one couple’s ruthless pursuit of power.  Tickets available at the League Ticket Office 734-764-2538.
UID:1208-914775@events.umich.edu
URL:https://events.umich.edu/event/1208
CLASS:PUBLIC
STATUS:CONFIRMED
CATEGORIES:theater,music
LOCATION:Power Center for the Performing Arts -  
CONTACT:
END:VEVENT
BEGIN:VEVENT
DTSTAMP:20091212T030003
DTSTART;TZID=America/Detroit:20091212T200000
SUMMARY:Other:See Rock City and Other Destinations
DESCRIPTION:Dept. of Musical Theatre Studio Production  by Brad Alexander and Adam Mathias.  Directed by Brent Wagner Music Direction by Cynthia Kortman Westphal   League Ticket Office  734-764-2538.
UID:858-913289@events.umich.edu
URL:https://events.umich.edu/event/858
CLASS:PUBLIC
STATUS:CONFIRMED
CATEGORIES:theater,music
LOCATION:Walgreen Drama Center - Arthur Miller Theatre
CONTACT:
END:VEVENT
BEGIN:VEVENT
DTSTAMP:20091212T030003
DTSTART;TZID=America/Detroit:20091212T200000
SUMMARY:Other:Senior Directing Theses:  O Lovely Glowworm
DESCRIPTION:Laura Przybysz's senior directing thesis 'O Lovely Glowworm' is a tragicomic and absurd play that includes everything from Irish accents\, talking goats\, floating worms\, an intellectual mermaid\, and really big guns – it will take the audience on a journey of emotional turmoil and remind us all of the power of hope.
UID:824-912582@events.umich.edu
URL:https://events.umich.edu/event/824
CLASS:PUBLIC
STATUS:CONFIRMED
CATEGORIES:theater,music
LOCATION:Walgreen Drama Center - Studio One
CONTACT:
END:VEVENT
BEGIN:VEVENT
DTSTAMP:20091212T030003
DTSTART;TZID=America/Detroit:20091212T200000
SUMMARY:Other:Senior Recital\, Ian Sullivan\, Percussion
DESCRIPTION:PROGRAM: Gay - Farfenmarch\; Santos - Sun Dogs\; Thomas - Merlin\; Umezaki - Cycles (America)\; Ravel - Alborada Del Gracioso\; Corea - La Fiesta
UID:2947-920835@events.umich.edu
URL:https://events.umich.edu/event/2947
CLASS:PUBLIC
STATUS:CONFIRMED
CATEGORIES:music
LOCATION:Earl V. Moore Building - McIntosh Theatre
CONTACT:
END:VEVENT
BEGIN:VEVENT
DTSTAMP:20091212T030003
DTSTART;TZID=America/Detroit:20091212T200000
SUMMARY:Other:Student Woodwind Chamber Music Recital
DESCRIPTION:A recital of small mixed woodwind ensembles.
UID:2585-920216@events.umich.edu
URL:https://events.umich.edu/event/2585
CLASS:PUBLIC
STATUS:CONFIRMED
CATEGORIES:music
LOCATION:Earl V. Moore Building - Britton Recital Hall
CONTACT:
END:VEVENT
END:VCALENDAR