BEGIN:VCALENDAR
VERSION:2.0
PRODID:-//UM//UM*Events//EN
CALSCALE:GREGORIAN
BEGIN:VTIMEZONE
TZID:America/Detroit
TZURL:http://tzurl.org/zoneinfo/America/Detroit
X-LIC-LOCATION:America/Detroit
BEGIN:DAYLIGHT
TZOFFSETFROM:-0500
TZOFFSETTO:-0400
TZNAME:EDT
DTSTART:20070311T020000
RRULE:FREQ=YEARLY;BYMONTH=3;BYDAY=2SU
END:DAYLIGHT
BEGIN:STANDARD
TZOFFSETFROM:-0400
TZOFFSETTO:-0500
TZNAME:EST
DTSTART:20071104T020000
RRULE:FREQ=YEARLY;BYMONTH=11;BYDAY=1SU
END:STANDARD
END:VTIMEZONE
BEGIN:VEVENT
DTSTAMP:20100110T230807
DTSTART;TZID=America/Detroit:20091213T000000
SUMMARY:Auditions:Human Rights and The Humanities Art Exhibit-CALL FOR SUBMISSION
DESCRIPTION:CALL FOR ART  GOT ART? WE WANT TO SHOWCASE YOUR WORK. We are collecting art to  exhibit as part of our 2010 conference\, Human Rights & the Humanities\, to be held February 5 &  6 at the Michigan Union in Ann Arbor. We are looking for artwork that addresses human rights  issues in creative and effective ways. All artwork is welcomed for submission but due to space  restrictions\, we can only accommodate certain mediums. Please refer to the attached guidelines  or contact hrteandarts@umich.edu for more details!  Sponsored by Human Rights Through  Education      University of Michigan-Ann Arbor).  EMAIL ALL SUBMISSIONS TO  hrteandarts@umich.edu
UID:555-911813@events.umich.edu
URL:https://events.umich.edu/event/555
CLASS:PUBLIC
STATUS:CONFIRMED
CATEGORIES:visual arts,social justice,multicultural,architecture,film,literary arts
LOCATION:Michigan Union - Outside of Amer&#039;s
CONTACT:
END:VEVENT
BEGIN:VEVENT
DTSTAMP:20101111T175620
DTSTART;TZID=America/Detroit:20091213T000000
SUMMARY:Exhibition:Permanent Exhibits at the Exhibit Museum of Natural History
DESCRIPTION:The Hall of Evolution houses Michigan's largest display of prehistoric life. More than 600 million years of life on Earth are traced through fossils\, models and dioramas. The Michigan Wildlife Gallery has a large collection of native Great Lakes birds\, mammals\, reptiles\, and amphibians\, with taxidermy mounts\, habitat scenes\, and the largest mastodon trackway on display in the world. There are also displays about some of the environmental problems faced in this region today. The Anthropology Displays feature artifacts from human cultures around the world. The Geology Displays on the fourth floor offer a large selection of rocks\, minerals and gems. These displays are updated periodically. For more information go to www.lsa.umich.edu/exhibitmuseum/exhibits/permexhibits or call 734-764-0480.
UID:452-910794@events.umich.edu
URL:https://events.umich.edu/event/452
CLASS:PUBLIC
STATUS:CONFIRMED
CATEGORIES:
LOCATION:Ruthven Museums Building
CONTACT:
END:VEVENT
BEGIN:VEVENT
DTSTAMP:20091029T160553
DTSTART;TZID=America/Detroit:20091213T090000
DTEND;TZID=America/Detroit:20091213T170000
SUMMARY:Exhibition:Book of Iterations
DESCRIPTION:This provocative exhibition is comprised of two “bone books” made of horse  skeletons and covered in hand-written texts\, burnished in gold leaf\, and shod in  silver shoes.  Three bridled horse skulls inscribed and leafed become cabinets for  ephemeral objects and imagery clasped in the hands of priest figures dominating  war landscapes.\n\nInscribed text references medieval and early modern Christianity from the first and  second world war\, and archival texts\, produced in the 1870's in the now extinct  Bushman language “ |xam.” \n\nThrough themes of sacrifice and redemption\, the artist explores relic and archive in  the context of writing and language\, and considers the interchange between text  and textuality\, the visible and the invisible world.\n\nThe exhibition maps out the imaginary boundaries and landmarks of the  miraculous history of the book\, what it might look like\, and where it might lead us  in an ongoing journey.\n\nPippa Skotnes is the Andrew W. Mellon Fellow at the U-M Institute for the  Humanities. She is professor of fine art and director of the Center for Curating the  Archive at the Michaelis School of Fine Art\, University of Capetown\, South  Africa.\n\nProfessor Skotnes will be also be presenting the Wednesday Night Museums  lecture “Curating the Archive: Representing Scattered Collections of the Colonial  Past\,” on December 2\, 2009\, 7:30\, Helmut Stern Auditorium\, University of Michigan  Museum of Art.\n\nA corresponding conference\, “Archive\, Museum\, and the Safe House of Language”  takes place on Thursday\, December 3\, 2009\, 9am-4:30pm at the Institute for the  Humanities\, room 2022\, 202 S. Thayer\, Ann Arbor.
UID:1615-915490@events.umich.edu
URL:https://events.umich.edu/event/1615
CLASS:PUBLIC
STATUS:CONFIRMED
CATEGORIES:multicultural,literary arts,visual arts
LOCATION:202 S. Thayer - 1010
CONTACT:
END:VEVENT
BEGIN:VEVENT
DTSTAMP:20090722T143534
DTSTART;TZID=America/Detroit:20091213T090000
DTEND;TZID=America/Detroit:20091213T170000
SUMMARY:Exhibition:Ida: Darwinius masillae
DESCRIPTION:\"Ida\,\" a new exhibit in the Exhibit Museum's Rotunda\, displays a high-resolution cast of an extremely rare  fossil discovered in 1983 near Messel\, Germany\, but only recently made available for study. The fossil has  proven to be a “link” between the prosimian and simian (\"anthropoid\") primate lineages. It has \"advanced\"  front teeth (incisors and canines) and second toes like those of monkeys\, and is broadly representative of what  human primate ancestors may have looked like during the Eocene epoch 47 million years ago.     Ida (prounded \"eeda\") is named after after the daughter of Dr JÃ¸rn Hurum\, the Norwegian vertebrate  paleontologist who secured one section of the fossil from an anonymous owner\, and led the research. Ida was  about eight months old\, or the equivalent of a six-year-old human.     Publication of a paper on the discovery was accompanied by a book\, The Link: Uncovering Our Earliest  Ancestors by Colin Tudge\, and a documentary shown on the History Channel (US)\, BBC One (UK)\,and various  stations in Germany and Norway.     U-M paleontologist Philip Gingerich and U-M anthropologist B. Holly Smith were two members of the \"dream  team\" invited to study Ida. The exhibit will be on display through May 2010.
UID:2124-918409@events.umich.edu
URL:https://events.umich.edu/event/2124
CLASS:PUBLIC
STATUS:CONFIRMED
CATEGORIES:multicultural,visual arts,welcome week
LOCATION:
CONTACT:
END:VEVENT
BEGIN:VEVENT
DTSTAMP:20101111T175638
DTSTART;TZID=America/Detroit:20091213T100000
SUMMARY:Exhibition:(Un)Natural History: The Museum Unveiled
DESCRIPTION:September 12 through December 6\, 2009\n\nRichard Barnes's series of photographs Animal Logic examines the role the museum plays in our understanding of ourselves through the acts of collecting\, preservation\, and display. Images from this large body of work include photographs of the collections from the Smithsonian Institution\, the Museum of Comparative Anatomy in Paris\, the Canadian Museum of Natural History\, and the San Francisco Academy of Science. (Un)Natural History focuses primarily on the natural history museum and by extension collecting institutions in general\, providing a kind of behind-the-scenes look at museum practice and display.\n\nThis exhibition will coincide with the UM LSA Theme Semester Meaningful Objects: Museums and the Academy. UMMA's presentation is projected to serve as part of a three-venue project highlighting different aspects of Barnes's work in partnership with the UM Institute for the Humanities–who have selected Richard Barnes as the Paula and Edwin Sidman Fellow in the Arts for 2009–and the Cranbrook Institute of Science in Bloomfield Hills\, Michigan.
UID:648-912226@events.umich.edu
URL:https://events.umich.edu/event/648
CLASS:PUBLIC
STATUS:CONFIRMED
CATEGORIES:visual arts
LOCATION:Museum of Art
CONTACT:
END:VEVENT
BEGIN:VEVENT
DTSTAMP:20090708T120930
DTSTART;TZID=America/Detroit:20091213T100000
SUMMARY:Exhibition:The Lens of Impressionism
DESCRIPTION:October 10\, 2009 through January 3\, 2010\n\nThis exhibition advances a new argument for the origins of what was called “the new painting\,” namely that a unique convergence of forces–social\, artistic\, technological\, and commercial–along the Normandy coast of France dramatically transformed the course of photography and painting (as well as of the region itself). Within this framework\, the invention of the camera and the development of early fine art photography in that particular setting will be seen as the specific catalysts that brought about a new approach to painting.\n\nThe project will showcase paintings\, photographs\, and drawings by some of the most treasured artists in the Western canon–Gustave Courbet\, Edouard Manet\, Edgar Degas\, and Claude Monet among them–as well as pioneering photographers such as Gustave Le Gray and Henri Le Secq. Inspired by the scenic Normandy coast of France\, these works–including representations of beach scenes\, seascapes\, fishing villages\, resorts\, and the region's pastoral beauty–will be brought together with archival materials related to early tourism and regional expressions of French nationalism from popular culture for an innovative examination of the impact of the then-new medium of photography on ideas of image making\, the recording of passing time\, the capacities of painting\, and the rise of Impressionism itself.\n\nOrganized by UMMA\, this exhibition is made possible in part by the Florence Gould Foundation\, the National Endowment for the Arts\, Masco Corporation\, and the University of Michigan's Office of the Provost and Office of the Vice President for Research. Additional support has been provided by the family of Raymond F. Cunningham in his memory. Following its showing in Ann Arbor\, the exhibition will travel to the Dallas Museum of Art.
UID:2436-919937@events.umich.edu
URL:https://events.umich.edu/event/2436
CLASS:PUBLIC
STATUS:CONFIRMED
CATEGORIES:visual arts
LOCATION:Museum of Art
CONTACT:
END:VEVENT
BEGIN:VEVENT
DTSTAMP:20091213T030002
DTSTART;TZID=America/Detroit:20091213T140000
SUMMARY:Other:Macbeth
DESCRIPTION:Dept. of Theatre & Drama.  by William Shakespeare.  Directed by Philip Kerr What happens when ambition eclipses civility? The classic tragedy about one couple’s ruthless pursuit of power.  Tickets available at the League Ticket Office 734-764-2538.
UID:762-912469@events.umich.edu
URL:https://events.umich.edu/event/762
CLASS:PUBLIC
STATUS:CONFIRMED
CATEGORIES:music,theater
LOCATION:Power Center for the Performing Arts -  
CONTACT:
END:VEVENT
BEGIN:VEVENT
DTSTAMP:20091213T030003
DTSTART;TZID=America/Detroit:20091213T140000
SUMMARY:Other:See Rock City and Other Destinations
DESCRIPTION:Dept. of Musical Theatre Studio Production  by Brad Alexander and Adam Mathias.  Directed by Brent Wagner Music Direction by Cynthia Kortman Westphal   League Ticket Office  734-764-2538.
UID:3010-921923@events.umich.edu
URL:https://events.umich.edu/event/3010
CLASS:PUBLIC
STATUS:CONFIRMED
CATEGORIES:music,theater
LOCATION:Walgreen Drama Center - Arthur Miller Theatre
CONTACT:
END:VEVENT
BEGIN:VEVENT
DTSTAMP:20091213T030003
DTSTART;TZID=America/Detroit:20091213T140000
SUMMARY:Other:Senior Recital: Catherine Wethington
DESCRIPTION:PROGRAM: Rossini - La Promessa\;  Rossini - La pastorella delle alpi\; Grieg - VÃ¥ren\; Grieg - Jeg elsker Dig\; Grieg - Solveigs Sang\; Fauré - Clair de Lune\; Fauré - Mandoline\; Debussy - Clair de lune\; Wolf - Auf ein altes Bild\; Wolf - Die ihr schwebet\; Wolf - Schlafendes Jesuskind\; Mahler - Symphony No. 4 in G Major\; Copland - Heart\, we will forget him\; Copland - When they come back\; Duke -  Nobody knows this little Rose\; Duke - Bee! I'm expecting you!
UID:1848-916008@events.umich.edu
URL:https://events.umich.edu/event/1848
CLASS:PUBLIC
STATUS:CONFIRMED
CATEGORIES:music
LOCATION:Earl V. Moore Building - Britton Recital Hall
CONTACT:
END:VEVENT
BEGIN:VEVENT
DTSTAMP:20101111T175712
DTSTART;TZID=America/Detroit:20091213T150000
DTEND;TZID=America/Detroit:20091213T173000
SUMMARY:Conference / Symposium:9s American-Romanian Festival Films.
DESCRIPTION:Further Information:\n\n“The Nines: Brinks\, Cusps\, and Perceptions of Possibility–from 1789–2009”\n\nIn Fall 2009\, the Weiser Center for Europe and Eurasia\, along with other partnering units at the University of Michigan\, will present programs exploring the relationship between world-historic events and the alternative futures they inspired. From the explosion of alternatives in 1919 to the normalization of democratic destinies in 1989\, from the crisis of 1929 to the anxieties of 2009\, this series will delve into the many iconic “nines” of the modern era.\n\nDescription: Children of the Decree. Florin Iepan\, director (68 min.\, 2004). Architecture and Power. Nicolae Margineanu\, director (52 min.\, 1994). Tickets $5 at the door. For more information\, see www.umma.umich.edu. Sponsors: ARF\, Inc.\; Ager Film\; U-M's UMMA\, CES-EUC\, CREES.
UID:1440-914412@events.umich.edu
URL:https://events.umich.edu/event/1440
CLASS:PUBLIC
STATUS:CONFIRMED
CATEGORIES:
LOCATION:Health Management Research Center - Helmut Stearn Auditorium, UMMA
CONTACT:
END:VEVENT
BEGIN:VEVENT
DTSTAMP:20091213T030002
DTSTART;TZID=America/Detroit:20091213T170000
SUMMARY:Other:See Rock City and Other Destinations
DESCRIPTION:Dept. of Musical Theatre Studio Production  by Brad Alexander and Adam Mathias.  Directed by Brent Wagner Music Direction by Cynthia Kortman Westphal   League Ticket Office  734-764-2538.
UID:195-910122@events.umich.edu
URL:https://events.umich.edu/event/195
CLASS:PUBLIC
STATUS:CONFIRMED
CATEGORIES:theater,music
LOCATION:Walgreen Drama Center - Arthur Miller Theatre
CONTACT:
END:VEVENT
BEGIN:VEVENT
DTSTAMP:20091213T030003
DTSTART;TZID=America/Detroit:20091213T170000
SUMMARY:Other:Senior Recital: Helinda Ho\, Violin
DESCRIPTION:PROGRAM: Franck - Violin Sonata in A Major\; Vitali - Vitali Chaconne\;Sarasate - Introduction & Tarantella\, Op. 43\; Massenet - Meditation from Thais
UID:322-909716@events.umich.edu
URL:https://events.umich.edu/event/322
CLASS:PUBLIC
STATUS:CONFIRMED
CATEGORIES:music
LOCATION:Earl V. Moore Building - Britton Recital Hall
CONTACT:
END:VEVENT
BEGIN:VEVENT
DTSTAMP:20101111T175559
DTSTART;TZID=America/Detroit:20091213T190000
SUMMARY:Performance:Concert for Peace
DESCRIPTION:
UID:19-909061@events.umich.edu
URL:https://events.umich.edu/event/19
CLASS:PUBLIC
STATUS:CONFIRMED
CATEGORIES:music
LOCATION:
CONTACT:
END:VEVENT
BEGIN:VEVENT
DTSTAMP:20091213T030003
DTSTART;TZID=America/Detroit:20091213T200000
SUMMARY:Other:Student Piano Chamber Music Concert
DESCRIPTION:PROGRAM:  Beethoven - Trio for Piano\, Violin and Cello\; Brahms - Trio for Piano\, Clarinet and Cello in A Minor\, Op. 114\; Schubert - Trio for Piano\, Violin and Cello in E-flat Major\, D. 929
UID:1902-917817@events.umich.edu
URL:https://events.umich.edu/event/1902
CLASS:PUBLIC
STATUS:CONFIRMED
CATEGORIES:music
LOCATION:Earl V. Moore Building - Britton Recital Hall
CONTACT:
END:VEVENT
BEGIN:VEVENT
DTSTAMP:20091213T030003
DTSTART;TZID=America/Detroit:20091213T200000
SUMMARY:Other:Student Recital: Garrett Mendelow\, percussion
DESCRIPTION:PROGRAM:  Hanning - Mirror Image: Beck - Interactions for Timpani and Sound\; Corbin - Cage for One\; Reich - Electric Counterpoint\; Black Eyed Peas - Boom Boom Pow
UID:434-910534@events.umich.edu
URL:https://events.umich.edu/event/434
CLASS:PUBLIC
STATUS:CONFIRMED
CATEGORIES:music
LOCATION:Earl V. Moore Building - McIntosh Theatre
CONTACT:
END:VEVENT
BEGIN:VEVENT
DTSTAMP:20091213T030003
DTSTART;TZID=America/Detroit:20091213T203000
SUMMARY:Other:The Rosseels Quartet
DESCRIPTION:PROGRAM: Debussy - Quartet in G Minor\, Op. 10\; Brahms - Quartet in A Minor\, Op. 51\, No. 2
UID:155-909423@events.umich.edu
URL:https://events.umich.edu/event/155
CLASS:PUBLIC
STATUS:CONFIRMED
CATEGORIES:music
LOCATION:
CONTACT:
END:VEVENT
END:VCALENDAR