BEGIN:VCALENDAR
VERSION:2.0
PRODID:-//UM//UM*Events//EN
CALSCALE:GREGORIAN
BEGIN:VTIMEZONE
TZID:America/Detroit
TZURL:http://tzurl.org/zoneinfo/America/Detroit
X-LIC-LOCATION:America/Detroit
BEGIN:DAYLIGHT
TZOFFSETFROM:-0500
TZOFFSETTO:-0400
TZNAME:EDT
DTSTART:20070311T020000
RRULE:FREQ=YEARLY;BYMONTH=3;BYDAY=2SU
END:DAYLIGHT
BEGIN:STANDARD
TZOFFSETFROM:-0400
TZOFFSETTO:-0500
TZNAME:EST
DTSTART:20071104T020000
RRULE:FREQ=YEARLY;BYMONTH=11;BYDAY=1SU
END:STANDARD
END:VTIMEZONE
BEGIN:VEVENT
DTSTAMP:20101111T175755
DTSTART;TZID=America/Detroit:20091214T000000
SUMMARY:Exhibition:Exhibit
DESCRIPTION:Economic crises on an international scale are not new\, and President Ford inherited a tough one in 1974. A new exhibit at the Ford Library in Ann Arbor shows how he attacked a troubling brew of inflation\, recession\, budget deficits and oil supply worries. This exhibit features rarely seen artifacts and archival materials from the Ford Library and Museum collections.
UID:3853-917317@events.umich.edu
URL:https://events.umich.edu/event/3853
CLASS:PUBLIC
STATUS:CONFIRMED
CATEGORIES:
LOCATION:Gerald Ford Library
CONTACT:
END:VEVENT
BEGIN:VEVENT
DTSTAMP:20100110T230807
DTSTART;TZID=America/Detroit:20091214T000000
SUMMARY:Auditions:Human Rights and The Humanities Art Exhibit-CALL FOR SUBMISSION
DESCRIPTION:CALL FOR ART  GOT ART? WE WANT TO SHOWCASE YOUR WORK. We are collecting art to  exhibit as part of our 2010 conference\, Human Rights & the Humanities\, to be held February 5 &  6 at the Michigan Union in Ann Arbor. We are looking for artwork that addresses human rights  issues in creative and effective ways. All artwork is welcomed for submission but due to space  restrictions\, we can only accommodate certain mediums. Please refer to the attached guidelines  or contact hrteandarts@umich.edu for more details!  Sponsored by Human Rights Through  Education      University of Michigan-Ann Arbor).  EMAIL ALL SUBMISSIONS TO  hrteandarts@umich.edu
UID:555-911814@events.umich.edu
URL:https://events.umich.edu/event/555
CLASS:PUBLIC
STATUS:CONFIRMED
CATEGORIES:architecture,film,literary arts,multicultural,social justice,visual arts
LOCATION:Michigan Union - Outside of Amer&#039;s
CONTACT:
END:VEVENT
BEGIN:VEVENT
DTSTAMP:20101111T175620
DTSTART;TZID=America/Detroit:20091214T000000
SUMMARY:Exhibition:Permanent Exhibits at the Exhibit Museum of Natural History
DESCRIPTION:The Hall of Evolution houses Michigan's largest display of prehistoric life. More than 600 million years of life on Earth are traced through fossils\, models and dioramas. The Michigan Wildlife Gallery has a large collection of native Great Lakes birds\, mammals\, reptiles\, and amphibians\, with taxidermy mounts\, habitat scenes\, and the largest mastodon trackway on display in the world. There are also displays about some of the environmental problems faced in this region today. The Anthropology Displays feature artifacts from human cultures around the world. The Geology Displays on the fourth floor offer a large selection of rocks\, minerals and gems. These displays are updated periodically. For more information go to www.lsa.umich.edu/exhibitmuseum/exhibits/permexhibits or call 734-764-0480.
UID:452-910795@events.umich.edu
URL:https://events.umich.edu/event/452
CLASS:PUBLIC
STATUS:CONFIRMED
CATEGORIES:
LOCATION:Ruthven Museums Building
CONTACT:
END:VEVENT
BEGIN:VEVENT
DTSTAMP:20101111T175759
DTSTART;TZID=America/Detroit:20091214T080000
DTEND;TZID=America/Detroit:20091214T170000
SUMMARY:Exhibition:History of Dentistry exhibits at the Sindecuse Museum of Dentistry
DESCRIPTION:Exhibits at the Sindecuse Museum of Dentistry include Dental Operatories of the 1860s to 1930s\, St. Apollonia-Patron Saint of Dentistry and more. Call 763-0767 or go to www.dent.umich.edu/museum for more information.
UID:3856-917656@events.umich.edu
URL:https://events.umich.edu/event/3856
CLASS:PUBLIC
STATUS:CONFIRMED
CATEGORIES:
LOCATION:Dental & W.K. Kellogg Institute
CONTACT:
END:VEVENT
BEGIN:VEVENT
DTSTAMP:20091029T160553
DTSTART;TZID=America/Detroit:20091214T090000
DTEND;TZID=America/Detroit:20091214T170000
SUMMARY:Exhibition:Book of Iterations
DESCRIPTION:This provocative exhibition is comprised of two “bone books” made of horse  skeletons and covered in hand-written texts\, burnished in gold leaf\, and shod in  silver shoes.  Three bridled horse skulls inscribed and leafed become cabinets for  ephemeral objects and imagery clasped in the hands of priest figures dominating  war landscapes.\n\nInscribed text references medieval and early modern Christianity from the first and  second world war\, and archival texts\, produced in the 1870's in the now extinct  Bushman language “ |xam.” \n\nThrough themes of sacrifice and redemption\, the artist explores relic and archive in  the context of writing and language\, and considers the interchange between text  and textuality\, the visible and the invisible world.\n\nThe exhibition maps out the imaginary boundaries and landmarks of the  miraculous history of the book\, what it might look like\, and where it might lead us  in an ongoing journey.\n\nPippa Skotnes is the Andrew W. Mellon Fellow at the U-M Institute for the  Humanities. She is professor of fine art and director of the Center for Curating the  Archive at the Michaelis School of Fine Art\, University of Capetown\, South  Africa.\n\nProfessor Skotnes will be also be presenting the Wednesday Night Museums  lecture “Curating the Archive: Representing Scattered Collections of the Colonial  Past\,” on December 2\, 2009\, 7:30\, Helmut Stern Auditorium\, University of Michigan  Museum of Art.\n\nA corresponding conference\, “Archive\, Museum\, and the Safe House of Language”  takes place on Thursday\, December 3\, 2009\, 9am-4:30pm at the Institute for the  Humanities\, room 2022\, 202 S. Thayer\, Ann Arbor.
UID:1615-915491@events.umich.edu
URL:https://events.umich.edu/event/1615
CLASS:PUBLIC
STATUS:CONFIRMED
CATEGORIES:literary arts,multicultural,visual arts
LOCATION:202 S. Thayer - 1010
CONTACT:
END:VEVENT
BEGIN:VEVENT
DTSTAMP:20090722T143534
DTSTART;TZID=America/Detroit:20091214T090000
DTEND;TZID=America/Detroit:20091214T170000
SUMMARY:Exhibition:Ida: Darwinius masillae
DESCRIPTION:\"Ida\,\" a new exhibit in the Exhibit Museum's Rotunda\, displays a high-resolution cast of an extremely rare  fossil discovered in 1983 near Messel\, Germany\, but only recently made available for study. The fossil has  proven to be a “link” between the prosimian and simian (\"anthropoid\") primate lineages. It has \"advanced\"  front teeth (incisors and canines) and second toes like those of monkeys\, and is broadly representative of what  human primate ancestors may have looked like during the Eocene epoch 47 million years ago.     Ida (prounded \"eeda\") is named after after the daughter of Dr JÃ¸rn Hurum\, the Norwegian vertebrate  paleontologist who secured one section of the fossil from an anonymous owner\, and led the research. Ida was  about eight months old\, or the equivalent of a six-year-old human.     Publication of a paper on the discovery was accompanied by a book\, The Link: Uncovering Our Earliest  Ancestors by Colin Tudge\, and a documentary shown on the History Channel (US)\, BBC One (UK)\,and various  stations in Germany and Norway.     U-M paleontologist Philip Gingerich and U-M anthropologist B. Holly Smith were two members of the \"dream  team\" invited to study Ida. The exhibit will be on display through May 2010.
UID:2124-918410@events.umich.edu
URL:https://events.umich.edu/event/2124
CLASS:PUBLIC
STATUS:CONFIRMED
CATEGORIES:visual arts,multicultural,welcome week
LOCATION:
CONTACT:
END:VEVENT
BEGIN:VEVENT
DTSTAMP:20101111T175638
DTSTART;TZID=America/Detroit:20091214T100000
SUMMARY:Exhibition:(Un)Natural History: The Museum Unveiled
DESCRIPTION:September 12 through December 6\, 2009\n\nRichard Barnes's series of photographs Animal Logic examines the role the museum plays in our understanding of ourselves through the acts of collecting\, preservation\, and display. Images from this large body of work include photographs of the collections from the Smithsonian Institution\, the Museum of Comparative Anatomy in Paris\, the Canadian Museum of Natural History\, and the San Francisco Academy of Science. (Un)Natural History focuses primarily on the natural history museum and by extension collecting institutions in general\, providing a kind of behind-the-scenes look at museum practice and display.\n\nThis exhibition will coincide with the UM LSA Theme Semester Meaningful Objects: Museums and the Academy. UMMA's presentation is projected to serve as part of a three-venue project highlighting different aspects of Barnes's work in partnership with the UM Institute for the Humanities–who have selected Richard Barnes as the Paula and Edwin Sidman Fellow in the Arts for 2009–and the Cranbrook Institute of Science in Bloomfield Hills\, Michigan.
UID:648-912227@events.umich.edu
URL:https://events.umich.edu/event/648
CLASS:PUBLIC
STATUS:CONFIRMED
CATEGORIES:visual arts
LOCATION:Museum of Art
CONTACT:
END:VEVENT
BEGIN:VEVENT
DTSTAMP:20101111T175600
DTSTART;TZID=America/Detroit:20091214T100000
DTEND;TZID=America/Detroit:20091214T170000
SUMMARY:Exhibition:Stearns Collection of Music
DESCRIPTION:The Stearns Collection at the School of Music\, Theatre & Dance is one of six major collections of musical instruments in North America. The 2\,500-piece collection is internationally known and is a resource for musical and cultural education.
UID:3790-909173@events.umich.edu
URL:https://events.umich.edu/event/3790
CLASS:PUBLIC
STATUS:CONFIRMED
CATEGORIES:
LOCATION:Earl V. Moore Building
CONTACT:
END:VEVENT
BEGIN:VEVENT
DTSTAMP:20090708T120930
DTSTART;TZID=America/Detroit:20091214T100000
SUMMARY:Exhibition:The Lens of Impressionism
DESCRIPTION:October 10\, 2009 through January 3\, 2010\n\nThis exhibition advances a new argument for the origins of what was called “the new painting\,” namely that a unique convergence of forces–social\, artistic\, technological\, and commercial–along the Normandy coast of France dramatically transformed the course of photography and painting (as well as of the region itself). Within this framework\, the invention of the camera and the development of early fine art photography in that particular setting will be seen as the specific catalysts that brought about a new approach to painting.\n\nThe project will showcase paintings\, photographs\, and drawings by some of the most treasured artists in the Western canon–Gustave Courbet\, Edouard Manet\, Edgar Degas\, and Claude Monet among them–as well as pioneering photographers such as Gustave Le Gray and Henri Le Secq. Inspired by the scenic Normandy coast of France\, these works–including representations of beach scenes\, seascapes\, fishing villages\, resorts\, and the region's pastoral beauty–will be brought together with archival materials related to early tourism and regional expressions of French nationalism from popular culture for an innovative examination of the impact of the then-new medium of photography on ideas of image making\, the recording of passing time\, the capacities of painting\, and the rise of Impressionism itself.\n\nOrganized by UMMA\, this exhibition is made possible in part by the Florence Gould Foundation\, the National Endowment for the Arts\, Masco Corporation\, and the University of Michigan's Office of the Provost and Office of the Vice President for Research. Additional support has been provided by the family of Raymond F. Cunningham in his memory. Following its showing in Ann Arbor\, the exhibition will travel to the Dallas Museum of Art.
UID:2436-919938@events.umich.edu
URL:https://events.umich.edu/event/2436
CLASS:PUBLIC
STATUS:CONFIRMED
CATEGORIES:visual arts
LOCATION:Museum of Art
CONTACT:
END:VEVENT
BEGIN:VEVENT
DTSTAMP:20101111T175842
DTSTART;TZID=America/Detroit:20091214T180000
DTEND;TZID=America/Detroit:20091214T200000
SUMMARY:Other:Free and Anonymous HIV Testing
DESCRIPTION:Free and Anonymous HIV Testing each Monday\, 6:00p-8:00p Spectrum Center\, 3rd Floor Michigan Union sponsored by HARC\, the HIV/AIDS Resource Center Free and Anonymous\, needle-free\, results in 7-10 days.
UID:2761-920471@events.umich.edu
URL:https://events.umich.edu/event/2761
CLASS:PUBLIC
STATUS:CONFIRMED
CATEGORIES:
LOCATION:Michigan Union - 3200
CONTACT:
END:VEVENT
BEGIN:VEVENT
DTSTAMP:20101111T175903
DTSTART;TZID=America/Detroit:20091214T190000
DTEND;TZID=America/Detroit:20091214T230000
SUMMARY:Other:Stressbusters!
DESCRIPTION:Take a break from studying for finals and experience STRESSBUSTERS--a night full of free food\, fun activities\, and awesome giveaways! Relieve stress and celebrate the last day of classes at this FREE event! Past STRESSBUSTERS events have included activities such as FREE MASSAGES\,  mechanical surfboard\, DJ\, movie screening\, psychic\, caricature artist\, video games\, and of course a FREE DINNER BUFFET! Don't miss out on the best--and cheapest--way to celebrate the end of the semester!
UID:2922-921705@events.umich.edu
URL:https://events.umich.edu/event/2922
CLASS:PUBLIC
STATUS:CONFIRMED
CATEGORIES:
LOCATION:Pierpont Commons
CONTACT:
END:VEVENT
BEGIN:VEVENT
DTSTAMP:20100929T110405
DTSTART;TZID=America/Detroit:20091214T200000
DTEND;TZID=America/Detroit:20091214T220000
SUMMARY:Meeting:Gender Explorers
DESCRIPTION:A social and support group for transgender\, transsexual\, genderqueer\, TG-questioning people and those who transgress gender binaries.\n\nThis safe\, open\, and affirming space includes discussion\, fellowship\, and significant others.\n\nThe group meets on the 2nd and 4th Monday of each month in the Spectrum Center.  To participate and to learn more\, email PJ at pajeho@umich.edu
UID:2680-920388@events.umich.edu
URL:https://events.umich.edu/event/2680
CLASS:PUBLIC
STATUS:CONFIRMED
CATEGORIES:multicultural,social justice,spectrumcenter
LOCATION:Michigan Union - 3200
CONTACT:
END:VEVENT
BEGIN:VEVENT
DTSTAMP:20091214T030002
DTSTART;TZID=America/Detroit:20091214T200000
SUMMARY:Other:Senior Recital: Laura Riggins\, voice
DESCRIPTION:PROGRAM:  Merry Christmas the World Around\; Christmas Celebration\; O Come\, O Come\, Emmanuel\; Lo V'Chayil\; Leontovich -  Carol of the Bells\;Styne - Let It Snow! Let It Snow! Let It Snow!\; Rudolf the Red Nosed Reindeer/Frosty the Snowman\; We Wish You a Merry Christmas\; Berlin - White Christmas
UID:2308-919609@events.umich.edu
URL:https://events.umich.edu/event/2308
CLASS:PUBLIC
STATUS:CONFIRMED
CATEGORIES:music
LOCATION:Earl V. Moore Building - Blanche Anderson Moore Hall
CONTACT:
END:VEVENT
BEGIN:VEVENT
DTSTAMP:20091214T030002
DTSTART;TZID=America/Detroit:20091214T200000
SUMMARY:Other:Student Recital: Diana Ladio\, Viola
DESCRIPTION:PROGRAM: Bach - Suite No. 2 in D Minor\; Brahms - Sonata in F Minor Op. 120\, No. 1\; Ladio - Dive In. Go Swimming/Sophie's Start\; Ladio - Jenny's Wedding\; Haraburda - Untitled\; Traditional - Ramnee Ceilidh
UID:447-910547@events.umich.edu
URL:https://events.umich.edu/event/447
CLASS:PUBLIC
STATUS:CONFIRMED
CATEGORIES:music
LOCATION:Earl V. Moore Building - Britton Recital Hall
CONTACT:
END:VEVENT
BEGIN:VEVENT
DTSTAMP:20101111T175828
DTSTART;TZID=America/Detroit:20091214T200000
SUMMARY:Performance:The Subdudes
DESCRIPTION:Before there were terms like \"roots rock\,\" there were the Subdudes and their rich\,  accordion-flavored (and tambourine-spiked) musical brew that came straight out of  the warmth and soul of their native New Orleans. The band came together at the  legendary Tipitina's club in 1987 and took their awesomely funky blues-rock on the  road for ten years\, winning fans everywhere. After a seven-year hiatus\, the  Subdudes returned\, with a couple of new members but with the core of the group  and their gritty\, honest sound intact. The Subdudes\, noted the All Music Guide's  Tammy La Gorce\, \"aren't just stellar musicians of the swampy jazz-rock-blues New  Orleans persuasion\, as they've come to be known. They're also a group of guys  whose working-class roots run as definitively\, and maybe as deeply\, as Bruce  Springsteen's.\" They come to town with a new release\, \"Flower Petals.\"
UID:2282-919473@events.umich.edu
URL:https://events.umich.edu/event/2282
CLASS:PUBLIC
STATUS:CONFIRMED
CATEGORIES:music
LOCATION:
CONTACT:
END:VEVENT
BEGIN:VEVENT
DTSTAMP:20091214T030002
DTSTART;TZID=America/Detroit:20091214T200000
SUMMARY:Other:University Philharmonia Orchestra
DESCRIPTION:Christopher James Lees\, conductor. The UPO concludes its semester with a progressively sublime program which moves from Milhaud's satirically colorful ballet\, through a detailed reading of a classic work of Tchaikovsky\, and enters Olivier Messaien's transcendent symphonic picture\, originally conceived and written as a work for organ.  PROGRAM: Milhaud Le Boeuf sur le Toit\; Tchaikovsky - Suite from The Nutcracker\; Messaien - L'Ascension
UID:1371-915015@events.umich.edu
URL:https://events.umich.edu/event/1371
CLASS:PUBLIC
STATUS:CONFIRMED
CATEGORIES:music
LOCATION:Hill Auditorium -  
CONTACT:
END:VEVENT
END:VCALENDAR