BEGIN:VCALENDAR
VERSION:2.0
PRODID:-//UM//UM*Events//EN
CALSCALE:GREGORIAN
BEGIN:VTIMEZONE
TZID:America/Detroit
TZURL:http://tzurl.org/zoneinfo/America/Detroit
X-LIC-LOCATION:America/Detroit
BEGIN:DAYLIGHT
TZOFFSETFROM:-0500
TZOFFSETTO:-0400
TZNAME:EDT
DTSTART:20070311T020000
RRULE:FREQ=YEARLY;BYMONTH=3;BYDAY=2SU
END:DAYLIGHT
BEGIN:STANDARD
TZOFFSETFROM:-0400
TZOFFSETTO:-0500
TZNAME:EST
DTSTART:20071104T020000
RRULE:FREQ=YEARLY;BYMONTH=11;BYDAY=1SU
END:STANDARD
END:VTIMEZONE
BEGIN:VEVENT
DTSTAMP:20101111T175755
DTSTART;TZID=America/Detroit:20100107T000000
SUMMARY:Exhibition:Exhibit
DESCRIPTION:Economic crises on an international scale are not new\, and President Ford inherited a tough one in 1974. A new exhibit at the Ford Library in Ann Arbor shows how he attacked a troubling brew of inflation\, recession\, budget deficits and oil supply worries. This exhibit features rarely seen artifacts and archival materials from the Ford Library and Museum collections.
UID:3853-917209@events.umich.edu
URL:https://events.umich.edu/event/3853
CLASS:PUBLIC
STATUS:CONFIRMED
CATEGORIES:
LOCATION:Gerald Ford Library
CONTACT:
END:VEVENT
BEGIN:VEVENT
DTSTAMP:20101111T175620
DTSTART;TZID=America/Detroit:20100107T000000
SUMMARY:Exhibition:Permanent Exhibits at the Exhibit Museum of Natural History
DESCRIPTION:The Hall of Evolution houses Michigan's largest display of prehistoric life. More than 600 million years of life on Earth are traced through fossils\, models and dioramas. The Michigan Wildlife Gallery has a large collection of native Great Lakes birds\, mammals\, reptiles\, and amphibians\, with taxidermy mounts\, habitat scenes\, and the largest mastodon trackway on display in the world. There are also displays about some of the environmental problems faced in this region today. The Anthropology Displays feature artifacts from human cultures around the world. The Geology Displays on the fourth floor offer a large selection of rocks\, minerals and gems. These displays are updated periodically. For more information go to www.lsa.umich.edu/exhibitmuseum/exhibits/permexhibits or call 734-764-0480.
UID:452-910553@events.umich.edu
URL:https://events.umich.edu/event/452
CLASS:PUBLIC
STATUS:CONFIRMED
CATEGORIES:
LOCATION:Ruthven Museums Building
CONTACT:
END:VEVENT
BEGIN:VEVENT
DTSTAMP:20101111T175759
DTSTART;TZID=America/Detroit:20100107T080000
DTEND;TZID=America/Detroit:20100107T170000
SUMMARY:Exhibition:History of Dentistry exhibits at the Sindecuse Museum of Dentistry
DESCRIPTION:Exhibits at the Sindecuse Museum of Dentistry include Dental Operatories of the 1860s to 1930s\, St. Apollonia-Patron Saint of Dentistry and more. Call 763-0767 or go to www.dent.umich.edu/museum for more information.
UID:3856-917674@events.umich.edu
URL:https://events.umich.edu/event/3856
CLASS:PUBLIC
STATUS:CONFIRMED
CATEGORIES:
LOCATION:Dental & W.K. Kellogg Institute
CONTACT:
END:VEVENT
BEGIN:VEVENT
DTSTAMP:20091029T160553
DTSTART;TZID=America/Detroit:20100107T090000
DTEND;TZID=America/Detroit:20100107T170000
SUMMARY:Exhibition:Book of Iterations
DESCRIPTION:This provocative exhibition is comprised of two “bone books” made of horse  skeletons and covered in hand-written texts\, burnished in gold leaf\, and shod in  silver shoes.  Three bridled horse skulls inscribed and leafed become cabinets for  ephemeral objects and imagery clasped in the hands of priest figures dominating  war landscapes.\n\nInscribed text references medieval and early modern Christianity from the first and  second world war\, and archival texts\, produced in the 1870's in the now extinct  Bushman language “ |xam.” \n\nThrough themes of sacrifice and redemption\, the artist explores relic and archive in  the context of writing and language\, and considers the interchange between text  and textuality\, the visible and the invisible world.\n\nThe exhibition maps out the imaginary boundaries and landmarks of the  miraculous history of the book\, what it might look like\, and where it might lead us  in an ongoing journey.\n\nPippa Skotnes is the Andrew W. Mellon Fellow at the U-M Institute for the  Humanities. She is professor of fine art and director of the Center for Curating the  Archive at the Michaelis School of Fine Art\, University of Capetown\, South  Africa.\n\nProfessor Skotnes will be also be presenting the Wednesday Night Museums  lecture “Curating the Archive: Representing Scattered Collections of the Colonial  Past\,” on December 2\, 2009\, 7:30\, Helmut Stern Auditorium\, University of Michigan  Museum of Art.\n\nA corresponding conference\, “Archive\, Museum\, and the Safe House of Language”  takes place on Thursday\, December 3\, 2009\, 9am-4:30pm at the Institute for the  Humanities\, room 2022\, 202 S. Thayer\, Ann Arbor.
UID:1615-915515@events.umich.edu
URL:https://events.umich.edu/event/1615
CLASS:PUBLIC
STATUS:CONFIRMED
CATEGORIES:literary arts,multicultural,visual arts
LOCATION:202 S. Thayer - 1010
CONTACT:
END:VEVENT
BEGIN:VEVENT
DTSTAMP:20090722T143534
DTSTART;TZID=America/Detroit:20100107T090000
DTEND;TZID=America/Detroit:20100107T170000
SUMMARY:Exhibition:Ida: Darwinius masillae
DESCRIPTION:\"Ida\,\" a new exhibit in the Exhibit Museum's Rotunda\, displays a high-resolution cast of an extremely rare  fossil discovered in 1983 near Messel\, Germany\, but only recently made available for study. The fossil has  proven to be a “link” between the prosimian and simian (\"anthropoid\") primate lineages. It has \"advanced\"  front teeth (incisors and canines) and second toes like those of monkeys\, and is broadly representative of what  human primate ancestors may have looked like during the Eocene epoch 47 million years ago.     Ida (prounded \"eeda\") is named after after the daughter of Dr JÃ¸rn Hurum\, the Norwegian vertebrate  paleontologist who secured one section of the fossil from an anonymous owner\, and led the research. Ida was  about eight months old\, or the equivalent of a six-year-old human.     Publication of a paper on the discovery was accompanied by a book\, The Link: Uncovering Our Earliest  Ancestors by Colin Tudge\, and a documentary shown on the History Channel (US)\, BBC One (UK)\,and various  stations in Germany and Norway.     U-M paleontologist Philip Gingerich and U-M anthropologist B. Holly Smith were two members of the \"dream  team\" invited to study Ida. The exhibit will be on display through May 2010.
UID:2124-918188@events.umich.edu
URL:https://events.umich.edu/event/2124
CLASS:PUBLIC
STATUS:CONFIRMED
CATEGORIES:multicultural,visual arts,welcome week
LOCATION:
CONTACT:
END:VEVENT
BEGIN:VEVENT
DTSTAMP:20101111T175600
DTSTART;TZID=America/Detroit:20100107T100000
DTEND;TZID=America/Detroit:20100107T170000
SUMMARY:Exhibition:Stearns Collection of Music
DESCRIPTION:The Stearns Collection at the School of Music\, Theatre & Dance is one of six major collections of musical instruments in North America. The 2\,500-piece collection is internationally known and is a resource for musical and cultural education.
UID:3790-909191@events.umich.edu
URL:https://events.umich.edu/event/3790
CLASS:PUBLIC
STATUS:CONFIRMED
CATEGORIES:
LOCATION:Earl V. Moore Building
CONTACT:
END:VEVENT
BEGIN:VEVENT
DTSTAMP:20100107T030003
DTSTART;TZID=America/Detroit:20100107T160000
SUMMARY:Other:Concerto Competition Finals
DESCRIPTION:Final round of competition for graduate  students in the SMTD Concerto Competition.  Winners will perform with ensembles in February\, March and April of this year.
UID:2569-919277@events.umich.edu
URL:https://events.umich.edu/event/2569
CLASS:PUBLIC
STATUS:CONFIRMED
CATEGORIES:music
LOCATION:Hill Auditorium -  
CONTACT:
END:VEVENT
BEGIN:VEVENT
DTSTAMP:20091222T154511
DTSTART;TZID=America/Detroit:20100107T163000
DTEND;TZID=America/Detroit:20100107T180000
SUMMARY:Lecture / Discussion:Maternal Mortality\, Violence Against Women and FGM
DESCRIPTION:Women face crisis in many parts of the world with problems that include an increasing burden of HIV/AIDS\, violence\, genocidal rape and refugee status. Topics to be highlighted include maternal mortality\, female genital mutilation and fistula\, and a general topology of the major global forces menacing women will be proposed.
UID:1610-916247@events.umich.edu
URL:https://events.umich.edu/event/1610
CLASS:PUBLIC
STATUS:CONFIRMED
CATEGORIES:social justice
LOCATION:School of Public Health Bldg I and Crossroads and Tower - 1690
CONTACT:
END:VEVENT
BEGIN:VEVENT
DTSTAMP:20100107T030003
DTSTART;TZID=America/Detroit:20100107T200000
SUMMARY:Other:Faculty Chamber Music Recital
DESCRIPTION:PROGRAM:  J.S. Bach - Cantata No. 51 “Jauchzet Gott in allen Landen”  Caroline Helton (soprano)\, William Campbell (trumpet)\, Kathryn Goodson (harpsichord) Pia Greiner (cello)\; Villa-Lobos - Bachianas Brasileiras No. 5  Caroline Helton (soprano)\, students from the studio of Richard Aaron\; Schoenfield - Ghetto Songs  Caroline Helton (soprano)\, Stephen West (baritone)\, Paul Schoenfield (piano)\, Andrew Jennings (violin)\, Chad Burrow (clarinet)\, Diana Gannett (bass)\, Pia Greiner (cello)
UID:1477-914556@events.umich.edu
URL:https://events.umich.edu/event/1477
CLASS:PUBLIC
STATUS:CONFIRMED
CATEGORIES:music
LOCATION:Earl V. Moore Building - Britton Recital Hall
CONTACT:
END:VEVENT
END:VCALENDAR