BEGIN:VCALENDAR
VERSION:2.0
PRODID:-//UM//UM*Events//EN
CALSCALE:GREGORIAN
BEGIN:VTIMEZONE
TZID:America/Detroit
TZURL:http://tzurl.org/zoneinfo/America/Detroit
X-LIC-LOCATION:America/Detroit
BEGIN:DAYLIGHT
TZOFFSETFROM:-0500
TZOFFSETTO:-0400
TZNAME:EDT
DTSTART:20070311T020000
RRULE:FREQ=YEARLY;BYMONTH=3;BYDAY=2SU
END:DAYLIGHT
BEGIN:STANDARD
TZOFFSETFROM:-0400
TZOFFSETTO:-0500
TZNAME:EST
DTSTART:20071104T020000
RRULE:FREQ=YEARLY;BYMONTH=11;BYDAY=1SU
END:STANDARD
END:VTIMEZONE
BEGIN:VEVENT
DTSTAMP:20101111T175755
DTSTART;TZID=America/Detroit:20100111T000000
SUMMARY:Exhibition:Exhibit
DESCRIPTION:Economic crises on an international scale are not new\, and President Ford inherited a tough one in 1974. A new exhibit at the Ford Library in Ann Arbor shows how he attacked a troubling brew of inflation\, recession\, budget deficits and oil supply worries. This exhibit features rarely seen artifacts and archival materials from the Ford Library and Museum collections.
UID:3853-917211@events.umich.edu
URL:https://events.umich.edu/event/3853
CLASS:PUBLIC
STATUS:CONFIRMED
CATEGORIES:
LOCATION:Gerald Ford Library
CONTACT:
END:VEVENT
BEGIN:VEVENT
DTSTAMP:20100110T230807
DTSTART;TZID=America/Detroit:20100111T000000
SUMMARY:Auditions:Human Rights and The Humanities Art Exhibit-CALL FOR SUBMISSION
DESCRIPTION:CALL FOR ART  GOT ART? WE WANT TO SHOWCASE YOUR WORK. We are collecting art to  exhibit as part of our 2010 conference\, Human Rights & the Humanities\, to be held February 5 &  6 at the Michigan Union in Ann Arbor. We are looking for artwork that addresses human rights  issues in creative and effective ways. All artwork is welcomed for submission but due to space  restrictions\, we can only accommodate certain mediums. Please refer to the attached guidelines  or contact hrteandarts@umich.edu for more details!  Sponsored by Human Rights Through  Education      University of Michigan-Ann Arbor).  EMAIL ALL SUBMISSIONS TO  hrteandarts@umich.edu
UID:555-911836@events.umich.edu
URL:https://events.umich.edu/event/555
CLASS:PUBLIC
STATUS:CONFIRMED
CATEGORIES:architecture,film,literary arts,multicultural,social justice,visual arts
LOCATION:Michigan Union - Outside of Amer&#039;s
CONTACT:
END:VEVENT
BEGIN:VEVENT
DTSTAMP:20101111T175620
DTSTART;TZID=America/Detroit:20100111T000000
SUMMARY:Exhibition:Permanent Exhibits at the Exhibit Museum of Natural History
DESCRIPTION:The Hall of Evolution houses Michigan's largest display of prehistoric life. More than 600 million years of life on Earth are traced through fossils\, models and dioramas. The Michigan Wildlife Gallery has a large collection of native Great Lakes birds\, mammals\, reptiles\, and amphibians\, with taxidermy mounts\, habitat scenes\, and the largest mastodon trackway on display in the world. There are also displays about some of the environmental problems faced in this region today. The Anthropology Displays feature artifacts from human cultures around the world. The Geology Displays on the fourth floor offer a large selection of rocks\, minerals and gems. These displays are updated periodically. For more information go to www.lsa.umich.edu/exhibitmuseum/exhibits/permexhibits or call 734-764-0480.
UID:452-910557@events.umich.edu
URL:https://events.umich.edu/event/452
CLASS:PUBLIC
STATUS:CONFIRMED
CATEGORIES:
LOCATION:Ruthven Museums Building
CONTACT:
END:VEVENT
BEGIN:VEVENT
DTSTAMP:20101111T175759
DTSTART;TZID=America/Detroit:20100111T080000
DTEND;TZID=America/Detroit:20100111T170000
SUMMARY:Exhibition:History of Dentistry exhibits at the Sindecuse Museum of Dentistry
DESCRIPTION:Exhibits at the Sindecuse Museum of Dentistry include Dental Operatories of the 1860s to 1930s\, St. Apollonia-Patron Saint of Dentistry and more. Call 763-0767 or go to www.dent.umich.edu/museum for more information.
UID:3856-917676@events.umich.edu
URL:https://events.umich.edu/event/3856
CLASS:PUBLIC
STATUS:CONFIRMED
CATEGORIES:
LOCATION:Dental & W.K. Kellogg Institute
CONTACT:
END:VEVENT
BEGIN:VEVENT
DTSTAMP:20091029T160553
DTSTART;TZID=America/Detroit:20100111T090000
DTEND;TZID=America/Detroit:20100111T170000
SUMMARY:Exhibition:Book of Iterations
DESCRIPTION:This provocative exhibition is comprised of two “bone books” made of horse  skeletons and covered in hand-written texts\, burnished in gold leaf\, and shod in  silver shoes.  Three bridled horse skulls inscribed and leafed become cabinets for  ephemeral objects and imagery clasped in the hands of priest figures dominating  war landscapes.\n\nInscribed text references medieval and early modern Christianity from the first and  second world war\, and archival texts\, produced in the 1870's in the now extinct  Bushman language “ |xam.” \n\nThrough themes of sacrifice and redemption\, the artist explores relic and archive in  the context of writing and language\, and considers the interchange between text  and textuality\, the visible and the invisible world.\n\nThe exhibition maps out the imaginary boundaries and landmarks of the  miraculous history of the book\, what it might look like\, and where it might lead us  in an ongoing journey.\n\nPippa Skotnes is the Andrew W. Mellon Fellow at the U-M Institute for the  Humanities. She is professor of fine art and director of the Center for Curating the  Archive at the Michaelis School of Fine Art\, University of Capetown\, South  Africa.\n\nProfessor Skotnes will be also be presenting the Wednesday Night Museums  lecture “Curating the Archive: Representing Scattered Collections of the Colonial  Past\,” on December 2\, 2009\, 7:30\, Helmut Stern Auditorium\, University of Michigan  Museum of Art.\n\nA corresponding conference\, “Archive\, Museum\, and the Safe House of Language”  takes place on Thursday\, December 3\, 2009\, 9am-4:30pm at the Institute for the  Humanities\, room 2022\, 202 S. Thayer\, Ann Arbor.
UID:1615-915519@events.umich.edu
URL:https://events.umich.edu/event/1615
CLASS:PUBLIC
STATUS:CONFIRMED
CATEGORIES:multicultural,visual arts,literary arts
LOCATION:202 S. Thayer - 1010
CONTACT:
END:VEVENT
BEGIN:VEVENT
DTSTAMP:20090722T143534
DTSTART;TZID=America/Detroit:20100111T090000
DTEND;TZID=America/Detroit:20100111T170000
SUMMARY:Exhibition:Ida: Darwinius masillae
DESCRIPTION:\"Ida\,\" a new exhibit in the Exhibit Museum's Rotunda\, displays a high-resolution cast of an extremely rare  fossil discovered in 1983 near Messel\, Germany\, but only recently made available for study. The fossil has  proven to be a “link” between the prosimian and simian (\"anthropoid\") primate lineages. It has \"advanced\"  front teeth (incisors and canines) and second toes like those of monkeys\, and is broadly representative of what  human primate ancestors may have looked like during the Eocene epoch 47 million years ago.     Ida (prounded \"eeda\") is named after after the daughter of Dr JÃ¸rn Hurum\, the Norwegian vertebrate  paleontologist who secured one section of the fossil from an anonymous owner\, and led the research. Ida was  about eight months old\, or the equivalent of a six-year-old human.     Publication of a paper on the discovery was accompanied by a book\, The Link: Uncovering Our Earliest  Ancestors by Colin Tudge\, and a documentary shown on the History Channel (US)\, BBC One (UK)\,and various  stations in Germany and Norway.     U-M paleontologist Philip Gingerich and U-M anthropologist B. Holly Smith were two members of the \"dream  team\" invited to study Ida. The exhibit will be on display through May 2010.
UID:2124-918192@events.umich.edu
URL:https://events.umich.edu/event/2124
CLASS:PUBLIC
STATUS:CONFIRMED
CATEGORIES:multicultural,visual arts,welcome week
LOCATION:
CONTACT:
END:VEVENT
BEGIN:VEVENT
DTSTAMP:20101111T175645
DTSTART;TZID=America/Detroit:20100111T100000
DTEND;TZID=America/Detroit:20100111T113000
SUMMARY:Workshop / Seminar:Gaining Control of PCOS – Treating Polycystic Ovarian Syndrome
DESCRIPTION:PCOS is a hormonal disorder with symptoms that include obesity\, abnormal hair  growth\, acne\, and infertility\, to name a few.  The most effective way to treat PCOS  is with nutrition\, exercise\, and weight management.  In a supportive group setting  learn what Polycystic Ovarian Syndrome (PCOS) is\, optimal food choices\, healthy  meal planning\, role of exercise and medication\, and ways to handle emotional  eating.  One group each month that meets for two 1.5 hour sessions plus a 30- minute nutrition consult.   Terrie Holewinski\, R.D.
UID:859-912655@events.umich.edu
URL:https://events.umich.edu/event/859
CLASS:PUBLIC
STATUS:CONFIRMED
CATEGORIES:
LOCATION:
CONTACT:
END:VEVENT
BEGIN:VEVENT
DTSTAMP:20101111T175600
DTSTART;TZID=America/Detroit:20100111T100000
DTEND;TZID=America/Detroit:20100111T170000
SUMMARY:Exhibition:Stearns Collection of Music
DESCRIPTION:The Stearns Collection at the School of Music\, Theatre & Dance is one of six major collections of musical instruments in North America. The 2\,500-piece collection is internationally known and is a resource for musical and cultural education.
UID:3790-909193@events.umich.edu
URL:https://events.umich.edu/event/3790
CLASS:PUBLIC
STATUS:CONFIRMED
CATEGORIES:
LOCATION:Earl V. Moore Building
CONTACT:
END:VEVENT
BEGIN:VEVENT
DTSTAMP:20091217T115342
DTSTART;TZID=America/Detroit:20100111T170000
DTEND;TZID=America/Detroit:20100111T190000
SUMMARY:Performance:Poet Laureate of Great Britain CAROL ANN DUFFY in Residence
DESCRIPTION:Carol Ann Duffy lives in Manchester\, England\, where she is Professor and Creative  Director of The Writing School at Manchester Metropolitan University. She has written  for both children and adults\, and her poetry has received many awards\, including  the Signal Prize for Children's Verse\, the Whitbread and Forward Prizes\, and the  Lannan and E. M. Forster Prize in America. In 2005\, she won the T. S. Eliot Prize for  Rapture. She was appointed Poet Laureate of Great Britain in 2009.    A public reception in the UMMA Forum will immediately follow the reading.
UID:1233-914806@events.umich.edu
URL:https://events.umich.edu/event/1233
CLASS:PUBLIC
STATUS:CONFIRMED
CATEGORIES:social justice,literary arts
LOCATION:Museum of Art - Helmut Stern Auditorium
CONTACT:
END:VEVENT
BEGIN:VEVENT
DTSTAMP:20091211T094833
DTSTART;TZID=America/Detroit:20100111T173000
DTEND;TZID=America/Detroit:20100111T183000
SUMMARY:Workshop / Seminar:Hunger Within
DESCRIPTION:This 12-week treatment course takes the focus off food and guides the participants  through an intensive program unlocking the psychological barriers to permanent  weight loss.  This concrete\, lucid\, step-by-step workshop explores the core reasons  for overeating\, identifies the triggers that precipitate a binge\, and helps break the  vicious cycle of emotional eating.     Marilyn Migliore\, MS\, RD\, ACSW\, BCD
UID:2029-917058@events.umich.edu
URL:https://events.umich.edu/event/2029
CLASS:PUBLIC
STATUS:CONFIRMED
CATEGORIES:
LOCATION:
CONTACT:
END:VEVENT
BEGIN:VEVENT
DTSTAMP:20101111T175735
DTSTART;TZID=America/Detroit:20100111T193000
SUMMARY:Performance:Kid Cudi
DESCRIPTION:January 11th\, 2010 -- Social Studyz presents Kid Cudi LIVE at Michigan Theater.   Show starts at 7:30pm.  Don't miss VMA's best new artist nominee as he performs  at the University of Michigan for the first time!  Tickets available at the Michigan  Union Ticket Office (734-763-8587).  A portion of the proceeds will be donated to  the Faith Dubb Ovarian Cancer Research Fund.
UID:1843-915998@events.umich.edu
URL:https://events.umich.edu/event/1843
CLASS:PUBLIC
STATUS:CONFIRMED
CATEGORIES:music
LOCATION:
CONTACT:
END:VEVENT
BEGIN:VEVENT
DTSTAMP:20100111T030003
DTSTART;TZID=America/Detroit:20100111T200000
SUMMARY:Other:Duo-Sonatas 581 Class Recital
DESCRIPTION:PROGRAM: Beethoven Sonata for Cello and Piano in A Major\, Op. 69\; Clarke Sonata for Viola and Piano\; Prokofiev Sonata for Flute and Piano in D Major\, Op. 94a\; Faure Sonata for Violin and Piano in A Major\, Op. 13
UID:1612-916249@events.umich.edu
URL:https://events.umich.edu/event/1612
CLASS:PUBLIC
STATUS:CONFIRMED
CATEGORIES:music
LOCATION:Earl V. Moore Building - Britton Recital Hall
CONTACT:
END:VEVENT
BEGIN:VEVENT
DTSTAMP:20100929T110405
DTSTART;TZID=America/Detroit:20100111T200000
DTEND;TZID=America/Detroit:20100111T220000
SUMMARY:Meeting:Gender Explorers
DESCRIPTION:A social and support group for transgender\, transsexual\, genderqueer\, TG-questioning people and those who transgress gender binaries.\n\nThis safe\, open\, and affirming space includes discussion\, fellowship\, and significant others.\n\nThe group meets on the 2nd and 4th Monday of each month in the Spectrum Center.  To participate and to learn more\, email PJ at pajeho@umich.edu
UID:2680-920389@events.umich.edu
URL:https://events.umich.edu/event/2680
CLASS:PUBLIC
STATUS:CONFIRMED
CATEGORIES:multicultural,social justice,spectrumcenter
LOCATION:Michigan Union - 3200
CONTACT:
END:VEVENT
END:VCALENDAR