BEGIN:VCALENDAR
VERSION:2.0
PRODID:-//UM//UM*Events//EN
CALSCALE:GREGORIAN
BEGIN:VTIMEZONE
TZID:America/Detroit
TZURL:http://tzurl.org/zoneinfo/America/Detroit
X-LIC-LOCATION:America/Detroit
BEGIN:DAYLIGHT
TZOFFSETFROM:-0500
TZOFFSETTO:-0400
TZNAME:EDT
DTSTART:20070311T020000
RRULE:FREQ=YEARLY;BYMONTH=3;BYDAY=2SU
END:DAYLIGHT
BEGIN:STANDARD
TZOFFSETFROM:-0400
TZOFFSETTO:-0500
TZNAME:EST
DTSTART:20071104T020000
RRULE:FREQ=YEARLY;BYMONTH=11;BYDAY=1SU
END:STANDARD
END:VTIMEZONE
BEGIN:VEVENT
DTSTAMP:20101111T175755
DTSTART;TZID=America/Detroit:20100112T000000
SUMMARY:Exhibition:Exhibit
DESCRIPTION:Economic crises on an international scale are not new\, and President Ford inherited a tough one in 1974. A new exhibit at the Ford Library in Ann Arbor shows how he attacked a troubling brew of inflation\, recession\, budget deficits and oil supply worries. This exhibit features rarely seen artifacts and archival materials from the Ford Library and Museum collections.
UID:3853-917212@events.umich.edu
URL:https://events.umich.edu/event/3853
CLASS:PUBLIC
STATUS:CONFIRMED
CATEGORIES:
LOCATION:Gerald Ford Library
CONTACT:
END:VEVENT
BEGIN:VEVENT
DTSTAMP:20100110T230807
DTSTART;TZID=America/Detroit:20100112T000000
SUMMARY:Auditions:Human Rights and The Humanities Art Exhibit-CALL FOR SUBMISSION
DESCRIPTION:CALL FOR ART  GOT ART? WE WANT TO SHOWCASE YOUR WORK. We are collecting art to  exhibit as part of our 2010 conference\, Human Rights & the Humanities\, to be held February 5 &  6 at the Michigan Union in Ann Arbor. We are looking for artwork that addresses human rights  issues in creative and effective ways. All artwork is welcomed for submission but due to space  restrictions\, we can only accommodate certain mediums. Please refer to the attached guidelines  or contact hrteandarts@umich.edu for more details!  Sponsored by Human Rights Through  Education      University of Michigan-Ann Arbor).  EMAIL ALL SUBMISSIONS TO  hrteandarts@umich.edu
UID:555-911837@events.umich.edu
URL:https://events.umich.edu/event/555
CLASS:PUBLIC
STATUS:CONFIRMED
CATEGORIES:visual arts,social justice,multicultural,literary arts,film,architecture
LOCATION:Michigan Union - Outside of Amer&#039;s
CONTACT:
END:VEVENT
BEGIN:VEVENT
DTSTAMP:20101111T175620
DTSTART;TZID=America/Detroit:20100112T000000
SUMMARY:Exhibition:Permanent Exhibits at the Exhibit Museum of Natural History
DESCRIPTION:The Hall of Evolution houses Michigan's largest display of prehistoric life. More than 600 million years of life on Earth are traced through fossils\, models and dioramas. The Michigan Wildlife Gallery has a large collection of native Great Lakes birds\, mammals\, reptiles\, and amphibians\, with taxidermy mounts\, habitat scenes\, and the largest mastodon trackway on display in the world. There are also displays about some of the environmental problems faced in this region today. The Anthropology Displays feature artifacts from human cultures around the world. The Geology Displays on the fourth floor offer a large selection of rocks\, minerals and gems. These displays are updated periodically. For more information go to www.lsa.umich.edu/exhibitmuseum/exhibits/permexhibits or call 734-764-0480.
UID:452-910558@events.umich.edu
URL:https://events.umich.edu/event/452
CLASS:PUBLIC
STATUS:CONFIRMED
CATEGORIES:
LOCATION:Ruthven Museums Building
CONTACT:
END:VEVENT
BEGIN:VEVENT
DTSTAMP:20101111T175759
DTSTART;TZID=America/Detroit:20100112T080000
DTEND;TZID=America/Detroit:20100112T170000
SUMMARY:Exhibition:History of Dentistry exhibits at the Sindecuse Museum of Dentistry
DESCRIPTION:Exhibits at the Sindecuse Museum of Dentistry include Dental Operatories of the 1860s to 1930s\, St. Apollonia-Patron Saint of Dentistry and more. Call 763-0767 or go to www.dent.umich.edu/museum for more information.
UID:3856-917677@events.umich.edu
URL:https://events.umich.edu/event/3856
CLASS:PUBLIC
STATUS:CONFIRMED
CATEGORIES:
LOCATION:Dental & W.K. Kellogg Institute
CONTACT:
END:VEVENT
BEGIN:VEVENT
DTSTAMP:20100329T161307
DTSTART;TZID=America/Detroit:20100112T083000
DTEND;TZID=America/Detroit:20100112T190000
SUMMARY:Exhibition:A History of the Bible from Ancient Papyri to King James
DESCRIPTION:This exhibit\, from the Special Collections Library\, shows a path of documents that  led to the creation of the 1611 King James Version of the Bible – from ancient  Egyptian manuscripts on papyrus to Medieval manuscripts to the printed book.\n\nThe earliest documents on display are Egyptian papyri\, including examples of a  census record from the year 119 and the oldest known copy of part of the New  Testament. Medieval manuscripts document the preservation of the text until the  invention of movable type printing by Gutenberg around 1450. The early printed  Bibles include versions in Latin and Greek\, and several that show the struggles  among various political factions and church reformers to control the translating of  the Scriptures into the language of the people. See the King James Bible of 1611  that became the accepted standard.\n\nFor Audubon Room hours\, see https://www.lib.umich.edu/audubon-room
UID:2220-918589@events.umich.edu
URL:https://events.umich.edu/event/2220
CLASS:PUBLIC
STATUS:CONFIRMED
CATEGORIES:visual arts
LOCATION:Hatcher Graduate Library - Audubon Room/First Floor
CONTACT:
END:VEVENT
BEGIN:VEVENT
DTSTAMP:20091029T160553
DTSTART;TZID=America/Detroit:20100112T090000
DTEND;TZID=America/Detroit:20100112T170000
SUMMARY:Exhibition:Book of Iterations
DESCRIPTION:This provocative exhibition is comprised of two “bone books” made of horse  skeletons and covered in hand-written texts\, burnished in gold leaf\, and shod in  silver shoes.  Three bridled horse skulls inscribed and leafed become cabinets for  ephemeral objects and imagery clasped in the hands of priest figures dominating  war landscapes.\n\nInscribed text references medieval and early modern Christianity from the first and  second world war\, and archival texts\, produced in the 1870's in the now extinct  Bushman language “ |xam.” \n\nThrough themes of sacrifice and redemption\, the artist explores relic and archive in  the context of writing and language\, and considers the interchange between text  and textuality\, the visible and the invisible world.\n\nThe exhibition maps out the imaginary boundaries and landmarks of the  miraculous history of the book\, what it might look like\, and where it might lead us  in an ongoing journey.\n\nPippa Skotnes is the Andrew W. Mellon Fellow at the U-M Institute for the  Humanities. She is professor of fine art and director of the Center for Curating the  Archive at the Michaelis School of Fine Art\, University of Capetown\, South  Africa.\n\nProfessor Skotnes will be also be presenting the Wednesday Night Museums  lecture “Curating the Archive: Representing Scattered Collections of the Colonial  Past\,” on December 2\, 2009\, 7:30\, Helmut Stern Auditorium\, University of Michigan  Museum of Art.\n\nA corresponding conference\, “Archive\, Museum\, and the Safe House of Language”  takes place on Thursday\, December 3\, 2009\, 9am-4:30pm at the Institute for the  Humanities\, room 2022\, 202 S. Thayer\, Ann Arbor.
UID:1615-915520@events.umich.edu
URL:https://events.umich.edu/event/1615
CLASS:PUBLIC
STATUS:CONFIRMED
CATEGORIES:literary arts,multicultural,visual arts
LOCATION:202 S. Thayer - 1010
CONTACT:
END:VEVENT
BEGIN:VEVENT
DTSTAMP:20090722T143534
DTSTART;TZID=America/Detroit:20100112T090000
DTEND;TZID=America/Detroit:20100112T170000
SUMMARY:Exhibition:Ida: Darwinius masillae
DESCRIPTION:\"Ida\,\" a new exhibit in the Exhibit Museum's Rotunda\, displays a high-resolution cast of an extremely rare  fossil discovered in 1983 near Messel\, Germany\, but only recently made available for study. The fossil has  proven to be a “link” between the prosimian and simian (\"anthropoid\") primate lineages. It has \"advanced\"  front teeth (incisors and canines) and second toes like those of monkeys\, and is broadly representative of what  human primate ancestors may have looked like during the Eocene epoch 47 million years ago.     Ida (prounded \"eeda\") is named after after the daughter of Dr JÃ¸rn Hurum\, the Norwegian vertebrate  paleontologist who secured one section of the fossil from an anonymous owner\, and led the research. Ida was  about eight months old\, or the equivalent of a six-year-old human.     Publication of a paper on the discovery was accompanied by a book\, The Link: Uncovering Our Earliest  Ancestors by Colin Tudge\, and a documentary shown on the History Channel (US)\, BBC One (UK)\,and various  stations in Germany and Norway.     U-M paleontologist Philip Gingerich and U-M anthropologist B. Holly Smith were two members of the \"dream  team\" invited to study Ida. The exhibit will be on display through May 2010.
UID:2124-918193@events.umich.edu
URL:https://events.umich.edu/event/2124
CLASS:PUBLIC
STATUS:CONFIRMED
CATEGORIES:welcome week,visual arts,multicultural
LOCATION:
CONTACT:
END:VEVENT
BEGIN:VEVENT
DTSTAMP:20101111T175600
DTSTART;TZID=America/Detroit:20100112T100000
DTEND;TZID=America/Detroit:20100112T170000
SUMMARY:Exhibition:Stearns Collection of Music
DESCRIPTION:The Stearns Collection at the School of Music\, Theatre & Dance is one of six major collections of musical instruments in North America. The 2\,500-piece collection is internationally known and is a resource for musical and cultural education.
UID:3790-909194@events.umich.edu
URL:https://events.umich.edu/event/3790
CLASS:PUBLIC
STATUS:CONFIRMED
CATEGORIES:
LOCATION:Earl V. Moore Building
CONTACT:
END:VEVENT
BEGIN:VEVENT
DTSTAMP:20101111T175651
DTSTART;TZID=America/Detroit:20100112T120000
DTEND;TZID=America/Detroit:20100112T133000
SUMMARY:Lecture / Discussion:Measure of the Heart: Creative Caregiving
DESCRIPTION:In 1995\, Mary Ellen Geist\, an accomplished and respected career person\, left her  high-powered radio job in New York City to return home to Michigan to care for her  father\, who is suffering from Alzheimer's\, ultimately making the decision to live her  life by a totally different set of priorities. In her book Measure of the Heart\, Geist  uses her own personal story–as well as extensive interviews with doctors and others  who have left careers to care for an aging parent–to inspire and provide advice for  the thousands of Americans experiencing similar situations.  Geist has been lecturing about the gifts of coming home to help take care of a  loved one with Alzheimer's disease and about the special connection music can  create between caregivers and people living with Alzheimer's. She believes that  music has a positive impact on people living with the disease\, and as a result of the  book\, a cappella singing groups throughout the nation have begun organizing visits  to nursing homes and residential facilities for people with Alzheimer's. Mary Ellen Geist graduated from Kalamazoo College with a degree in English. She  was a broadcast journalist for twenty years\, most recently as the afternoon anchor  at WCBS radio in New York. Prior to that she was the morning anchor at KGO radio  in San Francisco and a reporter in Los Angeles. Measure of the Heart is her first  book.
UID:1098-913054@events.umich.edu
URL:https://events.umich.edu/event/1098
CLASS:PUBLIC
STATUS:CONFIRMED
CATEGORIES:literary arts
LOCATION:202 S. Thayer - 2022
CONTACT:
END:VEVENT
BEGIN:VEVENT
DTSTAMP:20091209T165415
DTSTART;TZID=America/Detroit:20100112T160000
DTEND;TZID=America/Detroit:20100112T173000
SUMMARY:Lecture / Discussion:Ambassador John Beyrle
DESCRIPTION:This will be a unique opportunity to hear from a leading public official about U.S. foreign relations policy under the Obama administration. Ambassador Beyrle will address what the highly publicized “reset” means and in what areas the Obama administration intends to concentrate its efforts.
UID:64-909306@events.umich.edu
URL:https://events.umich.edu/event/64
CLASS:PUBLIC
STATUS:CONFIRMED
CATEGORIES:
LOCATION:Alumni Center - Founders Room
CONTACT:
END:VEVENT
BEGIN:VEVENT
DTSTAMP:20101111T175718
DTSTART;TZID=America/Detroit:20100112T170000
SUMMARY:Lecture / Discussion:Symposium Opening Lecture
DESCRIPTION:Carmen Van Kerckhove is one of the country's most important new voices on issues surrounding race and racism today.\n\nShe is co-founder and president of New Demographic\, a consulting firm that helps campuses and organizations overcome diversity fatigue by facilitating relaxed\, authentic\, and productive conversations about race and racism.\n\nCarmen goes beyond uncritical celebrations of diversity and multiculturalism and beyond individual acts of prejudice\, to explore how racist ideals are disseminated by the very structures and systems upon which this country is built.\n\nShe hosts Addicted to Race\, a podcast about America's obsession with race and edits a network of blogs\, including Racialicious\, a blog about the intersection of race and pop culture\, Anti-Racist Parent\, a blog for parents committed to raising children with an anti-racist outlook and Race in the Workplace\, a blog that explores how race and racism influence our working lives.\n\nCarmen's perspectives on race and racism have been featured in Newsweek\, USA Today\, The New York Times\, The Nation\,The San Francisco Chronicle Online\, Time Out New York\, andMaclean's. Carmen has appeared on MSNBC Live\, NPR's News & Notes\, Washington Post Radio\, American Public Media's Marketplace\, PBS's Asian America\, KQED's Pacific Time\, and WBAI's The Jordan Journal and Asia Pacific Forum.\n\nCarmen contributes advice columns to the Diversity Q&A portion of the Society of Human Resource Management (SHRM) web site. The Science Museum of Minnesota featured her as part of its exhibit “Race: Are We So Different?\,” created by the American Anthropological Association. She was the keynote speaker at the 10th Annual National Student Conference on the Mixed Race Experience and the 1st Annual New York City Asian American Student Conference
UID:3835-914788@events.umich.edu
URL:https://events.umich.edu/event/3835
CLASS:PUBLIC
STATUS:CONFIRMED
CATEGORIES:
LOCATION:Michigan League - Vandenberg Room
CONTACT:
END:VEVENT
BEGIN:VEVENT
DTSTAMP:20101111T175750
DTSTART;TZID=America/Detroit:20100112T170000
DTEND;TZID=America/Detroit:20100112T190000
SUMMARY:Lecture / Discussion:Your Event has been created. SNRE Dean's Speaker Series: Pack and Barnes Professorship Lectures
DESCRIPTION:Ivette Perfecto was recently named the George Willis Pack Professor by the U-M regents. During her 20-year career at SNRE\, she has maintained a vibrant research program\; graduated 11 Ph.D. students\; served as thesis adviser to more than 30 master's students\; and advised three master's projects. Professor Perfecto earned her doctoral degree from SNRE in 1989. In December 2009\, she was elected a Fellow of the American Association for the Advancement of Science. In 2007-08\, she received the Outstanding Faculty Teaching Award voted on by SNRE students. She also has received two Fulbright awards to conduct research in Nicaragua and Brazil. She will use the resources of the professorship to further study the interactions of the insect networks that comprise part of the general ecological web of tropical coffee agroforestry systems. The five-year renewable professorship is named after George Pack\, a conservationist\, U-M regent and an early citizen of the state. The purpose of the chair is the \"promotion of practical forest land management in the broadest sense of the term.\" Professor Perfecto's lecture is titled: Complex ecological networks and autonomous ecosystem services: an example from the coffee agroecosystem.\n\n Don Zak was recently named the Burton V. Barnes Collegiate Professor by the U-M regents. His research has examined connections between the composition and function of soil microbial communities and the importance of microbial activity in regulating ecosystem-level processes. He recently received the Francis Clark Distinguished Lectureship honor\, the highest award presented by the Soil Science Society of America for research in soil biology and biochemistry. He also received the 2006-07 Outstanding Faculty Teaching Award voted on by SNRE students. He has served on the editorial boards of Ecology\, Ecological Monographs and Soil Science Society of America Journal\, and is the principal investigator on National Science Foundation and U.S. Department of Energy grants. He holds a dual appointment with the U-M Department of Ecology and Evolutionary Biology. The five-year renewable professorship is named after Burt Barnes\, an SNRE alumnus\, emeritus professor and world-renowned forest ecologist who worked to understand the biology and ecology of forests. Professor Zak's lecture is titled: Microbial Responses to a Changing Climate: Implications for the Future Functioning of Terrestrial Ecosystems.
UID:1961-916892@events.umich.edu
URL:https://events.umich.edu/event/1961
CLASS:PUBLIC
STATUS:CONFIRMED
CATEGORIES:
LOCATION:Dana Natural Resources  Building - 1040
CONTACT:
END:VEVENT
BEGIN:VEVENT
DTSTAMP:20100107T082559
DTSTART;TZID=America/Detroit:20100112T190000
DTEND;TZID=America/Detroit:20100112T200000
SUMMARY:Meeting:Living Arts Information Session
DESCRIPTION:Are you interested in innovation\, creativity\, and mentoring younger students?  If so\,  consider this opportunity to help develop Living Arts\, a new living/learning community in  Bursley on North Campus starting this Fall 2010.  \n\nStudents who elect to live in Living Arts are united by a passion for creating and  innovating\, commitment to the arts\, a love for asking hard questions and starting  projects that lead them into unknown territory\, and a drive to partner with peers to make  something totally new and cool.  We hope you will join us! The goal of Living Arts is to spur spontaneous outbursts of crazy-great ideas – the kind  that might lead to the next iPod\, or let audience members virtually inhabit performers'  bodies\, or make astronomical concepts physically palpable\, or – who knows?  Join Living  Arts and be one of the first to experience teaching and learning on the creative edge!\n\nWhy Join Living Arts? ”¢	Help plan programming designed to support and enhance creative  interactions among students with a wide range of majors and interests. ”¢	Opportunity to mentor younger students. ”¢	Lots of contact with faculty from a wide variety of disciplines. ”¢	A safe place to experiment and “play” intellectually.  ”¢	Opportunity to do interdisciplinary research with faculty and to take  interdisciplinary classes. ”¢	24/7 access to in-house studios to support creative work. ”¢	Designated study and classroom space within the residence hall\, as well as  individual and group practice rooms\, a gallery for student work\, and performance space. ”¢	Rare quality time with many of the renowned artists\, engineers\, and other  experts who visit U-M every week.  ”¢	Close built-in ties and leadership opportunities with sponsored student  groups such as Arts Enterprise\, Center for Entrepreneurship\, and with campus  organizations such as UMMA and UMS\, among others.\n\nInformational Meetings:\n\nTuesday\, Jan 12 Bursley Community Center Lounge\, 7 p.m.\n\nTuesday\, Jan 12 Parker House Community Center (Baits I)\, 8:10 p.m.\n\nWednesday\, Jan 13 Bursley Community Center Lounge\, 7 p.m.\n\nThursday\, Jan 14 Perlman Honors Commons (Room G421 Mason Hall)\, 6 p.m.\n\nTuesday\, Jan 19 Perlman Honors Commons (Room G421 Mason Hall)\, 6 p.m.\n\nCan't make one of the informational meetings?  Email Jean Leverich\, Program Director of  Living Arts\, at leverich@umich.edu for more information.
UID:2742-921118@events.umich.edu
URL:https://events.umich.edu/event/2742
CLASS:PUBLIC
STATUS:CONFIRMED
CATEGORIES:
LOCATION:Bursley Hall - Community Center Lobby
CONTACT:
END:VEVENT
BEGIN:VEVENT
DTSTAMP:20091211T154016
DTSTART;TZID=America/Detroit:20100112T200000
DTEND;TZID=America/Detroit:20100112T230000
SUMMARY:Other:Artsbreak
DESCRIPTION:Artsbreak is a FREE arts and crafts night every Tuesday from 8pm-11pm in the MUG (Michigan Union Ground floor). Examples of crafts we've done in the past are: painting pumpkins\, decorating small canvas tote bags\, wire photo holders\, polar fleece scarves\, and jewelry making. For the most updated craft list or to suggest a craft\, email artsbreak-uuap@umich.edu to get on our weekly listserv\, or check out UUAP's website.
UID:1256-914134@events.umich.edu
URL:https://events.umich.edu/event/1256
CLASS:PUBLIC
STATUS:CONFIRMED
CATEGORIES:visual arts
LOCATION:Michigan Union - MUG
CONTACT:
END:VEVENT
BEGIN:VEVENT
DTSTAMP:20100112T030003
DTSTART;TZID=America/Detroit:20100112T200000
SUMMARY:Other:Masters Recital: David Ormai\, violin
DESCRIPTION:PROGRAM:  Telemann - Fantasia No. 5 in A Major for Solo Violin\; Telemann - Fantasia No. 7 in E-flat Major for Solo Violin\; Beethoven - Violin Sonata No. 6 in A Major\, Op. 30 No. 1\; Prokofiev - Sonata in D Major for Solo Violin\, Op. 115\; Greig - Violin Sonata No. 2 in G Major\, Op. 13
UID:1041-913703@events.umich.edu
URL:https://events.umich.edu/event/1041
CLASS:PUBLIC
STATUS:CONFIRMED
CATEGORIES:music
LOCATION:Earl V. Moore Building - Britton Recital Hall
CONTACT:
END:VEVENT
BEGIN:VEVENT
DTSTAMP:20101111T175724
DTSTART;TZID=America/Detroit:20100112T200000
SUMMARY:Performance:Red Sea Pedestrians
DESCRIPTION:
UID:1459-915163@events.umich.edu
URL:https://events.umich.edu/event/1459
CLASS:PUBLIC
STATUS:CONFIRMED
CATEGORIES:music
LOCATION:
CONTACT:
END:VEVENT
BEGIN:VEVENT
DTSTAMP:20101111T175812
DTSTART;TZID=America/Detroit:20100112T201500
SUMMARY:Meeting:Living Arts Information Session -
DESCRIPTION:Are you interested in innovation\, creativity\, and mentoring younger students? If so\,  consider this opportunity to help develop Living Arts\, a new living/learning community in  Bursley on North Campus starting this Fall 2010. \n\nStudents who elect to live in Living Arts are united by a passion for creating and  innovating\, commitment to the arts\, a love for asking hard questions and starting  projects that lead them into unknown territory\, and a drive to partner with peers to make  something totally new and cool. We hope you will join us! The goal of Living Arts is to  spur spontaneous outbursts of crazy-great ideas – the kind that might lead to the next  iPod\, or let audience members virtually inhabit performers' bodies\, or make astronomical  concepts physically palpable\, or – who knows? Join Living Arts and be one of the first to  experience teaching and learning on the creative edge! \n\nWhy Join Living Arts? ”¢ Help plan programming designed to support and enhance creative  interactions among students with a wide range of majors and interests. ”¢ Opportunity to  mentor younger students. ”¢ Lots of contact with faculty from a wide variety of  disciplines. ”¢ A safe place to experiment and “play” intellectually. ”¢ Opportunity to do  interdisciplinary research with faculty and to take interdisciplinary classes. ”¢ 24/7 access  to in-house studios to support creative work. ”¢ Designated study and classroom space  within the residence hall\, as well as individual and group practice rooms\, a gallery for  student work\, and performance space. ”¢ Rare quality time with many of the renowned  artists\, engineers\, and other experts who visit U-M every week. ”¢ Close built-in ties and  leadership opportunities with sponsored student groups such as Arts Enterprise\, Center  for Entrepreneurship\, and with campus organizations such as UMMA and UMS\, among  others. \n\nInformational Meetings: \n\nTuesday\, Jan 12 Bursley Community Center Lounge\, 7 p.m. \n\nTuesday\, Jan 12 Parker House Community Center (Baits I)\, 8:10 p.m. \n\nWednesday\, Jan 13 Bursley Community Center Lounge\, 7 p.m. \n\nThursday\, Jan 14 Perlman Honors Commons (Room G421 Mason Hall)\, 6 p.m. \n\nTuesday\, Jan 19 Perlman Honors Commons (Room G421 Mason Hall)\, 6 p.m. \n\nCan't make one of the informational meetings? Email Jean Leverich\, Program Director of  Living Arts\, at leverich@umich.edu for more information.
UID:2264-918770@events.umich.edu
URL:https://events.umich.edu/event/2264
CLASS:PUBLIC
STATUS:CONFIRMED
CATEGORIES:architecture,dance,film,literary arts,multicultural,music,theater,visual arts
LOCATION:Baits House I - Parker House Community Center
CONTACT:
END:VEVENT
END:VCALENDAR