BEGIN:VCALENDAR
VERSION:2.0
PRODID:-//UM//UM*Events//EN
CALSCALE:GREGORIAN
BEGIN:VTIMEZONE
TZID:America/Detroit
TZURL:http://tzurl.org/zoneinfo/America/Detroit
X-LIC-LOCATION:America/Detroit
BEGIN:DAYLIGHT
TZOFFSETFROM:-0500
TZOFFSETTO:-0400
TZNAME:EDT
DTSTART:20070311T020000
RRULE:FREQ=YEARLY;BYMONTH=3;BYDAY=2SU
END:DAYLIGHT
BEGIN:STANDARD
TZOFFSETFROM:-0400
TZOFFSETTO:-0500
TZNAME:EST
DTSTART:20071104T020000
RRULE:FREQ=YEARLY;BYMONTH=11;BYDAY=1SU
END:STANDARD
END:VTIMEZONE
BEGIN:VEVENT
DTSTAMP:20101111T175755
DTSTART;TZID=America/Detroit:20100113T000000
SUMMARY:Exhibition:Exhibit
DESCRIPTION:Economic crises on an international scale are not new\, and President Ford inherited a tough one in 1974. A new exhibit at the Ford Library in Ann Arbor shows how he attacked a troubling brew of inflation\, recession\, budget deficits and oil supply worries. This exhibit features rarely seen artifacts and archival materials from the Ford Library and Museum collections.
UID:3853-917213@events.umich.edu
URL:https://events.umich.edu/event/3853
CLASS:PUBLIC
STATUS:CONFIRMED
CATEGORIES:
LOCATION:Gerald Ford Library
CONTACT:
END:VEVENT
BEGIN:VEVENT
DTSTAMP:20100110T230807
DTSTART;TZID=America/Detroit:20100113T000000
SUMMARY:Auditions:Human Rights and The Humanities Art Exhibit-CALL FOR SUBMISSION
DESCRIPTION:CALL FOR ART  GOT ART? WE WANT TO SHOWCASE YOUR WORK. We are collecting art to  exhibit as part of our 2010 conference\, Human Rights & the Humanities\, to be held February 5 &  6 at the Michigan Union in Ann Arbor. We are looking for artwork that addresses human rights  issues in creative and effective ways. All artwork is welcomed for submission but due to space  restrictions\, we can only accommodate certain mediums. Please refer to the attached guidelines  or contact hrteandarts@umich.edu for more details!  Sponsored by Human Rights Through  Education      University of Michigan-Ann Arbor).  EMAIL ALL SUBMISSIONS TO  hrteandarts@umich.edu
UID:555-911838@events.umich.edu
URL:https://events.umich.edu/event/555
CLASS:PUBLIC
STATUS:CONFIRMED
CATEGORIES:architecture,film,literary arts,multicultural,social justice,visual arts
LOCATION:Michigan Union - Outside of Amer&#039;s
CONTACT:
END:VEVENT
BEGIN:VEVENT
DTSTAMP:20101111T175620
DTSTART;TZID=America/Detroit:20100113T000000
SUMMARY:Exhibition:Permanent Exhibits at the Exhibit Museum of Natural History
DESCRIPTION:The Hall of Evolution houses Michigan's largest display of prehistoric life. More than 600 million years of life on Earth are traced through fossils\, models and dioramas. The Michigan Wildlife Gallery has a large collection of native Great Lakes birds\, mammals\, reptiles\, and amphibians\, with taxidermy mounts\, habitat scenes\, and the largest mastodon trackway on display in the world. There are also displays about some of the environmental problems faced in this region today. The Anthropology Displays feature artifacts from human cultures around the world. The Geology Displays on the fourth floor offer a large selection of rocks\, minerals and gems. These displays are updated periodically. For more information go to www.lsa.umich.edu/exhibitmuseum/exhibits/permexhibits or call 734-764-0480.
UID:452-910559@events.umich.edu
URL:https://events.umich.edu/event/452
CLASS:PUBLIC
STATUS:CONFIRMED
CATEGORIES:
LOCATION:Ruthven Museums Building
CONTACT:
END:VEVENT
BEGIN:VEVENT
DTSTAMP:20101111T175759
DTSTART;TZID=America/Detroit:20100113T080000
DTEND;TZID=America/Detroit:20100113T170000
SUMMARY:Exhibition:History of Dentistry exhibits at the Sindecuse Museum of Dentistry
DESCRIPTION:Exhibits at the Sindecuse Museum of Dentistry include Dental Operatories of the 1860s to 1930s\, St. Apollonia-Patron Saint of Dentistry and more. Call 763-0767 or go to www.dent.umich.edu/museum for more information.
UID:3856-917678@events.umich.edu
URL:https://events.umich.edu/event/3856
CLASS:PUBLIC
STATUS:CONFIRMED
CATEGORIES:
LOCATION:Dental & W.K. Kellogg Institute
CONTACT:
END:VEVENT
BEGIN:VEVENT
DTSTAMP:20100329T161307
DTSTART;TZID=America/Detroit:20100113T083000
DTEND;TZID=America/Detroit:20100113T190000
SUMMARY:Exhibition:A History of the Bible from Ancient Papyri to King James
DESCRIPTION:This exhibit\, from the Special Collections Library\, shows a path of documents that  led to the creation of the 1611 King James Version of the Bible – from ancient  Egyptian manuscripts on papyrus to Medieval manuscripts to the printed book.\n\nThe earliest documents on display are Egyptian papyri\, including examples of a  census record from the year 119 and the oldest known copy of part of the New  Testament. Medieval manuscripts document the preservation of the text until the  invention of movable type printing by Gutenberg around 1450. The early printed  Bibles include versions in Latin and Greek\, and several that show the struggles  among various political factions and church reformers to control the translating of  the Scriptures into the language of the people. See the King James Bible of 1611  that became the accepted standard.\n\nFor Audubon Room hours\, see https://www.lib.umich.edu/audubon-room
UID:2220-918590@events.umich.edu
URL:https://events.umich.edu/event/2220
CLASS:PUBLIC
STATUS:CONFIRMED
CATEGORIES:visual arts
LOCATION:Hatcher Graduate Library - Audubon Room/First Floor
CONTACT:
END:VEVENT
BEGIN:VEVENT
DTSTAMP:20091029T160553
DTSTART;TZID=America/Detroit:20100113T090000
DTEND;TZID=America/Detroit:20100113T170000
SUMMARY:Exhibition:Book of Iterations
DESCRIPTION:This provocative exhibition is comprised of two “bone books” made of horse  skeletons and covered in hand-written texts\, burnished in gold leaf\, and shod in  silver shoes.  Three bridled horse skulls inscribed and leafed become cabinets for  ephemeral objects and imagery clasped in the hands of priest figures dominating  war landscapes.\n\nInscribed text references medieval and early modern Christianity from the first and  second world war\, and archival texts\, produced in the 1870's in the now extinct  Bushman language “ |xam.” \n\nThrough themes of sacrifice and redemption\, the artist explores relic and archive in  the context of writing and language\, and considers the interchange between text  and textuality\, the visible and the invisible world.\n\nThe exhibition maps out the imaginary boundaries and landmarks of the  miraculous history of the book\, what it might look like\, and where it might lead us  in an ongoing journey.\n\nPippa Skotnes is the Andrew W. Mellon Fellow at the U-M Institute for the  Humanities. She is professor of fine art and director of the Center for Curating the  Archive at the Michaelis School of Fine Art\, University of Capetown\, South  Africa.\n\nProfessor Skotnes will be also be presenting the Wednesday Night Museums  lecture “Curating the Archive: Representing Scattered Collections of the Colonial  Past\,” on December 2\, 2009\, 7:30\, Helmut Stern Auditorium\, University of Michigan  Museum of Art.\n\nA corresponding conference\, “Archive\, Museum\, and the Safe House of Language”  takes place on Thursday\, December 3\, 2009\, 9am-4:30pm at the Institute for the  Humanities\, room 2022\, 202 S. Thayer\, Ann Arbor.
UID:1615-915521@events.umich.edu
URL:https://events.umich.edu/event/1615
CLASS:PUBLIC
STATUS:CONFIRMED
CATEGORIES:visual arts,literary arts,multicultural
LOCATION:202 S. Thayer - 1010
CONTACT:
END:VEVENT
BEGIN:VEVENT
DTSTAMP:20090722T143534
DTSTART;TZID=America/Detroit:20100113T090000
DTEND;TZID=America/Detroit:20100113T170000
SUMMARY:Exhibition:Ida: Darwinius masillae
DESCRIPTION:\"Ida\,\" a new exhibit in the Exhibit Museum's Rotunda\, displays a high-resolution cast of an extremely rare  fossil discovered in 1983 near Messel\, Germany\, but only recently made available for study. The fossil has  proven to be a “link” between the prosimian and simian (\"anthropoid\") primate lineages. It has \"advanced\"  front teeth (incisors and canines) and second toes like those of monkeys\, and is broadly representative of what  human primate ancestors may have looked like during the Eocene epoch 47 million years ago.     Ida (prounded \"eeda\") is named after after the daughter of Dr JÃ¸rn Hurum\, the Norwegian vertebrate  paleontologist who secured one section of the fossil from an anonymous owner\, and led the research. Ida was  about eight months old\, or the equivalent of a six-year-old human.     Publication of a paper on the discovery was accompanied by a book\, The Link: Uncovering Our Earliest  Ancestors by Colin Tudge\, and a documentary shown on the History Channel (US)\, BBC One (UK)\,and various  stations in Germany and Norway.     U-M paleontologist Philip Gingerich and U-M anthropologist B. Holly Smith were two members of the \"dream  team\" invited to study Ida. The exhibit will be on display through May 2010.
UID:2124-918194@events.umich.edu
URL:https://events.umich.edu/event/2124
CLASS:PUBLIC
STATUS:CONFIRMED
CATEGORIES:multicultural,visual arts,welcome week
LOCATION:
CONTACT:
END:VEVENT
BEGIN:VEVENT
DTSTAMP:20101111T175600
DTSTART;TZID=America/Detroit:20100113T100000
DTEND;TZID=America/Detroit:20100113T170000
SUMMARY:Exhibition:Stearns Collection of Music
DESCRIPTION:The Stearns Collection at the School of Music\, Theatre & Dance is one of six major collections of musical instruments in North America. The 2\,500-piece collection is internationally known and is a resource for musical and cultural education.
UID:3790-909195@events.umich.edu
URL:https://events.umich.edu/event/3790
CLASS:PUBLIC
STATUS:CONFIRMED
CATEGORIES:
LOCATION:Earl V. Moore Building
CONTACT:
END:VEVENT
BEGIN:VEVENT
DTSTAMP:20101111T175603
DTSTART;TZID=America/Detroit:20100113T113000
DTEND;TZID=America/Detroit:20100113T131500
SUMMARY:Lecture / Discussion:myBROTHERS: a lunch series for self-identified men of color
DESCRIPTION:What does it mean to be a man of color at Michigan?\n\nThrough reflections and discussion on this complex question\, you will have a chance to  express your experiences here at UofM and build connections with other brothers on  campus. MY BROTHERS is a safe space open to all self-identified men of color at the  University of Michigan. \n\nLunch will be served followed by a speaker and small group discussion.
UID:193-909470@events.umich.edu
URL:https://events.umich.edu/event/193
CLASS:PUBLIC
STATUS:CONFIRMED
CATEGORIES:multicultural,social justice
LOCATION:Michigan Union - MSA Chambers
CONTACT:
END:VEVENT
BEGIN:VEVENT
DTSTAMP:20091222T103256
DTSTART;TZID=America/Detroit:20100113T130000
DTEND;TZID=America/Detroit:20100113T143000
SUMMARY:Presentation:Seasons and Reasons: A Closer Look at Seasonal Affective Disorder
DESCRIPTION:With the winter months approaching\, bringing shorter days and less sunlight\, some people may find themselves feeling unhappy\, with low energy\, problems with sleep and appetite\, and reduced concentration. These individuals may be suffering from Seasonal Affective Disorder\, or SAD. But why does the change in seasons bring on a change in moods\, how does SAD differ from clinical depression\, and what can be done to prevent and treat it? Please join us to learn more about SAD and depression\, as well as information on support resources for your students\, your colleagues\, or yourself.
UID:2645-920287@events.umich.edu
URL:https://events.umich.edu/event/2645
CLASS:PUBLIC
STATUS:CONFIRMED
CATEGORIES:
LOCATION:Gorguze Family Laboratory - Chesebrough Auditorium, Chrysler Building
CONTACT:
END:VEVENT
BEGIN:VEVENT
DTSTAMP:20101111T175608
DTSTART;TZID=America/Detroit:20100113T140000
DTEND;TZID=America/Detroit:20100113T160000
SUMMARY:Performance:The Protest Psychosis:
DESCRIPTION:In The Protest Psychosis\, psychiatrist and cultural critic Jonathan Metzl tells the shocking story of how schizophrenia became the diagnostic term overwhelmingly applied to African American men at the Ionia State Hospital in Ionia\, Michigan\; and how events at Ionia mirrored national conversations that increasingly linked blackness\, madness\, and civil rights. As he demonstrates\, far from resulting from the racist intentions of doctors or the symptoms of specific patients\, racial schizophrenia grew from a much wider set of cultural shifts that defined the thoughts\, actions\, and even the politics of black men as being inherently insane. Jonathan Metzl is associate professor of psychiatry and women's studies and director of the Culture\, Health\, and Medicine Program at the University of Michigan. A 2008 Guggenheim award recipient\, his books include Prozac on the Couch and Difference and Identity in Medicine. This event is cohosted by the Department of Women's Studies and IRWG\, and is free and open to the public. Books will be available for purchase and signing.\n\nThis event is co-sponsored by School of Social Work.
UID:3798-909822@events.umich.edu
URL:https://events.umich.edu/event/3798
CLASS:PUBLIC
STATUS:CONFIRMED
CATEGORIES:literary arts
LOCATION:Lane Hall - 2239
CONTACT:
END:VEVENT
BEGIN:VEVENT
DTSTAMP:20101111T175903
DTSTART;TZID=America/Detroit:20100113T190000
DTEND;TZID=America/Detroit:20100113T203000
SUMMARY:Lecture / Discussion:After Copenhagen\, What Next? An Open Discussion on the Summit\, the Protests\, and the Future
DESCRIPTION:The Copenhagen climate conference in December failed to produce any meaningful results. However\, the demonstrations outside the conference were arguably the most important development yet in the international climate justice movement.\n\nWhy did the conference fail?  What are the next steps for the movement?
UID:2911-921698@events.umich.edu
URL:https://events.umich.edu/event/2911
CLASS:PUBLIC
STATUS:CONFIRMED
CATEGORIES:social justice
LOCATION:Michigan League - Room C
CONTACT:
END:VEVENT
BEGIN:VEVENT
DTSTAMP:20100107T082559
DTSTART;TZID=America/Detroit:20100113T190000
DTEND;TZID=America/Detroit:20100113T200000
SUMMARY:Meeting:Living Arts Information Session
DESCRIPTION:Are you interested in innovation\, creativity\, and mentoring younger students?  If so\,  consider this opportunity to help develop Living Arts\, a new living/learning community in  Bursley on North Campus starting this Fall 2010.  \n\nStudents who elect to live in Living Arts are united by a passion for creating and  innovating\, commitment to the arts\, a love for asking hard questions and starting  projects that lead them into unknown territory\, and a drive to partner with peers to make  something totally new and cool.  We hope you will join us! The goal of Living Arts is to spur spontaneous outbursts of crazy-great ideas – the kind  that might lead to the next iPod\, or let audience members virtually inhabit performers'  bodies\, or make astronomical concepts physically palpable\, or – who knows?  Join Living  Arts and be one of the first to experience teaching and learning on the creative edge!\n\nWhy Join Living Arts? ”¢	Help plan programming designed to support and enhance creative  interactions among students with a wide range of majors and interests. ”¢	Opportunity to mentor younger students. ”¢	Lots of contact with faculty from a wide variety of disciplines. ”¢	A safe place to experiment and “play” intellectually.  ”¢	Opportunity to do interdisciplinary research with faculty and to take  interdisciplinary classes. ”¢	24/7 access to in-house studios to support creative work. ”¢	Designated study and classroom space within the residence hall\, as well as  individual and group practice rooms\, a gallery for student work\, and performance space. ”¢	Rare quality time with many of the renowned artists\, engineers\, and other  experts who visit U-M every week.  ”¢	Close built-in ties and leadership opportunities with sponsored student  groups such as Arts Enterprise\, Center for Entrepreneurship\, and with campus  organizations such as UMMA and UMS\, among others.\n\nInformational Meetings:\n\nTuesday\, Jan 12 Bursley Community Center Lounge\, 7 p.m.\n\nTuesday\, Jan 12 Parker House Community Center (Baits I)\, 8:10 p.m.\n\nWednesday\, Jan 13 Bursley Community Center Lounge\, 7 p.m.\n\nThursday\, Jan 14 Perlman Honors Commons (Room G421 Mason Hall)\, 6 p.m.\n\nTuesday\, Jan 19 Perlman Honors Commons (Room G421 Mason Hall)\, 6 p.m.\n\nCan't make one of the informational meetings?  Email Jean Leverich\, Program Director of  Living Arts\, at leverich@umich.edu for more information.
UID:2742-921119@events.umich.edu
URL:https://events.umich.edu/event/2742
CLASS:PUBLIC
STATUS:CONFIRMED
CATEGORIES:
LOCATION:Bursley Hall - Community Center Lobby
CONTACT:
END:VEVENT
BEGIN:VEVENT
DTSTAMP:20101111T175646
DTSTART;TZID=America/Detroit:20100113T200000
SUMMARY:Performance:Lee Harvey Osmond
DESCRIPTION:What the group Lee Harvey Osmond calls \"acid folk\" was born in an old garage off  Clinton Avenue in Toronto\, concocted by Tom Wilson from Blackie & the Rodeo  Kings\, a few Cowboy Junkies\, and some members of the Skydiggers. Allowing bass\,  hypnotic rhythms and a lot of groove into their songwriting circle\, Lee Harvey  Osmond has created a sound that's creeping out of the Northland and across the  Great Lakes\, just like that of The Band did forty years ago. Lee Harvey Osmond  released their first album\, \"A Quiet Evil\" in 2009 and opened the Cowboy Junkies  show at The Ark last summer. The group's music offers very cool\, rather addictive  guitar-based rhythms\, sounding a bit like rootsier Cowboy Junkies\, a bit like blissed- out Blackie & the Rodeo Kings\, and a bit like nothing you've ever heard before.
UID:878-912670@events.umich.edu
URL:https://events.umich.edu/event/878
CLASS:PUBLIC
STATUS:CONFIRMED
CATEGORIES:music
LOCATION:
CONTACT:
END:VEVENT
END:VCALENDAR