BEGIN:VCALENDAR
VERSION:2.0
PRODID:-//UM//UM*Events//EN
CALSCALE:GREGORIAN
BEGIN:VTIMEZONE
TZID:America/Detroit
TZURL:http://tzurl.org/zoneinfo/America/Detroit
X-LIC-LOCATION:America/Detroit
BEGIN:DAYLIGHT
TZOFFSETFROM:-0500
TZOFFSETTO:-0400
TZNAME:EDT
DTSTART:20070311T020000
RRULE:FREQ=YEARLY;BYMONTH=3;BYDAY=2SU
END:DAYLIGHT
BEGIN:STANDARD
TZOFFSETFROM:-0400
TZOFFSETTO:-0500
TZNAME:EST
DTSTART:20071104T020000
RRULE:FREQ=YEARLY;BYMONTH=11;BYDAY=1SU
END:STANDARD
END:VTIMEZONE
BEGIN:VEVENT
DTSTAMP:20101111T175755
DTSTART;TZID=America/Detroit:20100114T000000
SUMMARY:Exhibition:Exhibit
DESCRIPTION:Economic crises on an international scale are not new\, and President Ford inherited a tough one in 1974. A new exhibit at the Ford Library in Ann Arbor shows how he attacked a troubling brew of inflation\, recession\, budget deficits and oil supply worries. This exhibit features rarely seen artifacts and archival materials from the Ford Library and Museum collections.
UID:3853-917214@events.umich.edu
URL:https://events.umich.edu/event/3853
CLASS:PUBLIC
STATUS:CONFIRMED
CATEGORIES:
LOCATION:Gerald Ford Library
CONTACT:
END:VEVENT
BEGIN:VEVENT
DTSTAMP:20100110T230807
DTSTART;TZID=America/Detroit:20100114T000000
SUMMARY:Auditions:Human Rights and The Humanities Art Exhibit-CALL FOR SUBMISSION
DESCRIPTION:CALL FOR ART  GOT ART? WE WANT TO SHOWCASE YOUR WORK. We are collecting art to  exhibit as part of our 2010 conference\, Human Rights & the Humanities\, to be held February 5 &  6 at the Michigan Union in Ann Arbor. We are looking for artwork that addresses human rights  issues in creative and effective ways. All artwork is welcomed for submission but due to space  restrictions\, we can only accommodate certain mediums. Please refer to the attached guidelines  or contact hrteandarts@umich.edu for more details!  Sponsored by Human Rights Through  Education      University of Michigan-Ann Arbor).  EMAIL ALL SUBMISSIONS TO  hrteandarts@umich.edu
UID:555-911839@events.umich.edu
URL:https://events.umich.edu/event/555
CLASS:PUBLIC
STATUS:CONFIRMED
CATEGORIES:architecture,film,literary arts,multicultural,social justice,visual arts
LOCATION:Michigan Union - Outside of Amer&#039;s
CONTACT:
END:VEVENT
BEGIN:VEVENT
DTSTAMP:20101111T175620
DTSTART;TZID=America/Detroit:20100114T000000
SUMMARY:Exhibition:Permanent Exhibits at the Exhibit Museum of Natural History
DESCRIPTION:The Hall of Evolution houses Michigan's largest display of prehistoric life. More than 600 million years of life on Earth are traced through fossils\, models and dioramas. The Michigan Wildlife Gallery has a large collection of native Great Lakes birds\, mammals\, reptiles\, and amphibians\, with taxidermy mounts\, habitat scenes\, and the largest mastodon trackway on display in the world. There are also displays about some of the environmental problems faced in this region today. The Anthropology Displays feature artifacts from human cultures around the world. The Geology Displays on the fourth floor offer a large selection of rocks\, minerals and gems. These displays are updated periodically. For more information go to www.lsa.umich.edu/exhibitmuseum/exhibits/permexhibits or call 734-764-0480.
UID:452-910560@events.umich.edu
URL:https://events.umich.edu/event/452
CLASS:PUBLIC
STATUS:CONFIRMED
CATEGORIES:
LOCATION:Ruthven Museums Building
CONTACT:
END:VEVENT
BEGIN:VEVENT
DTSTAMP:20101111T175759
DTSTART;TZID=America/Detroit:20100114T080000
DTEND;TZID=America/Detroit:20100114T170000
SUMMARY:Exhibition:History of Dentistry exhibits at the Sindecuse Museum of Dentistry
DESCRIPTION:Exhibits at the Sindecuse Museum of Dentistry include Dental Operatories of the 1860s to 1930s\, St. Apollonia-Patron Saint of Dentistry and more. Call 763-0767 or go to www.dent.umich.edu/museum for more information.
UID:3856-917679@events.umich.edu
URL:https://events.umich.edu/event/3856
CLASS:PUBLIC
STATUS:CONFIRMED
CATEGORIES:
LOCATION:Dental & W.K. Kellogg Institute
CONTACT:
END:VEVENT
BEGIN:VEVENT
DTSTAMP:20100329T161307
DTSTART;TZID=America/Detroit:20100114T083000
DTEND;TZID=America/Detroit:20100114T190000
SUMMARY:Exhibition:A History of the Bible from Ancient Papyri to King James
DESCRIPTION:This exhibit\, from the Special Collections Library\, shows a path of documents that  led to the creation of the 1611 King James Version of the Bible – from ancient  Egyptian manuscripts on papyrus to Medieval manuscripts to the printed book.\n\nThe earliest documents on display are Egyptian papyri\, including examples of a  census record from the year 119 and the oldest known copy of part of the New  Testament. Medieval manuscripts document the preservation of the text until the  invention of movable type printing by Gutenberg around 1450. The early printed  Bibles include versions in Latin and Greek\, and several that show the struggles  among various political factions and church reformers to control the translating of  the Scriptures into the language of the people. See the King James Bible of 1611  that became the accepted standard.\n\nFor Audubon Room hours\, see https://www.lib.umich.edu/audubon-room
UID:2220-918591@events.umich.edu
URL:https://events.umich.edu/event/2220
CLASS:PUBLIC
STATUS:CONFIRMED
CATEGORIES:visual arts
LOCATION:Hatcher Graduate Library - Audubon Room/First Floor
CONTACT:
END:VEVENT
BEGIN:VEVENT
DTSTAMP:20091029T160553
DTSTART;TZID=America/Detroit:20100114T090000
DTEND;TZID=America/Detroit:20100114T170000
SUMMARY:Exhibition:Book of Iterations
DESCRIPTION:This provocative exhibition is comprised of two “bone books” made of horse  skeletons and covered in hand-written texts\, burnished in gold leaf\, and shod in  silver shoes.  Three bridled horse skulls inscribed and leafed become cabinets for  ephemeral objects and imagery clasped in the hands of priest figures dominating  war landscapes.\n\nInscribed text references medieval and early modern Christianity from the first and  second world war\, and archival texts\, produced in the 1870's in the now extinct  Bushman language “ |xam.” \n\nThrough themes of sacrifice and redemption\, the artist explores relic and archive in  the context of writing and language\, and considers the interchange between text  and textuality\, the visible and the invisible world.\n\nThe exhibition maps out the imaginary boundaries and landmarks of the  miraculous history of the book\, what it might look like\, and where it might lead us  in an ongoing journey.\n\nPippa Skotnes is the Andrew W. Mellon Fellow at the U-M Institute for the  Humanities. She is professor of fine art and director of the Center for Curating the  Archive at the Michaelis School of Fine Art\, University of Capetown\, South  Africa.\n\nProfessor Skotnes will be also be presenting the Wednesday Night Museums  lecture “Curating the Archive: Representing Scattered Collections of the Colonial  Past\,” on December 2\, 2009\, 7:30\, Helmut Stern Auditorium\, University of Michigan  Museum of Art.\n\nA corresponding conference\, “Archive\, Museum\, and the Safe House of Language”  takes place on Thursday\, December 3\, 2009\, 9am-4:30pm at the Institute for the  Humanities\, room 2022\, 202 S. Thayer\, Ann Arbor.
UID:1615-915522@events.umich.edu
URL:https://events.umich.edu/event/1615
CLASS:PUBLIC
STATUS:CONFIRMED
CATEGORIES:multicultural,visual arts,literary arts
LOCATION:202 S. Thayer - 1010
CONTACT:
END:VEVENT
BEGIN:VEVENT
DTSTAMP:20090722T143534
DTSTART;TZID=America/Detroit:20100114T090000
DTEND;TZID=America/Detroit:20100114T170000
SUMMARY:Exhibition:Ida: Darwinius masillae
DESCRIPTION:\"Ida\,\" a new exhibit in the Exhibit Museum's Rotunda\, displays a high-resolution cast of an extremely rare  fossil discovered in 1983 near Messel\, Germany\, but only recently made available for study. The fossil has  proven to be a “link” between the prosimian and simian (\"anthropoid\") primate lineages. It has \"advanced\"  front teeth (incisors and canines) and second toes like those of monkeys\, and is broadly representative of what  human primate ancestors may have looked like during the Eocene epoch 47 million years ago.     Ida (prounded \"eeda\") is named after after the daughter of Dr JÃ¸rn Hurum\, the Norwegian vertebrate  paleontologist who secured one section of the fossil from an anonymous owner\, and led the research. Ida was  about eight months old\, or the equivalent of a six-year-old human.     Publication of a paper on the discovery was accompanied by a book\, The Link: Uncovering Our Earliest  Ancestors by Colin Tudge\, and a documentary shown on the History Channel (US)\, BBC One (UK)\,and various  stations in Germany and Norway.     U-M paleontologist Philip Gingerich and U-M anthropologist B. Holly Smith were two members of the \"dream  team\" invited to study Ida. The exhibit will be on display through May 2010.
UID:2124-918195@events.umich.edu
URL:https://events.umich.edu/event/2124
CLASS:PUBLIC
STATUS:CONFIRMED
CATEGORIES:welcome week,visual arts,multicultural
LOCATION:
CONTACT:
END:VEVENT
BEGIN:VEVENT
DTSTAMP:20101111T175600
DTSTART;TZID=America/Detroit:20100114T100000
DTEND;TZID=America/Detroit:20100114T170000
SUMMARY:Exhibition:Stearns Collection of Music
DESCRIPTION:The Stearns Collection at the School of Music\, Theatre & Dance is one of six major collections of musical instruments in North America. The 2\,500-piece collection is internationally known and is a resource for musical and cultural education.
UID:3790-909196@events.umich.edu
URL:https://events.umich.edu/event/3790
CLASS:PUBLIC
STATUS:CONFIRMED
CATEGORIES:
LOCATION:Earl V. Moore Building
CONTACT:
END:VEVENT
BEGIN:VEVENT
DTSTAMP:20101111T175820
DTSTART;TZID=America/Detroit:20100114T110000
DTEND;TZID=America/Detroit:20100114T130000
SUMMARY:Performance:Beats N' Eats
DESCRIPTION:Enjoy the relaxing sounds of talented U-M student performers over lunch! Beats N' Eats takes place every Thursday from 11a-1p in either the Union MUG or League Underground. Interested in performance opportunities? Contact University Unions Arts & Programs at uuap@umich.edu or 734-763-3202.
UID:2470-919141@events.umich.edu
URL:https://events.umich.edu/event/2470
CLASS:PUBLIC
STATUS:CONFIRMED
CATEGORIES:music
LOCATION:Michigan Union - MUG
CONTACT:
END:VEVENT
BEGIN:VEVENT
DTSTAMP:20101111T175748
DTSTART;TZID=America/Detroit:20100114T120000
DTEND;TZID=America/Detroit:20100114T133000
SUMMARY:Film Screening:Film Screening:  Time Like Zeros
DESCRIPTION:Carol Jacobsen will screen and discuss her most recent film. \"Time Like Zeros\" is a short film narrated by eight women who were recently released from prison. Their voices\, speaking over scenes that move gradually from the prison exterior into the darkest interior cells of the segregation unit\, tell a story of survival as each woman recalls her agonizing first and ongoing days in prison. The sense of community and compassion that sustains them is felt in their voices\; it contrasts sharply with the nights and days of pain that are evident in the visual scenes\, such as those of a woman being manhandled by guards and chained down to a slab in her cell. The title was taken from a statement by one of the film's narrators who recalled her first thoughts upon entering prison. As she looked ahead at her life sentence stretching out before her\, she said: \"All I could see ahead was zeros. Time like zeros.\" Her comment is echoed in the camera movement that encircles the prison and the circles of razor wire that are seen whizzing by. This event is free and open to the public.
UID:3850-916728@events.umich.edu
URL:https://events.umich.edu/event/3850
CLASS:PUBLIC
STATUS:CONFIRMED
CATEGORIES:
LOCATION:Lane Hall - 2239
CONTACT:
END:VEVENT
BEGIN:VEVENT
DTSTAMP:20091209T120653
DTSTART;TZID=America/Detroit:20100114T120000
DTEND;TZID=America/Detroit:20100114T130000
SUMMARY:Lecture / Discussion:Lost in Transition: Young Workers in Japan's Changed Employment Landscape
DESCRIPTION:Speaker: Mary Brinton\, Reischauer Institute Professor of Sociology\, Harvard  University.
UID:2429-919099@events.umich.edu
URL:https://events.umich.edu/event/2429
CLASS:PUBLIC
STATUS:CONFIRMED
CATEGORIES:multicultural
LOCATION:School of Social Work Building - 1636
CONTACT:
END:VEVENT
BEGIN:VEVENT
DTSTAMP:20091102T150050
DTSTART;TZID=America/Detroit:20100114T153000
DTEND;TZID=America/Detroit:20100114T173000
SUMMARY:Lecture / Discussion:Department of Astronomy Colloquia Series
DESCRIPTION:A weekly lecture series with Astronomy or Astrophysics related topics. Please see  department website for featured speaker and lecture topic. There will be a brief  reception with light refreshments preceding the lecture in room 845 Dennison from  3:30-4:00 pm.
UID:1689-915667@events.umich.edu
URL:https://events.umich.edu/event/1689
CLASS:PUBLIC
STATUS:CONFIRMED
CATEGORIES:
LOCATION:Weiser Hall - 807
CONTACT:
END:VEVENT
BEGIN:VEVENT
DTSTAMP:20091217T115401
DTSTART;TZID=America/Detroit:20100114T171500
DTEND;TZID=America/Detroit:20100114T180000
SUMMARY:Lecture / Discussion:Christmas\, and Other Stories: CAROL ANN DUFFY Lecture
DESCRIPTION:Carol Ann Duffy lives in Manchester\, England\, where she is Professor and Creative  Director of The Writing School at Manchester Metropolitan University. She has written  for both children and adults\, and her poetry has received many awards\, including  the Signal Prize for Children's Verse\, the Whitbread and Forward Prizes\, and the  Lannan and E. M. Forster Prize in America. In 2005\, she won the T. S. Eliot Prize for  Rapture. She was appointed Poet Laureate of Great Britain in 2009.
UID:2148-917374@events.umich.edu
URL:https://events.umich.edu/event/2148
CLASS:PUBLIC
STATUS:CONFIRMED
CATEGORIES:social justice,literary arts
LOCATION:Museum of Art - Helmut Stern Auditorium
CONTACT:
END:VEVENT
BEGIN:VEVENT
DTSTAMP:20091211T094833
DTSTART;TZID=America/Detroit:20100114T173000
DTEND;TZID=America/Detroit:20100114T183000
SUMMARY:Workshop / Seminar:Hunger Within
DESCRIPTION:This 12-week treatment course takes the focus off food and guides the participants  through an intensive program unlocking the psychological barriers to permanent  weight loss.  This concrete\, lucid\, step-by-step workshop explores the core reasons  for overeating\, identifies the triggers that precipitate a binge\, and helps break the  vicious cycle of emotional eating.     Marilyn Migliore\, MS\, RD\, ACSW\, BCD
UID:2029-917059@events.umich.edu
URL:https://events.umich.edu/event/2029
CLASS:PUBLIC
STATUS:CONFIRMED
CATEGORIES:
LOCATION:
CONTACT:
END:VEVENT
BEGIN:VEVENT
DTSTAMP:20101111T175654
DTSTART;TZID=America/Detroit:20100114T180000
SUMMARY:Meeting:Living Arts Information Session
DESCRIPTION:Are you interested in innovation\, creativity\, and mentoring younger students? If so\,  consider this opportunity to help develop Living Arts\, a new living/learning community in  Bursley on North Campus starting this Fall 2010. \n\nStudents who elect to live in Living Arts are united by a passion for creating and  innovating\, commitment to the arts\, a love for asking hard questions and starting  projects that lead them into unknown territory\, and a drive to partner with peers to make  something totally new and cool. We hope you will join us! The goal of Living Arts is to  spur spontaneous outbursts of crazy-great ideas – the kind that might lead to the next  iPod\, or let audience members virtually inhabit performers' bodies\, or make astronomical  concepts physically palpable\, or – who knows? Join Living Arts and be one of the first to  experience teaching and learning on the creative edge! \n\nWhy Join Living Arts? ”¢ Help plan programming designed to support and enhance creative  interactions among students with a wide range of majors and interests. ”¢ Opportunity to  mentor younger students. ”¢ Lots of contact with faculty from a wide variety of  disciplines. ”¢ A safe place to experiment and “play” intellectually. ”¢ Opportunity to do  interdisciplinary research with faculty and to take interdisciplinary classes. ”¢ 24/7 access  to in-house studios to support creative work. ”¢ Designated study and classroom space  within the residence hall\, as well as individual and group practice rooms\, a gallery for  student work\, and performance space. ”¢ Rare quality time with many of the renowned  artists\, engineers\, and other experts who visit U-M every week. ”¢ Close built-in ties and  leadership opportunities with sponsored student groups such as Arts Enterprise\, Center  for Entrepreneurship\, and with campus organizations such as UMMA and UMS\, among  others. \n\nInformational Meetings: \n\nTuesday\, Jan 12 Bursley Community Center Lounge\, 7 p.m. \n\nTuesday\, Jan 12 Parker House Community Center (Baits I)\, 8:10 p.m. \n\nWednesday\, Jan 13 Bursley Community Center Lounge\, 7 p.m. \n\nThursday\, Jan 14 Perlman Honors Commons (Room G421 Mason Hall)\, 6 p.m. \n\nTuesday\, Jan 19 Perlman Honors Commons (Room G421 Mason Hall)\, 6 p.m. \n\nCan't make one of the informational meetings? Email Jean Leverich\, Program Director of  Living Arts\, at leverich@umich.edu for more information.
UID:805-913171@events.umich.edu
URL:https://events.umich.edu/event/805
CLASS:PUBLIC
STATUS:CONFIRMED
CATEGORIES:theater,architecture,dance,film,literary arts,multicultural,visual arts,music
LOCATION:Mason Hall - Perlman Honors Commons (Room G421 Mason Hall)
CONTACT:
END:VEVENT
BEGIN:VEVENT
DTSTAMP:20101111T175701
DTSTART;TZID=America/Detroit:20100114T183000
DTEND;TZID=America/Detroit:20100114T203000
SUMMARY:Other:MOLS Winter Recreation- FREE
DESCRIPTION:Outdoor Adventures is your local Ann Arbor source for rentals on great winter recreational  gear! This free MOLS clinic will give you a chance to demo the snowshoes and cross–country  skis we have available for rent. We will fit you for gear\, and then give quick lessons out in the  snow that will have hopefully piled up on Elbel field. You can glide or snowshoe for as long as  your heart desires\, and then come grab some hot chocolate inside. The Outdoor Adventures  staff welcomes all ages and skill levels at this clinic. C'mon\, it's hard to say no to free hot  chocolate on a cold day – so come check us out!
UID:1046-913708@events.umich.edu
URL:https://events.umich.edu/event/1046
CLASS:PUBLIC
STATUS:CONFIRMED
CATEGORIES:
LOCATION:
CONTACT:
END:VEVENT
BEGIN:VEVENT
DTSTAMP:20101111T175830
DTSTART;TZID=America/Detroit:20100114T190000
DTEND;TZID=America/Detroit:20100114T210000
SUMMARY:Meeting:Circle K Meeting
DESCRIPTION:Learn about how you can serve the community! Circle K sponsors numerous community service projects daily that fit your schedule. This year our service hour goal is 10\,000 service hours. You can also be a part of this because anyone can volunteer with us. To find out how you can get involved you can attend a meeting or sign up for our community service projects at umcirclek.org/calendar.php. At our meetings\, you will also be able to interact with our members. We try our best to bring a sense of community to everyone. An optional social will also follow the meeting. Come learn about how you can help out and meet new people! Service really does come full circle!
UID:2349-919654@events.umich.edu
URL:https://events.umich.edu/event/2349
CLASS:PUBLIC
STATUS:CONFIRMED
CATEGORIES:
LOCATION:Michigan League - Henderson Room
CONTACT:
END:VEVENT
BEGIN:VEVENT
DTSTAMP:20091218T152803
DTSTART;TZID=America/Detroit:20100114T190000
SUMMARY:Other:IFC Recruitment Mass Meeting
DESCRIPTION:Meet members of the IFC fraternities and learn about winter recruitment opportunities
UID:1756-916575@events.umich.edu
URL:https://events.umich.edu/event/1756
CLASS:PUBLIC
STATUS:CONFIRMED
CATEGORIES:greek life
LOCATION:Michigan League - Ballroom
CONTACT:
END:VEVENT
BEGIN:VEVENT
DTSTAMP:20101111T175759
DTSTART;TZID=America/Detroit:20100114T190000
SUMMARY:Other:VSA Winter Mass Meeting
DESCRIPTION:
UID:3855-917494@events.umich.edu
URL:https://events.umich.edu/event/3855
CLASS:PUBLIC
STATUS:CONFIRMED
CATEGORIES:
LOCATION:West Quadrangle - Wedge Room
CONTACT:
END:VEVENT
BEGIN:VEVENT
DTSTAMP:20101111T175754
DTSTART;TZID=America/Detroit:20100114T203000
DTEND;TZID=America/Detroit:20100114T223000
SUMMARY:Performance:Jazz Jam
DESCRIPTION:Ever wish you could study to the soothing sounds of a live jazz quartet? Now you can! Come grab a seat\, a FREE cup of coffee\, and enjoy the jammin' sounds of student musicians from the Department of Jazz and Contemporary Improvisation. Play an instrument or sing? This is also an open jam session! Bring your instrument(s) of choice and sign up to get your turn playing alongside the house band--you call the tunes!
UID:2128-917185@events.umich.edu
URL:https://events.umich.edu/event/2128
CLASS:PUBLIC
STATUS:CONFIRMED
CATEGORIES:music
LOCATION:Pierpont Commons - Leonardo&#039;s (across from Quizno&#039;s)
CONTACT:
END:VEVENT
END:VCALENDAR