BEGIN:VCALENDAR
VERSION:2.0
PRODID:-//UM//UM*Events//EN
CALSCALE:GREGORIAN
BEGIN:VTIMEZONE
TZID:America/Detroit
TZURL:http://tzurl.org/zoneinfo/America/Detroit
X-LIC-LOCATION:America/Detroit
BEGIN:DAYLIGHT
TZOFFSETFROM:-0500
TZOFFSETTO:-0400
TZNAME:EDT
DTSTART:20070311T020000
RRULE:FREQ=YEARLY;BYMONTH=3;BYDAY=2SU
END:DAYLIGHT
BEGIN:STANDARD
TZOFFSETFROM:-0400
TZOFFSETTO:-0500
TZNAME:EST
DTSTART:20071104T020000
RRULE:FREQ=YEARLY;BYMONTH=11;BYDAY=1SU
END:STANDARD
END:VTIMEZONE
BEGIN:VEVENT
DTSTAMP:20101111T175629
DTSTART;TZID=America/Detroit:20100116T000000
SUMMARY:Exhibition:Exhibit of Recent Aquisitions
DESCRIPTION:This exhibit includes an extraordinarily wide variety of primary source material collected to support current and  future research.  Among the items on display are:  a watercolor “portrait” of a railroad bridge built in Prague in  1850\, original artwork by local artist Tom Pohrt for a children's book written by Justice Sandra Day O'Connor\, a  diary and photographs from a female UM student who hitchhiked from Ann Arbor to San Francisco in 1923\, a  Spanish text from 1693 for those studying to be soldiers\, and Dante's Divine Comedy with illustrations by  Salvador Dali.  \n\nNew archival collections with samples on display include the papers of film director Robert Altman and writers  Nicholas Delbanco and Richard Tillinghast\, as well as four separate women involved in radical causes such as  Clarence Darrow's 1907 defense of union leaders accused of murder and the ecological costs of technology.   This is the first opportunity for the public to see materials from the Altman Collection\, which is estimated to be  1\,000 linear feet in size and is now being sorted and processed for use.
UID:748-911401@events.umich.edu
URL:https://events.umich.edu/event/748
CLASS:PUBLIC
STATUS:CONFIRMED
CATEGORIES:visual arts
LOCATION:Hatcher Graduate Library - 7th Floor Special Collections Library
CONTACT:
END:VEVENT
BEGIN:VEVENT
DTSTAMP:20100110T230807
DTSTART;TZID=America/Detroit:20100116T000000
SUMMARY:Auditions:Human Rights and The Humanities Art Exhibit-CALL FOR SUBMISSION
DESCRIPTION:CALL FOR ART  GOT ART? WE WANT TO SHOWCASE YOUR WORK. We are collecting art to  exhibit as part of our 2010 conference\, Human Rights & the Humanities\, to be held February 5 &  6 at the Michigan Union in Ann Arbor. We are looking for artwork that addresses human rights  issues in creative and effective ways. All artwork is welcomed for submission but due to space  restrictions\, we can only accommodate certain mediums. Please refer to the attached guidelines  or contact hrteandarts@umich.edu for more details!  Sponsored by Human Rights Through  Education      University of Michigan-Ann Arbor).  EMAIL ALL SUBMISSIONS TO  hrteandarts@umich.edu
UID:555-911841@events.umich.edu
URL:https://events.umich.edu/event/555
CLASS:PUBLIC
STATUS:CONFIRMED
CATEGORIES:architecture,film,literary arts,multicultural,social justice,visual arts
LOCATION:Michigan Union - Outside of Amer&#039;s
CONTACT:
END:VEVENT
BEGIN:VEVENT
DTSTAMP:20101111T175810
DTSTART;TZID=America/Detroit:20100116T000000
SUMMARY:Other:MLK Dogsledding trip
DESCRIPTION:Michigan's Upper Peninsula is a winter wonderland of fun.  Imagine driving your own  dogsled and feeling the force of these excitable canines pull usthrough the breath taking  landscape.  After we spend some time with the dogs\, we have the option of going  snowshoeing in the afternoon -a more intimate way to get to know the area.  Finally\, we  can stay cozy and warm in the cabin\, telling stories and drinking hot chocolate!
UID:2223-918673@events.umich.edu
URL:https://events.umich.edu/event/2223
CLASS:PUBLIC
STATUS:CONFIRMED
CATEGORIES:
LOCATION:
CONTACT:
END:VEVENT
BEGIN:VEVENT
DTSTAMP:20101111T175620
DTSTART;TZID=America/Detroit:20100116T000000
SUMMARY:Exhibition:Permanent Exhibits at the Exhibit Museum of Natural History
DESCRIPTION:The Hall of Evolution houses Michigan's largest display of prehistoric life. More than 600 million years of life on Earth are traced through fossils\, models and dioramas. The Michigan Wildlife Gallery has a large collection of native Great Lakes birds\, mammals\, reptiles\, and amphibians\, with taxidermy mounts\, habitat scenes\, and the largest mastodon trackway on display in the world. There are also displays about some of the environmental problems faced in this region today. The Anthropology Displays feature artifacts from human cultures around the world. The Geology Displays on the fourth floor offer a large selection of rocks\, minerals and gems. These displays are updated periodically. For more information go to www.lsa.umich.edu/exhibitmuseum/exhibits/permexhibits or call 734-764-0480.
UID:452-910562@events.umich.edu
URL:https://events.umich.edu/event/452
CLASS:PUBLIC
STATUS:CONFIRMED
CATEGORIES:
LOCATION:Ruthven Museums Building
CONTACT:
END:VEVENT
BEGIN:VEVENT
DTSTAMP:20100329T161307
DTSTART;TZID=America/Detroit:20100116T083000
DTEND;TZID=America/Detroit:20100116T190000
SUMMARY:Exhibition:A History of the Bible from Ancient Papyri to King James
DESCRIPTION:This exhibit\, from the Special Collections Library\, shows a path of documents that  led to the creation of the 1611 King James Version of the Bible – from ancient  Egyptian manuscripts on papyrus to Medieval manuscripts to the printed book.\n\nThe earliest documents on display are Egyptian papyri\, including examples of a  census record from the year 119 and the oldest known copy of part of the New  Testament. Medieval manuscripts document the preservation of the text until the  invention of movable type printing by Gutenberg around 1450. The early printed  Bibles include versions in Latin and Greek\, and several that show the struggles  among various political factions and church reformers to control the translating of  the Scriptures into the language of the people. See the King James Bible of 1611  that became the accepted standard.\n\nFor Audubon Room hours\, see https://www.lib.umich.edu/audubon-room
UID:2220-918593@events.umich.edu
URL:https://events.umich.edu/event/2220
CLASS:PUBLIC
STATUS:CONFIRMED
CATEGORIES:visual arts
LOCATION:Hatcher Graduate Library - Audubon Room/First Floor
CONTACT:
END:VEVENT
BEGIN:VEVENT
DTSTAMP:20091029T160553
DTSTART;TZID=America/Detroit:20100116T090000
DTEND;TZID=America/Detroit:20100116T170000
SUMMARY:Exhibition:Book of Iterations
DESCRIPTION:This provocative exhibition is comprised of two “bone books” made of horse  skeletons and covered in hand-written texts\, burnished in gold leaf\, and shod in  silver shoes.  Three bridled horse skulls inscribed and leafed become cabinets for  ephemeral objects and imagery clasped in the hands of priest figures dominating  war landscapes.\n\nInscribed text references medieval and early modern Christianity from the first and  second world war\, and archival texts\, produced in the 1870's in the now extinct  Bushman language “ |xam.” \n\nThrough themes of sacrifice and redemption\, the artist explores relic and archive in  the context of writing and language\, and considers the interchange between text  and textuality\, the visible and the invisible world.\n\nThe exhibition maps out the imaginary boundaries and landmarks of the  miraculous history of the book\, what it might look like\, and where it might lead us  in an ongoing journey.\n\nPippa Skotnes is the Andrew W. Mellon Fellow at the U-M Institute for the  Humanities. She is professor of fine art and director of the Center for Curating the  Archive at the Michaelis School of Fine Art\, University of Capetown\, South  Africa.\n\nProfessor Skotnes will be also be presenting the Wednesday Night Museums  lecture “Curating the Archive: Representing Scattered Collections of the Colonial  Past\,” on December 2\, 2009\, 7:30\, Helmut Stern Auditorium\, University of Michigan  Museum of Art.\n\nA corresponding conference\, “Archive\, Museum\, and the Safe House of Language”  takes place on Thursday\, December 3\, 2009\, 9am-4:30pm at the Institute for the  Humanities\, room 2022\, 202 S. Thayer\, Ann Arbor.
UID:1615-915524@events.umich.edu
URL:https://events.umich.edu/event/1615
CLASS:PUBLIC
STATUS:CONFIRMED
CATEGORIES:literary arts,visual arts,multicultural
LOCATION:202 S. Thayer - 1010
CONTACT:
END:VEVENT
BEGIN:VEVENT
DTSTAMP:20090722T143534
DTSTART;TZID=America/Detroit:20100116T090000
DTEND;TZID=America/Detroit:20100116T170000
SUMMARY:Exhibition:Ida: Darwinius masillae
DESCRIPTION:\"Ida\,\" a new exhibit in the Exhibit Museum's Rotunda\, displays a high-resolution cast of an extremely rare  fossil discovered in 1983 near Messel\, Germany\, but only recently made available for study. The fossil has  proven to be a “link” between the prosimian and simian (\"anthropoid\") primate lineages. It has \"advanced\"  front teeth (incisors and canines) and second toes like those of monkeys\, and is broadly representative of what  human primate ancestors may have looked like during the Eocene epoch 47 million years ago.     Ida (prounded \"eeda\") is named after after the daughter of Dr JÃ¸rn Hurum\, the Norwegian vertebrate  paleontologist who secured one section of the fossil from an anonymous owner\, and led the research. Ida was  about eight months old\, or the equivalent of a six-year-old human.     Publication of a paper on the discovery was accompanied by a book\, The Link: Uncovering Our Earliest  Ancestors by Colin Tudge\, and a documentary shown on the History Channel (US)\, BBC One (UK)\,and various  stations in Germany and Norway.     U-M paleontologist Philip Gingerich and U-M anthropologist B. Holly Smith were two members of the \"dream  team\" invited to study Ida. The exhibit will be on display through May 2010.
UID:2124-918197@events.umich.edu
URL:https://events.umich.edu/event/2124
CLASS:PUBLIC
STATUS:CONFIRMED
CATEGORIES:multicultural,visual arts,welcome week
LOCATION:
CONTACT:
END:VEVENT
BEGIN:VEVENT
DTSTAMP:20101111T175852
DTSTART;TZID=America/Detroit:20100116T110000
SUMMARY:Performance:The Verve Pipe: A Family Show
DESCRIPTION:
UID:2689-921026@events.umich.edu
URL:https://events.umich.edu/event/2689
CLASS:PUBLIC
STATUS:CONFIRMED
CATEGORIES:music
LOCATION:
CONTACT:
END:VEVENT
BEGIN:VEVENT
DTSTAMP:20100116T030003
DTSTART;TZID=America/Detroit:20100116T140000
SUMMARY:Other:First Dissertation Recital: Joel Thomas Ayau\, collaborative piano
DESCRIPTION:PROGRAM: Poulenc - Le Bestiaire\; Caplet -  Trois Fables de Jean de la Fontaine\; Ravel -  Histoires Naturelles\; Saint-SaÃ«ns - Le Carnaval des Animaux
UID:947-913505@events.umich.edu
URL:https://events.umich.edu/event/947
CLASS:PUBLIC
STATUS:CONFIRMED
CATEGORIES:music
LOCATION:Earl V. Moore Building - Britton Recital Hall
CONTACT:
END:VEVENT
BEGIN:VEVENT
DTSTAMP:20100114T103952
DTSTART;TZID=America/Detroit:20100116T183000
DTEND;TZID=America/Detroit:20100116T200000
SUMMARY:Exhibition:Research Through Making Exhibition
DESCRIPTION:Please join the college in viewing the results of the first Research Through Making  Grant Program at an evening reception Jan. 15\, 2010 at 6:30pm. The exhibition will  be open January 15 – February 4\, 2010\, in the College Gallery.\n\nThe recipients of the 2009 Taubman College of Architecture and Urban Planning  Research Through Making Grants were awarded last winter to the following faculty: \n\nRobert Adams\, Spontaneous Mutations\, Genetic Deletions\, Adaptive Environments\,  and Assistive Technology in the Compression of Developmental Time\; Josh Bard\,  Steven Mankouche\, and Tsz Yan Ng\, Digital Steam Bending\; Karl Daubmann\, In  Search of the (w)hole\; Nataly Gattegno and Jason Johnson\, Aurora\; Perry Kulper\,  Spatial Blooms + Here be Dragons\; Keith Mitnick and Mireille Roddier\,  Heterogeneous Constructions.\n\n2009 marked the first year of this competition\, and the jury included Sarah Herda\,  director of the Graham Foundation\; Reed Kroloff\, director of the Cranbrook  Academy of Art and principal of Jones/Kroloff\; and Catherine Seavitt-Nordenson\,  New York-based practicing architect\, Rome Prize winner\, adjunct professor at  Princeton University\, and Taubman College alumna.
UID:1416-915105@events.umich.edu
URL:https://events.umich.edu/event/1416
CLASS:PUBLIC
STATUS:CONFIRMED
CATEGORIES:architecture
LOCATION:Art and Architecture Building - College Gallery
CONTACT:
END:VEVENT
BEGIN:VEVENT
DTSTAMP:20101111T175608
DTSTART;TZID=America/Detroit:20100116T190000
DTEND;TZID=America/Detroit:20100116T000000
SUMMARY:Reception / Open House:Wolverine Charity Ball
DESCRIPTION:It's getting cold outside and you know what that means?  The holiday season is  about to begin!  There are tons of parties to attend before the New Year\, but who  says the fun has to stop on January 1st??  In an effort to make the good cheer last  a little longer\, the UM Polish Club cordially invites you to the Wolverine Charity Ball  on Saturday\, January 16th.  We'll celebrate in style with dinner\, dancing and prizes  galore!  We'll also wrap up the giving season by donating all proceeds to the  Hamtramck Community Initiative\, a local charity dedicated to restoring Michigan's  historic multicultural hub: the City of Hamtramck.  Make sure you end the holidays  with a bang and reserve your Wolverine Charity Ball tickets today!
UID:378-909849@events.umich.edu
URL:https://events.umich.edu/event/378
CLASS:PUBLIC
STATUS:CONFIRMED
CATEGORIES:
LOCATION:Michigan League - Ballroom
CONTACT:
END:VEVENT
BEGIN:VEVENT
DTSTAMP:20100116T030003
DTSTART;TZID=America/Detroit:20100116T200000
SUMMARY:Other:Collage Concert
DESCRIPTION:A fast-moving juxtaposition of musical styles\, forms and mediums presented without the interruption of applause\, the Collage Concert showcases the polished ensemble playing and gifted individual talents of the students at the School of Music\, Theatre & Dance.   Tickets available at the League Ticket Office 734-764-2538.
UID:2559-920184@events.umich.edu
URL:https://events.umich.edu/event/2559
CLASS:PUBLIC
STATUS:CONFIRMED
CATEGORIES:music
LOCATION:Hill Auditorium -  
CONTACT:
END:VEVENT
BEGIN:VEVENT
DTSTAMP:20100116T030003
DTSTART;TZID=America/Detroit:20100116T200000
SUMMARY:Other:SMTD at UMMA: Cory Arcangel and the Digital Music Ensemble: Masterclass in Reverse
DESCRIPTION:A collaborative\, improvisational performance with the UM Digital Music Ensemble and Brooklyn-based artist and musician Cory Arcangel\, marking the opening of his solo exhibition.  Arcangel and the audience interact with a number of sound-producing objects created and displayed by DME\, in a completely unscripted performance of discovery.
UID:1997-917995@events.umich.edu
URL:https://events.umich.edu/event/1997
CLASS:PUBLIC
STATUS:CONFIRMED
CATEGORIES:music
LOCATION:Museum of Art - Helmut Stern Auditorium
CONTACT:
END:VEVENT
BEGIN:VEVENT
DTSTAMP:20101111T175850
DTSTART;TZID=America/Detroit:20100116T200000
SUMMARY:Performance:Yellow Room Gang
DESCRIPTION:
UID:2978-920858@events.umich.edu
URL:https://events.umich.edu/event/2978
CLASS:PUBLIC
STATUS:CONFIRMED
CATEGORIES:music
LOCATION:
CONTACT:
END:VEVENT
END:VCALENDAR