BEGIN:VCALENDAR
VERSION:2.0
PRODID:-//UM//UM*Events//EN
CALSCALE:GREGORIAN
BEGIN:VTIMEZONE
TZID:America/Detroit
TZURL:http://tzurl.org/zoneinfo/America/Detroit
X-LIC-LOCATION:America/Detroit
BEGIN:DAYLIGHT
TZOFFSETFROM:-0500
TZOFFSETTO:-0400
TZNAME:EDT
DTSTART:20070311T020000
RRULE:FREQ=YEARLY;BYMONTH=3;BYDAY=2SU
END:DAYLIGHT
BEGIN:STANDARD
TZOFFSETFROM:-0400
TZOFFSETTO:-0500
TZNAME:EST
DTSTART:20071104T020000
RRULE:FREQ=YEARLY;BYMONTH=11;BYDAY=1SU
END:STANDARD
END:VTIMEZONE
BEGIN:VEVENT
DTSTAMP:20101111T175755
DTSTART;TZID=America/Detroit:20100118T000000
SUMMARY:Exhibition:Exhibit
DESCRIPTION:Economic crises on an international scale are not new\, and President Ford inherited a tough one in 1974. A new exhibit at the Ford Library in Ann Arbor shows how he attacked a troubling brew of inflation\, recession\, budget deficits and oil supply worries. This exhibit features rarely seen artifacts and archival materials from the Ford Library and Museum collections.
UID:3853-917216@events.umich.edu
URL:https://events.umich.edu/event/3853
CLASS:PUBLIC
STATUS:CONFIRMED
CATEGORIES:
LOCATION:Gerald Ford Library
CONTACT:
END:VEVENT
BEGIN:VEVENT
DTSTAMP:20101111T175629
DTSTART;TZID=America/Detroit:20100118T000000
SUMMARY:Exhibition:Exhibit of Recent Aquisitions
DESCRIPTION:This exhibit includes an extraordinarily wide variety of primary source material collected to support current and  future research.  Among the items on display are:  a watercolor “portrait” of a railroad bridge built in Prague in  1850\, original artwork by local artist Tom Pohrt for a children's book written by Justice Sandra Day O'Connor\, a  diary and photographs from a female UM student who hitchhiked from Ann Arbor to San Francisco in 1923\, a  Spanish text from 1693 for those studying to be soldiers\, and Dante's Divine Comedy with illustrations by  Salvador Dali.  \n\nNew archival collections with samples on display include the papers of film director Robert Altman and writers  Nicholas Delbanco and Richard Tillinghast\, as well as four separate women involved in radical causes such as  Clarence Darrow's 1907 defense of union leaders accused of murder and the ecological costs of technology.   This is the first opportunity for the public to see materials from the Altman Collection\, which is estimated to be  1\,000 linear feet in size and is now being sorted and processed for use.
UID:748-911403@events.umich.edu
URL:https://events.umich.edu/event/748
CLASS:PUBLIC
STATUS:CONFIRMED
CATEGORIES:visual arts
LOCATION:Hatcher Graduate Library - 7th Floor Special Collections Library
CONTACT:
END:VEVENT
BEGIN:VEVENT
DTSTAMP:20100110T230807
DTSTART;TZID=America/Detroit:20100118T000000
SUMMARY:Auditions:Human Rights and The Humanities Art Exhibit-CALL FOR SUBMISSION
DESCRIPTION:CALL FOR ART  GOT ART? WE WANT TO SHOWCASE YOUR WORK. We are collecting art to  exhibit as part of our 2010 conference\, Human Rights & the Humanities\, to be held February 5 &  6 at the Michigan Union in Ann Arbor. We are looking for artwork that addresses human rights  issues in creative and effective ways. All artwork is welcomed for submission but due to space  restrictions\, we can only accommodate certain mediums. Please refer to the attached guidelines  or contact hrteandarts@umich.edu for more details!  Sponsored by Human Rights Through  Education      University of Michigan-Ann Arbor).  EMAIL ALL SUBMISSIONS TO  hrteandarts@umich.edu
UID:555-911843@events.umich.edu
URL:https://events.umich.edu/event/555
CLASS:PUBLIC
STATUS:CONFIRMED
CATEGORIES:visual arts,social justice,architecture,film,literary arts,multicultural
LOCATION:Michigan Union - Outside of Amer&#039;s
CONTACT:
END:VEVENT
BEGIN:VEVENT
DTSTAMP:20101111T175810
DTSTART;TZID=America/Detroit:20100118T000000
SUMMARY:Other:MLK Dogsledding trip
DESCRIPTION:Michigan's Upper Peninsula is a winter wonderland of fun.  Imagine driving your own  dogsled and feeling the force of these excitable canines pull usthrough the breath taking  landscape.  After we spend some time with the dogs\, we have the option of going  snowshoeing in the afternoon -a more intimate way to get to know the area.  Finally\, we  can stay cozy and warm in the cabin\, telling stories and drinking hot chocolate!
UID:2223-918675@events.umich.edu
URL:https://events.umich.edu/event/2223
CLASS:PUBLIC
STATUS:CONFIRMED
CATEGORIES:
LOCATION:
CONTACT:
END:VEVENT
BEGIN:VEVENT
DTSTAMP:20101111T175620
DTSTART;TZID=America/Detroit:20100118T000000
SUMMARY:Exhibition:Permanent Exhibits at the Exhibit Museum of Natural History
DESCRIPTION:The Hall of Evolution houses Michigan's largest display of prehistoric life. More than 600 million years of life on Earth are traced through fossils\, models and dioramas. The Michigan Wildlife Gallery has a large collection of native Great Lakes birds\, mammals\, reptiles\, and amphibians\, with taxidermy mounts\, habitat scenes\, and the largest mastodon trackway on display in the world. There are also displays about some of the environmental problems faced in this region today. The Anthropology Displays feature artifacts from human cultures around the world. The Geology Displays on the fourth floor offer a large selection of rocks\, minerals and gems. These displays are updated periodically. For more information go to www.lsa.umich.edu/exhibitmuseum/exhibits/permexhibits or call 734-764-0480.
UID:452-910564@events.umich.edu
URL:https://events.umich.edu/event/452
CLASS:PUBLIC
STATUS:CONFIRMED
CATEGORIES:
LOCATION:Ruthven Museums Building
CONTACT:
END:VEVENT
BEGIN:VEVENT
DTSTAMP:20101111T175759
DTSTART;TZID=America/Detroit:20100118T080000
DTEND;TZID=America/Detroit:20100118T170000
SUMMARY:Exhibition:History of Dentistry exhibits at the Sindecuse Museum of Dentistry
DESCRIPTION:Exhibits at the Sindecuse Museum of Dentistry include Dental Operatories of the 1860s to 1930s\, St. Apollonia-Patron Saint of Dentistry and more. Call 763-0767 or go to www.dent.umich.edu/museum for more information.
UID:3856-917681@events.umich.edu
URL:https://events.umich.edu/event/3856
CLASS:PUBLIC
STATUS:CONFIRMED
CATEGORIES:
LOCATION:Dental & W.K. Kellogg Institute
CONTACT:
END:VEVENT
BEGIN:VEVENT
DTSTAMP:20100329T161307
DTSTART;TZID=America/Detroit:20100118T083000
DTEND;TZID=America/Detroit:20100118T190000
SUMMARY:Exhibition:A History of the Bible from Ancient Papyri to King James
DESCRIPTION:This exhibit\, from the Special Collections Library\, shows a path of documents that  led to the creation of the 1611 King James Version of the Bible – from ancient  Egyptian manuscripts on papyrus to Medieval manuscripts to the printed book.\n\nThe earliest documents on display are Egyptian papyri\, including examples of a  census record from the year 119 and the oldest known copy of part of the New  Testament. Medieval manuscripts document the preservation of the text until the  invention of movable type printing by Gutenberg around 1450. The early printed  Bibles include versions in Latin and Greek\, and several that show the struggles  among various political factions and church reformers to control the translating of  the Scriptures into the language of the people. See the King James Bible of 1611  that became the accepted standard.\n\nFor Audubon Room hours\, see https://www.lib.umich.edu/audubon-room
UID:2220-918595@events.umich.edu
URL:https://events.umich.edu/event/2220
CLASS:PUBLIC
STATUS:CONFIRMED
CATEGORIES:visual arts
LOCATION:Hatcher Graduate Library - Audubon Room/First Floor
CONTACT:
END:VEVENT
BEGIN:VEVENT
DTSTAMP:20100111T154611
DTSTART;TZID=America/Detroit:20100118T083000
DTEND;TZID=America/Detroit:20100118T150000
SUMMARY:Other:MLK Children & Youth Program
DESCRIPTION:Pre-kindergarten\, elementary\, middle and high schools students throughout Washtenaw County and Southeastern Michigan are invited to participate in a full day of rich educational and engaging experiences to commemorate the dream of Dr. Martin Luther King Jr. and its significance today. A variety of age-appropriate learning activities\, including creative art designs\, storytelling\, musical performances and group dialogue\, will occur throughout the day.\n\nFree lunch is provided for all participants.\n\nPre-registration is strongly encouraged and can be done by visiting the website:\n\nhttp://www.sitemaker.umich.edu/mlk/home\n\nClick on students registration
UID:382-910421@events.umich.edu
URL:https://events.umich.edu/event/382
CLASS:PUBLIC
STATUS:CONFIRMED
CATEGORIES:
LOCATION:Modern Languages Building
CONTACT:
END:VEVENT
BEGIN:VEVENT
DTSTAMP:20091029T160553
DTSTART;TZID=America/Detroit:20100118T090000
DTEND;TZID=America/Detroit:20100118T170000
SUMMARY:Exhibition:Book of Iterations
DESCRIPTION:This provocative exhibition is comprised of two “bone books” made of horse  skeletons and covered in hand-written texts\, burnished in gold leaf\, and shod in  silver shoes.  Three bridled horse skulls inscribed and leafed become cabinets for  ephemeral objects and imagery clasped in the hands of priest figures dominating  war landscapes.\n\nInscribed text references medieval and early modern Christianity from the first and  second world war\, and archival texts\, produced in the 1870's in the now extinct  Bushman language “ |xam.” \n\nThrough themes of sacrifice and redemption\, the artist explores relic and archive in  the context of writing and language\, and considers the interchange between text  and textuality\, the visible and the invisible world.\n\nThe exhibition maps out the imaginary boundaries and landmarks of the  miraculous history of the book\, what it might look like\, and where it might lead us  in an ongoing journey.\n\nPippa Skotnes is the Andrew W. Mellon Fellow at the U-M Institute for the  Humanities. She is professor of fine art and director of the Center for Curating the  Archive at the Michaelis School of Fine Art\, University of Capetown\, South  Africa.\n\nProfessor Skotnes will be also be presenting the Wednesday Night Museums  lecture “Curating the Archive: Representing Scattered Collections of the Colonial  Past\,” on December 2\, 2009\, 7:30\, Helmut Stern Auditorium\, University of Michigan  Museum of Art.\n\nA corresponding conference\, “Archive\, Museum\, and the Safe House of Language”  takes place on Thursday\, December 3\, 2009\, 9am-4:30pm at the Institute for the  Humanities\, room 2022\, 202 S. Thayer\, Ann Arbor.
UID:1615-915526@events.umich.edu
URL:https://events.umich.edu/event/1615
CLASS:PUBLIC
STATUS:CONFIRMED
CATEGORIES:visual arts,multicultural,literary arts
LOCATION:202 S. Thayer - 1010
CONTACT:
END:VEVENT
BEGIN:VEVENT
DTSTAMP:20090722T143534
DTSTART;TZID=America/Detroit:20100118T090000
DTEND;TZID=America/Detroit:20100118T170000
SUMMARY:Exhibition:Ida: Darwinius masillae
DESCRIPTION:\"Ida\,\" a new exhibit in the Exhibit Museum's Rotunda\, displays a high-resolution cast of an extremely rare  fossil discovered in 1983 near Messel\, Germany\, but only recently made available for study. The fossil has  proven to be a “link” between the prosimian and simian (\"anthropoid\") primate lineages. It has \"advanced\"  front teeth (incisors and canines) and second toes like those of monkeys\, and is broadly representative of what  human primate ancestors may have looked like during the Eocene epoch 47 million years ago.     Ida (prounded \"eeda\") is named after after the daughter of Dr JÃ¸rn Hurum\, the Norwegian vertebrate  paleontologist who secured one section of the fossil from an anonymous owner\, and led the research. Ida was  about eight months old\, or the equivalent of a six-year-old human.     Publication of a paper on the discovery was accompanied by a book\, The Link: Uncovering Our Earliest  Ancestors by Colin Tudge\, and a documentary shown on the History Channel (US)\, BBC One (UK)\,and various  stations in Germany and Norway.     U-M paleontologist Philip Gingerich and U-M anthropologist B. Holly Smith were two members of the \"dream  team\" invited to study Ida. The exhibit will be on display through May 2010.
UID:2124-918199@events.umich.edu
URL:https://events.umich.edu/event/2124
CLASS:PUBLIC
STATUS:CONFIRMED
CATEGORIES:multicultural,visual arts,welcome week
LOCATION:
CONTACT:
END:VEVENT
BEGIN:VEVENT
DTSTAMP:20101111T175852
DTSTART;TZID=America/Detroit:20100118T100000
DTEND;TZID=America/Detroit:20100118T200000
SUMMARY:Other:Black History 101: Mobile Museum
DESCRIPTION:The Black History 101 Mobile Museum is an innovative grassroots project that will showcase a unique collection of African American memorabilia. The Bell Collection comprises of more than 1\,500 diverse artifacts ranging from slavery to hip hop culture. Khalid el-Hakim is a 36-year old Detroit Public School teacher who started this collection 15 years ago. The mission of the Black History 101 Mobile Museum is to recognize and celebrate the contributions\, achievements and struggles of African Americans. This year\, the theme of the collection will focus on the 3 M's: Martin\, Michael and Motown. Please visit this exhibit to view rare memorabilia on Martin Luther King\, Michael Jackson and the Motown era.
UID:3878-920946@events.umich.edu
URL:https://events.umich.edu/event/3878
CLASS:PUBLIC
STATUS:CONFIRMED
CATEGORIES:
LOCATION:Michigan Union - Art Lounge
CONTACT:
END:VEVENT
BEGIN:VEVENT
DTSTAMP:20101111T175603
DTSTART;TZID=America/Detroit:20100118T100000
SUMMARY:Lecture / Discussion:Keynote Memorial Lecture
DESCRIPTION:Speaker: Gwen Ifill\, moderator and managing editor of PBS's “Washington Week\,” co-anchor for the \"PBS NewsHour\" and author of the best-selling book: The Breakthrough: Politics and Race in the Age of Obama.\n\nGwen Ifill is moderator and managing editor of “Washington Week” and co-anchor for the “PBS NewsHour”. She is also frequently asked to moderate debates in national elections\, most recently the Vice Presidential debate during the 2004 election.\n\nIfill joined both Washington Week and the NewsHour in 1999\, interviewing newsmakers and reporting on issues ranging from foreign affairs to politics.\n\nBefore coming to PBS\, she spent five years at NBC News as chief congressional and political correspondent\, and still appears as an occasional roundtable panelist on Meet The Press.\n\nIfill joined NBC News from The New York Times where she covered the White House and politics. She also covered national and local affairs for The Washington Post\, Baltimore Evening Sun\, and Boston Herald American. She is the author of The Breakthrough: Politics and Race in the Age of Obama.\n\n“I always knew I wanted to be a journalist\, and my first love was newspapers\,” Ifill said. “But public broadcasting provides the best of both worlds – combining the depth of news papering with the immediate impact of broadcast television.”\n\nShe has received more than a dozen honorary doctorates\, and is the recipient of several broadcasting excellence awards\, including honors from the National Press Foundation\, Ebony Magazine\, the Radio Television News Directors Association\, and American Women in Radio and Television.\n\nA native of New York City and a graduate of Simmons College in Boston\, Ifill serves on the board of the Harvard University Institute of Politics\, the Committee to Protect Journalists\, the Newseum and the University of Maryland's Philip Merrill College of Journalism.
UID:3792-909434@events.umich.edu
URL:https://events.umich.edu/event/3792
CLASS:PUBLIC
STATUS:CONFIRMED
CATEGORIES:
LOCATION:Hill Auditorium
CONTACT:
END:VEVENT
BEGIN:VEVENT
DTSTAMP:20101111T175600
DTSTART;TZID=America/Detroit:20100118T100000
DTEND;TZID=America/Detroit:20100118T170000
SUMMARY:Exhibition:Stearns Collection of Music
DESCRIPTION:The Stearns Collection at the School of Music\, Theatre & Dance is one of six major collections of musical instruments in North America. The 2\,500-piece collection is internationally known and is a resource for musical and cultural education.
UID:3790-909198@events.umich.edu
URL:https://events.umich.edu/event/3790
CLASS:PUBLIC
STATUS:CONFIRMED
CATEGORIES:
LOCATION:Earl V. Moore Building
CONTACT:
END:VEVENT
BEGIN:VEVENT
DTSTAMP:20101111T175617
DTSTART;TZID=America/Detroit:20100118T140000
DTEND;TZID=America/Detroit:20100118T160000
SUMMARY:Presentation:2010 MLibrary MLK Symposium
DESCRIPTION:The speaker for the Library's free 2010 Martin Luther King\, Jr. Day event will be the poet\, educator\, and author  Sapphire.  Her bestselling novel Push tells the story of an overweight African-American teenager struggling to  find her place in the world despite her history of incest\, abuse\, and illiteracy.  Precious\, the film adaptation of  Sapphire's novel Push\, has garnered awards from the Sundance Film Festival\, praise from film critics\, and  nominations for the Golden Globe.\n\nSapphire's talk “Push\, Literacy\, Women\, and African American Literature” will take place on Monday\, January  18th at 2:00 pm in the Michigan Union Rogel Ballroom.  A book signing will immediately follow the Q&A  session.  This public event is co-sponsored by: University Library\, Office of Academic Multicultural Initiatives\,  University Housing\, Bentley Historical Library\, Law Library\, and School of Information.\n\nFor additional information about the Library's MLK Day event\, please visit http://www.lib.umich.edu/mlk/. For  a complete calendar of campus events\, please visit http://www.mlksymposium.umich.edu/
UID:337-910385@events.umich.edu
URL:https://events.umich.edu/event/337
CLASS:PUBLIC
STATUS:CONFIRMED
CATEGORIES:social justice,multicultural
LOCATION:Michigan Union - Rogel Ballroom
CONTACT:
END:VEVENT
BEGIN:VEVENT
DTSTAMP:20100118T030003
DTSTART;TZID=America/Detroit:20100118T150000
SUMMARY:Other:MLK Day Celebration:  Engaging in Creative Change
DESCRIPTION:Personal comments and musical performances by U of M School of Music\, Theatre & Dance Faculty
UID:1351-914998@events.umich.edu
URL:https://events.umich.edu/event/1351
CLASS:PUBLIC
STATUS:CONFIRMED
CATEGORIES:music,theater,dance
LOCATION:Lydia Mendelssohn Theatre -  
CONTACT:
END:VEVENT
BEGIN:VEVENT
DTSTAMP:20101111T175803
DTSTART;TZID=America/Detroit:20100118T150000
DTEND;TZID=America/Detroit:20100118T184500
SUMMARY:Film Screening:Rackham’s MLK Day Film Series
DESCRIPTION:Rackham will present three recently produced documentaries that focus on the Civil Rights Era.\n\nFilm: Adam Clayton Powell (1989)\, produced and directed by Richard Kilberg and Yvonne Smith\n\nStart/Run time: 3:10-4:04 p.m. (54 mins)\n\nThe Academy Award-nominated Adam Clayton Powell delves into the gripping life and career of the most influential and flamboyant civil rights leader in America in the '30s through '50s. Described as a “flawed\, but sublime hero\,” Powell brought economic improvement to Harlem by leading and organizing a boycott of local shops until people of color were hired. This economic pressure effectively opened up employment opportunities that had not previously existed.\n\nFilm: We Shall Not Be Moved (2006)\, produced and directed by Bernie Hargis\n\nStart/Run time: 4:10-4:55 p.m. (44 mins)\n\nWe Shall Not be Moved examines the influential role of the Dexter Avenue Baptist Church in the civil rights movement. This small but historical church in Montgomery\, Alabama\, was where Dr. King served as pastor while finishing his Ph.D. dissertation in theology. Just two weeks after he turned in his dissertation\, Rosa Parks refused to give up her bus seat to a white passenger. In fighting for her rights\, Dr. King emerged as the leader of a nationwide movement. Reassessing MLK's role through the lens of the church\, the movie argues that without the support and organization of the church\, the civil rights movement could have never taken place.\n\nFilm: King (2008)\, produced by NBC News executive producer Knute Walker\n\nStart/Run time: 5:10-6:45 p.m. (94 mins)\n\nThis film features a contemporary examination of the life of Martin Luther King. Narrator Tom Brokaw interviews figures such as Bill Clinton and Condoleezza Rice to explore Dr. King's influence on the civil rights movement in the United States. It addresses the issues of multiple factions that developed within the civil rights movement and the stakes of Dr. King's controversial move to openly oppose the Vietnam War.
UID:2007-918001@events.umich.edu
URL:https://events.umich.edu/event/2007
CLASS:PUBLIC
STATUS:CONFIRMED
CATEGORIES:
LOCATION:Rackham Graduate School (Horace H.) - 4th Floor Amphitheater
CONTACT:
END:VEVENT
BEGIN:VEVENT
DTSTAMP:20101111T175903
DTSTART;TZID=America/Detroit:20100118T160000
SUMMARY:Lecture / Discussion:Marjorie Lee Browne Colloquium
DESCRIPTION:The speaker will first reflect on his path to academia and the lack of access to higher education that certain groups of students in our society are still experiencing today. His talk will include his views on the progress (or lack thereof) made in increasing the participation of women and minorities in mathematics in the sixty years since the University of Michigan awarded Dr. Marjorie Lee Browne a Ph.D. The talk will then turn to a discussion of the historical influence the isoperimetric problem of Queen Dido has had on some areas of modern mathematics. George PÃ³lya's 1954 statement\,”The isoperimetric theorem\, deeply rooted in our experience and intuition\, so easy to conjecture but not so easy to prove\, is an inexhaustible source of inspiration\,” will be explored\, with examples from Brownian motion and Lévy processes. Such examples extend far beyond the classical isoperimetric property of Faber-Krahn for eigenvalues of the Laplacian. Some examples of “easy to conjecture” but yet unsolved isoperimetric problems will be discussed.\n\nSpeaker: : Rodrigo Banuelos\, Professor and Head\, Department of Mathematics\, Purdue University
UID:3879-921696@events.umich.edu
URL:https://events.umich.edu/event/3879
CLASS:PUBLIC
STATUS:CONFIRMED
CATEGORIES:
LOCATION:East Hall - Room 1360
CONTACT:
END:VEVENT
BEGIN:VEVENT
DTSTAMP:20101111T175659
DTSTART;TZID=America/Detroit:20100118T160000
SUMMARY:Lecture / Discussion:Reframing the Color Line: Race and Visual Culture
DESCRIPTION:Speaker: Martha S. Jones\, History and Afroamerican & African Studies\; Kristin Hass\, American Culture\n\nAn exploration of racism as portrayed and challenged in American public culture. How do we critically understand contemporary representations of African Americans and “reframe” them with ideas that counter racism and enhance our understandings of identities\, difference\, and power? How do sites of public memory shape our shared understandings? The discussion is held in conjunction with the Clements Library exhibit\, “Reframing the Color Line: Race and the Visual Culture of the Atlantic World\,” curated by Clayton Lewis\, Curator of Graphics\, and Martha S. Jones\, Associate Professor of History and Afroamerican & African Studies.\n\nFree and open to the public. Reception follows.
UID:3823-913628@events.umich.edu
URL:https://events.umich.edu/event/3823
CLASS:PUBLIC
STATUS:CONFIRMED
CATEGORIES:
LOCATION:William Clements Library
CONTACT:
END:VEVENT
BEGIN:VEVENT
DTSTAMP:20100114T103952
DTSTART;TZID=America/Detroit:20100118T183000
DTEND;TZID=America/Detroit:20100118T200000
SUMMARY:Exhibition:Research Through Making Exhibition
DESCRIPTION:Please join the college in viewing the results of the first Research Through Making  Grant Program at an evening reception Jan. 15\, 2010 at 6:30pm. The exhibition will  be open January 15 – February 4\, 2010\, in the College Gallery.\n\nThe recipients of the 2009 Taubman College of Architecture and Urban Planning  Research Through Making Grants were awarded last winter to the following faculty: \n\nRobert Adams\, Spontaneous Mutations\, Genetic Deletions\, Adaptive Environments\,  and Assistive Technology in the Compression of Developmental Time\; Josh Bard\,  Steven Mankouche\, and Tsz Yan Ng\, Digital Steam Bending\; Karl Daubmann\, In  Search of the (w)hole\; Nataly Gattegno and Jason Johnson\, Aurora\; Perry Kulper\,  Spatial Blooms + Here be Dragons\; Keith Mitnick and Mireille Roddier\,  Heterogeneous Constructions.\n\n2009 marked the first year of this competition\, and the jury included Sarah Herda\,  director of the Graham Foundation\; Reed Kroloff\, director of the Cranbrook  Academy of Art and principal of Jones/Kroloff\; and Catherine Seavitt-Nordenson\,  New York-based practicing architect\, Rome Prize winner\, adjunct professor at  Princeton University\, and Taubman College alumna.
UID:1416-915107@events.umich.edu
URL:https://events.umich.edu/event/1416
CLASS:PUBLIC
STATUS:CONFIRMED
CATEGORIES:architecture
LOCATION:Art and Architecture Building - College Gallery
CONTACT:
END:VEVENT
BEGIN:VEVENT
DTSTAMP:20101111T175642
DTSTART;TZID=America/Detroit:20100118T200000
SUMMARY:Performance:Jorma Kaukonen & David Bromberg
DESCRIPTION:
UID:760-912468@events.umich.edu
URL:https://events.umich.edu/event/760
CLASS:PUBLIC
STATUS:CONFIRMED
CATEGORIES:music
LOCATION:
CONTACT:
END:VEVENT
END:VCALENDAR