BEGIN:VCALENDAR
VERSION:2.0
PRODID:-//UM//UM*Events//EN
CALSCALE:GREGORIAN
BEGIN:VTIMEZONE
TZID:America/Detroit
TZURL:http://tzurl.org/zoneinfo/America/Detroit
X-LIC-LOCATION:America/Detroit
BEGIN:DAYLIGHT
TZOFFSETFROM:-0500
TZOFFSETTO:-0400
TZNAME:EDT
DTSTART:20070311T020000
RRULE:FREQ=YEARLY;BYMONTH=3;BYDAY=2SU
END:DAYLIGHT
BEGIN:STANDARD
TZOFFSETFROM:-0400
TZOFFSETTO:-0500
TZNAME:EST
DTSTART:20071104T020000
RRULE:FREQ=YEARLY;BYMONTH=11;BYDAY=1SU
END:STANDARD
END:VTIMEZONE
BEGIN:VEVENT
DTSTAMP:20101111T175755
DTSTART;TZID=America/Detroit:20100119T000000
SUMMARY:Exhibition:Exhibit
DESCRIPTION:Economic crises on an international scale are not new\, and President Ford inherited a tough one in 1974. A new exhibit at the Ford Library in Ann Arbor shows how he attacked a troubling brew of inflation\, recession\, budget deficits and oil supply worries. This exhibit features rarely seen artifacts and archival materials from the Ford Library and Museum collections.
UID:3853-917217@events.umich.edu
URL:https://events.umich.edu/event/3853
CLASS:PUBLIC
STATUS:CONFIRMED
CATEGORIES:
LOCATION:Gerald Ford Library
CONTACT:
END:VEVENT
BEGIN:VEVENT
DTSTAMP:20101111T175629
DTSTART;TZID=America/Detroit:20100119T000000
SUMMARY:Exhibition:Exhibit of Recent Aquisitions
DESCRIPTION:This exhibit includes an extraordinarily wide variety of primary source material collected to support current and  future research.  Among the items on display are:  a watercolor “portrait” of a railroad bridge built in Prague in  1850\, original artwork by local artist Tom Pohrt for a children's book written by Justice Sandra Day O'Connor\, a  diary and photographs from a female UM student who hitchhiked from Ann Arbor to San Francisco in 1923\, a  Spanish text from 1693 for those studying to be soldiers\, and Dante's Divine Comedy with illustrations by  Salvador Dali.  \n\nNew archival collections with samples on display include the papers of film director Robert Altman and writers  Nicholas Delbanco and Richard Tillinghast\, as well as four separate women involved in radical causes such as  Clarence Darrow's 1907 defense of union leaders accused of murder and the ecological costs of technology.   This is the first opportunity for the public to see materials from the Altman Collection\, which is estimated to be  1\,000 linear feet in size and is now being sorted and processed for use.
UID:748-911404@events.umich.edu
URL:https://events.umich.edu/event/748
CLASS:PUBLIC
STATUS:CONFIRMED
CATEGORIES:visual arts
LOCATION:Hatcher Graduate Library - 7th Floor Special Collections Library
CONTACT:
END:VEVENT
BEGIN:VEVENT
DTSTAMP:20100110T230807
DTSTART;TZID=America/Detroit:20100119T000000
SUMMARY:Auditions:Human Rights and The Humanities Art Exhibit-CALL FOR SUBMISSION
DESCRIPTION:CALL FOR ART  GOT ART? WE WANT TO SHOWCASE YOUR WORK. We are collecting art to  exhibit as part of our 2010 conference\, Human Rights & the Humanities\, to be held February 5 &  6 at the Michigan Union in Ann Arbor. We are looking for artwork that addresses human rights  issues in creative and effective ways. All artwork is welcomed for submission but due to space  restrictions\, we can only accommodate certain mediums. Please refer to the attached guidelines  or contact hrteandarts@umich.edu for more details!  Sponsored by Human Rights Through  Education      University of Michigan-Ann Arbor).  EMAIL ALL SUBMISSIONS TO  hrteandarts@umich.edu
UID:555-911844@events.umich.edu
URL:https://events.umich.edu/event/555
CLASS:PUBLIC
STATUS:CONFIRMED
CATEGORIES:architecture,film,literary arts,multicultural,social justice,visual arts
LOCATION:Michigan Union - Outside of Amer&#039;s
CONTACT:
END:VEVENT
BEGIN:VEVENT
DTSTAMP:20101111T175620
DTSTART;TZID=America/Detroit:20100119T000000
SUMMARY:Exhibition:Permanent Exhibits at the Exhibit Museum of Natural History
DESCRIPTION:The Hall of Evolution houses Michigan's largest display of prehistoric life. More than 600 million years of life on Earth are traced through fossils\, models and dioramas. The Michigan Wildlife Gallery has a large collection of native Great Lakes birds\, mammals\, reptiles\, and amphibians\, with taxidermy mounts\, habitat scenes\, and the largest mastodon trackway on display in the world. There are also displays about some of the environmental problems faced in this region today. The Anthropology Displays feature artifacts from human cultures around the world. The Geology Displays on the fourth floor offer a large selection of rocks\, minerals and gems. These displays are updated periodically. For more information go to www.lsa.umich.edu/exhibitmuseum/exhibits/permexhibits or call 734-764-0480.
UID:452-910565@events.umich.edu
URL:https://events.umich.edu/event/452
CLASS:PUBLIC
STATUS:CONFIRMED
CATEGORIES:
LOCATION:Ruthven Museums Building
CONTACT:
END:VEVENT
BEGIN:VEVENT
DTSTAMP:20101111T175759
DTSTART;TZID=America/Detroit:20100119T080000
DTEND;TZID=America/Detroit:20100119T170000
SUMMARY:Exhibition:History of Dentistry exhibits at the Sindecuse Museum of Dentistry
DESCRIPTION:Exhibits at the Sindecuse Museum of Dentistry include Dental Operatories of the 1860s to 1930s\, St. Apollonia-Patron Saint of Dentistry and more. Call 763-0767 or go to www.dent.umich.edu/museum for more information.
UID:3856-917682@events.umich.edu
URL:https://events.umich.edu/event/3856
CLASS:PUBLIC
STATUS:CONFIRMED
CATEGORIES:
LOCATION:Dental & W.K. Kellogg Institute
CONTACT:
END:VEVENT
BEGIN:VEVENT
DTSTAMP:20100329T161307
DTSTART;TZID=America/Detroit:20100119T083000
DTEND;TZID=America/Detroit:20100119T190000
SUMMARY:Exhibition:A History of the Bible from Ancient Papyri to King James
DESCRIPTION:This exhibit\, from the Special Collections Library\, shows a path of documents that  led to the creation of the 1611 King James Version of the Bible – from ancient  Egyptian manuscripts on papyrus to Medieval manuscripts to the printed book.\n\nThe earliest documents on display are Egyptian papyri\, including examples of a  census record from the year 119 and the oldest known copy of part of the New  Testament. Medieval manuscripts document the preservation of the text until the  invention of movable type printing by Gutenberg around 1450. The early printed  Bibles include versions in Latin and Greek\, and several that show the struggles  among various political factions and church reformers to control the translating of  the Scriptures into the language of the people. See the King James Bible of 1611  that became the accepted standard.\n\nFor Audubon Room hours\, see https://www.lib.umich.edu/audubon-room
UID:2220-918596@events.umich.edu
URL:https://events.umich.edu/event/2220
CLASS:PUBLIC
STATUS:CONFIRMED
CATEGORIES:visual arts
LOCATION:Hatcher Graduate Library - Audubon Room/First Floor
CONTACT:
END:VEVENT
BEGIN:VEVENT
DTSTAMP:20091029T160553
DTSTART;TZID=America/Detroit:20100119T090000
DTEND;TZID=America/Detroit:20100119T170000
SUMMARY:Exhibition:Book of Iterations
DESCRIPTION:This provocative exhibition is comprised of two “bone books” made of horse  skeletons and covered in hand-written texts\, burnished in gold leaf\, and shod in  silver shoes.  Three bridled horse skulls inscribed and leafed become cabinets for  ephemeral objects and imagery clasped in the hands of priest figures dominating  war landscapes.\n\nInscribed text references medieval and early modern Christianity from the first and  second world war\, and archival texts\, produced in the 1870's in the now extinct  Bushman language “ |xam.” \n\nThrough themes of sacrifice and redemption\, the artist explores relic and archive in  the context of writing and language\, and considers the interchange between text  and textuality\, the visible and the invisible world.\n\nThe exhibition maps out the imaginary boundaries and landmarks of the  miraculous history of the book\, what it might look like\, and where it might lead us  in an ongoing journey.\n\nPippa Skotnes is the Andrew W. Mellon Fellow at the U-M Institute for the  Humanities. She is professor of fine art and director of the Center for Curating the  Archive at the Michaelis School of Fine Art\, University of Capetown\, South  Africa.\n\nProfessor Skotnes will be also be presenting the Wednesday Night Museums  lecture “Curating the Archive: Representing Scattered Collections of the Colonial  Past\,” on December 2\, 2009\, 7:30\, Helmut Stern Auditorium\, University of Michigan  Museum of Art.\n\nA corresponding conference\, “Archive\, Museum\, and the Safe House of Language”  takes place on Thursday\, December 3\, 2009\, 9am-4:30pm at the Institute for the  Humanities\, room 2022\, 202 S. Thayer\, Ann Arbor.
UID:1615-915527@events.umich.edu
URL:https://events.umich.edu/event/1615
CLASS:PUBLIC
STATUS:CONFIRMED
CATEGORIES:multicultural,literary arts,visual arts
LOCATION:202 S. Thayer - 1010
CONTACT:
END:VEVENT
BEGIN:VEVENT
DTSTAMP:20090722T143534
DTSTART;TZID=America/Detroit:20100119T090000
DTEND;TZID=America/Detroit:20100119T170000
SUMMARY:Exhibition:Ida: Darwinius masillae
DESCRIPTION:\"Ida\,\" a new exhibit in the Exhibit Museum's Rotunda\, displays a high-resolution cast of an extremely rare  fossil discovered in 1983 near Messel\, Germany\, but only recently made available for study. The fossil has  proven to be a “link” between the prosimian and simian (\"anthropoid\") primate lineages. It has \"advanced\"  front teeth (incisors and canines) and second toes like those of monkeys\, and is broadly representative of what  human primate ancestors may have looked like during the Eocene epoch 47 million years ago.     Ida (prounded \"eeda\") is named after after the daughter of Dr JÃ¸rn Hurum\, the Norwegian vertebrate  paleontologist who secured one section of the fossil from an anonymous owner\, and led the research. Ida was  about eight months old\, or the equivalent of a six-year-old human.     Publication of a paper on the discovery was accompanied by a book\, The Link: Uncovering Our Earliest  Ancestors by Colin Tudge\, and a documentary shown on the History Channel (US)\, BBC One (UK)\,and various  stations in Germany and Norway.     U-M paleontologist Philip Gingerich and U-M anthropologist B. Holly Smith were two members of the \"dream  team\" invited to study Ida. The exhibit will be on display through May 2010.
UID:2124-918200@events.umich.edu
URL:https://events.umich.edu/event/2124
CLASS:PUBLIC
STATUS:CONFIRMED
CATEGORIES:welcome week,multicultural,visual arts
LOCATION:
CONTACT:
END:VEVENT
BEGIN:VEVENT
DTSTAMP:20101111T175600
DTSTART;TZID=America/Detroit:20100119T100000
DTEND;TZID=America/Detroit:20100119T170000
SUMMARY:Exhibition:Stearns Collection of Music
DESCRIPTION:The Stearns Collection at the School of Music\, Theatre & Dance is one of six major collections of musical instruments in North America. The 2\,500-piece collection is internationally known and is a resource for musical and cultural education.
UID:3790-909199@events.umich.edu
URL:https://events.umich.edu/event/3790
CLASS:PUBLIC
STATUS:CONFIRMED
CATEGORIES:
LOCATION:Earl V. Moore Building
CONTACT:
END:VEVENT
BEGIN:VEVENT
DTSTAMP:20101111T175732
DTSTART;TZID=America/Detroit:20100119T120000
DTEND;TZID=America/Detroit:20100119T133000
SUMMARY:Lecture / Discussion:Brown Bag: Remaking Heritage Series
DESCRIPTION:A lecture by Bob Goldstein\, Center for Russian and East European Studies.
UID:1730-915749@events.umich.edu
URL:https://events.umich.edu/event/1730
CLASS:PUBLIC
STATUS:CONFIRMED
CATEGORIES:visual arts,multicultural,literary arts
LOCATION:202 S. Thayer - #2022
CONTACT:
END:VEVENT
BEGIN:VEVENT
DTSTAMP:20101111T175811
DTSTART;TZID=America/Detroit:20100119T170000
SUMMARY:Lecture / Discussion:School of Natural Resources & Environment Dean’s Speaker Series
DESCRIPTION:Speaker: Vernice Miller-Travis\n\nCurrently\, Vernice Miller-Travis is the principal of an environmental consulting group called Miller-Travis & Associates. She has been a key convener of an effort to bring the voices of the environmental justice constituency into dialogue with the Obama/Biden Transition Team and the new administration. She was invited to the White House to witness President Obama's signing of two Memoranda of Understanding on raising automobile fuel efficiency standards. She is also co-chair of the Working Group on School Air Monitoring to the National Environmental Justice Advisory Council of the U.S. Environmental Protection Agency. She also serves as vice-chair of the Maryland State Commission on Environmental Justice and Sustainable Communities\, where she leads an effort to encourage state and local governments to consider the environmental and public health dimensions of local land-use and zoning decisions.\n\nMs. Miller-Travis was appointed by Maryland Governors Ehrlich and O'Malley as a commissioner to the Maryland State Commission on Environmental Justice and Sustainable Communities\, where she serves as vice-chair. She also serves on the Board of the Healthy Schools Network and on the Advisory Board of the National Vacant Properties Campaign of Smart Growth America. She is the co-founder of We ACT for Environmental Justice (formerly known as West Harlem Environmental Action)\, a 20-year-old community-based environmental justice organization in New York City.\n\nShe is an urban planner and a graduate of Columbia University\, and published author of numerous articles and chapters on race and land-use\, environmental justice\, brownfields redevelopment and hazardous waste policy\, sustainable community development\, historic preservation and neighborhood revitalization. She is also the recipient of a Charles H. Revson graduate fellowship from Columbia University (1992)\, and a W.K. Kellogg Foundation Kellogg National Leadership Fellowship (1997).
UID:2251-918759@events.umich.edu
URL:https://events.umich.edu/event/2251
CLASS:PUBLIC
STATUS:CONFIRMED
CATEGORIES:
LOCATION:Michigan League - Vandenberg Room
CONTACT:
END:VEVENT
BEGIN:VEVENT
DTSTAMP:20101111T175654
DTSTART;TZID=America/Detroit:20100119T180000
SUMMARY:Meeting:Living Arts Information Session
DESCRIPTION:Are you interested in innovation\, creativity\, and mentoring younger students? If so\,  consider this opportunity to help develop Living Arts\, a new living/learning community in  Bursley on North Campus starting this Fall 2010. \n\nStudents who elect to live in Living Arts are united by a passion for creating and  innovating\, commitment to the arts\, a love for asking hard questions and starting  projects that lead them into unknown territory\, and a drive to partner with peers to make  something totally new and cool. We hope you will join us! The goal of Living Arts is to  spur spontaneous outbursts of crazy-great ideas – the kind that might lead to the next  iPod\, or let audience members virtually inhabit performers' bodies\, or make astronomical  concepts physically palpable\, or – who knows? Join Living Arts and be one of the first to  experience teaching and learning on the creative edge! \n\nWhy Join Living Arts? ”¢ Help plan programming designed to support and enhance creative  interactions among students with a wide range of majors and interests. ”¢ Opportunity to  mentor younger students. ”¢ Lots of contact with faculty from a wide variety of  disciplines. ”¢ A safe place to experiment and “play” intellectually. ”¢ Opportunity to do  interdisciplinary research with faculty and to take interdisciplinary classes. ”¢ 24/7 access  to in-house studios to support creative work. ”¢ Designated study and classroom space  within the residence hall\, as well as individual and group practice rooms\, a gallery for  student work\, and performance space. ”¢ Rare quality time with many of the renowned  artists\, engineers\, and other experts who visit U-M every week. ”¢ Close built-in ties and  leadership opportunities with sponsored student groups such as Arts Enterprise\, Center  for Entrepreneurship\, and with campus organizations such as UMMA and UMS\, among  others. \n\nInformational Meetings: \n\nTuesday\, Jan 12 Bursley Community Center Lounge\, 7 p.m. \n\nTuesday\, Jan 12 Parker House Community Center (Baits I)\, 8:10 p.m. \n\nWednesday\, Jan 13 Bursley Community Center Lounge\, 7 p.m. \n\nThursday\, Jan 14 Perlman Honors Commons (Room G421 Mason Hall)\, 6 p.m. \n\nTuesday\, Jan 19 Perlman Honors Commons (Room G421 Mason Hall)\, 6 p.m. \n\nCan't make one of the informational meetings? Email Jean Leverich\, Program Director of  Living Arts\, at leverich@umich.edu for more information.
UID:805-913172@events.umich.edu
URL:https://events.umich.edu/event/805
CLASS:PUBLIC
STATUS:CONFIRMED
CATEGORIES:visual arts,theater,music,multicultural,literary arts,film,dance,architecture
LOCATION:Mason Hall - Perlman Honors Commons (Room G421 Mason Hall)
CONTACT:
END:VEVENT
BEGIN:VEVENT
DTSTAMP:20100114T103952
DTSTART;TZID=America/Detroit:20100119T183000
DTEND;TZID=America/Detroit:20100119T200000
SUMMARY:Exhibition:Research Through Making Exhibition
DESCRIPTION:Please join the college in viewing the results of the first Research Through Making  Grant Program at an evening reception Jan. 15\, 2010 at 6:30pm. The exhibition will  be open January 15 – February 4\, 2010\, in the College Gallery.\n\nThe recipients of the 2009 Taubman College of Architecture and Urban Planning  Research Through Making Grants were awarded last winter to the following faculty: \n\nRobert Adams\, Spontaneous Mutations\, Genetic Deletions\, Adaptive Environments\,  and Assistive Technology in the Compression of Developmental Time\; Josh Bard\,  Steven Mankouche\, and Tsz Yan Ng\, Digital Steam Bending\; Karl Daubmann\, In  Search of the (w)hole\; Nataly Gattegno and Jason Johnson\, Aurora\; Perry Kulper\,  Spatial Blooms + Here be Dragons\; Keith Mitnick and Mireille Roddier\,  Heterogeneous Constructions.\n\n2009 marked the first year of this competition\, and the jury included Sarah Herda\,  director of the Graham Foundation\; Reed Kroloff\, director of the Cranbrook  Academy of Art and principal of Jones/Kroloff\; and Catherine Seavitt-Nordenson\,  New York-based practicing architect\, Rome Prize winner\, adjunct professor at  Princeton University\, and Taubman College alumna.
UID:1416-915108@events.umich.edu
URL:https://events.umich.edu/event/1416
CLASS:PUBLIC
STATUS:CONFIRMED
CATEGORIES:architecture
LOCATION:Art and Architecture Building - College Gallery
CONTACT:
END:VEVENT
BEGIN:VEVENT
DTSTAMP:20101111T175702
DTSTART;TZID=America/Detroit:20100119T190000
SUMMARY:Lecture / Discussion:Immigration: A Catalyst of Change in American Cities
DESCRIPTION:Presented by the Urban Planning MLK Symposium Committee\, Immigration: A Catalyst of Change in American Cities will examine the impact of immigrants on social interactions\, economic development\, and urban form in the U.S. Join us for a panel discussion about an issue that has social\, political\, and economic implications for all professions. The event will feature brief presentations by each panelist\, a discussion between the panelists\, a question and answer session\, and be followed by a reception.\n\nScheduled speakers for the evening:\n\nIsmael Ahmed: Mr. Ismael Ahmed was appointed by Gov. Granholm as director of the Michigan Department of Human Services effective Sept. 10\, 2007. A nationally recognized expert in immigration and social reform\, Mr. Ahmed leads the state's second largest agency. Mr. Ahmed co-founded the Arab Community Center for Economic and Social Services (ACCESS) 36 years ago\, and was appointed executive director in 1983 where he was responsible for overall operations of the organization to include the executive administration of the Arab American National Museum. ACCESS is the largest Arab-American human services organization in the United States. During his tenure at ACCESS Mr. Ahmed spent time mediating conflict between African-American residents in Detroit and store owners of Middle Eastern descent. For three consecutive years\, Mr. Ahmed has been a guest speaker on U.S. and Arab relations at the Foreign Ministers Meeting of the League of Arab States. He chaired the Immigration Task Force and the Cultural Exchange Network for New Detroit. In 2009\, he was awarded an honorary doctor of laws degree from the University of Michigan-Dearborn.\n\nFrancisco Lara-Valencia\, Ph.D.: Dr. Francisco Lara-Valencia is an Assistant Professor of the School of Geographical Sciences and Urban Planning and Southwest Borderland Scholar at Arizona State University. He is also a faculty affiliated to the School of Geographical Sciences\, the North American Center for Transborder Studies (NACTS) and the Department of Transborder\, Latina/o and Chicana/o Studies (DTLCS) in ASU. He received his Ph.D. in Urban Planning from The University of Michigan at Ann Arbor and did graduate and undergraduate work in Mexico. He has lectured in Mexico and the United States where he has taught courses on urban land use planning\, urban economics\, environmental planning\, and research methods for planners. Francisco's major areas of inquiry include socio-environmental vulnerability\, urban health\, regional development\, binational planning\, and the role of community networks on sustainable development. His policy research focuses on issues of equity and efficiency of policy making and planning along the US-Mexico border.\n\nHussein Samatar Hussein Samatar is the founder and executive director of the African Development Center\, an entrepreneurial nonprofit working within the African communities in Minnesota to start and sustain businesses\, build assets\, and promote community reinvestment. In this role he has created several culturally-targeted alternative finance products and is frequently engaged to address financial\, governmental and other community institutions on the topic of building wealth in emerging markets. Previously\, he was a senior lender for the Neighborhood Development Center and a commercial lender with Wells Fargo and Norwest Banks. Mr. Samatar serves on the boards of several development and civic organizations\, including the Minneapolis Foundation\, CommonBond Communities\, the Citizens League and the Dean's Advisory Board of the Humphrey Institute at the University of Minnesota.\n\nModerated By June Manning Thomas\, Ph.D. Centennial Professor\, Urban and Regional Planning Program\, A. Alfred Taubman College of Architecture and Urban Planning\, The University of Michigan
UID:3827-913768@events.umich.edu
URL:https://events.umich.edu/event/3827
CLASS:PUBLIC
STATUS:CONFIRMED
CATEGORIES:
LOCATION:Art and Architecture Building - Room 2104 (Auditorium)
CONTACT:
END:VEVENT
BEGIN:VEVENT
DTSTAMP:20091211T154016
DTSTART;TZID=America/Detroit:20100119T200000
DTEND;TZID=America/Detroit:20100119T230000
SUMMARY:Other:Artsbreak
DESCRIPTION:Artsbreak is a FREE arts and crafts night every Tuesday from 8pm-11pm in the MUG (Michigan Union Ground floor). Examples of crafts we've done in the past are: painting pumpkins\, decorating small canvas tote bags\, wire photo holders\, polar fleece scarves\, and jewelry making. For the most updated craft list or to suggest a craft\, email artsbreak-uuap@umich.edu to get on our weekly listserv\, or check out UUAP's website.
UID:1256-914135@events.umich.edu
URL:https://events.umich.edu/event/1256
CLASS:PUBLIC
STATUS:CONFIRMED
CATEGORIES:visual arts
LOCATION:Michigan Union - MUG
CONTACT:
END:VEVENT
BEGIN:VEVENT
DTSTAMP:20100119T030003
DTSTART;TZID=America/Detroit:20100119T200000
SUMMARY:Other:Flute Studio Recital
DESCRIPTION:Students of Professor Amy Porter.
UID:201-910124@events.umich.edu
URL:https://events.umich.edu/event/201
CLASS:PUBLIC
STATUS:CONFIRMED
CATEGORIES:music
LOCATION:Earl V. Moore Building - Britton Recital Hall
CONTACT:
END:VEVENT
END:VCALENDAR