BEGIN:VCALENDAR
VERSION:2.0
PRODID:-//UM//UM*Events//EN
CALSCALE:GREGORIAN
BEGIN:VTIMEZONE
TZID:America/Detroit
TZURL:http://tzurl.org/zoneinfo/America/Detroit
X-LIC-LOCATION:America/Detroit
BEGIN:DAYLIGHT
TZOFFSETFROM:-0500
TZOFFSETTO:-0400
TZNAME:EDT
DTSTART:20070311T020000
RRULE:FREQ=YEARLY;BYMONTH=3;BYDAY=2SU
END:DAYLIGHT
BEGIN:STANDARD
TZOFFSETFROM:-0400
TZOFFSETTO:-0500
TZNAME:EST
DTSTART:20071104T020000
RRULE:FREQ=YEARLY;BYMONTH=11;BYDAY=1SU
END:STANDARD
END:VTIMEZONE
BEGIN:VEVENT
DTSTAMP:20101111T175755
DTSTART;TZID=America/Detroit:20100121T000000
SUMMARY:Exhibition:Exhibit
DESCRIPTION:Economic crises on an international scale are not new\, and President Ford inherited a tough one in 1974. A new exhibit at the Ford Library in Ann Arbor shows how he attacked a troubling brew of inflation\, recession\, budget deficits and oil supply worries. This exhibit features rarely seen artifacts and archival materials from the Ford Library and Museum collections.
UID:3853-917219@events.umich.edu
URL:https://events.umich.edu/event/3853
CLASS:PUBLIC
STATUS:CONFIRMED
CATEGORIES:
LOCATION:Gerald Ford Library
CONTACT:
END:VEVENT
BEGIN:VEVENT
DTSTAMP:20101111T175629
DTSTART;TZID=America/Detroit:20100121T000000
SUMMARY:Exhibition:Exhibit of Recent Aquisitions
DESCRIPTION:This exhibit includes an extraordinarily wide variety of primary source material collected to support current and  future research.  Among the items on display are:  a watercolor “portrait” of a railroad bridge built in Prague in  1850\, original artwork by local artist Tom Pohrt for a children's book written by Justice Sandra Day O'Connor\, a  diary and photographs from a female UM student who hitchhiked from Ann Arbor to San Francisco in 1923\, a  Spanish text from 1693 for those studying to be soldiers\, and Dante's Divine Comedy with illustrations by  Salvador Dali.  \n\nNew archival collections with samples on display include the papers of film director Robert Altman and writers  Nicholas Delbanco and Richard Tillinghast\, as well as four separate women involved in radical causes such as  Clarence Darrow's 1907 defense of union leaders accused of murder and the ecological costs of technology.   This is the first opportunity for the public to see materials from the Altman Collection\, which is estimated to be  1\,000 linear feet in size and is now being sorted and processed for use.
UID:748-911406@events.umich.edu
URL:https://events.umich.edu/event/748
CLASS:PUBLIC
STATUS:CONFIRMED
CATEGORIES:visual arts
LOCATION:Hatcher Graduate Library - 7th Floor Special Collections Library
CONTACT:
END:VEVENT
BEGIN:VEVENT
DTSTAMP:20100120T140434
DTSTART;TZID=America/Detroit:20100121T000000
DTEND;TZID=America/Detroit:20100121T234500
SUMMARY:Other:Golden Apple Award Nominations
DESCRIPTION:Nominations for this year's Golden Apple Award are now open! The annual Golden Apple Award is the only teaching award at the University of Michigan bestowed by the student body. The recipient is invited to give his or her ideal 'last lecture' to the university community in March. Please go to www.thegoldenappleaward.com to help select who you think would give the best 'last lecture.'\" Nominations will take place from January 21st - February 5th!\n\nwww.thegoldenappleaward.com
UID:2554-920151@events.umich.edu
URL:https://events.umich.edu/event/2554
CLASS:PUBLIC
STATUS:CONFIRMED
CATEGORIES:
LOCATION:Hillel (Mandell L Berman Center)
CONTACT:
END:VEVENT
BEGIN:VEVENT
DTSTAMP:20100110T230807
DTSTART;TZID=America/Detroit:20100121T000000
SUMMARY:Auditions:Human Rights and The Humanities Art Exhibit-CALL FOR SUBMISSION
DESCRIPTION:CALL FOR ART  GOT ART? WE WANT TO SHOWCASE YOUR WORK. We are collecting art to  exhibit as part of our 2010 conference\, Human Rights & the Humanities\, to be held February 5 &  6 at the Michigan Union in Ann Arbor. We are looking for artwork that addresses human rights  issues in creative and effective ways. All artwork is welcomed for submission but due to space  restrictions\, we can only accommodate certain mediums. Please refer to the attached guidelines  or contact hrteandarts@umich.edu for more details!  Sponsored by Human Rights Through  Education      University of Michigan-Ann Arbor).  EMAIL ALL SUBMISSIONS TO  hrteandarts@umich.edu
UID:555-911846@events.umich.edu
URL:https://events.umich.edu/event/555
CLASS:PUBLIC
STATUS:CONFIRMED
CATEGORIES:visual arts,social justice,multicultural,literary arts,architecture,film
LOCATION:Michigan Union - Outside of Amer&#039;s
CONTACT:
END:VEVENT
BEGIN:VEVENT
DTSTAMP:20101111T175620
DTSTART;TZID=America/Detroit:20100121T000000
SUMMARY:Exhibition:Permanent Exhibits at the Exhibit Museum of Natural History
DESCRIPTION:The Hall of Evolution houses Michigan's largest display of prehistoric life. More than 600 million years of life on Earth are traced through fossils\, models and dioramas. The Michigan Wildlife Gallery has a large collection of native Great Lakes birds\, mammals\, reptiles\, and amphibians\, with taxidermy mounts\, habitat scenes\, and the largest mastodon trackway on display in the world. There are also displays about some of the environmental problems faced in this region today. The Anthropology Displays feature artifacts from human cultures around the world. The Geology Displays on the fourth floor offer a large selection of rocks\, minerals and gems. These displays are updated periodically. For more information go to www.lsa.umich.edu/exhibitmuseum/exhibits/permexhibits or call 734-764-0480.
UID:452-910567@events.umich.edu
URL:https://events.umich.edu/event/452
CLASS:PUBLIC
STATUS:CONFIRMED
CATEGORIES:
LOCATION:Ruthven Museums Building
CONTACT:
END:VEVENT
BEGIN:VEVENT
DTSTAMP:20101111T175759
DTSTART;TZID=America/Detroit:20100121T080000
DTEND;TZID=America/Detroit:20100121T170000
SUMMARY:Exhibition:History of Dentistry exhibits at the Sindecuse Museum of Dentistry
DESCRIPTION:Exhibits at the Sindecuse Museum of Dentistry include Dental Operatories of the 1860s to 1930s\, St. Apollonia-Patron Saint of Dentistry and more. Call 763-0767 or go to www.dent.umich.edu/museum for more information.
UID:3856-917684@events.umich.edu
URL:https://events.umich.edu/event/3856
CLASS:PUBLIC
STATUS:CONFIRMED
CATEGORIES:
LOCATION:Dental & W.K. Kellogg Institute
CONTACT:
END:VEVENT
BEGIN:VEVENT
DTSTAMP:20100329T161307
DTSTART;TZID=America/Detroit:20100121T083000
DTEND;TZID=America/Detroit:20100121T190000
SUMMARY:Exhibition:A History of the Bible from Ancient Papyri to King James
DESCRIPTION:This exhibit\, from the Special Collections Library\, shows a path of documents that  led to the creation of the 1611 King James Version of the Bible – from ancient  Egyptian manuscripts on papyrus to Medieval manuscripts to the printed book.\n\nThe earliest documents on display are Egyptian papyri\, including examples of a  census record from the year 119 and the oldest known copy of part of the New  Testament. Medieval manuscripts document the preservation of the text until the  invention of movable type printing by Gutenberg around 1450. The early printed  Bibles include versions in Latin and Greek\, and several that show the struggles  among various political factions and church reformers to control the translating of  the Scriptures into the language of the people. See the King James Bible of 1611  that became the accepted standard.\n\nFor Audubon Room hours\, see https://www.lib.umich.edu/audubon-room
UID:2220-918598@events.umich.edu
URL:https://events.umich.edu/event/2220
CLASS:PUBLIC
STATUS:CONFIRMED
CATEGORIES:visual arts
LOCATION:Hatcher Graduate Library - Audubon Room/First Floor
CONTACT:
END:VEVENT
BEGIN:VEVENT
DTSTAMP:20091029T160553
DTSTART;TZID=America/Detroit:20100121T090000
DTEND;TZID=America/Detroit:20100121T170000
SUMMARY:Exhibition:Book of Iterations
DESCRIPTION:This provocative exhibition is comprised of two “bone books” made of horse  skeletons and covered in hand-written texts\, burnished in gold leaf\, and shod in  silver shoes.  Three bridled horse skulls inscribed and leafed become cabinets for  ephemeral objects and imagery clasped in the hands of priest figures dominating  war landscapes.\n\nInscribed text references medieval and early modern Christianity from the first and  second world war\, and archival texts\, produced in the 1870's in the now extinct  Bushman language “ |xam.” \n\nThrough themes of sacrifice and redemption\, the artist explores relic and archive in  the context of writing and language\, and considers the interchange between text  and textuality\, the visible and the invisible world.\n\nThe exhibition maps out the imaginary boundaries and landmarks of the  miraculous history of the book\, what it might look like\, and where it might lead us  in an ongoing journey.\n\nPippa Skotnes is the Andrew W. Mellon Fellow at the U-M Institute for the  Humanities. She is professor of fine art and director of the Center for Curating the  Archive at the Michaelis School of Fine Art\, University of Capetown\, South  Africa.\n\nProfessor Skotnes will be also be presenting the Wednesday Night Museums  lecture “Curating the Archive: Representing Scattered Collections of the Colonial  Past\,” on December 2\, 2009\, 7:30\, Helmut Stern Auditorium\, University of Michigan  Museum of Art.\n\nA corresponding conference\, “Archive\, Museum\, and the Safe House of Language”  takes place on Thursday\, December 3\, 2009\, 9am-4:30pm at the Institute for the  Humanities\, room 2022\, 202 S. Thayer\, Ann Arbor.
UID:1615-915529@events.umich.edu
URL:https://events.umich.edu/event/1615
CLASS:PUBLIC
STATUS:CONFIRMED
CATEGORIES:literary arts,multicultural,visual arts
LOCATION:202 S. Thayer - 1010
CONTACT:
END:VEVENT
BEGIN:VEVENT
DTSTAMP:20090722T143534
DTSTART;TZID=America/Detroit:20100121T090000
DTEND;TZID=America/Detroit:20100121T170000
SUMMARY:Exhibition:Ida: Darwinius masillae
DESCRIPTION:\"Ida\,\" a new exhibit in the Exhibit Museum's Rotunda\, displays a high-resolution cast of an extremely rare  fossil discovered in 1983 near Messel\, Germany\, but only recently made available for study. The fossil has  proven to be a “link” between the prosimian and simian (\"anthropoid\") primate lineages. It has \"advanced\"  front teeth (incisors and canines) and second toes like those of monkeys\, and is broadly representative of what  human primate ancestors may have looked like during the Eocene epoch 47 million years ago.     Ida (prounded \"eeda\") is named after after the daughter of Dr JÃ¸rn Hurum\, the Norwegian vertebrate  paleontologist who secured one section of the fossil from an anonymous owner\, and led the research. Ida was  about eight months old\, or the equivalent of a six-year-old human.     Publication of a paper on the discovery was accompanied by a book\, The Link: Uncovering Our Earliest  Ancestors by Colin Tudge\, and a documentary shown on the History Channel (US)\, BBC One (UK)\,and various  stations in Germany and Norway.     U-M paleontologist Philip Gingerich and U-M anthropologist B. Holly Smith were two members of the \"dream  team\" invited to study Ida. The exhibit will be on display through May 2010.
UID:2124-918202@events.umich.edu
URL:https://events.umich.edu/event/2124
CLASS:PUBLIC
STATUS:CONFIRMED
CATEGORIES:welcome week,visual arts,multicultural
LOCATION:
CONTACT:
END:VEVENT
BEGIN:VEVENT
DTSTAMP:20101111T175600
DTSTART;TZID=America/Detroit:20100121T100000
DTEND;TZID=America/Detroit:20100121T170000
SUMMARY:Exhibition:Stearns Collection of Music
DESCRIPTION:The Stearns Collection at the School of Music\, Theatre & Dance is one of six major collections of musical instruments in North America. The 2\,500-piece collection is internationally known and is a resource for musical and cultural education.
UID:3790-909201@events.umich.edu
URL:https://events.umich.edu/event/3790
CLASS:PUBLIC
STATUS:CONFIRMED
CATEGORIES:
LOCATION:Earl V. Moore Building
CONTACT:
END:VEVENT
BEGIN:VEVENT
DTSTAMP:20101111T175624
DTSTART;TZID=America/Detroit:20100121T110000
DTEND;TZID=America/Detroit:20100121T130000
SUMMARY:Performance:Beats N' Eats
DESCRIPTION:Enjoy the relaxing sounds of talented U-M student performers over lunch! Beats N' Eats takes place every Thursday from 11a-1p in either the Union MUG or League Underground. Interested in performance opportunities? Contact University Unions Arts & Programs at uuap@umich.edu or 734-763-3202.
UID:552-911070@events.umich.edu
URL:https://events.umich.edu/event/552
CLASS:PUBLIC
STATUS:CONFIRMED
CATEGORIES:music
LOCATION:Michigan League - Underground
CONTACT:
END:VEVENT
BEGIN:VEVENT
DTSTAMP:20101111T175622
DTSTART;TZID=America/Detroit:20100121T120000
DTEND;TZID=America/Detroit:20100121T130000
SUMMARY:Lecture / Discussion:The Short\, Strange Life of Japan's Values Diplomacy
DESCRIPTION:David Leheny\, Henry Wendt III '55 Professor of East Asian Studies\, Princeton  University
UID:497-910987@events.umich.edu
URL:https://events.umich.edu/event/497
CLASS:PUBLIC
STATUS:CONFIRMED
CATEGORIES:multicultural
LOCATION:School of Social Work Building - 1636
CONTACT:
END:VEVENT
BEGIN:VEVENT
DTSTAMP:20101111T175625
DTSTART;TZID=America/Detroit:20100121T150000
DTEND;TZID=America/Detroit:20100121T170000
SUMMARY:Fair / Festival:OIP's Annual Summer Study Abroad Fair
DESCRIPTION:Our Study Abroad Fairs are a key part of the decision making process. Prospective study abroad students get a chance to talk to alumni (fellow students)\, faculty\, and staff from each program. Students can learn about financial aid\, transfer credits\, and other U-M International resources. \n\nThis Fair caters to students interested in studying abroad during the spring or summer terms.
UID:605-911169@events.umich.edu
URL:https://events.umich.edu/event/605
CLASS:PUBLIC
STATUS:CONFIRMED
CATEGORIES:
LOCATION:Michigan Union - Pendleton Room
CONTACT:
END:VEVENT
BEGIN:VEVENT
DTSTAMP:20091102T150050
DTSTART;TZID=America/Detroit:20100121T153000
DTEND;TZID=America/Detroit:20100121T173000
SUMMARY:Lecture / Discussion:Department of Astronomy Colloquia Series
DESCRIPTION:A weekly lecture series with Astronomy or Astrophysics related topics. Please see  department website for featured speaker and lecture topic. There will be a brief  reception with light refreshments preceding the lecture in room 845 Dennison from  3:30-4:00 pm.
UID:1689-915668@events.umich.edu
URL:https://events.umich.edu/event/1689
CLASS:PUBLIC
STATUS:CONFIRMED
CATEGORIES:
LOCATION:Weiser Hall - 807
CONTACT:
END:VEVENT
BEGIN:VEVENT
DTSTAMP:20101111T175748
DTSTART;TZID=America/Detroit:20100121T160000
DTEND;TZID=America/Detroit:20100121T173000
SUMMARY:Lecture / Discussion:Conversations on Europe.
DESCRIPTION:Jo Labanyi\, professor of Spanish and Portuguese and director\, King Juan Carlos I of  Spain Center\, New York University. \n\nThe Center for European Studies-European Union Center's winter series focuses on  contemporary Spain. Events ongoing January–April\, 2010. In conjunction with the  current Spanish presidency of the European Union\, the University of Michigan's  Center for European Studies-European Union Center (CES-EUC)\, in collaboration with  the Weiser Center for Emerging Democracies (WCED)\, will devote the winter  semester of 2010 to exploring recent debates about the meanings of transition and  memory in democratic Spain.
UID:1899-916731@events.umich.edu
URL:https://events.umich.edu/event/1899
CLASS:PUBLIC
STATUS:CONFIRMED
CATEGORIES:
LOCATION:School of Social Work Building - 1636
CONTACT:
END:VEVENT
BEGIN:VEVENT
DTSTAMP:20101111T175840
DTSTART;TZID=America/Detroit:20100121T170000
SUMMARY:Film Screening:MLK Symposium Film Screening of “The Water Front”
DESCRIPTION:What if you lived by the largest body of fresh water in the world but could no longer afford to use it? The Water Front is the story of an American city–Highland Park\, MI–in crisis\, but it is not just about water. The story touches on the very essence of our democratic system and is an unnerving indication of what is in store for residents around the world facing their own water struggles. (53 minutes\, 2007). The film raises questions such as: Who determines the future of shared public resources? What are alternatives to water privatization? How will we maintain our public water systems\, and whom can we hold accountable?\n\nJoin us for a discussion of this award-winning film with associate director Curtis D. Smith immediately following the film. Light refreshments will be served.
UID:3871-920414@events.umich.edu
URL:https://events.umich.edu/event/3871
CLASS:PUBLIC
STATUS:CONFIRMED
CATEGORIES:
LOCATION:Museum of Art - Helmut Stern Auditorium
CONTACT:
END:VEVENT
BEGIN:VEVENT
DTSTAMP:20100218T134922
DTSTART;TZID=America/Detroit:20100121T170000
DTEND;TZID=America/Detroit:20100121T183000
SUMMARY:Meeting:Spectrum Center for LGBTQ and Friends Staff/Faculty Social Hour
DESCRIPTION:All U-M staff and faculty are invited to join the staff of the Spectrum Center for Lesbian\, Gay\, Bisexual\, Transgender\, Queer and Friends Staff/Faculty Social Hour. The group meets at various restaurants on the third Thursday of each month from 5:15-6:30 p.m. for food\, drinks and socializing. This is a great way to meet and hang out with colleagues. For more information and to get on the group e-mail list\, contact Ariana Bostian-Kentes at abostian@umich.edu or 763- 4186.
UID:330-910375@events.umich.edu
URL:https://events.umich.edu/event/330
CLASS:PUBLIC
STATUS:CONFIRMED
CATEGORIES:
LOCATION:
CONTACT:
END:VEVENT
BEGIN:VEVENT
DTSTAMP:20100121T030003
DTSTART;TZID=America/Detroit:20100121T180000
SUMMARY:Other:Student Lecture -  Instruments of Change:  Improvised Music in Apartheid and Post-Apartheid South Africa - Nate May
DESCRIPTION:For many musicians improvisation is an embrace of – or a demand for – freedom.  In South Africa\, improvised music has served both the struggle against and the recovery from the restrictions on basic freedom that were in place until the fall of the apartheid regime in 1994.  Jazz piano student Nate May will discuss and illustrate his personal experience and research during a year in Cape Town\, with a focus on a Khoisan performance poetry group\, Methodist church music\, and local jazz traditions.  This event is part of the Examining Ubuntu conference which takes place all week (http://www.examiningubuntu.org).
UID:425-911584@events.umich.edu
URL:https://events.umich.edu/event/425
CLASS:PUBLIC
STATUS:CONFIRMED
CATEGORIES:music
LOCATION:
CONTACT:
END:VEVENT
BEGIN:VEVENT
DTSTAMP:20101111T175750
DTSTART;TZID=America/Detroit:20100121T183000
DTEND;TZID=America/Detroit:20100121T203000
SUMMARY:Workshop / Seminar:MOLS Stoves Clinic
DESCRIPTION:Using a backcountry stove can be intimidating at first – you might wonder if you are using it  correctly\, if you've bought the correct fuel\, or if there is really only one switch for adjusting the  flame. If this sounds familiar\, you are likely not alone. Luckily\, with a little knowledge and  practice they can become simple and even intuitive. Not to mention relatively easy to fix. This  MOLS clinic will teach you how to operate\, maintain\, and fix your stove in any situation.
UID:1976-916901@events.umich.edu
URL:https://events.umich.edu/event/1976
CLASS:PUBLIC
STATUS:CONFIRMED
CATEGORIES:
LOCATION:
CONTACT:
END:VEVENT
BEGIN:VEVENT
DTSTAMP:20100114T103952
DTSTART;TZID=America/Detroit:20100121T183000
DTEND;TZID=America/Detroit:20100121T200000
SUMMARY:Exhibition:Research Through Making Exhibition
DESCRIPTION:Please join the college in viewing the results of the first Research Through Making  Grant Program at an evening reception Jan. 15\, 2010 at 6:30pm. The exhibition will  be open January 15 – February 4\, 2010\, in the College Gallery.\n\nThe recipients of the 2009 Taubman College of Architecture and Urban Planning  Research Through Making Grants were awarded last winter to the following faculty: \n\nRobert Adams\, Spontaneous Mutations\, Genetic Deletions\, Adaptive Environments\,  and Assistive Technology in the Compression of Developmental Time\; Josh Bard\,  Steven Mankouche\, and Tsz Yan Ng\, Digital Steam Bending\; Karl Daubmann\, In  Search of the (w)hole\; Nataly Gattegno and Jason Johnson\, Aurora\; Perry Kulper\,  Spatial Blooms + Here be Dragons\; Keith Mitnick and Mireille Roddier\,  Heterogeneous Constructions.\n\n2009 marked the first year of this competition\, and the jury included Sarah Herda\,  director of the Graham Foundation\; Reed Kroloff\, director of the Cranbrook  Academy of Art and principal of Jones/Kroloff\; and Catherine Seavitt-Nordenson\,  New York-based practicing architect\, Rome Prize winner\, adjunct professor at  Princeton University\, and Taubman College alumna.
UID:1416-915089@events.umich.edu
URL:https://events.umich.edu/event/1416
CLASS:PUBLIC
STATUS:CONFIRMED
CATEGORIES:architecture
LOCATION:Art and Architecture Building - College Gallery
CONTACT:
END:VEVENT
BEGIN:VEVENT
DTSTAMP:20101111T175716
DTSTART;TZID=America/Detroit:20100121T190000
DTEND;TZID=America/Detroit:20100121T210000
SUMMARY:Meeting:Circle K Winter Mass Meeting
DESCRIPTION:Circle K is an international community service organization and is the collegiate level of Kiwanis. The mission of the University of Michigan Circle K is to develop leaders with a lifelong commitment to service.\n\nThis year\, our goal is to exceed 10\,000 service hours! We sponsor various service projects with something for everyone. These service projects are all displayed on our online calendar (umcirclek.org/calendar.php). Anyone can sign up to volunteer with us\, whenever you are free!\n\nCome learn more about Circle K and its three tenets: service\, friendship\, and leadership\, at our fun treasure hunt themed mass meeting followed by a scavenger hunt social! Find your way with Circle K!\n\nFor more information visit: www.umcirclek.org or e-mail circlek@umich.edu
UID:1172-914710@events.umich.edu
URL:https://events.umich.edu/event/1172
CLASS:PUBLIC
STATUS:CONFIRMED
CATEGORIES:
LOCATION:Michigan Union - Kuenzel Room
CONTACT:
END:VEVENT
BEGIN:VEVENT
DTSTAMP:20100121T030003
DTSTART;TZID=America/Detroit:20100121T193000
SUMMARY:Other:Student Composers Forum
DESCRIPTION:PROGRAM:  Pertz - the Drink of the Wise\; Matlock - Three Characters\; Foumai - Hanakotoba\; Amchin - Hypnagogia\; Kern -  Chicken Walker\; Peres - Ecstatic Mushrooms in a Controlled Environment\; Mueller - Rounds\; Kalb - String Trio\; Shin - The First Essay\; Crosmer - Chrysalis Infinitum
UID:136-910059@events.umich.edu
URL:https://events.umich.edu/event/136
CLASS:PUBLIC
STATUS:CONFIRMED
CATEGORIES:music
LOCATION:Earl V. Moore Building - Britton Recital Hall
CONTACT:
END:VEVENT
BEGIN:VEVENT
DTSTAMP:20100121T030003
DTSTART;TZID=America/Detroit:20100121T200000
SUMMARY:Other:Student Composers Forum
DESCRIPTION:
UID:527-911044@events.umich.edu
URL:https://events.umich.edu/event/527
CLASS:PUBLIC
STATUS:CONFIRMED
CATEGORIES:music
LOCATION:Earl V. Moore Building - Britton Recital Hall
CONTACT:
END:VEVENT
BEGIN:VEVENT
DTSTAMP:20101111T175808
DTSTART;TZID=America/Detroit:20100121T200000
SUMMARY:Performance:Tim Eriksen\, and Bill Bynum & Co.
DESCRIPTION:Tim Eriksen's hardcore Americana sound is a tightrope walk balancing tradition and  innovation\, and he's walked that walk accurately enough that he's shared stages  with both Doc Watson and Kurt Cobain\, and recorded with both Ralph Stanley and  Jack White. He combines hair-raising vocals with fiddle\, banjo\, guitar\, and bajo  sexto\, alternating stripped-down story songs with quirky originals. Tim cut his teeth  playing hardcore punk at New York's notorious CBGB and getting a degree in South  Indian classical music (veena and voice)\, all the while honing his \"northern roots\"  Americana style and mining local library archives\, junk sales\, and obscure field  recordings for gems of old American song. He was a member of the seminal folk- noise band Cordelia's Dad and appeared on the \"Cold Mountain\" soundtrack. A Tim  Eriksen set may draw on the power of New England murder ballads\, stark shape- note tunes\, love songs\, and/or Irish and southern Appalachian sounds. The  Downriver Detroit downhome band Bill Bynum & Co. opens tonight's concert.
UID:2145-918498@events.umich.edu
URL:https://events.umich.edu/event/2145
CLASS:PUBLIC
STATUS:CONFIRMED
CATEGORIES:music
LOCATION:
CONTACT:
END:VEVENT
END:VCALENDAR