BEGIN:VCALENDAR
VERSION:2.0
PRODID:-//UM//UM*Events//EN
CALSCALE:GREGORIAN
BEGIN:VTIMEZONE
TZID:America/Detroit
TZURL:http://tzurl.org/zoneinfo/America/Detroit
X-LIC-LOCATION:America/Detroit
BEGIN:DAYLIGHT
TZOFFSETFROM:-0500
TZOFFSETTO:-0400
TZNAME:EDT
DTSTART:20070311T020000
RRULE:FREQ=YEARLY;BYMONTH=3;BYDAY=2SU
END:DAYLIGHT
BEGIN:STANDARD
TZOFFSETFROM:-0400
TZOFFSETTO:-0500
TZNAME:EST
DTSTART:20071104T020000
RRULE:FREQ=YEARLY;BYMONTH=11;BYDAY=1SU
END:STANDARD
END:VTIMEZONE
BEGIN:VEVENT
DTSTAMP:20101111T175755
DTSTART;TZID=America/Detroit:20100122T000000
SUMMARY:Exhibition:Exhibit
DESCRIPTION:Economic crises on an international scale are not new\, and President Ford inherited a tough one in 1974. A new exhibit at the Ford Library in Ann Arbor shows how he attacked a troubling brew of inflation\, recession\, budget deficits and oil supply worries. This exhibit features rarely seen artifacts and archival materials from the Ford Library and Museum collections.
UID:3853-917220@events.umich.edu
URL:https://events.umich.edu/event/3853
CLASS:PUBLIC
STATUS:CONFIRMED
CATEGORIES:
LOCATION:Gerald Ford Library
CONTACT:
END:VEVENT
BEGIN:VEVENT
DTSTAMP:20101111T175629
DTSTART;TZID=America/Detroit:20100122T000000
SUMMARY:Exhibition:Exhibit of Recent Aquisitions
DESCRIPTION:This exhibit includes an extraordinarily wide variety of primary source material collected to support current and  future research.  Among the items on display are:  a watercolor “portrait” of a railroad bridge built in Prague in  1850\, original artwork by local artist Tom Pohrt for a children's book written by Justice Sandra Day O'Connor\, a  diary and photographs from a female UM student who hitchhiked from Ann Arbor to San Francisco in 1923\, a  Spanish text from 1693 for those studying to be soldiers\, and Dante's Divine Comedy with illustrations by  Salvador Dali.  \n\nNew archival collections with samples on display include the papers of film director Robert Altman and writers  Nicholas Delbanco and Richard Tillinghast\, as well as four separate women involved in radical causes such as  Clarence Darrow's 1907 defense of union leaders accused of murder and the ecological costs of technology.   This is the first opportunity for the public to see materials from the Altman Collection\, which is estimated to be  1\,000 linear feet in size and is now being sorted and processed for use.
UID:748-911407@events.umich.edu
URL:https://events.umich.edu/event/748
CLASS:PUBLIC
STATUS:CONFIRMED
CATEGORIES:visual arts
LOCATION:Hatcher Graduate Library - 7th Floor Special Collections Library
CONTACT:
END:VEVENT
BEGIN:VEVENT
DTSTAMP:20100120T140434
DTSTART;TZID=America/Detroit:20100122T000000
DTEND;TZID=America/Detroit:20100122T234500
SUMMARY:Other:Golden Apple Award Nominations
DESCRIPTION:Nominations for this year's Golden Apple Award are now open! The annual Golden Apple Award is the only teaching award at the University of Michigan bestowed by the student body. The recipient is invited to give his or her ideal 'last lecture' to the university community in March. Please go to www.thegoldenappleaward.com to help select who you think would give the best 'last lecture.'\" Nominations will take place from January 21st - February 5th!\n\nwww.thegoldenappleaward.com
UID:2554-920152@events.umich.edu
URL:https://events.umich.edu/event/2554
CLASS:PUBLIC
STATUS:CONFIRMED
CATEGORIES:
LOCATION:Hillel (Mandell L Berman Center)
CONTACT:
END:VEVENT
BEGIN:VEVENT
DTSTAMP:20100110T230807
DTSTART;TZID=America/Detroit:20100122T000000
SUMMARY:Auditions:Human Rights and The Humanities Art Exhibit-CALL FOR SUBMISSION
DESCRIPTION:CALL FOR ART  GOT ART? WE WANT TO SHOWCASE YOUR WORK. We are collecting art to  exhibit as part of our 2010 conference\, Human Rights & the Humanities\, to be held February 5 &  6 at the Michigan Union in Ann Arbor. We are looking for artwork that addresses human rights  issues in creative and effective ways. All artwork is welcomed for submission but due to space  restrictions\, we can only accommodate certain mediums. Please refer to the attached guidelines  or contact hrteandarts@umich.edu for more details!  Sponsored by Human Rights Through  Education      University of Michigan-Ann Arbor).  EMAIL ALL SUBMISSIONS TO  hrteandarts@umich.edu
UID:555-911847@events.umich.edu
URL:https://events.umich.edu/event/555
CLASS:PUBLIC
STATUS:CONFIRMED
CATEGORIES:architecture,film,literary arts,multicultural,social justice,visual arts
LOCATION:Michigan Union - Outside of Amer&#039;s
CONTACT:
END:VEVENT
BEGIN:VEVENT
DTSTAMP:20101111T175620
DTSTART;TZID=America/Detroit:20100122T000000
SUMMARY:Exhibition:Permanent Exhibits at the Exhibit Museum of Natural History
DESCRIPTION:The Hall of Evolution houses Michigan's largest display of prehistoric life. More than 600 million years of life on Earth are traced through fossils\, models and dioramas. The Michigan Wildlife Gallery has a large collection of native Great Lakes birds\, mammals\, reptiles\, and amphibians\, with taxidermy mounts\, habitat scenes\, and the largest mastodon trackway on display in the world. There are also displays about some of the environmental problems faced in this region today. The Anthropology Displays feature artifacts from human cultures around the world. The Geology Displays on the fourth floor offer a large selection of rocks\, minerals and gems. These displays are updated periodically. For more information go to www.lsa.umich.edu/exhibitmuseum/exhibits/permexhibits or call 734-764-0480.
UID:452-910568@events.umich.edu
URL:https://events.umich.edu/event/452
CLASS:PUBLIC
STATUS:CONFIRMED
CATEGORIES:
LOCATION:Ruthven Museums Building
CONTACT:
END:VEVENT
BEGIN:VEVENT
DTSTAMP:20101111T175759
DTSTART;TZID=America/Detroit:20100122T080000
DTEND;TZID=America/Detroit:20100122T170000
SUMMARY:Exhibition:History of Dentistry exhibits at the Sindecuse Museum of Dentistry
DESCRIPTION:Exhibits at the Sindecuse Museum of Dentistry include Dental Operatories of the 1860s to 1930s\, St. Apollonia-Patron Saint of Dentistry and more. Call 763-0767 or go to www.dent.umich.edu/museum for more information.
UID:3856-917685@events.umich.edu
URL:https://events.umich.edu/event/3856
CLASS:PUBLIC
STATUS:CONFIRMED
CATEGORIES:
LOCATION:Dental & W.K. Kellogg Institute
CONTACT:
END:VEVENT
BEGIN:VEVENT
DTSTAMP:20100329T161307
DTSTART;TZID=America/Detroit:20100122T083000
DTEND;TZID=America/Detroit:20100122T190000
SUMMARY:Exhibition:A History of the Bible from Ancient Papyri to King James
DESCRIPTION:This exhibit\, from the Special Collections Library\, shows a path of documents that  led to the creation of the 1611 King James Version of the Bible – from ancient  Egyptian manuscripts on papyrus to Medieval manuscripts to the printed book.\n\nThe earliest documents on display are Egyptian papyri\, including examples of a  census record from the year 119 and the oldest known copy of part of the New  Testament. Medieval manuscripts document the preservation of the text until the  invention of movable type printing by Gutenberg around 1450. The early printed  Bibles include versions in Latin and Greek\, and several that show the struggles  among various political factions and church reformers to control the translating of  the Scriptures into the language of the people. See the King James Bible of 1611  that became the accepted standard.\n\nFor Audubon Room hours\, see https://www.lib.umich.edu/audubon-room
UID:2220-918599@events.umich.edu
URL:https://events.umich.edu/event/2220
CLASS:PUBLIC
STATUS:CONFIRMED
CATEGORIES:visual arts
LOCATION:Hatcher Graduate Library - Audubon Room/First Floor
CONTACT:
END:VEVENT
BEGIN:VEVENT
DTSTAMP:20101111T175639
DTSTART;TZID=America/Detroit:20100122T090000
DTEND;TZID=America/Detroit:20100122T103000
SUMMARY:Lecture / Discussion:Arts of Citizenship Breakfast: Lincoln in American Culture's Collective Memory
DESCRIPTION:In conjunction with the UMS presentation of Bill T. Jones's Fondly Do We Hope... Fervently Do We Pray\, a dance meditation on the life and legacy of Abraham Lincoln\, Arts of Citizenship and UMS sponsors a participatory discussion on the role of the arts\, culture\, and politics in the shaping of public memory of President Lincoln\, the civil war\, and the end of slavery\, featuring faculty members from the U-M Center for African and African American Studies\, the Program in American Culture\, the History department\, and the Dance department. Participating faculty will include Kristin Hass\, Assistant Professor of American Culture and author of Carried to the Wall: American Memory and The Vietnam Veterans Memorial (1998)\, Martha Jones\, Associate Professor of History and African-American Studies and author of All Bound Up Together: The Woman Question in African American Public Culture\, 1830-1900 (2007)\, and Robin Wilson\, Associate Professor of Dance\, choreographer and dance historian.  Panel will be chaired by Julie Ellison\, Professor of English.
UID:663-912326@events.umich.edu
URL:https://events.umich.edu/event/663
CLASS:PUBLIC
STATUS:CONFIRMED
CATEGORIES:dance,literary arts,multicultural
LOCATION:Museum of Art - UMMA Commons
CONTACT:
END:VEVENT
BEGIN:VEVENT
DTSTAMP:20101111T175751
DTSTART;TZID=America/Detroit:20100122T090000
DTEND;TZID=America/Detroit:20100122T103000
SUMMARY:Lecture / Discussion:Arts of Citizenship Breakfast: Lincoln in American Culture’s Collective Memory
DESCRIPTION:In conjunction with the UMS presentation of Bill T. Jones's Fondly Do We Hope”¦ Fervently Do We Pray\, a dance meditation on the life and legacy of Abraham Lincoln\, Arts of Citizenship and UMS sponsors a participatory discussion on the role of the arts\, culture\, and politics in the shaping of public memory of President Lincoln\, the civil war\, and the end of slavery\, featuring faculty members from the U-M Center for African and African American Studies\, the Program in American Culture\, the History department\, and the Dance department. Participating faculty will include Kristin Hass\, Assistant Professor of American Culture and author of Carried to the Wall: American Memory and The Vietnam Veterans Memorial (1998)\, Martha Jones\, Associate Professor of History and African-American Studies and author of All Bound Up Together: The Woman Question in African American Public Culture\, 1830-1900 (2007)\, and Robin Wilson\, Associate Professor of Dance\, choreographer and dance historian.
UID:3852-916968@events.umich.edu
URL:https://events.umich.edu/event/3852
CLASS:PUBLIC
STATUS:CONFIRMED
CATEGORIES:
LOCATION:Museum of Art - UMMA Commons
CONTACT:
END:VEVENT
BEGIN:VEVENT
DTSTAMP:20091029T160553
DTSTART;TZID=America/Detroit:20100122T090000
DTEND;TZID=America/Detroit:20100122T170000
SUMMARY:Exhibition:Book of Iterations
DESCRIPTION:This provocative exhibition is comprised of two “bone books” made of horse  skeletons and covered in hand-written texts\, burnished in gold leaf\, and shod in  silver shoes.  Three bridled horse skulls inscribed and leafed become cabinets for  ephemeral objects and imagery clasped in the hands of priest figures dominating  war landscapes.\n\nInscribed text references medieval and early modern Christianity from the first and  second world war\, and archival texts\, produced in the 1870's in the now extinct  Bushman language “ |xam.” \n\nThrough themes of sacrifice and redemption\, the artist explores relic and archive in  the context of writing and language\, and considers the interchange between text  and textuality\, the visible and the invisible world.\n\nThe exhibition maps out the imaginary boundaries and landmarks of the  miraculous history of the book\, what it might look like\, and where it might lead us  in an ongoing journey.\n\nPippa Skotnes is the Andrew W. Mellon Fellow at the U-M Institute for the  Humanities. She is professor of fine art and director of the Center for Curating the  Archive at the Michaelis School of Fine Art\, University of Capetown\, South  Africa.\n\nProfessor Skotnes will be also be presenting the Wednesday Night Museums  lecture “Curating the Archive: Representing Scattered Collections of the Colonial  Past\,” on December 2\, 2009\, 7:30\, Helmut Stern Auditorium\, University of Michigan  Museum of Art.\n\nA corresponding conference\, “Archive\, Museum\, and the Safe House of Language”  takes place on Thursday\, December 3\, 2009\, 9am-4:30pm at the Institute for the  Humanities\, room 2022\, 202 S. Thayer\, Ann Arbor.
UID:1615-915530@events.umich.edu
URL:https://events.umich.edu/event/1615
CLASS:PUBLIC
STATUS:CONFIRMED
CATEGORIES:literary arts,multicultural,visual arts
LOCATION:202 S. Thayer - 1010
CONTACT:
END:VEVENT
BEGIN:VEVENT
DTSTAMP:20090722T143534
DTSTART;TZID=America/Detroit:20100122T090000
DTEND;TZID=America/Detroit:20100122T170000
SUMMARY:Exhibition:Ida: Darwinius masillae
DESCRIPTION:\"Ida\,\" a new exhibit in the Exhibit Museum's Rotunda\, displays a high-resolution cast of an extremely rare  fossil discovered in 1983 near Messel\, Germany\, but only recently made available for study. The fossil has  proven to be a “link” between the prosimian and simian (\"anthropoid\") primate lineages. It has \"advanced\"  front teeth (incisors and canines) and second toes like those of monkeys\, and is broadly representative of what  human primate ancestors may have looked like during the Eocene epoch 47 million years ago.     Ida (prounded \"eeda\") is named after after the daughter of Dr JÃ¸rn Hurum\, the Norwegian vertebrate  paleontologist who secured one section of the fossil from an anonymous owner\, and led the research. Ida was  about eight months old\, or the equivalent of a six-year-old human.     Publication of a paper on the discovery was accompanied by a book\, The Link: Uncovering Our Earliest  Ancestors by Colin Tudge\, and a documentary shown on the History Channel (US)\, BBC One (UK)\,and various  stations in Germany and Norway.     U-M paleontologist Philip Gingerich and U-M anthropologist B. Holly Smith were two members of the \"dream  team\" invited to study Ida. The exhibit will be on display through May 2010.
UID:2124-918203@events.umich.edu
URL:https://events.umich.edu/event/2124
CLASS:PUBLIC
STATUS:CONFIRMED
CATEGORIES:multicultural,visual arts,welcome week
LOCATION:
CONTACT:
END:VEVENT
BEGIN:VEVENT
DTSTAMP:20101111T175600
DTSTART;TZID=America/Detroit:20100122T100000
DTEND;TZID=America/Detroit:20100122T170000
SUMMARY:Exhibition:Stearns Collection of Music
DESCRIPTION:The Stearns Collection at the School of Music\, Theatre & Dance is one of six major collections of musical instruments in North America. The 2\,500-piece collection is internationally known and is a resource for musical and cultural education.
UID:3790-909202@events.umich.edu
URL:https://events.umich.edu/event/3790
CLASS:PUBLIC
STATUS:CONFIRMED
CATEGORIES:
LOCATION:Earl V. Moore Building
CONTACT:
END:VEVENT
BEGIN:VEVENT
DTSTAMP:20101111T175809
DTSTART;TZID=America/Detroit:20100122T120000
DTEND;TZID=America/Detroit:20100122T130000
SUMMARY:Lecture / Discussion:Translation Discussion
DESCRIPTION:A brown bag discussion with Anita Norich\, Professor\, Department of English\,  University of Michigan
UID:2180-918537@events.umich.edu
URL:https://events.umich.edu/event/2180
CLASS:PUBLIC
STATUS:CONFIRMED
CATEGORIES:
LOCATION:
CONTACT:
END:VEVENT
BEGIN:VEVENT
DTSTAMP:20100104T113043
DTSTART;TZID=America/Detroit:20100122T160000
SUMMARY:Lecture / Discussion:Global Policy Perspectives Symposium
DESCRIPTION:Kristine Chong\, Moderator MPP Candidate 2010\, Ford School of Public Policy\n\nEmmanuel Jimenez\, Panelist Sector Director for Human Development in the East Asia Region\, World Bank\n\nLinda Lim\, Panelist Professor of Strategy\, Ross School of Business\, University of Michigan\n\nJohn D. Ciorciari\, Panelist Assistant Professor\, Gerald R. Ford School of Public Policy\, University of Michigan\n\nSoutheast Asia is a diverse region of nearly 600 million people that faces a host of development policy challenges and opportunities.  These stem both from shifting global economic currents and continuing social and political transitions within the region.  Southeast Asia also continues to grow in importance for U.S. policymakers\, as the region now accounts for more U.S. trade than any bilateral partners save Canada\, China\, and Mexico.  This panel will feature a discussion of key policy issues in Southeast Asian development\, including efforts to alleviate poverty\, trends in Chinese foreign investment in the area\, and attempts to improve the region's resilience to economic shocks or crises.
UID:2583-920215@events.umich.edu
URL:https://events.umich.edu/event/2583
CLASS:PUBLIC
STATUS:CONFIRMED
CATEGORIES:
LOCATION:Weill Hall (Ford School) - 1120 Annenberg Auditorium
CONTACT:
END:VEVENT
BEGIN:VEVENT
DTSTAMP:20100122T030003
DTSTART;TZID=America/Detroit:20100122T163000
SUMMARY:Other:Design and Production Students Portfolio Exhibit Opening
DESCRIPTION:The exhibit showcases  work of our BFA students including projects done for design classes and realized designs from various University Production shows.  The exhibit runs January 25-30\, 2010.
UID:1527-916051@events.umich.edu
URL:https://events.umich.edu/event/1527
CLASS:PUBLIC
STATUS:CONFIRMED
CATEGORIES:visual arts,theater,music
LOCATION:Duderstadt Center - Duderstadt Gallery
CONTACT:
END:VEVENT
BEGIN:VEVENT
DTSTAMP:20100122T030003
DTSTART;TZID=America/Detroit:20100122T170000
SUMMARY:Other:Musicology Lecture:  Musical Literacy: A Historical Perspective - James Grier (U of Western Ontario)
DESCRIPTION:I start from two premises: first\, that musical notation provides a powerful tool for the recording\, preservation and communication of music\; and second\, that memory and the combination of oral and aural traditions are equally powerful tools for the same purposes. In this paper\, I explore the impact of musical literacy\, the act of reading musical notation and translating it into sounding music\, on musical practice\, and how that impact has affected musical practice in Western traditions. Part of the problem is a question of which is the chicken and which the egg. Does prevailing musical practice demand developments in musical notation\, or do innovations in notation drive innovations in musical practice? Have musicians from different eras and traditions viewed and exploited the relationship differently? Does musical literacy enable or limit musical practice?
UID:350-909816@events.umich.edu
URL:https://events.umich.edu/event/350
CLASS:PUBLIC
STATUS:CONFIRMED
CATEGORIES:music
LOCATION:Burton Memorial Tower - Room 506
CONTACT:
END:VEVENT
BEGIN:VEVENT
DTSTAMP:20100114T103952
DTSTART;TZID=America/Detroit:20100122T183000
DTEND;TZID=America/Detroit:20100122T200000
SUMMARY:Exhibition:Research Through Making Exhibition
DESCRIPTION:Please join the college in viewing the results of the first Research Through Making  Grant Program at an evening reception Jan. 15\, 2010 at 6:30pm. The exhibition will  be open January 15 – February 4\, 2010\, in the College Gallery.\n\nThe recipients of the 2009 Taubman College of Architecture and Urban Planning  Research Through Making Grants were awarded last winter to the following faculty: \n\nRobert Adams\, Spontaneous Mutations\, Genetic Deletions\, Adaptive Environments\,  and Assistive Technology in the Compression of Developmental Time\; Josh Bard\,  Steven Mankouche\, and Tsz Yan Ng\, Digital Steam Bending\; Karl Daubmann\, In  Search of the (w)hole\; Nataly Gattegno and Jason Johnson\, Aurora\; Perry Kulper\,  Spatial Blooms + Here be Dragons\; Keith Mitnick and Mireille Roddier\,  Heterogeneous Constructions.\n\n2009 marked the first year of this competition\, and the jury included Sarah Herda\,  director of the Graham Foundation\; Reed Kroloff\, director of the Cranbrook  Academy of Art and principal of Jones/Kroloff\; and Catherine Seavitt-Nordenson\,  New York-based practicing architect\, Rome Prize winner\, adjunct professor at  Princeton University\, and Taubman College alumna.
UID:1416-915090@events.umich.edu
URL:https://events.umich.edu/event/1416
CLASS:PUBLIC
STATUS:CONFIRMED
CATEGORIES:architecture
LOCATION:Art and Architecture Building - College Gallery
CONTACT:
END:VEVENT
BEGIN:VEVENT
DTSTAMP:20100122T030003
DTSTART;TZID=America/Detroit:20100122T200000
SUMMARY:Other:Masters Recital:  Allison Cregg\, violin
DESCRIPTION:PROGRAM: Mozart - Violin Concerto No. 4 in D Major\, K 218\; Ysaye - Violin Sonata No. 4 in E Minor\, Op. 27\; Faure - Violin Sonata No. 1 in A Major\, Op. 13
UID:1170-914014@events.umich.edu
URL:https://events.umich.edu/event/1170
CLASS:PUBLIC
STATUS:CONFIRMED
CATEGORIES:music
LOCATION:Walgreen Drama Center - Stamps Auditorium
CONTACT:
END:VEVENT
BEGIN:VEVENT
DTSTAMP:20100122T030003
DTSTART;TZID=America/Detroit:20100122T200000
SUMMARY:Other:Masters Recital:  Matthew Ross Brower\, piano
DESCRIPTION:PROGRAM:  Debussy - Ariettes oubliées\, L. 60\; Schumann - Frauenliebe und Leben\, Op. 42\; Beethoven - Sonata for Cello and Piano No. 3 in A Major\, Op. 69\; Brahms - Vier Duette fÃ¼r Sopran und Alt mit Klavierbegleitung\, Op. 61
UID:2160-917380@events.umich.edu
URL:https://events.umich.edu/event/2160
CLASS:PUBLIC
STATUS:CONFIRMED
CATEGORIES:music
LOCATION:Earl V. Moore Building - Britton Recital Hall
CONTACT:
END:VEVENT
BEGIN:VEVENT
DTSTAMP:20101111T175708
DTSTART;TZID=America/Detroit:20100122T200000
SUMMARY:Performance:The MacPodz
DESCRIPTION:
UID:1319-914191@events.umich.edu
URL:https://events.umich.edu/event/1319
CLASS:PUBLIC
STATUS:CONFIRMED
CATEGORIES:music
LOCATION:
CONTACT:
END:VEVENT
BEGIN:VEVENT
DTSTAMP:20091201T102818
DTSTART;TZID=America/Detroit:20100122T220000
DTEND;TZID=America/Detroit:20100122T020000
SUMMARY:Other:UMix-Jan 22
DESCRIPTION:Come check out UMix\, Friday Jan. 22nd at the Michigan Union!... -Showing of \"Zombieland\" at 11 in Anderson -Make-your-own Hemp bracelets with Artsbreak in Pendleton -Survival Bingo in Pendleton -Psychic Fair in the Ballroom -Student Performance Showcases (TBA) -Karaoke and free Nacho bar in the Uclub!
UID:2927-921708@events.umich.edu
URL:https://events.umich.edu/event/2927
CLASS:PUBLIC
STATUS:CONFIRMED
CATEGORIES:
LOCATION:Michigan Union
CONTACT:
END:VEVENT
END:VCALENDAR