BEGIN:VCALENDAR
VERSION:2.0
PRODID:-//UM//UM*Events//EN
CALSCALE:GREGORIAN
BEGIN:VTIMEZONE
TZID:America/Detroit
TZURL:http://tzurl.org/zoneinfo/America/Detroit
X-LIC-LOCATION:America/Detroit
BEGIN:DAYLIGHT
TZOFFSETFROM:-0500
TZOFFSETTO:-0400
TZNAME:EDT
DTSTART:20070311T020000
RRULE:FREQ=YEARLY;BYMONTH=3;BYDAY=2SU
END:DAYLIGHT
BEGIN:STANDARD
TZOFFSETFROM:-0400
TZOFFSETTO:-0500
TZNAME:EST
DTSTART:20071104T020000
RRULE:FREQ=YEARLY;BYMONTH=11;BYDAY=1SU
END:STANDARD
END:VTIMEZONE
BEGIN:VEVENT
DTSTAMP:20101111T175755
DTSTART;TZID=America/Detroit:20100126T000000
SUMMARY:Exhibition:Exhibit
DESCRIPTION:Economic crises on an international scale are not new\, and President Ford inherited a tough one in 1974. A new exhibit at the Ford Library in Ann Arbor shows how he attacked a troubling brew of inflation\, recession\, budget deficits and oil supply worries. This exhibit features rarely seen artifacts and archival materials from the Ford Library and Museum collections.
UID:3853-917222@events.umich.edu
URL:https://events.umich.edu/event/3853
CLASS:PUBLIC
STATUS:CONFIRMED
CATEGORIES:
LOCATION:Gerald Ford Library
CONTACT:
END:VEVENT
BEGIN:VEVENT
DTSTAMP:20101111T175629
DTSTART;TZID=America/Detroit:20100126T000000
SUMMARY:Exhibition:Exhibit of Recent Aquisitions
DESCRIPTION:This exhibit includes an extraordinarily wide variety of primary source material collected to support current and  future research.  Among the items on display are:  a watercolor “portrait” of a railroad bridge built in Prague in  1850\, original artwork by local artist Tom Pohrt for a children's book written by Justice Sandra Day O'Connor\, a  diary and photographs from a female UM student who hitchhiked from Ann Arbor to San Francisco in 1923\, a  Spanish text from 1693 for those studying to be soldiers\, and Dante's Divine Comedy with illustrations by  Salvador Dali.  \n\nNew archival collections with samples on display include the papers of film director Robert Altman and writers  Nicholas Delbanco and Richard Tillinghast\, as well as four separate women involved in radical causes such as  Clarence Darrow's 1907 defense of union leaders accused of murder and the ecological costs of technology.   This is the first opportunity for the public to see materials from the Altman Collection\, which is estimated to be  1\,000 linear feet in size and is now being sorted and processed for use.
UID:748-911411@events.umich.edu
URL:https://events.umich.edu/event/748
CLASS:PUBLIC
STATUS:CONFIRMED
CATEGORIES:visual arts
LOCATION:Hatcher Graduate Library - 7th Floor Special Collections Library
CONTACT:
END:VEVENT
BEGIN:VEVENT
DTSTAMP:20100120T140434
DTSTART;TZID=America/Detroit:20100126T000000
DTEND;TZID=America/Detroit:20100126T234500
SUMMARY:Other:Golden Apple Award Nominations
DESCRIPTION:Nominations for this year's Golden Apple Award are now open! The annual Golden Apple Award is the only teaching award at the University of Michigan bestowed by the student body. The recipient is invited to give his or her ideal 'last lecture' to the university community in March. Please go to www.thegoldenappleaward.com to help select who you think would give the best 'last lecture.'\" Nominations will take place from January 21st - February 5th!\n\nwww.thegoldenappleaward.com
UID:2554-920156@events.umich.edu
URL:https://events.umich.edu/event/2554
CLASS:PUBLIC
STATUS:CONFIRMED
CATEGORIES:
LOCATION:Hillel (Mandell L Berman Center)
CONTACT:
END:VEVENT
BEGIN:VEVENT
DTSTAMP:20100110T230807
DTSTART;TZID=America/Detroit:20100126T000000
SUMMARY:Auditions:Human Rights and The Humanities Art Exhibit-CALL FOR SUBMISSION
DESCRIPTION:CALL FOR ART  GOT ART? WE WANT TO SHOWCASE YOUR WORK. We are collecting art to  exhibit as part of our 2010 conference\, Human Rights & the Humanities\, to be held February 5 &  6 at the Michigan Union in Ann Arbor. We are looking for artwork that addresses human rights  issues in creative and effective ways. All artwork is welcomed for submission but due to space  restrictions\, we can only accommodate certain mediums. Please refer to the attached guidelines  or contact hrteandarts@umich.edu for more details!  Sponsored by Human Rights Through  Education      University of Michigan-Ann Arbor).  EMAIL ALL SUBMISSIONS TO  hrteandarts@umich.edu
UID:555-911851@events.umich.edu
URL:https://events.umich.edu/event/555
CLASS:PUBLIC
STATUS:CONFIRMED
CATEGORIES:social justice,visual arts,multicultural,literary arts,film,architecture
LOCATION:Michigan Union - Outside of Amer&#039;s
CONTACT:
END:VEVENT
BEGIN:VEVENT
DTSTAMP:20101111T175620
DTSTART;TZID=America/Detroit:20100126T000000
SUMMARY:Exhibition:Permanent Exhibits at the Exhibit Museum of Natural History
DESCRIPTION:The Hall of Evolution houses Michigan's largest display of prehistoric life. More than 600 million years of life on Earth are traced through fossils\, models and dioramas. The Michigan Wildlife Gallery has a large collection of native Great Lakes birds\, mammals\, reptiles\, and amphibians\, with taxidermy mounts\, habitat scenes\, and the largest mastodon trackway on display in the world. There are also displays about some of the environmental problems faced in this region today. The Anthropology Displays feature artifacts from human cultures around the world. The Geology Displays on the fourth floor offer a large selection of rocks\, minerals and gems. These displays are updated periodically. For more information go to www.lsa.umich.edu/exhibitmuseum/exhibits/permexhibits or call 734-764-0480.
UID:452-910572@events.umich.edu
URL:https://events.umich.edu/event/452
CLASS:PUBLIC
STATUS:CONFIRMED
CATEGORIES:
LOCATION:Ruthven Museums Building
CONTACT:
END:VEVENT
BEGIN:VEVENT
DTSTAMP:20101111T175759
DTSTART;TZID=America/Detroit:20100126T080000
DTEND;TZID=America/Detroit:20100126T170000
SUMMARY:Exhibition:History of Dentistry exhibits at the Sindecuse Museum of Dentistry
DESCRIPTION:Exhibits at the Sindecuse Museum of Dentistry include Dental Operatories of the 1860s to 1930s\, St. Apollonia-Patron Saint of Dentistry and more. Call 763-0767 or go to www.dent.umich.edu/museum for more information.
UID:3856-917687@events.umich.edu
URL:https://events.umich.edu/event/3856
CLASS:PUBLIC
STATUS:CONFIRMED
CATEGORIES:
LOCATION:Dental & W.K. Kellogg Institute
CONTACT:
END:VEVENT
BEGIN:VEVENT
DTSTAMP:20100329T161307
DTSTART;TZID=America/Detroit:20100126T083000
DTEND;TZID=America/Detroit:20100126T190000
SUMMARY:Exhibition:A History of the Bible from Ancient Papyri to King James
DESCRIPTION:This exhibit\, from the Special Collections Library\, shows a path of documents that  led to the creation of the 1611 King James Version of the Bible – from ancient  Egyptian manuscripts on papyrus to Medieval manuscripts to the printed book.\n\nThe earliest documents on display are Egyptian papyri\, including examples of a  census record from the year 119 and the oldest known copy of part of the New  Testament. Medieval manuscripts document the preservation of the text until the  invention of movable type printing by Gutenberg around 1450. The early printed  Bibles include versions in Latin and Greek\, and several that show the struggles  among various political factions and church reformers to control the translating of  the Scriptures into the language of the people. See the King James Bible of 1611  that became the accepted standard.\n\nFor Audubon Room hours\, see https://www.lib.umich.edu/audubon-room
UID:2220-918603@events.umich.edu
URL:https://events.umich.edu/event/2220
CLASS:PUBLIC
STATUS:CONFIRMED
CATEGORIES:visual arts
LOCATION:Hatcher Graduate Library - Audubon Room/First Floor
CONTACT:
END:VEVENT
BEGIN:VEVENT
DTSTAMP:20090722T143534
DTSTART;TZID=America/Detroit:20100126T090000
DTEND;TZID=America/Detroit:20100126T170000
SUMMARY:Exhibition:Ida: Darwinius masillae
DESCRIPTION:\"Ida\,\" a new exhibit in the Exhibit Museum's Rotunda\, displays a high-resolution cast of an extremely rare  fossil discovered in 1983 near Messel\, Germany\, but only recently made available for study. The fossil has  proven to be a “link” between the prosimian and simian (\"anthropoid\") primate lineages. It has \"advanced\"  front teeth (incisors and canines) and second toes like those of monkeys\, and is broadly representative of what  human primate ancestors may have looked like during the Eocene epoch 47 million years ago.     Ida (prounded \"eeda\") is named after after the daughter of Dr JÃ¸rn Hurum\, the Norwegian vertebrate  paleontologist who secured one section of the fossil from an anonymous owner\, and led the research. Ida was  about eight months old\, or the equivalent of a six-year-old human.     Publication of a paper on the discovery was accompanied by a book\, The Link: Uncovering Our Earliest  Ancestors by Colin Tudge\, and a documentary shown on the History Channel (US)\, BBC One (UK)\,and various  stations in Germany and Norway.     U-M paleontologist Philip Gingerich and U-M anthropologist B. Holly Smith were two members of the \"dream  team\" invited to study Ida. The exhibit will be on display through May 2010.
UID:2124-918207@events.umich.edu
URL:https://events.umich.edu/event/2124
CLASS:PUBLIC
STATUS:CONFIRMED
CATEGORIES:welcome week,visual arts,multicultural
LOCATION:
CONTACT:
END:VEVENT
BEGIN:VEVENT
DTSTAMP:20101111T175600
DTSTART;TZID=America/Detroit:20100126T100000
DTEND;TZID=America/Detroit:20100126T170000
SUMMARY:Exhibition:Stearns Collection of Music
DESCRIPTION:The Stearns Collection at the School of Music\, Theatre & Dance is one of six major collections of musical instruments in North America. The 2\,500-piece collection is internationally known and is a resource for musical and cultural education.
UID:3790-909204@events.umich.edu
URL:https://events.umich.edu/event/3790
CLASS:PUBLIC
STATUS:CONFIRMED
CATEGORIES:
LOCATION:Earl V. Moore Building
CONTACT:
END:VEVENT
BEGIN:VEVENT
DTSTAMP:20101111T175850
DTSTART;TZID=America/Detroit:20100126T120000
DTEND;TZID=America/Detroit:20100126T133000
SUMMARY:Lecture / Discussion:Brown Bag Lecture: Featuring our Fellows
DESCRIPTION:A lecture by Paul Johnson\, Center for Afroamerican and African Studies.
UID:2996-920904@events.umich.edu
URL:https://events.umich.edu/event/2996
CLASS:PUBLIC
STATUS:CONFIRMED
CATEGORIES:multicultural
LOCATION:202 S. Thayer - #2022
CONTACT:
END:VEVENT
BEGIN:VEVENT
DTSTAMP:20100126T030003
DTSTART;TZID=America/Detroit:20100126T143000
SUMMARY:Other:Musicology Lecture:  Kugak Fusion\, Kugak Confusion: Politics and Promotion in a New Old Korean Music - Keith Howard
DESCRIPTION:Associate Dean\, Research\, and Professor\, Sydney Conservatorium of Music\, University of SydneyAs Korean musicians and organisations have digested the recent success of cutting-edge \"Korean Wave\,\" so they have reassessed the way that Korean music is commodified and promoted\, both in festivals in Korea and around the world.  Locally\, this is reflected in Kugak fusion\, a genre that mixes Western harmonies and melodies with Korean soundworlds\, and presented in spectacles that update traditional genres\, incorporating technological wizadry\, exuberant and outgoing performance\, and flashy staging\, in ways that are designed to appeal to new audiences. Powerful lobbies of performers and scholars within Korea who value traditional music\, kugak\, see in it a depth of identity that provides distinction\, and reject Kugak fusion as a poor amalgam of East and West. Nor has the promotion of new genres been well received by foreign critics\, revealing a distance between what is popular in Korea and what is popular abroad. This paper explores the discourse surrounding Kugak fusion within Korea and abroad.
UID:55-909087@events.umich.edu
URL:https://events.umich.edu/event/55
CLASS:PUBLIC
STATUS:CONFIRMED
CATEGORIES:music
LOCATION:Burton Memorial Tower - Room 506
CONTACT:
END:VEVENT
BEGIN:VEVENT
DTSTAMP:20091224T080329
DTSTART;TZID=America/Detroit:20100126T160000
DTEND;TZID=America/Detroit:20100126T173000
SUMMARY:Lecture / Discussion:Conversations on Europe.
DESCRIPTION:Lawrence Gostin\, Linda D. and Timothy J. O'Neill Professor of Global Health Law\;  Faculty Director\, O'Neill Institute for National and Global Health Law\, Georgetown  University.
UID:879-912671@events.umich.edu
URL:https://events.umich.edu/event/879
CLASS:PUBLIC
STATUS:CONFIRMED
CATEGORIES:
LOCATION:School of Social Work Building - 1644
CONTACT:
END:VEVENT
BEGIN:VEVENT
DTSTAMP:20101111T175650
DTSTART;TZID=America/Detroit:20100126T170000
DTEND;TZID=America/Detroit:20100126T200000
SUMMARY:Other:UUAP and Artsbreak present: Family Night!
DESCRIPTION:Get out of that cold and come indoors for a carnival themed night of games\, crafts\, and food.  Students with and without children are encouraged to attend.  Kid-friendly foods will be provided\, as well as free balloon animals made by Flutterby the Clown! All are welcome\, including children and the young at heart. This event is entirely free!
UID:1080-912917@events.umich.edu
URL:https://events.umich.edu/event/1080
CLASS:PUBLIC
STATUS:CONFIRMED
CATEGORIES:visual arts
LOCATION:Pierpont Commons - Common&#039;s Cafe (Dining Area)
CONTACT:
END:VEVENT
BEGIN:VEVENT
DTSTAMP:20100119T150413
DTSTART;TZID=America/Detroit:20100126T173000
DTEND;TZID=America/Detroit:20100126T183000
SUMMARY:Lecture / Discussion:Science\, Technology\, and Public Policy (STPP)
DESCRIPTION:Information Session for the Science\, Technology\, and Public Policy (STPP) Graduate Certificate Program\n\nDo you want to learn how science and technology policy is made?  Are you interested in the social and ethical implications of stem cells and biotechnology? Do you wonder what happens when experts disagree on how to solve public policy problems\, such as the best way to reduce greenhouse gases?  The purpose of the Information session is to introduce prospective students and to answer questions about the admissions process. Come learn about the Science\, Technology\, and Public Policy (STPP) Graduate Certificate Program.  The STPP Program is open to all UM graduate students.\n\nTuesday\, January 26\, 2010 Ford School of Public Policy Weill Hall\, Room 1210 (located on the first floor) 735 S. State Street 5:30pm - 6:30pm (pizza provided)\n\nWednesday\, January 27\, 2010 Taubman Medical Library GAP Conference Room 2955 (located in the lower level) 1135 Catherine Ave 4:00pm - 5:00pm (pizza provided)\n\nFor more information about STPP visit our website:  www.stpp.fordschool.umich.edu
UID:1550-915345@events.umich.edu
URL:https://events.umich.edu/event/1550
CLASS:PUBLIC
STATUS:CONFIRMED
CATEGORIES:
LOCATION:Weill Hall (Ford School) - 1210
CONTACT:
END:VEVENT
BEGIN:VEVENT
DTSTAMP:20100115T150802
DTSTART;TZID=America/Detroit:20100126T183000
DTEND;TZID=America/Detroit:20100126T200000
SUMMARY:Community Service:Learning from the Community
DESCRIPTION:\"You only enter the community for the first time once.\"  Utilizing an asset-based  community development framework\, this session will examine ways of establishing  relationships with community partners\, building trust\, understanding styles of  communication\, clarifying expectations\, and preparing for an appropriate exit.
UID:889-913348@events.umich.edu
URL:https://events.umich.edu/event/889
CLASS:PUBLIC
STATUS:CONFIRMED
CATEGORIES:social justice
LOCATION:Herbert H. Dow  Building - 1018
CONTACT:
END:VEVENT
BEGIN:VEVENT
DTSTAMP:20100114T103952
DTSTART;TZID=America/Detroit:20100126T183000
DTEND;TZID=America/Detroit:20100126T200000
SUMMARY:Exhibition:Research Through Making Exhibition
DESCRIPTION:Please join the college in viewing the results of the first Research Through Making  Grant Program at an evening reception Jan. 15\, 2010 at 6:30pm. The exhibition will  be open January 15 – February 4\, 2010\, in the College Gallery.\n\nThe recipients of the 2009 Taubman College of Architecture and Urban Planning  Research Through Making Grants were awarded last winter to the following faculty: \n\nRobert Adams\, Spontaneous Mutations\, Genetic Deletions\, Adaptive Environments\,  and Assistive Technology in the Compression of Developmental Time\; Josh Bard\,  Steven Mankouche\, and Tsz Yan Ng\, Digital Steam Bending\; Karl Daubmann\, In  Search of the (w)hole\; Nataly Gattegno and Jason Johnson\, Aurora\; Perry Kulper\,  Spatial Blooms + Here be Dragons\; Keith Mitnick and Mireille Roddier\,  Heterogeneous Constructions.\n\n2009 marked the first year of this competition\, and the jury included Sarah Herda\,  director of the Graham Foundation\; Reed Kroloff\, director of the Cranbrook  Academy of Art and principal of Jones/Kroloff\; and Catherine Seavitt-Nordenson\,  New York-based practicing architect\, Rome Prize winner\, adjunct professor at  Princeton University\, and Taubman College alumna.
UID:1416-915094@events.umich.edu
URL:https://events.umich.edu/event/1416
CLASS:PUBLIC
STATUS:CONFIRMED
CATEGORIES:architecture
LOCATION:Art and Architecture Building - College Gallery
CONTACT:
END:VEVENT
BEGIN:VEVENT
DTSTAMP:20101111T175721
DTSTART;TZID=America/Detroit:20100126T190000
DTEND;TZID=America/Detroit:20100126T200000
SUMMARY:Meeting:Coffee Talk: Israel and International Humanitarian Aid
DESCRIPTION:Enjoy some free coffee or hot chocolate while discussing Israel's stance on sending humanitarian aid to countries that don't believe in Israel's right to exist.
UID:1337-914967@events.umich.edu
URL:https://events.umich.edu/event/1337
CLASS:PUBLIC
STATUS:CONFIRMED
CATEGORIES:
LOCATION:
CONTACT:
END:VEVENT
BEGIN:VEVENT
DTSTAMP:20101111T175708
DTSTART;TZID=America/Detroit:20100126T190000
DTEND;TZID=America/Detroit:20100126T210000
SUMMARY:Other:Ice Skating at Buhr Park event
DESCRIPTION:Experience skating at Buhr Park's outdoor ice arena.  Meet others with an interest in recreation and the outdoors  and bring your friends along!
UID:1309-914185@events.umich.edu
URL:https://events.umich.edu/event/1309
CLASS:PUBLIC
STATUS:CONFIRMED
CATEGORIES:
LOCATION:
CONTACT:
END:VEVENT
BEGIN:VEVENT
DTSTAMP:20100126T030003
DTSTART;TZID=America/Detroit:20100126T200000
SUMMARY:Other:University Symphony Orchestra
DESCRIPTION:Dean Christopher Kendall\, conductor.  PROGRAM:  MacCombie - Samsara Rounds\; Foss - Time Cycle\; Rachmaninoff - Symphony No. 2.  Pre-concert lecture at 7:15 p.m.
UID:2682-920413@events.umich.edu
URL:https://events.umich.edu/event/2682
CLASS:PUBLIC
STATUS:CONFIRMED
CATEGORIES:music
LOCATION:Hill Auditorium -  
CONTACT:
END:VEVENT
END:VCALENDAR