BEGIN:VCALENDAR
VERSION:2.0
PRODID:-//UM//UM*Events//EN
CALSCALE:GREGORIAN
BEGIN:VTIMEZONE
TZID:America/Detroit
TZURL:http://tzurl.org/zoneinfo/America/Detroit
X-LIC-LOCATION:America/Detroit
BEGIN:DAYLIGHT
TZOFFSETFROM:-0500
TZOFFSETTO:-0400
TZNAME:EDT
DTSTART:20070311T020000
RRULE:FREQ=YEARLY;BYMONTH=3;BYDAY=2SU
END:DAYLIGHT
BEGIN:STANDARD
TZOFFSETFROM:-0400
TZOFFSETTO:-0500
TZNAME:EST
DTSTART:20071104T020000
RRULE:FREQ=YEARLY;BYMONTH=11;BYDAY=1SU
END:STANDARD
END:VTIMEZONE
BEGIN:VEVENT
DTSTAMP:20101111T175755
DTSTART;TZID=America/Detroit:20100128T000000
SUMMARY:Exhibition:Exhibit
DESCRIPTION:Economic crises on an international scale are not new\, and President Ford inherited a tough one in 1974. A new exhibit at the Ford Library in Ann Arbor shows how he attacked a troubling brew of inflation\, recession\, budget deficits and oil supply worries. This exhibit features rarely seen artifacts and archival materials from the Ford Library and Museum collections.
UID:3853-917224@events.umich.edu
URL:https://events.umich.edu/event/3853
CLASS:PUBLIC
STATUS:CONFIRMED
CATEGORIES:
LOCATION:Gerald Ford Library
CONTACT:
END:VEVENT
BEGIN:VEVENT
DTSTAMP:20101111T175629
DTSTART;TZID=America/Detroit:20100128T000000
SUMMARY:Exhibition:Exhibit of Recent Aquisitions
DESCRIPTION:This exhibit includes an extraordinarily wide variety of primary source material collected to support current and  future research.  Among the items on display are:  a watercolor “portrait” of a railroad bridge built in Prague in  1850\, original artwork by local artist Tom Pohrt for a children's book written by Justice Sandra Day O'Connor\, a  diary and photographs from a female UM student who hitchhiked from Ann Arbor to San Francisco in 1923\, a  Spanish text from 1693 for those studying to be soldiers\, and Dante's Divine Comedy with illustrations by  Salvador Dali.  \n\nNew archival collections with samples on display include the papers of film director Robert Altman and writers  Nicholas Delbanco and Richard Tillinghast\, as well as four separate women involved in radical causes such as  Clarence Darrow's 1907 defense of union leaders accused of murder and the ecological costs of technology.   This is the first opportunity for the public to see materials from the Altman Collection\, which is estimated to be  1\,000 linear feet in size and is now being sorted and processed for use.
UID:748-911413@events.umich.edu
URL:https://events.umich.edu/event/748
CLASS:PUBLIC
STATUS:CONFIRMED
CATEGORIES:visual arts
LOCATION:Hatcher Graduate Library - 7th Floor Special Collections Library
CONTACT:
END:VEVENT
BEGIN:VEVENT
DTSTAMP:20100120T140434
DTSTART;TZID=America/Detroit:20100128T000000
DTEND;TZID=America/Detroit:20100128T234500
SUMMARY:Other:Golden Apple Award Nominations
DESCRIPTION:Nominations for this year's Golden Apple Award are now open! The annual Golden Apple Award is the only teaching award at the University of Michigan bestowed by the student body. The recipient is invited to give his or her ideal 'last lecture' to the university community in March. Please go to www.thegoldenappleaward.com to help select who you think would give the best 'last lecture.'\" Nominations will take place from January 21st - February 5th!\n\nwww.thegoldenappleaward.com
UID:2554-920142@events.umich.edu
URL:https://events.umich.edu/event/2554
CLASS:PUBLIC
STATUS:CONFIRMED
CATEGORIES:
LOCATION:Hillel (Mandell L Berman Center)
CONTACT:
END:VEVENT
BEGIN:VEVENT
DTSTAMP:20100110T230807
DTSTART;TZID=America/Detroit:20100128T000000
SUMMARY:Auditions:Human Rights and The Humanities Art Exhibit-CALL FOR SUBMISSION
DESCRIPTION:CALL FOR ART  GOT ART? WE WANT TO SHOWCASE YOUR WORK. We are collecting art to  exhibit as part of our 2010 conference\, Human Rights & the Humanities\, to be held February 5 &  6 at the Michigan Union in Ann Arbor. We are looking for artwork that addresses human rights  issues in creative and effective ways. All artwork is welcomed for submission but due to space  restrictions\, we can only accommodate certain mediums. Please refer to the attached guidelines  or contact hrteandarts@umich.edu for more details!  Sponsored by Human Rights Through  Education      University of Michigan-Ann Arbor).  EMAIL ALL SUBMISSIONS TO  hrteandarts@umich.edu
UID:555-911853@events.umich.edu
URL:https://events.umich.edu/event/555
CLASS:PUBLIC
STATUS:CONFIRMED
CATEGORIES:architecture,film,literary arts,multicultural,social justice,visual arts
LOCATION:Michigan Union - Outside of Amer&#039;s
CONTACT:
END:VEVENT
BEGIN:VEVENT
DTSTAMP:20101111T175620
DTSTART;TZID=America/Detroit:20100128T000000
SUMMARY:Exhibition:Permanent Exhibits at the Exhibit Museum of Natural History
DESCRIPTION:The Hall of Evolution houses Michigan's largest display of prehistoric life. More than 600 million years of life on Earth are traced through fossils\, models and dioramas. The Michigan Wildlife Gallery has a large collection of native Great Lakes birds\, mammals\, reptiles\, and amphibians\, with taxidermy mounts\, habitat scenes\, and the largest mastodon trackway on display in the world. There are also displays about some of the environmental problems faced in this region today. The Anthropology Displays feature artifacts from human cultures around the world. The Geology Displays on the fourth floor offer a large selection of rocks\, minerals and gems. These displays are updated periodically. For more information go to www.lsa.umich.edu/exhibitmuseum/exhibits/permexhibits or call 734-764-0480.
UID:452-910574@events.umich.edu
URL:https://events.umich.edu/event/452
CLASS:PUBLIC
STATUS:CONFIRMED
CATEGORIES:
LOCATION:Ruthven Museums Building
CONTACT:
END:VEVENT
BEGIN:VEVENT
DTSTAMP:20101111T175759
DTSTART;TZID=America/Detroit:20100128T080000
DTEND;TZID=America/Detroit:20100128T170000
SUMMARY:Exhibition:History of Dentistry exhibits at the Sindecuse Museum of Dentistry
DESCRIPTION:Exhibits at the Sindecuse Museum of Dentistry include Dental Operatories of the 1860s to 1930s\, St. Apollonia-Patron Saint of Dentistry and more. Call 763-0767 or go to www.dent.umich.edu/museum for more information.
UID:3856-917689@events.umich.edu
URL:https://events.umich.edu/event/3856
CLASS:PUBLIC
STATUS:CONFIRMED
CATEGORIES:
LOCATION:Dental & W.K. Kellogg Institute
CONTACT:
END:VEVENT
BEGIN:VEVENT
DTSTAMP:20100329T161307
DTSTART;TZID=America/Detroit:20100128T083000
DTEND;TZID=America/Detroit:20100128T190000
SUMMARY:Exhibition:A History of the Bible from Ancient Papyri to King James
DESCRIPTION:This exhibit\, from the Special Collections Library\, shows a path of documents that  led to the creation of the 1611 King James Version of the Bible – from ancient  Egyptian manuscripts on papyrus to Medieval manuscripts to the printed book.\n\nThe earliest documents on display are Egyptian papyri\, including examples of a  census record from the year 119 and the oldest known copy of part of the New  Testament. Medieval manuscripts document the preservation of the text until the  invention of movable type printing by Gutenberg around 1450. The early printed  Bibles include versions in Latin and Greek\, and several that show the struggles  among various political factions and church reformers to control the translating of  the Scriptures into the language of the people. See the King James Bible of 1611  that became the accepted standard.\n\nFor Audubon Room hours\, see https://www.lib.umich.edu/audubon-room
UID:2220-918605@events.umich.edu
URL:https://events.umich.edu/event/2220
CLASS:PUBLIC
STATUS:CONFIRMED
CATEGORIES:visual arts
LOCATION:Hatcher Graduate Library - Audubon Room/First Floor
CONTACT:
END:VEVENT
BEGIN:VEVENT
DTSTAMP:20090722T143534
DTSTART;TZID=America/Detroit:20100128T090000
DTEND;TZID=America/Detroit:20100128T170000
SUMMARY:Exhibition:Ida: Darwinius masillae
DESCRIPTION:\"Ida\,\" a new exhibit in the Exhibit Museum's Rotunda\, displays a high-resolution cast of an extremely rare  fossil discovered in 1983 near Messel\, Germany\, but only recently made available for study. The fossil has  proven to be a “link” between the prosimian and simian (\"anthropoid\") primate lineages. It has \"advanced\"  front teeth (incisors and canines) and second toes like those of monkeys\, and is broadly representative of what  human primate ancestors may have looked like during the Eocene epoch 47 million years ago.     Ida (prounded \"eeda\") is named after after the daughter of Dr JÃ¸rn Hurum\, the Norwegian vertebrate  paleontologist who secured one section of the fossil from an anonymous owner\, and led the research. Ida was  about eight months old\, or the equivalent of a six-year-old human.     Publication of a paper on the discovery was accompanied by a book\, The Link: Uncovering Our Earliest  Ancestors by Colin Tudge\, and a documentary shown on the History Channel (US)\, BBC One (UK)\,and various  stations in Germany and Norway.     U-M paleontologist Philip Gingerich and U-M anthropologist B. Holly Smith were two members of the \"dream  team\" invited to study Ida. The exhibit will be on display through May 2010.
UID:2124-918209@events.umich.edu
URL:https://events.umich.edu/event/2124
CLASS:PUBLIC
STATUS:CONFIRMED
CATEGORIES:multicultural,visual arts,welcome week
LOCATION:
CONTACT:
END:VEVENT
BEGIN:VEVENT
DTSTAMP:20101111T175600
DTSTART;TZID=America/Detroit:20100128T100000
DTEND;TZID=America/Detroit:20100128T170000
SUMMARY:Exhibition:Stearns Collection of Music
DESCRIPTION:The Stearns Collection at the School of Music\, Theatre & Dance is one of six major collections of musical instruments in North America. The 2\,500-piece collection is internationally known and is a resource for musical and cultural education.
UID:3790-909206@events.umich.edu
URL:https://events.umich.edu/event/3790
CLASS:PUBLIC
STATUS:CONFIRMED
CATEGORIES:
LOCATION:Earl V. Moore Building
CONTACT:
END:VEVENT
BEGIN:VEVENT
DTSTAMP:20101111T175820
DTSTART;TZID=America/Detroit:20100128T110000
DTEND;TZID=America/Detroit:20100128T130000
SUMMARY:Performance:Beats N' Eats
DESCRIPTION:Enjoy the relaxing sounds of talented U-M student performers over lunch! Beats N' Eats takes place every Thursday from 11a-1p in either the Union MUG or League Underground. Interested in performance opportunities? Contact University Unions Arts & Programs at uuap@umich.edu or 734-763-3202.
UID:2470-919142@events.umich.edu
URL:https://events.umich.edu/event/2470
CLASS:PUBLIC
STATUS:CONFIRMED
CATEGORIES:music
LOCATION:Michigan Union - MUG
CONTACT:
END:VEVENT
BEGIN:VEVENT
DTSTAMP:20101111T175745
DTSTART;TZID=America/Detroit:20100128T120000
DTEND;TZID=America/Detroit:20100128T130000
SUMMARY:Lecture / Discussion:Suicide and the Social Self: Youth\, Government\, and Popular Culture Responses to Internet Group Suicide in Japan
DESCRIPTION:Chikako Ozawa de Silva\, Assistant Professor\, Anthropology\, Emory University
UID:1772-916628@events.umich.edu
URL:https://events.umich.edu/event/1772
CLASS:PUBLIC
STATUS:CONFIRMED
CATEGORIES:multicultural
LOCATION:School of Social Work Building - 1636
CONTACT:
END:VEVENT
BEGIN:VEVENT
DTSTAMP:20100128T030003
DTSTART;TZID=America/Detroit:20100128T123000
SUMMARY:Other:Sally Fleming Masterclass:  Michael Henoch\, oboe
DESCRIPTION:Oboe\, Chicago Symphony Orchestra
UID:1379-914293@events.umich.edu
URL:https://events.umich.edu/event/1379
CLASS:PUBLIC
STATUS:CONFIRMED
CATEGORIES:music
LOCATION:Earl V. Moore Building - Room 2032
CONTACT:
END:VEVENT
BEGIN:VEVENT
DTSTAMP:20101111T175608
DTSTART;TZID=America/Detroit:20100128T130000
DTEND;TZID=America/Detroit:20100128T210000
SUMMARY:Other:Sexpertise: Conversations about relationships\, sexual health\, and sex
DESCRIPTION:Includes sessions on sexual health\, relationship communication\, and the cultural aspects of relationships and dating. Come to one session or come to several. Become a fan of the sexual health peer educators group\, Sexperteam\, on facebook (http://www.facebook.com/sexperteam) for more details.
UID:351-909817@events.umich.edu
URL:https://events.umich.edu/event/351
CLASS:PUBLIC
STATUS:CONFIRMED
CATEGORIES:social justice
LOCATION:Michigan League
CONTACT:
END:VEVENT
BEGIN:VEVENT
DTSTAMP:20100128T030003
DTSTART;TZID=America/Detroit:20100128T143000
SUMMARY:Other:Masterclass: Grupo PIAP - An All-Brazilian Percussion Music Program
DESCRIPTION:PROGRAM: Alberto and Gorosito - Frevi\; Rinaldi - Septeto\; Demonstration of Brazilian Rhythms -  Maracatu\, CarimbÃ³\, BaiÃ£o\, IjexÃ¡\, Caboclo\, Capoeira\, Frevo & Samba\; Letzel\, Cabrera  Brandino and Labrada - Versos de um Vira Lata\; Stasi - 33 Samra Zabobra
UID:2959-920845@events.umich.edu
URL:https://events.umich.edu/event/2959
CLASS:PUBLIC
STATUS:CONFIRMED
CATEGORIES:music
LOCATION:Earl V. Moore Building - McIntosh Theatre
CONTACT:
END:VEVENT
BEGIN:VEVENT
DTSTAMP:20091102T150050
DTSTART;TZID=America/Detroit:20100128T153000
DTEND;TZID=America/Detroit:20100128T173000
SUMMARY:Lecture / Discussion:Department of Astronomy Colloquia Series
DESCRIPTION:A weekly lecture series with Astronomy or Astrophysics related topics. Please see  department website for featured speaker and lecture topic. There will be a brief  reception with light refreshments preceding the lecture in room 845 Dennison from  3:30-4:00 pm.
UID:1689-915669@events.umich.edu
URL:https://events.umich.edu/event/1689
CLASS:PUBLIC
STATUS:CONFIRMED
CATEGORIES:
LOCATION:Weiser Hall - 807
CONTACT:
END:VEVENT
BEGIN:VEVENT
DTSTAMP:20101111T175841
DTSTART;TZID=America/Detroit:20100128T160000
DTEND;TZID=America/Detroit:20100128T173000
SUMMARY:Lecture / Discussion:Conversations on Europe.
DESCRIPTION:Joan Ramon Resina\, professor of Iberian and Latin American cultures and director\,  Institute for Iberian Studies\, Stanford University. \n\nThe Center for European Studies-European Union Center's winter series focuses on  contemporary Spain. Events ongoing January–April\, 2010. In conjunction with the  current Spanish presidency of the European Union\, the University of Michigan's  Center for European Studies-European Union Center (CES-EUC)\, in collaboration with  the Weiser Center for Emerging Democracies (WCED)\, will devote the winter  semester of 2010 to exploring recent debates about the meanings of transition and  memory in democratic Spain.
UID:2711-920435@events.umich.edu
URL:https://events.umich.edu/event/2711
CLASS:PUBLIC
STATUS:CONFIRMED
CATEGORIES:
LOCATION:School of Social Work Building - 1636
CONTACT:
END:VEVENT
BEGIN:VEVENT
DTSTAMP:20101111T175646
DTSTART;TZID=America/Detroit:20100128T170000
DTEND;TZID=America/Detroit:20100128T180000
SUMMARY:Presentation:Cole Swensen
DESCRIPTION:Cole Swensen is the author of twelve books of poetry\, the most recent Ours\, a  finalist for the LA Times Book Award. She is also the co-editor of the 2009 Norton  anthology American Hybrid. Her translation of Jean Fremon's Island of the Dead  won the 2004 PEN Award in Literary Translation\, and she has received grants from  the Association Beaumarchais and the French Centre du Livre.  A 2006 Guggenheim  Fellow\, Swensen teaches at the Iowa Writers' Workshop.
UID:883-912673@events.umich.edu
URL:https://events.umich.edu/event/883
CLASS:PUBLIC
STATUS:CONFIRMED
CATEGORIES:literary arts
LOCATION:Museum of Art - Helmut Stern Auditorium
CONTACT:
END:VEVENT
BEGIN:VEVENT
DTSTAMP:20101111T175606
DTSTART;TZID=America/Detroit:20100128T183000
DTEND;TZID=America/Detroit:20100128T210000
SUMMARY:Workshop / Seminar:MOLS Cooking and Baking Clinic
DESCRIPTION:Take your backcountry cooking skills beyond instant oatmeal and pasta. Participants in this  MOLS clinic will learn about menu planning\, food rationing\, spice kits\, as well as be able to  practice on backcountry stoves. The clinic will culminate with a potluck – so bring an appetite!
UID:283-909669@events.umich.edu
URL:https://events.umich.edu/event/283
CLASS:PUBLIC
STATUS:CONFIRMED
CATEGORIES:
LOCATION:
CONTACT:
END:VEVENT
BEGIN:VEVENT
DTSTAMP:20100114T103952
DTSTART;TZID=America/Detroit:20100128T183000
DTEND;TZID=America/Detroit:20100128T200000
SUMMARY:Exhibition:Research Through Making Exhibition
DESCRIPTION:Please join the college in viewing the results of the first Research Through Making  Grant Program at an evening reception Jan. 15\, 2010 at 6:30pm. The exhibition will  be open January 15 – February 4\, 2010\, in the College Gallery.\n\nThe recipients of the 2009 Taubman College of Architecture and Urban Planning  Research Through Making Grants were awarded last winter to the following faculty: \n\nRobert Adams\, Spontaneous Mutations\, Genetic Deletions\, Adaptive Environments\,  and Assistive Technology in the Compression of Developmental Time\; Josh Bard\,  Steven Mankouche\, and Tsz Yan Ng\, Digital Steam Bending\; Karl Daubmann\, In  Search of the (w)hole\; Nataly Gattegno and Jason Johnson\, Aurora\; Perry Kulper\,  Spatial Blooms + Here be Dragons\; Keith Mitnick and Mireille Roddier\,  Heterogeneous Constructions.\n\n2009 marked the first year of this competition\, and the jury included Sarah Herda\,  director of the Graham Foundation\; Reed Kroloff\, director of the Cranbrook  Academy of Art and principal of Jones/Kroloff\; and Catherine Seavitt-Nordenson\,  New York-based practicing architect\, Rome Prize winner\, adjunct professor at  Princeton University\, and Taubman College alumna.
UID:1416-915096@events.umich.edu
URL:https://events.umich.edu/event/1416
CLASS:PUBLIC
STATUS:CONFIRMED
CATEGORIES:architecture
LOCATION:Art and Architecture Building - College Gallery
CONTACT:
END:VEVENT
BEGIN:VEVENT
DTSTAMP:20101111T175906
DTSTART;TZID=America/Detroit:20100128T193000
DTEND;TZID=America/Detroit:20100128T203000
SUMMARY:Other:FYSH Ice Skating
DESCRIPTION:Join FYSH (First Year Students of Hillel) on Thursday January 28th to go skating at Yost arena!! We will be meeting at Hillel at 7:30 to walk over to Yost together.
UID:3018-921931@events.umich.edu
URL:https://events.umich.edu/event/3018
CLASS:PUBLIC
STATUS:CONFIRMED
CATEGORIES:
LOCATION:Yost Ice Arena
CONTACT:
END:VEVENT
BEGIN:VEVENT
DTSTAMP:20100128T030003
DTSTART;TZID=America/Detroit:20100128T200000
SUMMARY:Other:Faculty Showcase Concert
DESCRIPTION:Featured faculty include:  William Campbell\, Jason Bergman - trumpets\; Adam Unsworth  - horn\; David Jackson - trombone\; Fritz Kaenzig - tuba\; Arthur Greene\, piano\; Stephen West\, voice\; Yizhak Schotten\, viola\; Jeffrey Lyman\, bassoon\; Amy Porter\, flute\; Andrew Bishop\, saxophone\; Michael Gould\, drums\; Robert Hurst\, bass
UID:2347-919652@events.umich.edu
URL:https://events.umich.edu/event/2347
CLASS:PUBLIC
STATUS:CONFIRMED
CATEGORIES:music
LOCATION:Walgreen Drama Center - Arthur Miller Theatre
CONTACT:
END:VEVENT
BEGIN:VEVENT
DTSTAMP:20100128T030003
DTSTART;TZID=America/Detroit:20100128T200000
SUMMARY:Other:Guest Recital:  Grupo PIAP (percussion)
DESCRIPTION:The Brazilian SÃ£o Paulo State University Percussion Ensemble – Grupo PIAP – was created by John Boudler in 1978 as a means of academic and artistic training and as a vehicle for promoting percussion repertoire in Brazil.   PROGRAM:  Music by Brazilian composers.  Alberto/Gorosito - Frevi\; Ficarelli - Tempestade Ossea\; Rinaldi - Septeto\; Menezes - Pan-cada(s)\; Lima - Ziriguidum\; Guarnieri - Estudo\; Iazzetta - ...Zoom...\; Stasi - 33 Samra Zabobra\; Cervo - Toronuba
UID:727-911377@events.umich.edu
URL:https://events.umich.edu/event/727
CLASS:PUBLIC
STATUS:CONFIRMED
CATEGORIES:music
LOCATION:Earl V. Moore Building - McIntosh Theatre
CONTACT:
END:VEVENT
BEGIN:VEVENT
DTSTAMP:20101111T175802
DTSTART;TZID=America/Detroit:20100128T200000
DTEND;TZID=America/Detroit:20100128T220000
SUMMARY:Performance:Malaysian Movie Night
DESCRIPTION:Malaysian Movie Night is proud to present to you \"Talentime\"\, a Malaysian movie by Director Yasmin Ahmad. This movie has been nominated for the SIGNIS Award at the 33rd Hong Kong International Film Festival.\n\n\"Talentime\" is a heartwarming\, beautiful movie that shows what it means to be a Malaysian. It deals with interracial issues in a multicultural setting that captures the beauty and the uniqueness of Malaysia.\n\nIn \"Talentime\"\, a music teacher\, who is herself a great performer is organizing an inter-school talentime. Through the days of auditions\, rehearsals and preparations\, running up to the big day of the contest\, the characters get embroiled in a world of heightened emotions - ambition\, jealousy\, human comedy\, romance\, heartbreak - all of which culminate in a day of great music and performances.\n\nDirector Yasmin Ahmad's film is always full of joy and pain\, hope and despair\, beautifully-written songs and rich characters. Feel free to come and have a wonderful Thursday FREE Movie Night with us!\n\nFREE Admission\, Drinks\, Snacks\, and T-shirts (limited) !\n\nQuestions? Contact: You Ning Lee (youning@umich.edu) or Kartikha (kartikha@umich.edu)
UID:1952-917918@events.umich.edu
URL:https://events.umich.edu/event/1952
CLASS:PUBLIC
STATUS:CONFIRMED
CATEGORIES:multicultural,film
LOCATION:Michigan Union - Pond Room
CONTACT:
END:VEVENT
BEGIN:VEVENT
DTSTAMP:20101111T175618
DTSTART;TZID=America/Detroit:20100128T200000
SUMMARY:Performance:MLK Slam & Art Tribute
DESCRIPTION:MLK Poetry Slam and Art Competition
UID:381-910419@events.umich.edu
URL:https://events.umich.edu/event/381
CLASS:PUBLIC
STATUS:CONFIRMED
CATEGORIES:visual arts,multicultural,literary arts
LOCATION:Michigan Union - Pendleton Room
CONTACT:
END:VEVENT
BEGIN:VEVENT
DTSTAMP:20101111T175754
DTSTART;TZID=America/Detroit:20100128T203000
DTEND;TZID=America/Detroit:20100128T223000
SUMMARY:Performance:Jazz Jam
DESCRIPTION:Ever wish you could study to the soothing sounds of a live jazz quartet? Now you can! Come grab a seat\, a FREE cup of coffee\, and enjoy the jammin' sounds of student musicians from the Department of Jazz and Contemporary Improvisation. Play an instrument or sing? This is also an open jam session! Bring your instrument(s) of choice and sign up to get your turn playing alongside the house band--you call the tunes!
UID:2128-917186@events.umich.edu
URL:https://events.umich.edu/event/2128
CLASS:PUBLIC
STATUS:CONFIRMED
CATEGORIES:music
LOCATION:Pierpont Commons - Leonardo&#039;s (across from Quizno&#039;s)
CONTACT:
END:VEVENT
BEGIN:VEVENT
DTSTAMP:20101111T175813
DTSTART;TZID=America/Detroit:20100128T210000
DTEND;TZID=America/Detroit:20100128T230000
SUMMARY:Performance:Michigan Idol
DESCRIPTION:Do you have what it takes? Michigan Idol is back! You could be one of 12 finalists who vie for $500 cash in front of your friends and families. Two elimination rounds (Tryouts January 28 @ 9pm in the League Underground\, Semi-finals February 4 @ 9pm in the League Underground) with special judges narrow the field to the final 12 who will take the stage at the Finale on Thursday\, February 11\, 2010 at 9pm in the Michigan League Ballroom. Audience votes to determine the 2010 Michigan Idol! Come be a part of discovering U-M's next Michigan Idol. It could be you! **For those planning to audition\, please arrive ~30-45 minutes early to sign up and receive an official entry number. Please prepare a 30 second excerpt of the song of your choice\, to be performed a capella.**
UID:2300-918818@events.umich.edu
URL:https://events.umich.edu/event/2300
CLASS:PUBLIC
STATUS:CONFIRMED
CATEGORIES:music
LOCATION:Michigan League - Underground
CONTACT:
END:VEVENT
END:VCALENDAR