BEGIN:VCALENDAR
VERSION:2.0
PRODID:-//UM//UM*Events//EN
CALSCALE:GREGORIAN
BEGIN:VTIMEZONE
TZID:America/Detroit
TZURL:http://tzurl.org/zoneinfo/America/Detroit
X-LIC-LOCATION:America/Detroit
BEGIN:DAYLIGHT
TZOFFSETFROM:-0500
TZOFFSETTO:-0400
TZNAME:EDT
DTSTART:20070311T020000
RRULE:FREQ=YEARLY;BYMONTH=3;BYDAY=2SU
END:DAYLIGHT
BEGIN:STANDARD
TZOFFSETFROM:-0400
TZOFFSETTO:-0500
TZNAME:EST
DTSTART:20071104T020000
RRULE:FREQ=YEARLY;BYMONTH=11;BYDAY=1SU
END:STANDARD
END:VTIMEZONE
BEGIN:VEVENT
DTSTAMP:20101111T175755
DTSTART;TZID=America/Detroit:20100129T000000
SUMMARY:Exhibition:Exhibit
DESCRIPTION:Economic crises on an international scale are not new\, and President Ford inherited a tough one in 1974. A new exhibit at the Ford Library in Ann Arbor shows how he attacked a troubling brew of inflation\, recession\, budget deficits and oil supply worries. This exhibit features rarely seen artifacts and archival materials from the Ford Library and Museum collections.
UID:3853-917225@events.umich.edu
URL:https://events.umich.edu/event/3853
CLASS:PUBLIC
STATUS:CONFIRMED
CATEGORIES:
LOCATION:Gerald Ford Library
CONTACT:
END:VEVENT
BEGIN:VEVENT
DTSTAMP:20101111T175629
DTSTART;TZID=America/Detroit:20100129T000000
SUMMARY:Exhibition:Exhibit of Recent Aquisitions
DESCRIPTION:This exhibit includes an extraordinarily wide variety of primary source material collected to support current and  future research.  Among the items on display are:  a watercolor “portrait” of a railroad bridge built in Prague in  1850\, original artwork by local artist Tom Pohrt for a children's book written by Justice Sandra Day O'Connor\, a  diary and photographs from a female UM student who hitchhiked from Ann Arbor to San Francisco in 1923\, a  Spanish text from 1693 for those studying to be soldiers\, and Dante's Divine Comedy with illustrations by  Salvador Dali.  \n\nNew archival collections with samples on display include the papers of film director Robert Altman and writers  Nicholas Delbanco and Richard Tillinghast\, as well as four separate women involved in radical causes such as  Clarence Darrow's 1907 defense of union leaders accused of murder and the ecological costs of technology.   This is the first opportunity for the public to see materials from the Altman Collection\, which is estimated to be  1\,000 linear feet in size and is now being sorted and processed for use.
UID:748-911414@events.umich.edu
URL:https://events.umich.edu/event/748
CLASS:PUBLIC
STATUS:CONFIRMED
CATEGORIES:visual arts
LOCATION:Hatcher Graduate Library - 7th Floor Special Collections Library
CONTACT:
END:VEVENT
BEGIN:VEVENT
DTSTAMP:20100120T140434
DTSTART;TZID=America/Detroit:20100129T000000
DTEND;TZID=America/Detroit:20100129T234500
SUMMARY:Other:Golden Apple Award Nominations
DESCRIPTION:Nominations for this year's Golden Apple Award are now open! The annual Golden Apple Award is the only teaching award at the University of Michigan bestowed by the student body. The recipient is invited to give his or her ideal 'last lecture' to the university community in March. Please go to www.thegoldenappleaward.com to help select who you think would give the best 'last lecture.'\" Nominations will take place from January 21st - February 5th!\n\nwww.thegoldenappleaward.com
UID:2554-920143@events.umich.edu
URL:https://events.umich.edu/event/2554
CLASS:PUBLIC
STATUS:CONFIRMED
CATEGORIES:
LOCATION:Hillel (Mandell L Berman Center)
CONTACT:
END:VEVENT
BEGIN:VEVENT
DTSTAMP:20101111T175620
DTSTART;TZID=America/Detroit:20100129T000000
SUMMARY:Exhibition:Permanent Exhibits at the Exhibit Museum of Natural History
DESCRIPTION:The Hall of Evolution houses Michigan's largest display of prehistoric life. More than 600 million years of life on Earth are traced through fossils\, models and dioramas. The Michigan Wildlife Gallery has a large collection of native Great Lakes birds\, mammals\, reptiles\, and amphibians\, with taxidermy mounts\, habitat scenes\, and the largest mastodon trackway on display in the world. There are also displays about some of the environmental problems faced in this region today. The Anthropology Displays feature artifacts from human cultures around the world. The Geology Displays on the fourth floor offer a large selection of rocks\, minerals and gems. These displays are updated periodically. For more information go to www.lsa.umich.edu/exhibitmuseum/exhibits/permexhibits or call 734-764-0480.
UID:452-910575@events.umich.edu
URL:https://events.umich.edu/event/452
CLASS:PUBLIC
STATUS:CONFIRMED
CATEGORIES:
LOCATION:Ruthven Museums Building
CONTACT:
END:VEVENT
BEGIN:VEVENT
DTSTAMP:20101111T175759
DTSTART;TZID=America/Detroit:20100129T080000
DTEND;TZID=America/Detroit:20100129T170000
SUMMARY:Exhibition:History of Dentistry exhibits at the Sindecuse Museum of Dentistry
DESCRIPTION:Exhibits at the Sindecuse Museum of Dentistry include Dental Operatories of the 1860s to 1930s\, St. Apollonia-Patron Saint of Dentistry and more. Call 763-0767 or go to www.dent.umich.edu/museum for more information.
UID:3856-917690@events.umich.edu
URL:https://events.umich.edu/event/3856
CLASS:PUBLIC
STATUS:CONFIRMED
CATEGORIES:
LOCATION:Dental & W.K. Kellogg Institute
CONTACT:
END:VEVENT
BEGIN:VEVENT
DTSTAMP:20090722T143534
DTSTART;TZID=America/Detroit:20100129T090000
DTEND;TZID=America/Detroit:20100129T170000
SUMMARY:Exhibition:Ida: Darwinius masillae
DESCRIPTION:\"Ida\,\" a new exhibit in the Exhibit Museum's Rotunda\, displays a high-resolution cast of an extremely rare  fossil discovered in 1983 near Messel\, Germany\, but only recently made available for study. The fossil has  proven to be a “link” between the prosimian and simian (\"anthropoid\") primate lineages. It has \"advanced\"  front teeth (incisors and canines) and second toes like those of monkeys\, and is broadly representative of what  human primate ancestors may have looked like during the Eocene epoch 47 million years ago.     Ida (prounded \"eeda\") is named after after the daughter of Dr JÃ¸rn Hurum\, the Norwegian vertebrate  paleontologist who secured one section of the fossil from an anonymous owner\, and led the research. Ida was  about eight months old\, or the equivalent of a six-year-old human.     Publication of a paper on the discovery was accompanied by a book\, The Link: Uncovering Our Earliest  Ancestors by Colin Tudge\, and a documentary shown on the History Channel (US)\, BBC One (UK)\,and various  stations in Germany and Norway.     U-M paleontologist Philip Gingerich and U-M anthropologist B. Holly Smith were two members of the \"dream  team\" invited to study Ida. The exhibit will be on display through May 2010.
UID:2124-918210@events.umich.edu
URL:https://events.umich.edu/event/2124
CLASS:PUBLIC
STATUS:CONFIRMED
CATEGORIES:multicultural,visual arts,welcome week
LOCATION:
CONTACT:
END:VEVENT
BEGIN:VEVENT
DTSTAMP:20101111T175600
DTSTART;TZID=America/Detroit:20100129T100000
DTEND;TZID=America/Detroit:20100129T170000
SUMMARY:Exhibition:Stearns Collection of Music
DESCRIPTION:The Stearns Collection at the School of Music\, Theatre & Dance is one of six major collections of musical instruments in North America. The 2\,500-piece collection is internationally known and is a resource for musical and cultural education.
UID:3790-909207@events.umich.edu
URL:https://events.umich.edu/event/3790
CLASS:PUBLIC
STATUS:CONFIRMED
CATEGORIES:
LOCATION:Earl V. Moore Building
CONTACT:
END:VEVENT
BEGIN:VEVENT
DTSTAMP:20101111T175608
DTSTART;TZID=America/Detroit:20100129T130000
DTEND;TZID=America/Detroit:20100129T210000
SUMMARY:Other:Sexpertise: Conversations about relationships\, sexual health\, and sex
DESCRIPTION:Includes sessions on sexual health\, relationship communication\, and the cultural aspects of relationships and dating. Come to one session or come to several. Become a fan of the sexual health peer educators group\, Sexperteam\, on facebook (http://www.facebook.com/sexperteam) for more details.
UID:351-909818@events.umich.edu
URL:https://events.umich.edu/event/351
CLASS:PUBLIC
STATUS:CONFIRMED
CATEGORIES:social justice
LOCATION:Michigan League
CONTACT:
END:VEVENT
BEGIN:VEVENT
DTSTAMP:20101111T175719
DTSTART;TZID=America/Detroit:20100129T140000
DTEND;TZID=America/Detroit:20100129T164500
SUMMARY:Meeting:AVODAH (Jewish Service Corps) Information Sessions
DESCRIPTION:Do you want to spend a year fighting poverty? Join AVODAH: The Jewish Service Corps (www.avodah.net) a one-year program combining work for justice\, Jewish learning and community building. Live with other young people ages 21-26 from all Jewish backgrounds and build a community committed to integrating social change and Jewish values. You'll receive a modest living allowance plus health insurance. \n\nFind out more when Mollie Spevack\, Recruitment Coordinator and AVODAH alumna\, comes to the University of Michigan for information sessions taking place at the Ginsberg Center\, 2:00-3:00pm and at Hillel 3:30-4:40pm on Friday\, January 29th. Feel free to contact Mollie at apply@avodah.net or 212-545-7759 x310 for more information or to meet with her at another time. The application is available online and is due February 12\, 2010.
UID:1273-914909@events.umich.edu
URL:https://events.umich.edu/event/1273
CLASS:PUBLIC
STATUS:CONFIRMED
CATEGORIES:
LOCATION:Hillel (Mandell L Berman Center)
CONTACT:
END:VEVENT
BEGIN:VEVENT
DTSTAMP:20101111T175604
DTSTART;TZID=America/Detroit:20100129T183000
SUMMARY:Performance:33rd Annual Ann Arbor Folk Fest
DESCRIPTION:The Ann Arbor Folk Festival\, a fundraiser for The Ark\, will celebrate its 33rd year with  some of the finest in traditional and contemporary artists. The Festival returns to  Hill Auditorium for two dynamic and different nights of folk and roots music on  Friday\, January 29\, and Saturday\, January 30\, beginning at 6:30 p.m. each night. \n\nLine up for Friday\, January 29\n\nIron and Wine Jay Farrar and Benjamin Gibbard Band of Heathens Hoots & Hellmouth Po' Girl Jer Coons Nervous But Excited Patty Larkin\, MC\n\n***Program subject to change.***\n\nLineup for Saturday\, January 30 The Ann Arbor Folk Festival\, a fundraiser for The Ark\, will celebrate its 33rd year with  some of the finest in traditional and contemporary artists. The Festival returns to  Hill Auditorium for two dynamic and different nights of folk and roots music on  Friday\, January 29\, and Saturday\, January 30\, beginning at 6:30 p.m. each night. \n\nLine up for Saturday\, January 30\n\nRosanne Cash Richie Havens Doc Watson Raul Malo The Hot Club of Cowtown Enter The Haggis Patty Larkin\, MC\n\n***Program subject to change.***
UID:214-909605@events.umich.edu
URL:https://events.umich.edu/event/214
CLASS:PUBLIC
STATUS:CONFIRMED
CATEGORIES:multicultural,music
LOCATION:Hill Auditorium
CONTACT:
END:VEVENT
BEGIN:VEVENT
DTSTAMP:20100114T103952
DTSTART;TZID=America/Detroit:20100129T183000
DTEND;TZID=America/Detroit:20100129T200000
SUMMARY:Exhibition:Research Through Making Exhibition
DESCRIPTION:Please join the college in viewing the results of the first Research Through Making  Grant Program at an evening reception Jan. 15\, 2010 at 6:30pm. The exhibition will  be open January 15 – February 4\, 2010\, in the College Gallery.\n\nThe recipients of the 2009 Taubman College of Architecture and Urban Planning  Research Through Making Grants were awarded last winter to the following faculty: \n\nRobert Adams\, Spontaneous Mutations\, Genetic Deletions\, Adaptive Environments\,  and Assistive Technology in the Compression of Developmental Time\; Josh Bard\,  Steven Mankouche\, and Tsz Yan Ng\, Digital Steam Bending\; Karl Daubmann\, In  Search of the (w)hole\; Nataly Gattegno and Jason Johnson\, Aurora\; Perry Kulper\,  Spatial Blooms + Here be Dragons\; Keith Mitnick and Mireille Roddier\,  Heterogeneous Constructions.\n\n2009 marked the first year of this competition\, and the jury included Sarah Herda\,  director of the Graham Foundation\; Reed Kroloff\, director of the Cranbrook  Academy of Art and principal of Jones/Kroloff\; and Catherine Seavitt-Nordenson\,  New York-based practicing architect\, Rome Prize winner\, adjunct professor at  Princeton University\, and Taubman College alumna.
UID:1416-915097@events.umich.edu
URL:https://events.umich.edu/event/1416
CLASS:PUBLIC
STATUS:CONFIRMED
CATEGORIES:architecture
LOCATION:Art and Architecture Building - College Gallery
CONTACT:
END:VEVENT
BEGIN:VEVENT
DTSTAMP:20100129T030003
DTSTART;TZID=America/Detroit:20100129T200000
SUMMARY:Other:Masters Recital: Cahill Smith\, piano
DESCRIPTION:PROGRAM:  Beethoven - Sonata No. 32 in C Minor\, Op. 111\; Liszt - Sonata in B Minor\, S 178
UID:2829-920601@events.umich.edu
URL:https://events.umich.edu/event/2829
CLASS:PUBLIC
STATUS:CONFIRMED
CATEGORIES:music
LOCATION:Earl V. Moore Building - Britton Recital Hall
CONTACT:
END:VEVENT
BEGIN:VEVENT
DTSTAMP:20101111T175637
DTSTART;TZID=America/Detroit:20100129T220000
DTEND;TZID=America/Detroit:20100129T020000
SUMMARY:Other:UMix-Jan 29th
DESCRIPTION:The event you've all been waiting for...Student's Choice UMix is finally here! You all  voted and here is the event where you get to see the movie  you want to see\, learn  to dance the way you want to dance and eat what you want to eat! -Performance by Witt's End at 10 in Anderson -Followed by a showing of a movie (TBA-still need to vote :) -Hip Hop AND Salsa lessons! -Karaoke and pasta bar in the Uclub at 12! mmm -More to come! See you all at 10\, Friday\, Jan 29th!
UID:619-912177@events.umich.edu
URL:https://events.umich.edu/event/619
CLASS:PUBLIC
STATUS:CONFIRMED
CATEGORIES:
LOCATION:Michigan Union
CONTACT:
END:VEVENT
END:VCALENDAR