BEGIN:VCALENDAR
VERSION:2.0
PRODID:-//UM//UM*Events//EN
CALSCALE:GREGORIAN
BEGIN:VTIMEZONE
TZID:America/Detroit
TZURL:http://tzurl.org/zoneinfo/America/Detroit
X-LIC-LOCATION:America/Detroit
BEGIN:DAYLIGHT
TZOFFSETFROM:-0500
TZOFFSETTO:-0400
TZNAME:EDT
DTSTART:20070311T020000
RRULE:FREQ=YEARLY;BYMONTH=3;BYDAY=2SU
END:DAYLIGHT
BEGIN:STANDARD
TZOFFSETFROM:-0400
TZOFFSETTO:-0500
TZNAME:EST
DTSTART:20071104T020000
RRULE:FREQ=YEARLY;BYMONTH=11;BYDAY=1SU
END:STANDARD
END:VTIMEZONE
BEGIN:VEVENT
DTSTAMP:20101111T175629
DTSTART;TZID=America/Detroit:20100130T000000
SUMMARY:Exhibition:Exhibit of Recent Aquisitions
DESCRIPTION:This exhibit includes an extraordinarily wide variety of primary source material collected to support current and  future research.  Among the items on display are:  a watercolor “portrait” of a railroad bridge built in Prague in  1850\, original artwork by local artist Tom Pohrt for a children's book written by Justice Sandra Day O'Connor\, a  diary and photographs from a female UM student who hitchhiked from Ann Arbor to San Francisco in 1923\, a  Spanish text from 1693 for those studying to be soldiers\, and Dante's Divine Comedy with illustrations by  Salvador Dali.  \n\nNew archival collections with samples on display include the papers of film director Robert Altman and writers  Nicholas Delbanco and Richard Tillinghast\, as well as four separate women involved in radical causes such as  Clarence Darrow's 1907 defense of union leaders accused of murder and the ecological costs of technology.   This is the first opportunity for the public to see materials from the Altman Collection\, which is estimated to be  1\,000 linear feet in size and is now being sorted and processed for use.
UID:748-911415@events.umich.edu
URL:https://events.umich.edu/event/748
CLASS:PUBLIC
STATUS:CONFIRMED
CATEGORIES:visual arts
LOCATION:Hatcher Graduate Library - 7th Floor Special Collections Library
CONTACT:
END:VEVENT
BEGIN:VEVENT
DTSTAMP:20100120T140434
DTSTART;TZID=America/Detroit:20100130T000000
DTEND;TZID=America/Detroit:20100130T234500
SUMMARY:Other:Golden Apple Award Nominations
DESCRIPTION:Nominations for this year's Golden Apple Award are now open! The annual Golden Apple Award is the only teaching award at the University of Michigan bestowed by the student body. The recipient is invited to give his or her ideal 'last lecture' to the university community in March. Please go to www.thegoldenappleaward.com to help select who you think would give the best 'last lecture.'\" Nominations will take place from January 21st - February 5th!\n\nwww.thegoldenappleaward.com
UID:2554-920144@events.umich.edu
URL:https://events.umich.edu/event/2554
CLASS:PUBLIC
STATUS:CONFIRMED
CATEGORIES:
LOCATION:Hillel (Mandell L Berman Center)
CONTACT:
END:VEVENT
BEGIN:VEVENT
DTSTAMP:20101111T175620
DTSTART;TZID=America/Detroit:20100130T000000
SUMMARY:Exhibition:Permanent Exhibits at the Exhibit Museum of Natural History
DESCRIPTION:The Hall of Evolution houses Michigan's largest display of prehistoric life. More than 600 million years of life on Earth are traced through fossils\, models and dioramas. The Michigan Wildlife Gallery has a large collection of native Great Lakes birds\, mammals\, reptiles\, and amphibians\, with taxidermy mounts\, habitat scenes\, and the largest mastodon trackway on display in the world. There are also displays about some of the environmental problems faced in this region today. The Anthropology Displays feature artifacts from human cultures around the world. The Geology Displays on the fourth floor offer a large selection of rocks\, minerals and gems. These displays are updated periodically. For more information go to www.lsa.umich.edu/exhibitmuseum/exhibits/permexhibits or call 734-764-0480.
UID:452-910576@events.umich.edu
URL:https://events.umich.edu/event/452
CLASS:PUBLIC
STATUS:CONFIRMED
CATEGORIES:
LOCATION:Ruthven Museums Building
CONTACT:
END:VEVENT
BEGIN:VEVENT
DTSTAMP:20100329T161307
DTSTART;TZID=America/Detroit:20100130T083000
DTEND;TZID=America/Detroit:20100130T190000
SUMMARY:Exhibition:A History of the Bible from Ancient Papyri to King James
DESCRIPTION:This exhibit\, from the Special Collections Library\, shows a path of documents that  led to the creation of the 1611 King James Version of the Bible – from ancient  Egyptian manuscripts on papyrus to Medieval manuscripts to the printed book.\n\nThe earliest documents on display are Egyptian papyri\, including examples of a  census record from the year 119 and the oldest known copy of part of the New  Testament. Medieval manuscripts document the preservation of the text until the  invention of movable type printing by Gutenberg around 1450. The early printed  Bibles include versions in Latin and Greek\, and several that show the struggles  among various political factions and church reformers to control the translating of  the Scriptures into the language of the people. See the King James Bible of 1611  that became the accepted standard.\n\nFor Audubon Room hours\, see https://www.lib.umich.edu/audubon-room
UID:2220-918606@events.umich.edu
URL:https://events.umich.edu/event/2220
CLASS:PUBLIC
STATUS:CONFIRMED
CATEGORIES:visual arts
LOCATION:Hatcher Graduate Library - Audubon Room/First Floor
CONTACT:
END:VEVENT
BEGIN:VEVENT
DTSTAMP:20090722T143534
DTSTART;TZID=America/Detroit:20100130T090000
DTEND;TZID=America/Detroit:20100130T170000
SUMMARY:Exhibition:Ida: Darwinius masillae
DESCRIPTION:\"Ida\,\" a new exhibit in the Exhibit Museum's Rotunda\, displays a high-resolution cast of an extremely rare  fossil discovered in 1983 near Messel\, Germany\, but only recently made available for study. The fossil has  proven to be a “link” between the prosimian and simian (\"anthropoid\") primate lineages. It has \"advanced\"  front teeth (incisors and canines) and second toes like those of monkeys\, and is broadly representative of what  human primate ancestors may have looked like during the Eocene epoch 47 million years ago.     Ida (prounded \"eeda\") is named after after the daughter of Dr JÃ¸rn Hurum\, the Norwegian vertebrate  paleontologist who secured one section of the fossil from an anonymous owner\, and led the research. Ida was  about eight months old\, or the equivalent of a six-year-old human.     Publication of a paper on the discovery was accompanied by a book\, The Link: Uncovering Our Earliest  Ancestors by Colin Tudge\, and a documentary shown on the History Channel (US)\, BBC One (UK)\,and various  stations in Germany and Norway.     U-M paleontologist Philip Gingerich and U-M anthropologist B. Holly Smith were two members of the \"dream  team\" invited to study Ida. The exhibit will be on display through May 2010.
UID:2124-918211@events.umich.edu
URL:https://events.umich.edu/event/2124
CLASS:PUBLIC
STATUS:CONFIRMED
CATEGORIES:welcome week,visual arts,multicultural
LOCATION:
CONTACT:
END:VEVENT
BEGIN:VEVENT
DTSTAMP:20091215T125410
DTSTART;TZID=America/Detroit:20100130T133000
SUMMARY:Conference / Symposium:History of Art Symposium Part I: \"Contemporary Strategies in Documentary Photography\"
DESCRIPTION:See Feb. 6 for Part II with Allan Sekula and Sally Stein. This two-part symposium  explores new practices in documentary photography through the work of some of its  most important contemporary practitioners. The first session is devoted to the work  of Alec Soth. Soth (b. 1969) is a member of Magnum Photos. He rose to  international prominence with the publication of his first monograph\, Sleeping by  the Mississippi\, in 2004. A visual record of the people and things Soth encountered  during his travels along the 2\,300-mile river\, it revealed Soth to be a new and  important voice in the tradition of lyrical documentary developed by Walker Evans\,  Robert Frank\, and others. Since then Soth has published NIAGARA (2006)\, Fashion  Magazine (2007)\, Dog Days\, BogotÃ¡ (2007) and The Last Days of W (2008)\,  projects that have cemented his reputation of one of United States most important  contemporary photographers. Soth's work is represented in major public and private  collections\, including the San Francisco Museum of Modern Art\, the Museum of Fine  Arts Houston\, and the Walker Art Center in Minneapolis\; and his photographs have  been featured in numerous solo and group exhibitions\, including the 2004 Whitney  and SÃ£o Paulo Biennials. He is represented by Gagosian Gallery in New York and  Weinstein Gallery in Minneapolis.
UID:304-909704@events.umich.edu
URL:https://events.umich.edu/event/304
CLASS:PUBLIC
STATUS:CONFIRMED
CATEGORIES:visual arts
LOCATION:Museum of Art - Auditorium
CONTACT:
END:VEVENT
BEGIN:VEVENT
DTSTAMP:20101111T175604
DTSTART;TZID=America/Detroit:20100130T183000
SUMMARY:Performance:33rd Annual Ann Arbor Folk Fest
DESCRIPTION:The Ann Arbor Folk Festival\, a fundraiser for The Ark\, will celebrate its 33rd year with  some of the finest in traditional and contemporary artists. The Festival returns to  Hill Auditorium for two dynamic and different nights of folk and roots music on  Friday\, January 29\, and Saturday\, January 30\, beginning at 6:30 p.m. each night. \n\nLine up for Friday\, January 29\n\nIron and Wine Jay Farrar and Benjamin Gibbard Band of Heathens Hoots & Hellmouth Po' Girl Jer Coons Nervous But Excited Patty Larkin\, MC\n\n***Program subject to change.***\n\nLineup for Saturday\, January 30 The Ann Arbor Folk Festival\, a fundraiser for The Ark\, will celebrate its 33rd year with  some of the finest in traditional and contemporary artists. The Festival returns to  Hill Auditorium for two dynamic and different nights of folk and roots music on  Friday\, January 29\, and Saturday\, January 30\, beginning at 6:30 p.m. each night. \n\nLine up for Saturday\, January 30\n\nRosanne Cash Richie Havens Doc Watson Raul Malo The Hot Club of Cowtown Enter The Haggis Patty Larkin\, MC\n\n***Program subject to change.***
UID:214-909606@events.umich.edu
URL:https://events.umich.edu/event/214
CLASS:PUBLIC
STATUS:CONFIRMED
CATEGORIES:music,multicultural
LOCATION:Hill Auditorium
CONTACT:
END:VEVENT
BEGIN:VEVENT
DTSTAMP:20100115T092539
DTSTART;TZID=America/Detroit:20100130T183000
SUMMARY:Performance:Dandia Dhamaka
DESCRIPTION:As a nationwide competition\, Dandia Dhamaka promotes culture and brings students together from across the United States. This year\, we will host 10 of the nation's finest Raas teams who will continue to promote the beauty of India's culture throughout the University and the surrounding communities.
UID:1616-915531@events.umich.edu
URL:https://events.umich.edu/event/1616
CLASS:PUBLIC
STATUS:CONFIRMED
CATEGORIES:theater,visual arts,music,multicultural,dance
LOCATION:
CONTACT:
END:VEVENT
BEGIN:VEVENT
DTSTAMP:20100114T103952
DTSTART;TZID=America/Detroit:20100130T183000
DTEND;TZID=America/Detroit:20100130T200000
SUMMARY:Exhibition:Research Through Making Exhibition
DESCRIPTION:Please join the college in viewing the results of the first Research Through Making  Grant Program at an evening reception Jan. 15\, 2010 at 6:30pm. The exhibition will  be open January 15 – February 4\, 2010\, in the College Gallery.\n\nThe recipients of the 2009 Taubman College of Architecture and Urban Planning  Research Through Making Grants were awarded last winter to the following faculty: \n\nRobert Adams\, Spontaneous Mutations\, Genetic Deletions\, Adaptive Environments\,  and Assistive Technology in the Compression of Developmental Time\; Josh Bard\,  Steven Mankouche\, and Tsz Yan Ng\, Digital Steam Bending\; Karl Daubmann\, In  Search of the (w)hole\; Nataly Gattegno and Jason Johnson\, Aurora\; Perry Kulper\,  Spatial Blooms + Here be Dragons\; Keith Mitnick and Mireille Roddier\,  Heterogeneous Constructions.\n\n2009 marked the first year of this competition\, and the jury included Sarah Herda\,  director of the Graham Foundation\; Reed Kroloff\, director of the Cranbrook  Academy of Art and principal of Jones/Kroloff\; and Catherine Seavitt-Nordenson\,  New York-based practicing architect\, Rome Prize winner\, adjunct professor at  Princeton University\, and Taubman College alumna.
UID:1416-915098@events.umich.edu
URL:https://events.umich.edu/event/1416
CLASS:PUBLIC
STATUS:CONFIRMED
CATEGORIES:architecture
LOCATION:Art and Architecture Building - College Gallery
CONTACT:
END:VEVENT
BEGIN:VEVENT
DTSTAMP:20100130T030004
DTSTART;TZID=America/Detroit:20100130T200000
SUMMARY:Other:STMD at UMMA: Voices of the Holocaust
DESCRIPTION:SMTD performance faculty Caroline Helton performs selections by composers exiled or lost in the Holocaust\, with guest artist Kathryn Goodson\, piano.  Also on the program: SMTD faculty composer Paul Schoenfield's chamber work Ghetto Songs\, performed by Helton with SMTD professors bass-baritone Stephen West\, Chad Burrow\, clarinet\, Andrew Jennings\, violin\, and Diana Gannett\, bass.
UID:2723-921065@events.umich.edu
URL:https://events.umich.edu/event/2723
CLASS:PUBLIC
STATUS:CONFIRMED
CATEGORIES:music
LOCATION:Museum of Art - Apse
CONTACT:
END:VEVENT
BEGIN:VEVENT
DTSTAMP:20100130T030003
DTSTART;TZID=America/Detroit:20100130T200000
SUMMARY:Other:World Percussion Ensemble
DESCRIPTION:The World Percussion Ensemble goes back to the island of Cuba via northern Brazil as their performance fuses music from the Lucumi\, Arara and Samba Reggae traditions with Latin jazz and contemporary influenced percussion sounds.
UID:1832-915992@events.umich.edu
URL:https://events.umich.edu/event/1832
CLASS:PUBLIC
STATUS:CONFIRMED
CATEGORIES:music
LOCATION:Earl V. Moore Building - McIntosh Theatre
CONTACT:
END:VEVENT
END:VCALENDAR