BEGIN:VCALENDAR
VERSION:2.0
PRODID:-//UM//UM*Events//EN
CALSCALE:GREGORIAN
BEGIN:VTIMEZONE
TZID:America/Detroit
TZURL:http://tzurl.org/zoneinfo/America/Detroit
X-LIC-LOCATION:America/Detroit
BEGIN:DAYLIGHT
TZOFFSETFROM:-0500
TZOFFSETTO:-0400
TZNAME:EDT
DTSTART:20070311T020000
RRULE:FREQ=YEARLY;BYMONTH=3;BYDAY=2SU
END:DAYLIGHT
BEGIN:STANDARD
TZOFFSETFROM:-0400
TZOFFSETTO:-0500
TZNAME:EST
DTSTART:20071104T020000
RRULE:FREQ=YEARLY;BYMONTH=11;BYDAY=1SU
END:STANDARD
END:VTIMEZONE
BEGIN:VEVENT
DTSTAMP:20101111T175629
DTSTART;TZID=America/Detroit:20100202T000000
SUMMARY:Exhibition:Exhibit of Recent Aquisitions
DESCRIPTION:This exhibit includes an extraordinarily wide variety of primary source material collected to support current and  future research.  Among the items on display are:  a watercolor “portrait” of a railroad bridge built in Prague in  1850\, original artwork by local artist Tom Pohrt for a children's book written by Justice Sandra Day O'Connor\, a  diary and photographs from a female UM student who hitchhiked from Ann Arbor to San Francisco in 1923\, a  Spanish text from 1693 for those studying to be soldiers\, and Dante's Divine Comedy with illustrations by  Salvador Dali.  \n\nNew archival collections with samples on display include the papers of film director Robert Altman and writers  Nicholas Delbanco and Richard Tillinghast\, as well as four separate women involved in radical causes such as  Clarence Darrow's 1907 defense of union leaders accused of murder and the ecological costs of technology.   This is the first opportunity for the public to see materials from the Altman Collection\, which is estimated to be  1\,000 linear feet in size and is now being sorted and processed for use.
UID:748-911418@events.umich.edu
URL:https://events.umich.edu/event/748
CLASS:PUBLIC
STATUS:CONFIRMED
CATEGORIES:visual arts
LOCATION:Hatcher Graduate Library - 7th Floor Special Collections Library
CONTACT:
END:VEVENT
BEGIN:VEVENT
DTSTAMP:20100120T140434
DTSTART;TZID=America/Detroit:20100202T000000
DTEND;TZID=America/Detroit:20100202T234500
SUMMARY:Other:Golden Apple Award Nominations
DESCRIPTION:Nominations for this year's Golden Apple Award are now open! The annual Golden Apple Award is the only teaching award at the University of Michigan bestowed by the student body. The recipient is invited to give his or her ideal 'last lecture' to the university community in March. Please go to www.thegoldenappleaward.com to help select who you think would give the best 'last lecture.'\" Nominations will take place from January 21st - February 5th!\n\nwww.thegoldenappleaward.com
UID:2554-920147@events.umich.edu
URL:https://events.umich.edu/event/2554
CLASS:PUBLIC
STATUS:CONFIRMED
CATEGORIES:
LOCATION:Hillel (Mandell L Berman Center)
CONTACT:
END:VEVENT
BEGIN:VEVENT
DTSTAMP:20101111T175620
DTSTART;TZID=America/Detroit:20100202T000000
SUMMARY:Exhibition:Permanent Exhibits at the Exhibit Museum of Natural History
DESCRIPTION:The Hall of Evolution houses Michigan's largest display of prehistoric life. More than 600 million years of life on Earth are traced through fossils\, models and dioramas. The Michigan Wildlife Gallery has a large collection of native Great Lakes birds\, mammals\, reptiles\, and amphibians\, with taxidermy mounts\, habitat scenes\, and the largest mastodon trackway on display in the world. There are also displays about some of the environmental problems faced in this region today. The Anthropology Displays feature artifacts from human cultures around the world. The Geology Displays on the fourth floor offer a large selection of rocks\, minerals and gems. These displays are updated periodically. For more information go to www.lsa.umich.edu/exhibitmuseum/exhibits/permexhibits or call 734-764-0480.
UID:452-910579@events.umich.edu
URL:https://events.umich.edu/event/452
CLASS:PUBLIC
STATUS:CONFIRMED
CATEGORIES:
LOCATION:Ruthven Museums Building
CONTACT:
END:VEVENT
BEGIN:VEVENT
DTSTAMP:20101111T175759
DTSTART;TZID=America/Detroit:20100202T080000
DTEND;TZID=America/Detroit:20100202T170000
SUMMARY:Exhibition:History of Dentistry exhibits at the Sindecuse Museum of Dentistry
DESCRIPTION:Exhibits at the Sindecuse Museum of Dentistry include Dental Operatories of the 1860s to 1930s\, St. Apollonia-Patron Saint of Dentistry and more. Call 763-0767 or go to www.dent.umich.edu/museum for more information.
UID:3856-917692@events.umich.edu
URL:https://events.umich.edu/event/3856
CLASS:PUBLIC
STATUS:CONFIRMED
CATEGORIES:
LOCATION:Dental & W.K. Kellogg Institute
CONTACT:
END:VEVENT
BEGIN:VEVENT
DTSTAMP:20100111T160124
DTSTART;TZID=America/Detroit:20100202T080000
SUMMARY:Exhibition:Their Journey: Vietnamese in Michigan
DESCRIPTION:Imagine chaotically and permanently leaving your homeland for another country  and a completely different life! This exhibit includes photos from Vietnam and  Grand Rapids\, MI\, along with political\, cultural\, and personal perspectives of the  journey of Vietnamese immigrants to Michigan following the Vietnam War. It  augments the Great Michigan Read\, the Michigan Humanities Council's statewide  reading program\, and provides additional historical context to its book  selection\, \"Stealing Buddha's Dinner.\"\n\n\"Stealing Buddha's Dinner\" is a memoir chronicling author Bich Minh Nguyen's  migration from Vietnam in 1975 and her coming of age in Grand Rapids in the  1980s. Along the way\, she struggles to construct her own cultural identity from a  menagerie of uniquely American influences.\n\nThe University Library is one of only six sites chosen to host this exhibit.\n\nAccessible during library hours\; see http://www.lib.umich.edu/hatcher-graduate- library
UID:2556-920159@events.umich.edu
URL:https://events.umich.edu/event/2556
CLASS:PUBLIC
STATUS:CONFIRMED
CATEGORIES:multicultural
LOCATION:Hatcher Graduate Library - Room 100/Gallery
CONTACT:
END:VEVENT
BEGIN:VEVENT
DTSTAMP:20100329T161307
DTSTART;TZID=America/Detroit:20100202T083000
DTEND;TZID=America/Detroit:20100202T190000
SUMMARY:Exhibition:A History of the Bible from Ancient Papyri to King James
DESCRIPTION:This exhibit\, from the Special Collections Library\, shows a path of documents that  led to the creation of the 1611 King James Version of the Bible – from ancient  Egyptian manuscripts on papyrus to Medieval manuscripts to the printed book.\n\nThe earliest documents on display are Egyptian papyri\, including examples of a  census record from the year 119 and the oldest known copy of part of the New  Testament. Medieval manuscripts document the preservation of the text until the  invention of movable type printing by Gutenberg around 1450. The early printed  Bibles include versions in Latin and Greek\, and several that show the struggles  among various political factions and church reformers to control the translating of  the Scriptures into the language of the people. See the King James Bible of 1611  that became the accepted standard.\n\nFor Audubon Room hours\, see https://www.lib.umich.edu/audubon-room
UID:2220-918609@events.umich.edu
URL:https://events.umich.edu/event/2220
CLASS:PUBLIC
STATUS:CONFIRMED
CATEGORIES:visual arts
LOCATION:Hatcher Graduate Library - Audubon Room/First Floor
CONTACT:
END:VEVENT
BEGIN:VEVENT
DTSTAMP:20090722T143534
DTSTART;TZID=America/Detroit:20100202T090000
DTEND;TZID=America/Detroit:20100202T170000
SUMMARY:Exhibition:Ida: Darwinius masillae
DESCRIPTION:\"Ida\,\" a new exhibit in the Exhibit Museum's Rotunda\, displays a high-resolution cast of an extremely rare  fossil discovered in 1983 near Messel\, Germany\, but only recently made available for study. The fossil has  proven to be a “link” between the prosimian and simian (\"anthropoid\") primate lineages. It has \"advanced\"  front teeth (incisors and canines) and second toes like those of monkeys\, and is broadly representative of what  human primate ancestors may have looked like during the Eocene epoch 47 million years ago.     Ida (prounded \"eeda\") is named after after the daughter of Dr JÃ¸rn Hurum\, the Norwegian vertebrate  paleontologist who secured one section of the fossil from an anonymous owner\, and led the research. Ida was  about eight months old\, or the equivalent of a six-year-old human.     Publication of a paper on the discovery was accompanied by a book\, The Link: Uncovering Our Earliest  Ancestors by Colin Tudge\, and a documentary shown on the History Channel (US)\, BBC One (UK)\,and various  stations in Germany and Norway.     U-M paleontologist Philip Gingerich and U-M anthropologist B. Holly Smith were two members of the \"dream  team\" invited to study Ida. The exhibit will be on display through May 2010.
UID:2124-918214@events.umich.edu
URL:https://events.umich.edu/event/2124
CLASS:PUBLIC
STATUS:CONFIRMED
CATEGORIES:multicultural,visual arts,welcome week
LOCATION:
CONTACT:
END:VEVENT
BEGIN:VEVENT
DTSTAMP:20101111T175831
DTSTART;TZID=America/Detroit:20100202T120000
DTEND;TZID=America/Detroit:20100202T133000
SUMMARY:Lecture / Discussion:Creolo Genesis: Echoes from Past Voices
DESCRIPTION:Creole languages are oral languages that typically result from a mix between a  socially dominant language (usually a superstratal European language) and a set of  substratal languages (often times African languages).  The key word in this  definition is “mix\,” as it is assumed that given the multilingual setting in which they  emerge (e.g.\, plantations)\, creoles are the result of the multiple grammars that  contribute to their individual genesis. The primary objective of this talk is to provide  comparative data from distinct varieties of a set of creole languages and  demonstrate how their morpho-syntactic properties reflect the contributions of the  diverse African languages that contributed to their genesis and development.  A  related objective is to show the value of fieldwork in documenting variation and  giving a voice to the original creators of the distinct creole varieties.\n\nMarlyse Baptista (associate professor\, Linguistics and Afroamerican and African  studies) studies the morpho-syntax interface in creole languages and theories of  language change\, language creation and creole formation. She is currently working  on the precise identification of the cognitive processes involved in contact  situations.
UID:2365-919675@events.umich.edu
URL:https://events.umich.edu/event/2365
CLASS:PUBLIC
STATUS:CONFIRMED
CATEGORIES:multicultural
LOCATION:202 S. Thayer - #2022
CONTACT:
END:VEVENT
BEGIN:VEVENT
DTSTAMP:20091211T095202
DTSTART;TZID=America/Detroit:20100202T180000
DTEND;TZID=America/Detroit:20100202T193000
SUMMARY:Workshop / Seminar:Beginning Meditation
DESCRIPTION:At the heart of mind-body medicine lies the age-old practice of meditation - a  quiet\, simple technique that belies an extraordinary power to boost disease  resistance and maintain overall health.  This is a technique that can be practiced  alone\, without equipment or expense.  It is an amazing mind/body tool that has  proven to be effective in managing high blood pressure\, sleep disorders\, lifestyle  changes\, and physical or emotional pain.  This 4-week training is designed for  people new to meditation.   Martha Kimball\, CSW\, ACSW\, BCD
UID:197-909477@events.umich.edu
URL:https://events.umich.edu/event/197
CLASS:PUBLIC
STATUS:CONFIRMED
CATEGORIES:
LOCATION:
CONTACT:
END:VEVENT
BEGIN:VEVENT
DTSTAMP:20100114T103952
DTSTART;TZID=America/Detroit:20100202T183000
DTEND;TZID=America/Detroit:20100202T200000
SUMMARY:Exhibition:Research Through Making Exhibition
DESCRIPTION:Please join the college in viewing the results of the first Research Through Making  Grant Program at an evening reception Jan. 15\, 2010 at 6:30pm. The exhibition will  be open January 15 – February 4\, 2010\, in the College Gallery.\n\nThe recipients of the 2009 Taubman College of Architecture and Urban Planning  Research Through Making Grants were awarded last winter to the following faculty: \n\nRobert Adams\, Spontaneous Mutations\, Genetic Deletions\, Adaptive Environments\,  and Assistive Technology in the Compression of Developmental Time\; Josh Bard\,  Steven Mankouche\, and Tsz Yan Ng\, Digital Steam Bending\; Karl Daubmann\, In  Search of the (w)hole\; Nataly Gattegno and Jason Johnson\, Aurora\; Perry Kulper\,  Spatial Blooms + Here be Dragons\; Keith Mitnick and Mireille Roddier\,  Heterogeneous Constructions.\n\n2009 marked the first year of this competition\, and the jury included Sarah Herda\,  director of the Graham Foundation\; Reed Kroloff\, director of the Cranbrook  Academy of Art and principal of Jones/Kroloff\; and Catherine Seavitt-Nordenson\,  New York-based practicing architect\, Rome Prize winner\, adjunct professor at  Princeton University\, and Taubman College alumna.
UID:1416-915101@events.umich.edu
URL:https://events.umich.edu/event/1416
CLASS:PUBLIC
STATUS:CONFIRMED
CATEGORIES:architecture
LOCATION:Art and Architecture Building - College Gallery
CONTACT:
END:VEVENT
BEGIN:VEVENT
DTSTAMP:20100202T030002
DTSTART;TZID=America/Detroit:20100202T190000
SUMMARY:Other:Masterclass:  David Daniels\, counter tenor
DESCRIPTION:Special master class with renowned counter tenor and U-M alumnus\, David Daniels (http://www.danielssings.com/home.html).
UID:1409-914383@events.umich.edu
URL:https://events.umich.edu/event/1409
CLASS:PUBLIC
STATUS:CONFIRMED
CATEGORIES:music
LOCATION:Earl V. Moore Building - McIntosh Theatre
CONTACT:
END:VEVENT
BEGIN:VEVENT
DTSTAMP:20091211T154016
DTSTART;TZID=America/Detroit:20100202T200000
DTEND;TZID=America/Detroit:20100202T230000
SUMMARY:Other:Artsbreak
DESCRIPTION:Artsbreak is a FREE arts and crafts night every Tuesday from 8pm-11pm in the MUG (Michigan Union Ground floor). Examples of crafts we've done in the past are: painting pumpkins\, decorating small canvas tote bags\, wire photo holders\, polar fleece scarves\, and jewelry making. For the most updated craft list or to suggest a craft\, email artsbreak-uuap@umich.edu to get on our weekly listserv\, or check out UUAP's website.
UID:1256-914136@events.umich.edu
URL:https://events.umich.edu/event/1256
CLASS:PUBLIC
STATUS:CONFIRMED
CATEGORIES:visual arts
LOCATION:Michigan Union - MUG
CONTACT:
END:VEVENT
BEGIN:VEVENT
DTSTAMP:20100202T030002
DTSTART;TZID=America/Detroit:20100202T200000
SUMMARY:Other:Second Dissertation Recital:  Henrik Karapetyan\, violin
DESCRIPTION:PROGRAM:  Corelli - Sonata in D Major For Violin and Continuo\, Op. 5\, No. 1\; Handel - Sonata in G Major for Violin and Continuo\, HWV 358\; Handel - Sonata in D Minor for Violin and Continuo\, HWV 359a\; Handel - Sonata in A Major for Violin and Continuo\, HWV 361\; Handel - Andante in A Minor for Violin and Continuo\, HWV 412\; Handel - Sonata in G Minor for Violin and Continuo\, HWV 364\; Handel - Sonata in G Minor for Violin and Continuo\, HWV 362a\; Handel - Sonata in DMajor for Violin and Continuo\, HWV 371
UID:1966-917951@events.umich.edu
URL:https://events.umich.edu/event/1966
CLASS:PUBLIC
STATUS:CONFIRMED
CATEGORIES:music
LOCATION:Earl V. Moore Building - Britton Recital Hall
CONTACT:
END:VEVENT
END:VCALENDAR