BEGIN:VCALENDAR
VERSION:2.0
PRODID:-//UM//UM*Events//EN
CALSCALE:GREGORIAN
BEGIN:VTIMEZONE
TZID:America/Detroit
TZURL:http://tzurl.org/zoneinfo/America/Detroit
X-LIC-LOCATION:America/Detroit
BEGIN:DAYLIGHT
TZOFFSETFROM:-0500
TZOFFSETTO:-0400
TZNAME:EDT
DTSTART:20070311T020000
RRULE:FREQ=YEARLY;BYMONTH=3;BYDAY=2SU
END:DAYLIGHT
BEGIN:STANDARD
TZOFFSETFROM:-0400
TZOFFSETTO:-0500
TZNAME:EST
DTSTART:20071104T020000
RRULE:FREQ=YEARLY;BYMONTH=11;BYDAY=1SU
END:STANDARD
END:VTIMEZONE
BEGIN:VEVENT
DTSTAMP:20101111T175629
DTSTART;TZID=America/Detroit:20100203T000000
SUMMARY:Exhibition:Exhibit of Recent Aquisitions
DESCRIPTION:This exhibit includes an extraordinarily wide variety of primary source material collected to support current and  future research.  Among the items on display are:  a watercolor “portrait” of a railroad bridge built in Prague in  1850\, original artwork by local artist Tom Pohrt for a children's book written by Justice Sandra Day O'Connor\, a  diary and photographs from a female UM student who hitchhiked from Ann Arbor to San Francisco in 1923\, a  Spanish text from 1693 for those studying to be soldiers\, and Dante's Divine Comedy with illustrations by  Salvador Dali.  \n\nNew archival collections with samples on display include the papers of film director Robert Altman and writers  Nicholas Delbanco and Richard Tillinghast\, as well as four separate women involved in radical causes such as  Clarence Darrow's 1907 defense of union leaders accused of murder and the ecological costs of technology.   This is the first opportunity for the public to see materials from the Altman Collection\, which is estimated to be  1\,000 linear feet in size and is now being sorted and processed for use.
UID:748-911419@events.umich.edu
URL:https://events.umich.edu/event/748
CLASS:PUBLIC
STATUS:CONFIRMED
CATEGORIES:visual arts
LOCATION:Hatcher Graduate Library - 7th Floor Special Collections Library
CONTACT:
END:VEVENT
BEGIN:VEVENT
DTSTAMP:20100120T140434
DTSTART;TZID=America/Detroit:20100203T000000
DTEND;TZID=America/Detroit:20100203T234500
SUMMARY:Other:Golden Apple Award Nominations
DESCRIPTION:Nominations for this year's Golden Apple Award are now open! The annual Golden Apple Award is the only teaching award at the University of Michigan bestowed by the student body. The recipient is invited to give his or her ideal 'last lecture' to the university community in March. Please go to www.thegoldenappleaward.com to help select who you think would give the best 'last lecture.'\" Nominations will take place from January 21st - February 5th!\n\nwww.thegoldenappleaward.com
UID:2554-920148@events.umich.edu
URL:https://events.umich.edu/event/2554
CLASS:PUBLIC
STATUS:CONFIRMED
CATEGORIES:
LOCATION:Hillel (Mandell L Berman Center)
CONTACT:
END:VEVENT
BEGIN:VEVENT
DTSTAMP:20101111T175620
DTSTART;TZID=America/Detroit:20100203T000000
SUMMARY:Exhibition:Permanent Exhibits at the Exhibit Museum of Natural History
DESCRIPTION:The Hall of Evolution houses Michigan's largest display of prehistoric life. More than 600 million years of life on Earth are traced through fossils\, models and dioramas. The Michigan Wildlife Gallery has a large collection of native Great Lakes birds\, mammals\, reptiles\, and amphibians\, with taxidermy mounts\, habitat scenes\, and the largest mastodon trackway on display in the world. There are also displays about some of the environmental problems faced in this region today. The Anthropology Displays feature artifacts from human cultures around the world. The Geology Displays on the fourth floor offer a large selection of rocks\, minerals and gems. These displays are updated periodically. For more information go to www.lsa.umich.edu/exhibitmuseum/exhibits/permexhibits or call 734-764-0480.
UID:452-910580@events.umich.edu
URL:https://events.umich.edu/event/452
CLASS:PUBLIC
STATUS:CONFIRMED
CATEGORIES:
LOCATION:Ruthven Museums Building
CONTACT:
END:VEVENT
BEGIN:VEVENT
DTSTAMP:20101111T175759
DTSTART;TZID=America/Detroit:20100203T080000
DTEND;TZID=America/Detroit:20100203T170000
SUMMARY:Exhibition:History of Dentistry exhibits at the Sindecuse Museum of Dentistry
DESCRIPTION:Exhibits at the Sindecuse Museum of Dentistry include Dental Operatories of the 1860s to 1930s\, St. Apollonia-Patron Saint of Dentistry and more. Call 763-0767 or go to www.dent.umich.edu/museum for more information.
UID:3856-917693@events.umich.edu
URL:https://events.umich.edu/event/3856
CLASS:PUBLIC
STATUS:CONFIRMED
CATEGORIES:
LOCATION:Dental & W.K. Kellogg Institute
CONTACT:
END:VEVENT
BEGIN:VEVENT
DTSTAMP:20100111T160124
DTSTART;TZID=America/Detroit:20100203T080000
SUMMARY:Exhibition:Their Journey: Vietnamese in Michigan
DESCRIPTION:Imagine chaotically and permanently leaving your homeland for another country  and a completely different life! This exhibit includes photos from Vietnam and  Grand Rapids\, MI\, along with political\, cultural\, and personal perspectives of the  journey of Vietnamese immigrants to Michigan following the Vietnam War. It  augments the Great Michigan Read\, the Michigan Humanities Council's statewide  reading program\, and provides additional historical context to its book  selection\, \"Stealing Buddha's Dinner.\"\n\n\"Stealing Buddha's Dinner\" is a memoir chronicling author Bich Minh Nguyen's  migration from Vietnam in 1975 and her coming of age in Grand Rapids in the  1980s. Along the way\, she struggles to construct her own cultural identity from a  menagerie of uniquely American influences.\n\nThe University Library is one of only six sites chosen to host this exhibit.\n\nAccessible during library hours\; see http://www.lib.umich.edu/hatcher-graduate- library
UID:2556-920160@events.umich.edu
URL:https://events.umich.edu/event/2556
CLASS:PUBLIC
STATUS:CONFIRMED
CATEGORIES:multicultural
LOCATION:Hatcher Graduate Library - Room 100/Gallery
CONTACT:
END:VEVENT
BEGIN:VEVENT
DTSTAMP:20100329T161307
DTSTART;TZID=America/Detroit:20100203T083000
DTEND;TZID=America/Detroit:20100203T190000
SUMMARY:Exhibition:A History of the Bible from Ancient Papyri to King James
DESCRIPTION:This exhibit\, from the Special Collections Library\, shows a path of documents that  led to the creation of the 1611 King James Version of the Bible – from ancient  Egyptian manuscripts on papyrus to Medieval manuscripts to the printed book.\n\nThe earliest documents on display are Egyptian papyri\, including examples of a  census record from the year 119 and the oldest known copy of part of the New  Testament. Medieval manuscripts document the preservation of the text until the  invention of movable type printing by Gutenberg around 1450. The early printed  Bibles include versions in Latin and Greek\, and several that show the struggles  among various political factions and church reformers to control the translating of  the Scriptures into the language of the people. See the King James Bible of 1611  that became the accepted standard.\n\nFor Audubon Room hours\, see https://www.lib.umich.edu/audubon-room
UID:2220-918610@events.umich.edu
URL:https://events.umich.edu/event/2220
CLASS:PUBLIC
STATUS:CONFIRMED
CATEGORIES:visual arts
LOCATION:Hatcher Graduate Library - Audubon Room/First Floor
CONTACT:
END:VEVENT
BEGIN:VEVENT
DTSTAMP:20090722T143534
DTSTART;TZID=America/Detroit:20100203T090000
DTEND;TZID=America/Detroit:20100203T170000
SUMMARY:Exhibition:Ida: Darwinius masillae
DESCRIPTION:\"Ida\,\" a new exhibit in the Exhibit Museum's Rotunda\, displays a high-resolution cast of an extremely rare  fossil discovered in 1983 near Messel\, Germany\, but only recently made available for study. The fossil has  proven to be a “link” between the prosimian and simian (\"anthropoid\") primate lineages. It has \"advanced\"  front teeth (incisors and canines) and second toes like those of monkeys\, and is broadly representative of what  human primate ancestors may have looked like during the Eocene epoch 47 million years ago.     Ida (prounded \"eeda\") is named after after the daughter of Dr JÃ¸rn Hurum\, the Norwegian vertebrate  paleontologist who secured one section of the fossil from an anonymous owner\, and led the research. Ida was  about eight months old\, or the equivalent of a six-year-old human.     Publication of a paper on the discovery was accompanied by a book\, The Link: Uncovering Our Earliest  Ancestors by Colin Tudge\, and a documentary shown on the History Channel (US)\, BBC One (UK)\,and various  stations in Germany and Norway.     U-M paleontologist Philip Gingerich and U-M anthropologist B. Holly Smith were two members of the \"dream  team\" invited to study Ida. The exhibit will be on display through May 2010.
UID:2124-918215@events.umich.edu
URL:https://events.umich.edu/event/2124
CLASS:PUBLIC
STATUS:CONFIRMED
CATEGORIES:welcome week,multicultural,visual arts
LOCATION:
CONTACT:
END:VEVENT
BEGIN:VEVENT
DTSTAMP:20101111T175600
DTSTART;TZID=America/Detroit:20100203T100000
DTEND;TZID=America/Detroit:20100203T170000
SUMMARY:Exhibition:Stearns Collection of Music
DESCRIPTION:The Stearns Collection at the School of Music\, Theatre & Dance is one of six major collections of musical instruments in North America. The 2\,500-piece collection is internationally known and is a resource for musical and cultural education.
UID:3790-909209@events.umich.edu
URL:https://events.umich.edu/event/3790
CLASS:PUBLIC
STATUS:CONFIRMED
CATEGORIES:
LOCATION:Earl V. Moore Building
CONTACT:
END:VEVENT
BEGIN:VEVENT
DTSTAMP:20100203T030003
DTSTART;TZID=America/Detroit:20100203T121500
SUMMARY:Other:Brown Bag Organ Series: Mara Terwilliger
DESCRIPTION:Thirty minutes of organ solo music performed by local musicians.  Bring lunch or purchase at the Crossroads Cafe.
UID:875-913331@events.umich.edu
URL:https://events.umich.edu/event/875
CLASS:PUBLIC
STATUS:CONFIRMED
CATEGORIES:music
LOCATION:School of Public Health Bldg I and Crossroads and Tower - Community Lounge (Room 1680)
CONTACT:
END:VEVENT
BEGIN:VEVENT
DTSTAMP:20101111T175609
DTSTART;TZID=America/Detroit:20100203T133000
DTEND;TZID=America/Detroit:20100203T150000
SUMMARY:Lecture / Discussion:Understanding the Roles of Academic Preparation\, Financial Resources\, and Information in the College Enrollment of Underrepresented Students
DESCRIPTION:Laura W. Perna\, Associate Professor in the Graduate School of Education at the  University of Pennsylvania\, will discuss her recent research related to educational  attainment for underrepresented students\, the ways inadequate finances limit  educational attainment\, and the role of financial aid in addressing financial barriers.
UID:33-909875@events.umich.edu
URL:https://events.umich.edu/event/33
CLASS:PUBLIC
STATUS:CONFIRMED
CATEGORIES:social justice
LOCATION:Rackham Graduate School (Horace H.) - Assembly Hall
CONTACT:
END:VEVENT
BEGIN:VEVENT
DTSTAMP:20101111T175659
DTSTART;TZID=America/Detroit:20100203T180000
DTEND;TZID=America/Detroit:20100203T200000
SUMMARY:Workshop / Seminar:Deepening Meditation
DESCRIPTION:This 4-week series is for meditators who have finished the first training (Beginning  Meditation) or those who have had a personal meditation practice for at least  several months.  The sessions are designed to help those who are sincerely trying  to make meditation a part of their everyday lives.  It introduces new strategies and  provides participants with the support of a community of other practicing  meditators.  An opportunity for former students to renew their practice. Martha Kimball\, CSW\, ACSW\, BCD\n\nFeb 3-24\, 2010 Wednesdays\, 6:00 - 8:00 pm
UID:999-913644@events.umich.edu
URL:https://events.umich.edu/event/999
CLASS:PUBLIC
STATUS:CONFIRMED
CATEGORIES:
LOCATION:
CONTACT:
END:VEVENT
BEGIN:VEVENT
DTSTAMP:20100125T160709
DTSTART;TZID=America/Detroit:20100203T183000
DTEND;TZID=America/Detroit:20100203T203000
SUMMARY:Fair / Festival:InFocus-The Environment
DESCRIPTION:Come check out InFocus Wednesday\, Februaray 3rd in the Michigan League!  InFocus is a new event that works to highlight and educate students about hot topics in the news.  This InFocus will  be highlighting the environment.  Student Groups will be there for you to check out and become  involved with.  Then a student panel\, facilitated by Prof. Virginia Murphy will help inform you of how your actions  affect the  environment and what you can do to help.  A showing of Leonardo DiCaprio's movie\, \"The 11th  Hour\" will follow  with FREE popcorn\, cookies and refreshments!  See you at 6:00\, Wednesday\, Feb. 3rd at the Michigan League.
UID:102-909373@events.umich.edu
URL:https://events.umich.edu/event/102
CLASS:PUBLIC
STATUS:CONFIRMED
CATEGORIES:
LOCATION:Michigan League - Vandenburg Room
CONTACT:
END:VEVENT
BEGIN:VEVENT
DTSTAMP:20100114T103952
DTSTART;TZID=America/Detroit:20100203T183000
DTEND;TZID=America/Detroit:20100203T200000
SUMMARY:Exhibition:Research Through Making Exhibition
DESCRIPTION:Please join the college in viewing the results of the first Research Through Making  Grant Program at an evening reception Jan. 15\, 2010 at 6:30pm. The exhibition will  be open January 15 – February 4\, 2010\, in the College Gallery.\n\nThe recipients of the 2009 Taubman College of Architecture and Urban Planning  Research Through Making Grants were awarded last winter to the following faculty: \n\nRobert Adams\, Spontaneous Mutations\, Genetic Deletions\, Adaptive Environments\,  and Assistive Technology in the Compression of Developmental Time\; Josh Bard\,  Steven Mankouche\, and Tsz Yan Ng\, Digital Steam Bending\; Karl Daubmann\, In  Search of the (w)hole\; Nataly Gattegno and Jason Johnson\, Aurora\; Perry Kulper\,  Spatial Blooms + Here be Dragons\; Keith Mitnick and Mireille Roddier\,  Heterogeneous Constructions.\n\n2009 marked the first year of this competition\, and the jury included Sarah Herda\,  director of the Graham Foundation\; Reed Kroloff\, director of the Cranbrook  Academy of Art and principal of Jones/Kroloff\; and Catherine Seavitt-Nordenson\,  New York-based practicing architect\, Rome Prize winner\, adjunct professor at  Princeton University\, and Taubman College alumna.
UID:1416-915102@events.umich.edu
URL:https://events.umich.edu/event/1416
CLASS:PUBLIC
STATUS:CONFIRMED
CATEGORIES:architecture
LOCATION:Art and Architecture Building - College Gallery
CONTACT:
END:VEVENT
BEGIN:VEVENT
DTSTAMP:20100203T030003
DTSTART;TZID=America/Detroit:20100203T200000
SUMMARY:Other:Concert Band
DESCRIPTION:Rodney Dorsey\, conductor.  PROGRAM:  Binkerd - Noble Numbers\; Persichetti - O Cool is the Valley\; Etezady - Tiktaalik\; Hesketh - Danceries\; Sousa - The Black Horse Troop
UID:1140-913981@events.umich.edu
URL:https://events.umich.edu/event/1140
CLASS:PUBLIC
STATUS:CONFIRMED
CATEGORIES:music
LOCATION:Hill Auditorium -  
CONTACT:
END:VEVENT
BEGIN:VEVENT
DTSTAMP:20100203T030003
DTSTART;TZID=America/Detroit:20100203T200000
SUMMARY:Other:Faculty Chamber Music Recital
DESCRIPTION:Aaron Berofsky (violin)\, Yehonatan Berick (violin)\, Kathryn Votapek (viola)\, Richard Aaron (cello)\, Andrew Smith (cello).  PROGRAM:  Mozart - String Quartet in B-flat Major\, Kv 458\; Ravel - String Quartet\; Schubert - Cello Quintet.
UID:2633-919439@events.umich.edu
URL:https://events.umich.edu/event/2633
CLASS:PUBLIC
STATUS:CONFIRMED
CATEGORIES:music
LOCATION:Walgreen Drama Center - Stamps Auditorium
CONTACT:
END:VEVENT
BEGIN:VEVENT
DTSTAMP:20100203T030003
DTSTART;TZID=America/Detroit:20100203T200000
SUMMARY:Other:Facutly/Guest Recital:  The Arbor Quartet with Guest Artist Andrew Smith\, cello
DESCRIPTION:PROGRAM:  Mozart - Quartet in B-flat Major\, K. 458\; Ravel - String Quartet\;  Schubert - String Quintet in C Major\, D.956
UID:2161-917381@events.umich.edu
URL:https://events.umich.edu/event/2161
CLASS:PUBLIC
STATUS:CONFIRMED
CATEGORIES:music
LOCATION:Walgreen Drama Center - Stamps Auditorium
CONTACT:
END:VEVENT
BEGIN:VEVENT
DTSTAMP:20101111T175613
DTSTART;TZID=America/Detroit:20100203T200000
SUMMARY:Performance:Matt Hires
DESCRIPTION:When you listen to Matt Hires\, what comes across is the sound of an artist at ease  with being completely and utterly himself. On his debut F-Stop/ Atlantic  release\, \"Take Us To The Start\,\" this 23-year-old newcomer fuses the intimacy of  the great singer-songwriters with terrific pop-rock hooks and propulsive rhythms.  Produced by Eric Rosse (Sara Bareilles)\, the album showcases Hires's voice\, an  instrument striking in its warmth\, expressiveness\, and ability to convey a multitude  of emotions within a single song. Growing up in Tampa\, Matt first gravitated toward  punk and post-hardcore music\, then discovered the classics -- Tom Petty\, the Band\,  the Byrds\, and the Beatles. He put it all together with some fearsome contemporary  songwriting chops\, and an Atlantic label exec heard his songs and sent him an e- mail that he at first assumed was a prank. Tonight's opener is 2008 American Idol  runner-up Jason Castro.
UID:207-910129@events.umich.edu
URL:https://events.umich.edu/event/207
CLASS:PUBLIC
STATUS:CONFIRMED
CATEGORIES:music
LOCATION:
CONTACT:
END:VEVENT
END:VCALENDAR