BEGIN:VCALENDAR
VERSION:2.0
PRODID:-//UM//UM*Events//EN
CALSCALE:GREGORIAN
BEGIN:VTIMEZONE
TZID:America/Detroit
TZURL:http://tzurl.org/zoneinfo/America/Detroit
X-LIC-LOCATION:America/Detroit
BEGIN:DAYLIGHT
TZOFFSETFROM:-0500
TZOFFSETTO:-0400
TZNAME:EDT
DTSTART:20070311T020000
RRULE:FREQ=YEARLY;BYMONTH=3;BYDAY=2SU
END:DAYLIGHT
BEGIN:STANDARD
TZOFFSETFROM:-0400
TZOFFSETTO:-0500
TZNAME:EST
DTSTART:20071104T020000
RRULE:FREQ=YEARLY;BYMONTH=11;BYDAY=1SU
END:STANDARD
END:VTIMEZONE
BEGIN:VEVENT
DTSTAMP:20101111T175629
DTSTART;TZID=America/Detroit:20100204T000000
SUMMARY:Exhibition:Exhibit of Recent Aquisitions
DESCRIPTION:This exhibit includes an extraordinarily wide variety of primary source material collected to support current and  future research.  Among the items on display are:  a watercolor “portrait” of a railroad bridge built in Prague in  1850\, original artwork by local artist Tom Pohrt for a children's book written by Justice Sandra Day O'Connor\, a  diary and photographs from a female UM student who hitchhiked from Ann Arbor to San Francisco in 1923\, a  Spanish text from 1693 for those studying to be soldiers\, and Dante's Divine Comedy with illustrations by  Salvador Dali.  \n\nNew archival collections with samples on display include the papers of film director Robert Altman and writers  Nicholas Delbanco and Richard Tillinghast\, as well as four separate women involved in radical causes such as  Clarence Darrow's 1907 defense of union leaders accused of murder and the ecological costs of technology.   This is the first opportunity for the public to see materials from the Altman Collection\, which is estimated to be  1\,000 linear feet in size and is now being sorted and processed for use.
UID:748-911420@events.umich.edu
URL:https://events.umich.edu/event/748
CLASS:PUBLIC
STATUS:CONFIRMED
CATEGORIES:visual arts
LOCATION:Hatcher Graduate Library - 7th Floor Special Collections Library
CONTACT:
END:VEVENT
BEGIN:VEVENT
DTSTAMP:20100120T140434
DTSTART;TZID=America/Detroit:20100204T000000
DTEND;TZID=America/Detroit:20100204T234500
SUMMARY:Other:Golden Apple Award Nominations
DESCRIPTION:Nominations for this year's Golden Apple Award are now open! The annual Golden Apple Award is the only teaching award at the University of Michigan bestowed by the student body. The recipient is invited to give his or her ideal 'last lecture' to the university community in March. Please go to www.thegoldenappleaward.com to help select who you think would give the best 'last lecture.'\" Nominations will take place from January 21st - February 5th!\n\nwww.thegoldenappleaward.com
UID:2554-920149@events.umich.edu
URL:https://events.umich.edu/event/2554
CLASS:PUBLIC
STATUS:CONFIRMED
CATEGORIES:
LOCATION:Hillel (Mandell L Berman Center)
CONTACT:
END:VEVENT
BEGIN:VEVENT
DTSTAMP:20101111T175620
DTSTART;TZID=America/Detroit:20100204T000000
SUMMARY:Exhibition:Permanent Exhibits at the Exhibit Museum of Natural History
DESCRIPTION:The Hall of Evolution houses Michigan's largest display of prehistoric life. More than 600 million years of life on Earth are traced through fossils\, models and dioramas. The Michigan Wildlife Gallery has a large collection of native Great Lakes birds\, mammals\, reptiles\, and amphibians\, with taxidermy mounts\, habitat scenes\, and the largest mastodon trackway on display in the world. There are also displays about some of the environmental problems faced in this region today. The Anthropology Displays feature artifacts from human cultures around the world. The Geology Displays on the fourth floor offer a large selection of rocks\, minerals and gems. These displays are updated periodically. For more information go to www.lsa.umich.edu/exhibitmuseum/exhibits/permexhibits or call 734-764-0480.
UID:452-910581@events.umich.edu
URL:https://events.umich.edu/event/452
CLASS:PUBLIC
STATUS:CONFIRMED
CATEGORIES:
LOCATION:Ruthven Museums Building
CONTACT:
END:VEVENT
BEGIN:VEVENT
DTSTAMP:20101111T175759
DTSTART;TZID=America/Detroit:20100204T080000
DTEND;TZID=America/Detroit:20100204T170000
SUMMARY:Exhibition:History of Dentistry exhibits at the Sindecuse Museum of Dentistry
DESCRIPTION:Exhibits at the Sindecuse Museum of Dentistry include Dental Operatories of the 1860s to 1930s\, St. Apollonia-Patron Saint of Dentistry and more. Call 763-0767 or go to www.dent.umich.edu/museum for more information.
UID:3856-917694@events.umich.edu
URL:https://events.umich.edu/event/3856
CLASS:PUBLIC
STATUS:CONFIRMED
CATEGORIES:
LOCATION:Dental & W.K. Kellogg Institute
CONTACT:
END:VEVENT
BEGIN:VEVENT
DTSTAMP:20100111T160124
DTSTART;TZID=America/Detroit:20100204T080000
SUMMARY:Exhibition:Their Journey: Vietnamese in Michigan
DESCRIPTION:Imagine chaotically and permanently leaving your homeland for another country  and a completely different life! This exhibit includes photos from Vietnam and  Grand Rapids\, MI\, along with political\, cultural\, and personal perspectives of the  journey of Vietnamese immigrants to Michigan following the Vietnam War. It  augments the Great Michigan Read\, the Michigan Humanities Council's statewide  reading program\, and provides additional historical context to its book  selection\, \"Stealing Buddha's Dinner.\"\n\n\"Stealing Buddha's Dinner\" is a memoir chronicling author Bich Minh Nguyen's  migration from Vietnam in 1975 and her coming of age in Grand Rapids in the  1980s. Along the way\, she struggles to construct her own cultural identity from a  menagerie of uniquely American influences.\n\nThe University Library is one of only six sites chosen to host this exhibit.\n\nAccessible during library hours\; see http://www.lib.umich.edu/hatcher-graduate- library
UID:2556-920161@events.umich.edu
URL:https://events.umich.edu/event/2556
CLASS:PUBLIC
STATUS:CONFIRMED
CATEGORIES:multicultural
LOCATION:Hatcher Graduate Library - Room 100/Gallery
CONTACT:
END:VEVENT
BEGIN:VEVENT
DTSTAMP:20100329T161307
DTSTART;TZID=America/Detroit:20100204T083000
DTEND;TZID=America/Detroit:20100204T190000
SUMMARY:Exhibition:A History of the Bible from Ancient Papyri to King James
DESCRIPTION:This exhibit\, from the Special Collections Library\, shows a path of documents that  led to the creation of the 1611 King James Version of the Bible – from ancient  Egyptian manuscripts on papyrus to Medieval manuscripts to the printed book.\n\nThe earliest documents on display are Egyptian papyri\, including examples of a  census record from the year 119 and the oldest known copy of part of the New  Testament. Medieval manuscripts document the preservation of the text until the  invention of movable type printing by Gutenberg around 1450. The early printed  Bibles include versions in Latin and Greek\, and several that show the struggles  among various political factions and church reformers to control the translating of  the Scriptures into the language of the people. See the King James Bible of 1611  that became the accepted standard.\n\nFor Audubon Room hours\, see https://www.lib.umich.edu/audubon-room
UID:2220-918611@events.umich.edu
URL:https://events.umich.edu/event/2220
CLASS:PUBLIC
STATUS:CONFIRMED
CATEGORIES:visual arts
LOCATION:Hatcher Graduate Library - Audubon Room/First Floor
CONTACT:
END:VEVENT
BEGIN:VEVENT
DTSTAMP:20090722T143534
DTSTART;TZID=America/Detroit:20100204T090000
DTEND;TZID=America/Detroit:20100204T170000
SUMMARY:Exhibition:Ida: Darwinius masillae
DESCRIPTION:\"Ida\,\" a new exhibit in the Exhibit Museum's Rotunda\, displays a high-resolution cast of an extremely rare  fossil discovered in 1983 near Messel\, Germany\, but only recently made available for study. The fossil has  proven to be a “link” between the prosimian and simian (\"anthropoid\") primate lineages. It has \"advanced\"  front teeth (incisors and canines) and second toes like those of monkeys\, and is broadly representative of what  human primate ancestors may have looked like during the Eocene epoch 47 million years ago.     Ida (prounded \"eeda\") is named after after the daughter of Dr JÃ¸rn Hurum\, the Norwegian vertebrate  paleontologist who secured one section of the fossil from an anonymous owner\, and led the research. Ida was  about eight months old\, or the equivalent of a six-year-old human.     Publication of a paper on the discovery was accompanied by a book\, The Link: Uncovering Our Earliest  Ancestors by Colin Tudge\, and a documentary shown on the History Channel (US)\, BBC One (UK)\,and various  stations in Germany and Norway.     U-M paleontologist Philip Gingerich and U-M anthropologist B. Holly Smith were two members of the \"dream  team\" invited to study Ida. The exhibit will be on display through May 2010.
UID:2124-918216@events.umich.edu
URL:https://events.umich.edu/event/2124
CLASS:PUBLIC
STATUS:CONFIRMED
CATEGORIES:welcome week,visual arts,multicultural
LOCATION:
CONTACT:
END:VEVENT
BEGIN:VEVENT
DTSTAMP:20091028T161737
DTSTART;TZID=America/Detroit:20100204T093000
DTEND;TZID=America/Detroit:20100204T150000
SUMMARY:Fair / Festival:Winter Engineering Career Fair
DESCRIPTION:The Fair is a great way to connect with organizations right here on campus! We expect 65+ organizations and 1000+ students to participate in the event.\n\nCosponsored by: the Engineering Career Resource Center and The Career Center\n\nUse the Fair to:\n\n*** Meet with employers to discuss a wide range of positions\n\n*** Build networks for the future\n\n*** Connect with organizations interviewing later in the semester\n\nRegistration Details\n\nUM-Ann Arbor Students and Alumni/ae\n\n*** Registration is on-site the day of the event\n\n*** There is no registration fee\n\n*** Bring your student ID\n\n  Non-UM-Ann Arbor Students\n\n*** This event is for UM-Ann Arbor students only\n\nFor more information: http://www.careercenter.umich.edu/events/fairsevents/enginfair.html
UID:674-911322@events.umich.edu
URL:https://events.umich.edu/event/674
CLASS:PUBLIC
STATUS:CONFIRMED
CATEGORIES:
LOCATION:Pierpont Commons
CONTACT:
END:VEVENT
BEGIN:VEVENT
DTSTAMP:20101111T175600
DTSTART;TZID=America/Detroit:20100204T100000
DTEND;TZID=America/Detroit:20100204T170000
SUMMARY:Exhibition:Stearns Collection of Music
DESCRIPTION:The Stearns Collection at the School of Music\, Theatre & Dance is one of six major collections of musical instruments in North America. The 2\,500-piece collection is internationally known and is a resource for musical and cultural education.
UID:3790-909210@events.umich.edu
URL:https://events.umich.edu/event/3790
CLASS:PUBLIC
STATUS:CONFIRMED
CATEGORIES:
LOCATION:Earl V. Moore Building
CONTACT:
END:VEVENT
BEGIN:VEVENT
DTSTAMP:20101111T175624
DTSTART;TZID=America/Detroit:20100204T110000
DTEND;TZID=America/Detroit:20100204T130000
SUMMARY:Performance:Beats N' Eats
DESCRIPTION:Enjoy the relaxing sounds of talented U-M student performers over lunch! Beats N' Eats takes place every Thursday from 11a-1p in either the Union MUG or League Underground. Interested in performance opportunities? Contact University Unions Arts & Programs at uuap@umich.edu or 734-763-3202.
UID:552-911071@events.umich.edu
URL:https://events.umich.edu/event/552
CLASS:PUBLIC
STATUS:CONFIRMED
CATEGORIES:music
LOCATION:Michigan League - Underground
CONTACT:
END:VEVENT
BEGIN:VEVENT
DTSTAMP:20101111T175901
DTSTART;TZID=America/Detroit:20100204T120000
DTEND;TZID=America/Detroit:20100204T130000
SUMMARY:Lecture / Discussion:Japan and the Global Financial Crisis
DESCRIPTION:Bai Gao\, Professor\, Sociology\, Duke University
UID:2857-921580@events.umich.edu
URL:https://events.umich.edu/event/2857
CLASS:PUBLIC
STATUS:CONFIRMED
CATEGORIES:multicultural
LOCATION:School of Social Work Building - 1636
CONTACT:
END:VEVENT
BEGIN:VEVENT
DTSTAMP:20091102T150050
DTSTART;TZID=America/Detroit:20100204T153000
DTEND;TZID=America/Detroit:20100204T173000
SUMMARY:Lecture / Discussion:Department of Astronomy Colloquia Series
DESCRIPTION:A weekly lecture series with Astronomy or Astrophysics related topics. Please see  department website for featured speaker and lecture topic. There will be a brief  reception with light refreshments preceding the lecture in room 845 Dennison from  3:30-4:00 pm.
UID:1689-915670@events.umich.edu
URL:https://events.umich.edu/event/1689
CLASS:PUBLIC
STATUS:CONFIRMED
CATEGORIES:
LOCATION:Weiser Hall - 807
CONTACT:
END:VEVENT
BEGIN:VEVENT
DTSTAMP:20101111T175752
DTSTART;TZID=America/Detroit:20100204T160000
DTEND;TZID=America/Detroit:20100204T173000
SUMMARY:Lecture / Discussion:Conversations on Europe.
DESCRIPTION:Sara Binzer Hobolt\, EUC 2010 Jean Monnet Postdoctoral Fellow\, U-M\; Lincoln  College Fellow and University Lecturer in Comparative Politics\, University of Oxford.
UID:2049-917075@events.umich.edu
URL:https://events.umich.edu/event/2049
CLASS:PUBLIC
STATUS:CONFIRMED
CATEGORIES:
LOCATION:School of Social Work Building - 1636
CONTACT:
END:VEVENT
BEGIN:VEVENT
DTSTAMP:20101111T175729
DTSTART;TZID=America/Detroit:20100204T160000
DTEND;TZID=America/Detroit:20100204T170000
SUMMARY:Workshop / Seminar:EEB Thursday Seminar Series: Genome dynamics during a 20-year evolution experiment with E. coli
DESCRIPTION:Abstract: Laboratory experiments with microorganisms offer unique opportunities to  study evolution in action. We used next-generation DNA sequencing data to  reconstruct the dynamics of genome evolution from the 40\,000-generation  frozen \"fossil record\" of an Escherichia coli population. Surprisingly\, the rate at which  beneficial mutations substituted in this population was relatively constant at first\,  despite a dramatically decelerating rate of adaptation. In contrast\, the neutral  substitution rate and amount of genetic diversity in the population were highly  variable over time and increased dramatically after a mutator phenotype evolved.  Additional experiments that \"replay the tape\" of early evolution in this population  show that a specific lineage is able to reproducibly overtake competitors of higher  fitness because it maintains a greater potential for further adaptation.
UID:1627-915542@events.umich.edu
URL:https://events.umich.edu/event/1627
CLASS:PUBLIC
STATUS:CONFIRMED
CATEGORIES:
LOCATION:Chemistry Dow Lab - 1200
CONTACT:
END:VEVENT
BEGIN:VEVENT
DTSTAMP:20101111T175901
DTSTART;TZID=America/Detroit:20100204T170000
DTEND;TZID=America/Detroit:20100204T180000
SUMMARY:Presentation:Adam Haslett
DESCRIPTION:Adam Haslett's short story collection\, You Are Not a Stranger Here\, was a New York  Times bestseller and a finalist for both the Pulitzer Prize and the National Book  Award. It has been translated into fifteen languages. He lives in New York.
UID:2854-921567@events.umich.edu
URL:https://events.umich.edu/event/2854
CLASS:PUBLIC
STATUS:CONFIRMED
CATEGORIES:literary arts
LOCATION:Museum of Art - Helmut Stern Auditorium
CONTACT:
END:VEVENT
BEGIN:VEVENT
DTSTAMP:20101111T175712
DTSTART;TZID=America/Detroit:20100204T183000
DTEND;TZID=America/Detroit:20100204T213000
SUMMARY:Workshop / Seminar:MOLS Backpacking Basics Clinic- FREE
DESCRIPTION:Here at Outdoor Adventures we are committed to helping people get outside – and also to  teaching the necessary skills to do so safely and comfortably. We know that getting outside isn't  always cheap\, so we are trying to do our part to help out by offering this free clinic on  backpacking basics. We want to you be comfortable\, happy\, and looking the part in the great  outdoors  -- and now you can do it with some extra money left in your pocket. This clinic will  teach you the basic fundamentals to make any backpacking trip enjoyable\; we will focus on  how to dress yourself for outdoor success\, what equipment to bring\, how it works\, and how to  properly fit your pack.
UID:1452-914440@events.umich.edu
URL:https://events.umich.edu/event/1452
CLASS:PUBLIC
STATUS:CONFIRMED
CATEGORIES:
LOCATION:
CONTACT:
END:VEVENT
BEGIN:VEVENT
DTSTAMP:20100114T103952
DTSTART;TZID=America/Detroit:20100204T183000
DTEND;TZID=America/Detroit:20100204T200000
SUMMARY:Exhibition:Research Through Making Exhibition
DESCRIPTION:Please join the college in viewing the results of the first Research Through Making  Grant Program at an evening reception Jan. 15\, 2010 at 6:30pm. The exhibition will  be open January 15 – February 4\, 2010\, in the College Gallery.\n\nThe recipients of the 2009 Taubman College of Architecture and Urban Planning  Research Through Making Grants were awarded last winter to the following faculty: \n\nRobert Adams\, Spontaneous Mutations\, Genetic Deletions\, Adaptive Environments\,  and Assistive Technology in the Compression of Developmental Time\; Josh Bard\,  Steven Mankouche\, and Tsz Yan Ng\, Digital Steam Bending\; Karl Daubmann\, In  Search of the (w)hole\; Nataly Gattegno and Jason Johnson\, Aurora\; Perry Kulper\,  Spatial Blooms + Here be Dragons\; Keith Mitnick and Mireille Roddier\,  Heterogeneous Constructions.\n\n2009 marked the first year of this competition\, and the jury included Sarah Herda\,  director of the Graham Foundation\; Reed Kroloff\, director of the Cranbrook  Academy of Art and principal of Jones/Kroloff\; and Catherine Seavitt-Nordenson\,  New York-based practicing architect\, Rome Prize winner\, adjunct professor at  Princeton University\, and Taubman College alumna.
UID:1416-915103@events.umich.edu
URL:https://events.umich.edu/event/1416
CLASS:PUBLIC
STATUS:CONFIRMED
CATEGORIES:architecture
LOCATION:Art and Architecture Building - College Gallery
CONTACT:
END:VEVENT
BEGIN:VEVENT
DTSTAMP:20100204T030003
DTSTART;TZID=America/Detroit:20100204T193000
SUMMARY:Other:(Re)Visionary Dances
DESCRIPTION:University Dance Company  Paul Taylor’s Le Sacre du Printemps (The Rehearsal) with premieres by Amy Chavasse\, Jessica Fogel\, and Sandra Torijano.  Tickets available at the League Ticket Office 734-764-2538.
UID:964-912763@events.umich.edu
URL:https://events.umich.edu/event/964
CLASS:PUBLIC
STATUS:CONFIRMED
CATEGORIES:music,dance
LOCATION:Power Center for the Performing Arts -  
CONTACT:
END:VEVENT
BEGIN:VEVENT
DTSTAMP:20101111T175724
DTSTART;TZID=America/Detroit:20100204T200000
SUMMARY:Performance:Malinky
DESCRIPTION:From the splash they made at the 1999 Celtic Connections festival in Glasgow\, to  the raves garnered by their new album\, \"Flower & Iron\,\" this young Scots band\, with  members from around the British Isles\, has emerged as one of the hottest  properties on the international Celtic scene. Their song-centered repertoire  combines a deep appreciation of tradition with a vibrant freshness of approach\,  taking in both classic ballads and outstanding original songwriting\, alongside  sparkling instrumental sets. Malinky and its individual members have worked with a  great diversity of other artists -- from the Basque region to Scandinavia to Canada  (they do a superb version of David Francey's \"Flowers of Saskatchewan\") -- and  their broad musical vision shows up in a uniquely exciting program of Scots music.
UID:1489-915184@events.umich.edu
URL:https://events.umich.edu/event/1489
CLASS:PUBLIC
STATUS:CONFIRMED
CATEGORIES:music
LOCATION:
CONTACT:
END:VEVENT
BEGIN:VEVENT
DTSTAMP:20101111T175641
DTSTART;TZID=America/Detroit:20100204T210000
DTEND;TZID=America/Detroit:20100204T230000
SUMMARY:Performance:Michigan Idol
DESCRIPTION:Michigan Idol is back! Tonight\, the top 25 compete to see if they have what it takes to make it to the Finale. Three special judges will determine who goes on to the next round. The Top 12 finalists announced tonight will vie for $500 cash in front of friends and family at the Finale on Thursday\, February 11\, 2010 at 9pm in the Michigan League Ballroom. Audience votes to determine the 2010 Michigan Idol! Come be a part of discovering U-M's next Michigan Idol. It could be you!
UID:749-912460@events.umich.edu
URL:https://events.umich.edu/event/749
CLASS:PUBLIC
STATUS:CONFIRMED
CATEGORIES:music
LOCATION:Michigan League - Underground
CONTACT:
END:VEVENT
END:VCALENDAR