BEGIN:VCALENDAR
VERSION:2.0
PRODID:-//UM//UM*Events//EN
CALSCALE:GREGORIAN
BEGIN:VTIMEZONE
TZID:America/Detroit
TZURL:http://tzurl.org/zoneinfo/America/Detroit
X-LIC-LOCATION:America/Detroit
BEGIN:DAYLIGHT
TZOFFSETFROM:-0500
TZOFFSETTO:-0400
TZNAME:EDT
DTSTART:20070311T020000
RRULE:FREQ=YEARLY;BYMONTH=3;BYDAY=2SU
END:DAYLIGHT
BEGIN:STANDARD
TZOFFSETFROM:-0400
TZOFFSETTO:-0500
TZNAME:EST
DTSTART:20071104T020000
RRULE:FREQ=YEARLY;BYMONTH=11;BYDAY=1SU
END:STANDARD
END:VTIMEZONE
BEGIN:VEVENT
DTSTAMP:20101111T175629
DTSTART;TZID=America/Detroit:20100207T000000
SUMMARY:Exhibition:Exhibit of Recent Aquisitions
DESCRIPTION:This exhibit includes an extraordinarily wide variety of primary source material collected to support current and  future research.  Among the items on display are:  a watercolor “portrait” of a railroad bridge built in Prague in  1850\, original artwork by local artist Tom Pohrt for a children's book written by Justice Sandra Day O'Connor\, a  diary and photographs from a female UM student who hitchhiked from Ann Arbor to San Francisco in 1923\, a  Spanish text from 1693 for those studying to be soldiers\, and Dante's Divine Comedy with illustrations by  Salvador Dali.  \n\nNew archival collections with samples on display include the papers of film director Robert Altman and writers  Nicholas Delbanco and Richard Tillinghast\, as well as four separate women involved in radical causes such as  Clarence Darrow's 1907 defense of union leaders accused of murder and the ecological costs of technology.   This is the first opportunity for the public to see materials from the Altman Collection\, which is estimated to be  1\,000 linear feet in size and is now being sorted and processed for use.
UID:748-911423@events.umich.edu
URL:https://events.umich.edu/event/748
CLASS:PUBLIC
STATUS:CONFIRMED
CATEGORIES:visual arts
LOCATION:Hatcher Graduate Library - 7th Floor Special Collections Library
CONTACT:
END:VEVENT
BEGIN:VEVENT
DTSTAMP:20101111T175620
DTSTART;TZID=America/Detroit:20100207T000000
SUMMARY:Exhibition:Permanent Exhibits at the Exhibit Museum of Natural History
DESCRIPTION:The Hall of Evolution houses Michigan's largest display of prehistoric life. More than 600 million years of life on Earth are traced through fossils\, models and dioramas. The Michigan Wildlife Gallery has a large collection of native Great Lakes birds\, mammals\, reptiles\, and amphibians\, with taxidermy mounts\, habitat scenes\, and the largest mastodon trackway on display in the world. There are also displays about some of the environmental problems faced in this region today. The Anthropology Displays feature artifacts from human cultures around the world. The Geology Displays on the fourth floor offer a large selection of rocks\, minerals and gems. These displays are updated periodically. For more information go to www.lsa.umich.edu/exhibitmuseum/exhibits/permexhibits or call 734-764-0480.
UID:452-910584@events.umich.edu
URL:https://events.umich.edu/event/452
CLASS:PUBLIC
STATUS:CONFIRMED
CATEGORIES:
LOCATION:Ruthven Museums Building
CONTACT:
END:VEVENT
BEGIN:VEVENT
DTSTAMP:20100111T160124
DTSTART;TZID=America/Detroit:20100207T080000
SUMMARY:Exhibition:Their Journey: Vietnamese in Michigan
DESCRIPTION:Imagine chaotically and permanently leaving your homeland for another country  and a completely different life! This exhibit includes photos from Vietnam and  Grand Rapids\, MI\, along with political\, cultural\, and personal perspectives of the  journey of Vietnamese immigrants to Michigan following the Vietnam War. It  augments the Great Michigan Read\, the Michigan Humanities Council's statewide  reading program\, and provides additional historical context to its book  selection\, \"Stealing Buddha's Dinner.\"\n\n\"Stealing Buddha's Dinner\" is a memoir chronicling author Bich Minh Nguyen's  migration from Vietnam in 1975 and her coming of age in Grand Rapids in the  1980s. Along the way\, she struggles to construct her own cultural identity from a  menagerie of uniquely American influences.\n\nThe University Library is one of only six sites chosen to host this exhibit.\n\nAccessible during library hours\; see http://www.lib.umich.edu/hatcher-graduate- library
UID:2556-920164@events.umich.edu
URL:https://events.umich.edu/event/2556
CLASS:PUBLIC
STATUS:CONFIRMED
CATEGORIES:multicultural
LOCATION:Hatcher Graduate Library - Room 100/Gallery
CONTACT:
END:VEVENT
BEGIN:VEVENT
DTSTAMP:20100329T161307
DTSTART;TZID=America/Detroit:20100207T083000
DTEND;TZID=America/Detroit:20100207T190000
SUMMARY:Exhibition:A History of the Bible from Ancient Papyri to King James
DESCRIPTION:This exhibit\, from the Special Collections Library\, shows a path of documents that  led to the creation of the 1611 King James Version of the Bible – from ancient  Egyptian manuscripts on papyrus to Medieval manuscripts to the printed book.\n\nThe earliest documents on display are Egyptian papyri\, including examples of a  census record from the year 119 and the oldest known copy of part of the New  Testament. Medieval manuscripts document the preservation of the text until the  invention of movable type printing by Gutenberg around 1450. The early printed  Bibles include versions in Latin and Greek\, and several that show the struggles  among various political factions and church reformers to control the translating of  the Scriptures into the language of the people. See the King James Bible of 1611  that became the accepted standard.\n\nFor Audubon Room hours\, see https://www.lib.umich.edu/audubon-room
UID:2220-918614@events.umich.edu
URL:https://events.umich.edu/event/2220
CLASS:PUBLIC
STATUS:CONFIRMED
CATEGORIES:visual arts
LOCATION:Hatcher Graduate Library - Audubon Room/First Floor
CONTACT:
END:VEVENT
BEGIN:VEVENT
DTSTAMP:20101111T175822
DTSTART;TZID=America/Detroit:20100207T090000
DTEND;TZID=America/Detroit:20100207T170000
SUMMARY:Exhibition:Exhibit: Santu Mofokeng's Chasing Shadows
DESCRIPTION:Santu Mofokeng\, one of South Africa's most prominent photographers\, began his  work as a documentarian of the anti-Apartheid struggle. Eventually deciding to  leave the field of straightforward photojournalism\, he focused instead on isolating  the simple gestures of everyday life in South African townships.  His work explores  landscape imbued with memory\, loss\, and spirituality\, and forces us to examine  any preconceived notion we have regarding exact locations of faith\, identity\, or  community. The photographs serve to “reclaim landscape\,” examining themes of  ownership\, and the relationship between the land\, power\, and money.  In his  extraordinary series Chasing Shadows\, displaced people reclaim their spirituality  and sustenance even in the midst of relentless transition.  His most recent urban  landscapes go beyond social and political commentary\, meditating on the profound  absurdity of living.  Billboards cruelly highlight the impoverishment of the citizenry  they importune.\n\nMofokeng has been the recipient of numerous awards.  In 1991\, he won the Ernest  Cole Scholarship to study at the International Center of Photography in New York.   He was also awarded the first Mother Jones Award for Africa in 1992\, and more  recently the Kunstlerhaus Worpswede Fellowship and DAAD Fellowship\, both in  Germany\, and was the Prince Claus Laureate for Visual Arts in 2009.
UID:2510-919199@events.umich.edu
URL:https://events.umich.edu/event/2510
CLASS:PUBLIC
STATUS:CONFIRMED
CATEGORIES:visual arts,multicultural
LOCATION:202 S. Thayer - #1010
CONTACT:
END:VEVENT
BEGIN:VEVENT
DTSTAMP:20090722T143534
DTSTART;TZID=America/Detroit:20100207T090000
DTEND;TZID=America/Detroit:20100207T170000
SUMMARY:Exhibition:Ida: Darwinius masillae
DESCRIPTION:\"Ida\,\" a new exhibit in the Exhibit Museum's Rotunda\, displays a high-resolution cast of an extremely rare  fossil discovered in 1983 near Messel\, Germany\, but only recently made available for study. The fossil has  proven to be a “link” between the prosimian and simian (\"anthropoid\") primate lineages. It has \"advanced\"  front teeth (incisors and canines) and second toes like those of monkeys\, and is broadly representative of what  human primate ancestors may have looked like during the Eocene epoch 47 million years ago.     Ida (prounded \"eeda\") is named after after the daughter of Dr JÃ¸rn Hurum\, the Norwegian vertebrate  paleontologist who secured one section of the fossil from an anonymous owner\, and led the research. Ida was  about eight months old\, or the equivalent of a six-year-old human.     Publication of a paper on the discovery was accompanied by a book\, The Link: Uncovering Our Earliest  Ancestors by Colin Tudge\, and a documentary shown on the History Channel (US)\, BBC One (UK)\,and various  stations in Germany and Norway.     U-M paleontologist Philip Gingerich and U-M anthropologist B. Holly Smith were two members of the \"dream  team\" invited to study Ida. The exhibit will be on display through May 2010.
UID:2124-918219@events.umich.edu
URL:https://events.umich.edu/event/2124
CLASS:PUBLIC
STATUS:CONFIRMED
CATEGORIES:welcome week,multicultural,visual arts
LOCATION:
CONTACT:
END:VEVENT
BEGIN:VEVENT
DTSTAMP:20100207T030003
DTSTART;TZID=America/Detroit:20100207T140000
SUMMARY:Other:(Re)Visionary Dances
DESCRIPTION:University Dance Company  Paul Taylor’s Le Sacre du Printemps (The Rehearsal) with premieres by Amy Chavasse\, Jessica Fogel\, and Sandra Torijano.  Tickets available at the League Ticket Office 734-764-2538.
UID:71-909902@events.umich.edu
URL:https://events.umich.edu/event/71
CLASS:PUBLIC
STATUS:CONFIRMED
CATEGORIES:dance,music
LOCATION:Power Center for the Performing Arts -  
CONTACT:
END:VEVENT
BEGIN:VEVENT
DTSTAMP:20100127T030005
DTSTART;TZID=America/Detroit:20100207T140000
SUMMARY:Other:Masterclass:  Nicole Esposito\, flute
DESCRIPTION:A charismatic and versatile flutist\, Nicole Esposito is Assistant Professor of Flute at the University of Iowa\, and earned her masters at the University of Michigan. She has achieved a career as a soloist\, teacher\, chamber and orchestral musician on an international level and has been a featured soloist and recitalist at the Piccolo Spoleto Festival\, the Interlochen Arts Academy\, the Detroit Institute for the Arts\, the Musikhochschule- Wuppertal\, Germany\, and the North American Cultural Center of Costa Rica. Esposito has also performed at numerous National Flute Association Conventions\, including those in Orlando\, Washington DC\, Nashville\, San Diego\, and Pittsburgh as well as many regional conferences including the Florida Flute Fair\, Madison Flute Festival and the Iowa Flute Festival.
UID:920-913482@events.umich.edu
URL:https://events.umich.edu/event/920
CLASS:PUBLIC
STATUS:CONFIRMED
CATEGORIES:music
LOCATION:Stearns Building - Cady Room
CONTACT:
END:VEVENT
BEGIN:VEVENT
DTSTAMP:20100207T030003
DTSTART;TZID=America/Detroit:20100207T160000
SUMMARY:Other:Faculty Recital: Yizhak Schotten\, viola and Katherine Collier\, piano
DESCRIPTION:with Andrew Jennings (violin) and Paul Dwyer (cello).  Program will include the Bloch Suite 1919 for viola and piano and the Brahms’ Piano Quintet in A\, Op. 26.
UID:708-912387@events.umich.edu
URL:https://events.umich.edu/event/708
CLASS:PUBLIC
STATUS:CONFIRMED
CATEGORIES:music
LOCATION:Earl V. Moore Building - Britton Recital Hall
CONTACT:
END:VEVENT
BEGIN:VEVENT
DTSTAMP:20101111T175838
DTSTART;TZID=America/Detroit:20100207T170000
SUMMARY:Film Screening:National Theatre Live
DESCRIPTION:Discover a breathtaking new adventure of a boy whose journey to manhood requires the strength to defy expectations and the courage to forge new beliefs.\n\nFollowing His Dark Materials\, Coram Boy\, and War Horse\, the National stages Mark Ravenhill's exhilarating adaptation of Terry Pratchett's latest witty and challenging adventure story\, suitable for ages 10 and up.\n\nSet in a parallel world\, not dissimilar to our own\, in 1860\, Nation tells the story of two teenagers from different sides of the globe who are thrown together by a tsunami: Mau\, returning to his South Pacific Island tribe after a rites of passage ritual\, and Daphne\, traveling from her aristocratic life in Victorian England to meet her father\, governor of south seas. Despite not speaking the same language and now totally alone in the world\, they have to learn to survive and face the challenges of rebuilding Mau's nation. However\, as more survivors gather\, their world is threatened by invading Raiders.\n\nUMS and the Michigan Theater have joined forces to bring high definition screenings of live theater broadcasts by London's National Theatre to Ann Arbor. NT Live broadcasts performances of plays produced by London's National Theatre onto cinema screens worldwide. In the US\, these screenings are delayed broadcasts to accommodate the time difference. Broadcasts will also feature behind-the-scenes footage and interviews with actors.\n\nThe pre-show begins at 4:45. Performance lasts 2 hours\, 25 minutes with one 20-minute intermission.
UID:2613-920251@events.umich.edu
URL:https://events.umich.edu/event/2613
CLASS:PUBLIC
STATUS:CONFIRMED
CATEGORIES:
LOCATION:
CONTACT:
END:VEVENT
BEGIN:VEVENT
DTSTAMP:20101111T175838
DTSTART;TZID=America/Detroit:20100207T193000
SUMMARY:Performance:Back Forty
DESCRIPTION:The \"down-home funkgrass\" of southeastern Michigan's own Back Forty has been a  fixture of the Michigan festival scene\, and the rest of the Midwest is rapidly catching  on. With their unique blend of traditional instrumentation combined with wild  improvisation\, this eclectic jam band can go from bluegrass to psychedelic rock to  deep funk in zero seconds flat. The members of Back Forty pride themselves on  strong original material\; the band has five songwriters\, each with distinctive vocals  that combine for some terrific harmonies. Says Robert Costa of On the Town (Grand  Rapids): \"It is hard to pigeonhole the sound of Back Forty because it uses the  elements of traditional bluegrass or soul or Irish folk or rock or whatever you  thought you knew about a genre\, and it blows it up\, redefines it\, and puts it back  together in a way you have never heard.\"
UID:2605-920238@events.umich.edu
URL:https://events.umich.edu/event/2605
CLASS:PUBLIC
STATUS:CONFIRMED
CATEGORIES:music
LOCATION:
CONTACT:
END:VEVENT
BEGIN:VEVENT
DTSTAMP:20100207T030003
DTSTART;TZID=America/Detroit:20100207T200000
SUMMARY:Other:Faculty Recital:  Martin Katz\, piano and Stephen Lancaster\, baritone
DESCRIPTION:American and French program including Ives\, Barber\, Cipullo\, Fauré\, and Canteloube.
UID:321-909714@events.umich.edu
URL:https://events.umich.edu/event/321
CLASS:PUBLIC
STATUS:CONFIRMED
CATEGORIES:music
LOCATION:Earl V. Moore Building - Britton Recital Hall
CONTACT:
END:VEVENT
BEGIN:VEVENT
DTSTAMP:20100207T030003
DTSTART;TZID=America/Detroit:20100207T200000
SUMMARY:Other:Faculty/Guest Recital:  Aaron Berofsky\, violin and Phillip Bush\, piano - CANCELLED
DESCRIPTION:All Beethoven program.
UID:712-911365@events.umich.edu
URL:https://events.umich.edu/event/712
CLASS:PUBLIC
STATUS:CONFIRMED
CATEGORIES:music
LOCATION:Walgreen Drama Center - Stamps Auditorium
CONTACT:
END:VEVENT
END:VCALENDAR