BEGIN:VCALENDAR
VERSION:2.0
PRODID:-//UM//UM*Events//EN
CALSCALE:GREGORIAN
BEGIN:VTIMEZONE
TZID:America/Detroit
TZURL:http://tzurl.org/zoneinfo/America/Detroit
X-LIC-LOCATION:America/Detroit
BEGIN:DAYLIGHT
TZOFFSETFROM:-0500
TZOFFSETTO:-0400
TZNAME:EDT
DTSTART:20070311T020000
RRULE:FREQ=YEARLY;BYMONTH=3;BYDAY=2SU
END:DAYLIGHT
BEGIN:STANDARD
TZOFFSETFROM:-0400
TZOFFSETTO:-0500
TZNAME:EST
DTSTART:20071104T020000
RRULE:FREQ=YEARLY;BYMONTH=11;BYDAY=1SU
END:STANDARD
END:VTIMEZONE
BEGIN:VEVENT
DTSTAMP:20101111T175629
DTSTART;TZID=America/Detroit:20100210T000000
SUMMARY:Exhibition:Exhibit of Recent Aquisitions
DESCRIPTION:This exhibit includes an extraordinarily wide variety of primary source material collected to support current and  future research.  Among the items on display are:  a watercolor “portrait” of a railroad bridge built in Prague in  1850\, original artwork by local artist Tom Pohrt for a children's book written by Justice Sandra Day O'Connor\, a  diary and photographs from a female UM student who hitchhiked from Ann Arbor to San Francisco in 1923\, a  Spanish text from 1693 for those studying to be soldiers\, and Dante's Divine Comedy with illustrations by  Salvador Dali.  \n\nNew archival collections with samples on display include the papers of film director Robert Altman and writers  Nicholas Delbanco and Richard Tillinghast\, as well as four separate women involved in radical causes such as  Clarence Darrow's 1907 defense of union leaders accused of murder and the ecological costs of technology.   This is the first opportunity for the public to see materials from the Altman Collection\, which is estimated to be  1\,000 linear feet in size and is now being sorted and processed for use.
UID:748-911426@events.umich.edu
URL:https://events.umich.edu/event/748
CLASS:PUBLIC
STATUS:CONFIRMED
CATEGORIES:visual arts
LOCATION:Hatcher Graduate Library - 7th Floor Special Collections Library
CONTACT:
END:VEVENT
BEGIN:VEVENT
DTSTAMP:20101111T175620
DTSTART;TZID=America/Detroit:20100210T000000
SUMMARY:Exhibition:Permanent Exhibits at the Exhibit Museum of Natural History
DESCRIPTION:The Hall of Evolution houses Michigan's largest display of prehistoric life. More than 600 million years of life on Earth are traced through fossils\, models and dioramas. The Michigan Wildlife Gallery has a large collection of native Great Lakes birds\, mammals\, reptiles\, and amphibians\, with taxidermy mounts\, habitat scenes\, and the largest mastodon trackway on display in the world. There are also displays about some of the environmental problems faced in this region today. The Anthropology Displays feature artifacts from human cultures around the world. The Geology Displays on the fourth floor offer a large selection of rocks\, minerals and gems. These displays are updated periodically. For more information go to www.lsa.umich.edu/exhibitmuseum/exhibits/permexhibits or call 734-764-0480.
UID:452-910587@events.umich.edu
URL:https://events.umich.edu/event/452
CLASS:PUBLIC
STATUS:CONFIRMED
CATEGORIES:
LOCATION:Ruthven Museums Building
CONTACT:
END:VEVENT
BEGIN:VEVENT
DTSTAMP:20101111T175759
DTSTART;TZID=America/Detroit:20100210T080000
DTEND;TZID=America/Detroit:20100210T170000
SUMMARY:Exhibition:History of Dentistry exhibits at the Sindecuse Museum of Dentistry
DESCRIPTION:Exhibits at the Sindecuse Museum of Dentistry include Dental Operatories of the 1860s to 1930s\, St. Apollonia-Patron Saint of Dentistry and more. Call 763-0767 or go to www.dent.umich.edu/museum for more information.
UID:3856-917698@events.umich.edu
URL:https://events.umich.edu/event/3856
CLASS:PUBLIC
STATUS:CONFIRMED
CATEGORIES:
LOCATION:Dental & W.K. Kellogg Institute
CONTACT:
END:VEVENT
BEGIN:VEVENT
DTSTAMP:20100111T160124
DTSTART;TZID=America/Detroit:20100210T080000
SUMMARY:Exhibition:Their Journey: Vietnamese in Michigan
DESCRIPTION:Imagine chaotically and permanently leaving your homeland for another country  and a completely different life! This exhibit includes photos from Vietnam and  Grand Rapids\, MI\, along with political\, cultural\, and personal perspectives of the  journey of Vietnamese immigrants to Michigan following the Vietnam War. It  augments the Great Michigan Read\, the Michigan Humanities Council's statewide  reading program\, and provides additional historical context to its book  selection\, \"Stealing Buddha's Dinner.\"\n\n\"Stealing Buddha's Dinner\" is a memoir chronicling author Bich Minh Nguyen's  migration from Vietnam in 1975 and her coming of age in Grand Rapids in the  1980s. Along the way\, she struggles to construct her own cultural identity from a  menagerie of uniquely American influences.\n\nThe University Library is one of only six sites chosen to host this exhibit.\n\nAccessible during library hours\; see http://www.lib.umich.edu/hatcher-graduate- library
UID:2556-920167@events.umich.edu
URL:https://events.umich.edu/event/2556
CLASS:PUBLIC
STATUS:CONFIRMED
CATEGORIES:multicultural
LOCATION:Hatcher Graduate Library - Room 100/Gallery
CONTACT:
END:VEVENT
BEGIN:VEVENT
DTSTAMP:20100329T161307
DTSTART;TZID=America/Detroit:20100210T083000
DTEND;TZID=America/Detroit:20100210T190000
SUMMARY:Exhibition:A History of the Bible from Ancient Papyri to King James
DESCRIPTION:This exhibit\, from the Special Collections Library\, shows a path of documents that  led to the creation of the 1611 King James Version of the Bible – from ancient  Egyptian manuscripts on papyrus to Medieval manuscripts to the printed book.\n\nThe earliest documents on display are Egyptian papyri\, including examples of a  census record from the year 119 and the oldest known copy of part of the New  Testament. Medieval manuscripts document the preservation of the text until the  invention of movable type printing by Gutenberg around 1450. The early printed  Bibles include versions in Latin and Greek\, and several that show the struggles  among various political factions and church reformers to control the translating of  the Scriptures into the language of the people. See the King James Bible of 1611  that became the accepted standard.\n\nFor Audubon Room hours\, see https://www.lib.umich.edu/audubon-room
UID:2220-918617@events.umich.edu
URL:https://events.umich.edu/event/2220
CLASS:PUBLIC
STATUS:CONFIRMED
CATEGORIES:visual arts
LOCATION:Hatcher Graduate Library - Audubon Room/First Floor
CONTACT:
END:VEVENT
BEGIN:VEVENT
DTSTAMP:20101111T175822
DTSTART;TZID=America/Detroit:20100210T090000
DTEND;TZID=America/Detroit:20100210T170000
SUMMARY:Exhibition:Exhibit: Santu Mofokeng's Chasing Shadows
DESCRIPTION:Santu Mofokeng\, one of South Africa's most prominent photographers\, began his  work as a documentarian of the anti-Apartheid struggle. Eventually deciding to  leave the field of straightforward photojournalism\, he focused instead on isolating  the simple gestures of everyday life in South African townships.  His work explores  landscape imbued with memory\, loss\, and spirituality\, and forces us to examine  any preconceived notion we have regarding exact locations of faith\, identity\, or  community. The photographs serve to “reclaim landscape\,” examining themes of  ownership\, and the relationship between the land\, power\, and money.  In his  extraordinary series Chasing Shadows\, displaced people reclaim their spirituality  and sustenance even in the midst of relentless transition.  His most recent urban  landscapes go beyond social and political commentary\, meditating on the profound  absurdity of living.  Billboards cruelly highlight the impoverishment of the citizenry  they importune.\n\nMofokeng has been the recipient of numerous awards.  In 1991\, he won the Ernest  Cole Scholarship to study at the International Center of Photography in New York.   He was also awarded the first Mother Jones Award for Africa in 1992\, and more  recently the Kunstlerhaus Worpswede Fellowship and DAAD Fellowship\, both in  Germany\, and was the Prince Claus Laureate for Visual Arts in 2009.
UID:2510-919202@events.umich.edu
URL:https://events.umich.edu/event/2510
CLASS:PUBLIC
STATUS:CONFIRMED
CATEGORIES:visual arts,multicultural
LOCATION:202 S. Thayer - #1010
CONTACT:
END:VEVENT
BEGIN:VEVENT
DTSTAMP:20090722T143534
DTSTART;TZID=America/Detroit:20100210T090000
DTEND;TZID=America/Detroit:20100210T170000
SUMMARY:Exhibition:Ida: Darwinius masillae
DESCRIPTION:\"Ida\,\" a new exhibit in the Exhibit Museum's Rotunda\, displays a high-resolution cast of an extremely rare  fossil discovered in 1983 near Messel\, Germany\, but only recently made available for study. The fossil has  proven to be a “link” between the prosimian and simian (\"anthropoid\") primate lineages. It has \"advanced\"  front teeth (incisors and canines) and second toes like those of monkeys\, and is broadly representative of what  human primate ancestors may have looked like during the Eocene epoch 47 million years ago.     Ida (prounded \"eeda\") is named after after the daughter of Dr JÃ¸rn Hurum\, the Norwegian vertebrate  paleontologist who secured one section of the fossil from an anonymous owner\, and led the research. Ida was  about eight months old\, or the equivalent of a six-year-old human.     Publication of a paper on the discovery was accompanied by a book\, The Link: Uncovering Our Earliest  Ancestors by Colin Tudge\, and a documentary shown on the History Channel (US)\, BBC One (UK)\,and various  stations in Germany and Norway.     U-M paleontologist Philip Gingerich and U-M anthropologist B. Holly Smith were two members of the \"dream  team\" invited to study Ida. The exhibit will be on display through May 2010.
UID:2124-918222@events.umich.edu
URL:https://events.umich.edu/event/2124
CLASS:PUBLIC
STATUS:CONFIRMED
CATEGORIES:welcome week,visual arts,multicultural
LOCATION:
CONTACT:
END:VEVENT
BEGIN:VEVENT
DTSTAMP:20101111T175600
DTSTART;TZID=America/Detroit:20100210T100000
DTEND;TZID=America/Detroit:20100210T170000
SUMMARY:Exhibition:Stearns Collection of Music
DESCRIPTION:The Stearns Collection at the School of Music\, Theatre & Dance is one of six major collections of musical instruments in North America. The 2\,500-piece collection is internationally known and is a resource for musical and cultural education.
UID:3790-909214@events.umich.edu
URL:https://events.umich.edu/event/3790
CLASS:PUBLIC
STATUS:CONFIRMED
CATEGORIES:
LOCATION:Earl V. Moore Building
CONTACT:
END:VEVENT
BEGIN:VEVENT
DTSTAMP:20101111T175838
DTSTART;TZID=America/Detroit:20100210T113000
DTEND;TZID=America/Detroit:20100210T133000
SUMMARY:Lecture / Discussion:TRANSlating Experience: A brownbag educational and discussion series
DESCRIPTION:TRANSlating Experience is not Transgender 101. This series is meant to critically  engage communities around issues of the transgender experience at the University  of Michigan. TRANSlating Experience is not just about being trans\, it's about living\,  learning\, working\, dating and celebrating being TRANS. A light lunch will be served.\n\nNote: the above uses “TRANS” to encapsulate identities inclusive of those who  identify and/or present as gender-queer\, gender non-normative\, gender variant\,  non-gendered or transgender. While all are welcome to this series\, please note that  some topics may require existing comfort\, knowledge and fellowship with and  around the trans-identified community. This series is not intended to be an  introduction to the trans-identified community. This series is not intended to serve  as counseling or other types of therapy.\n\n**Go to Spectrum Center's website for a full list of the topics to be presented by  date**
UID:2590-920224@events.umich.edu
URL:https://events.umich.edu/event/2590
CLASS:PUBLIC
STATUS:CONFIRMED
CATEGORIES:
LOCATION:Michigan Union - 3909 (MSA Chambers)
CONTACT:
END:VEVENT
BEGIN:VEVENT
DTSTAMP:20101111T175718
DTSTART;TZID=America/Detroit:20100210T150000
DTEND;TZID=America/Detroit:20100210T180000
SUMMARY:Fair / Festival:The Career Center's Government Career Expo
DESCRIPTION:Join us for our newest event. We expect 10-15 organizations to attend representing a range of government agencies/departments. For more information: http://www.careercenter.umich.edu/events/fairsevents/govtfair.html
UID:1235-914808@events.umich.edu
URL:https://events.umich.edu/event/1235
CLASS:PUBLIC
STATUS:CONFIRMED
CATEGORIES:
LOCATION:Michigan Union - Second Floor
CONTACT:
END:VEVENT
BEGIN:VEVENT
DTSTAMP:20091214T105222
DTSTART;TZID=America/Detroit:20100210T150000
DTEND;TZID=America/Detroit:20100210T180000
SUMMARY:Fair / Festival:The Career Center's Not-For-Profit Career Expo
DESCRIPTION:Connect with not-for-profit organizations right here on campus! Last year 30+ organizations attended representing a range of not-for-profit fields including social change\, advocacy and community service. \n\nUse the Expo to: * Explore career paths in not-for-profits * Meet with employers to discuss internships full-time positions * Learn about volunteer opportunities * Build networks to expand your job search efforts \n\nFor more information: http://www.careercenter.umich.edu/events/fairsevents/nfp.html
UID:66-909899@events.umich.edu
URL:https://events.umich.edu/event/66
CLASS:PUBLIC
STATUS:CONFIRMED
CATEGORIES:
LOCATION:Michigan Union - Second Floor
CONTACT:
END:VEVENT
BEGIN:VEVENT
DTSTAMP:20101111T175559
DTSTART;TZID=America/Detroit:20100210T170000
DTEND;TZID=America/Detroit:20100210T180000
SUMMARY:Lecture / Discussion:Health in Africa: Working in Critical Conditions with Dr. Rick Hodes
DESCRIPTION:Dr. Rick Hodes\, the legendary physician who has treated children in Ethiopia for almost 30 years\, will speak Wednesday\, February 10\, 2010 from 5:00pm - 6:00pm at the University of Michigan School of Public Health.\n\nDr. Hodes\, known by some as \"Father Theresa\,\" has been highlighted by CNN's \"Heroes\" program and will be featured in an HBO documentary to be released in April. The trailer for the film\, \"Making the Crooked Straight\,\" can be viewed on YouTube.\n\nDr. Hodes\, an active board member of \"Will Work for Food\,\" will speak about his experiences ranging from the 1984 Ethiopian Famine to his current work at Mother Teresa's mission in Addis Ababa treating cancer\, heart diseases and spinal conditions. \n\nSponsored by: Will Work For Food\, U-M Hillel\, University of Michigan School of Public Health\, the Center for Global Health\, Global REACH\, Ginsberg Center.\n\nLocation: School of Public Health\, 1415 Washington Heights\, SPH I Crossroads 1690
UID:17-909060@events.umich.edu
URL:https://events.umich.edu/event/17
CLASS:PUBLIC
STATUS:CONFIRMED
CATEGORIES:
LOCATION:School of Public Health Bldg I and Crossroads and Tower - SPH I Crossroads 1690
CONTACT:
END:VEVENT
BEGIN:VEVENT
DTSTAMP:20101111T175659
DTSTART;TZID=America/Detroit:20100210T180000
DTEND;TZID=America/Detroit:20100210T200000
SUMMARY:Workshop / Seminar:Deepening Meditation
DESCRIPTION:This 4-week series is for meditators who have finished the first training (Beginning  Meditation) or those who have had a personal meditation practice for at least  several months.  The sessions are designed to help those who are sincerely trying  to make meditation a part of their everyday lives.  It introduces new strategies and  provides participants with the support of a community of other practicing  meditators.  An opportunity for former students to renew their practice. Martha Kimball\, CSW\, ACSW\, BCD\n\nFeb 3-24\, 2010 Wednesdays\, 6:00 - 8:00 pm
UID:999-913645@events.umich.edu
URL:https://events.umich.edu/event/999
CLASS:PUBLIC
STATUS:CONFIRMED
CATEGORIES:
LOCATION:
CONTACT:
END:VEVENT
BEGIN:VEVENT
DTSTAMP:20100202T153319
DTSTART;TZID=America/Detroit:20100210T190000
DTEND;TZID=America/Detroit:20100210T213000
SUMMARY:Other:MI Favorite Comic: Auditions!!
DESCRIPTION:Come try out to be Michigan's Favorite Comic!! Contestants should come with a  standup routine no more than 5 minutes long to perform for 3 judges that will  determine who makes it to the finals. Finals will be Friday February 19th at Umix.  Winners of the final show will be determined by the audience- top three comedians  will earn a cash prize! Email mifavcomic@umich.edu for more information.
UID:1916-917862@events.umich.edu
URL:https://events.umich.edu/event/1916
CLASS:PUBLIC
STATUS:CONFIRMED
CATEGORIES:
LOCATION:Michigan Union - MUG
CONTACT:
END:VEVENT
BEGIN:VEVENT
DTSTAMP:20101111T175702
DTSTART;TZID=America/Detroit:20100210T190000
DTEND;TZID=America/Detroit:20100210T210000
SUMMARY:Lecture / Discussion:Neil Lazarus Israel Advocacy
DESCRIPTION:Come learn about Israel advocacy in a fun\, interactive seminar led by British legend\, Neil Lazarus. Wednesday\, February 10\, 7:00pm - 9:00pm at Hillel.
UID:1095-913772@events.umich.edu
URL:https://events.umich.edu/event/1095
CLASS:PUBLIC
STATUS:CONFIRMED
CATEGORIES:
LOCATION:Hillel (Mandell L Berman Center)
CONTACT:
END:VEVENT
BEGIN:VEVENT
DTSTAMP:20101111T175844
DTSTART;TZID=America/Detroit:20100210T190000
SUMMARY:Meeting:Taglit-Birthright: Israel U-M Hillel Trip Information Session
DESCRIPTION:Join your fellow Wolverines for a free 10-day trip to Israel. Registration for the summer trip opens February 16 for previous applicants and February 17\, 2010 for new applicants. An information session will be held on Wednesday\, February 10 at 7:00pm. For more information or questions\, contact Labe (leden@umich.edu).
UID:2803-920540@events.umich.edu
URL:https://events.umich.edu/event/2803
CLASS:PUBLIC
STATUS:CONFIRMED
CATEGORIES:
LOCATION:Hillel (Mandell L Berman Center)
CONTACT:
END:VEVENT
BEGIN:VEVENT
DTSTAMP:20100210T030003
DTSTART;TZID=America/Detroit:20100210T200000
SUMMARY:Other:Post Fulbright Recital:  Neeraj Mehta\, percussion
DESCRIPTION:PROGRAM:  AN EVENING OFDANISH PERCUSSION MUSIC\;  Ruders - Alarm\; Siegel - 42nd Street Rondo\; NÃ¸rgÃ¥rd - Nemo Dynamo\; Per NÃ¸rgÃ¥rd - Isternia\; Ole Buck - Rejang
UID:711-912390@events.umich.edu
URL:https://events.umich.edu/event/711
CLASS:PUBLIC
STATUS:CONFIRMED
CATEGORIES:music
LOCATION:Earl V. Moore Building - McIntosh Theatre
CONTACT:
END:VEVENT
END:VCALENDAR