BEGIN:VCALENDAR
VERSION:2.0
PRODID:-//UM//UM*Events//EN
CALSCALE:GREGORIAN
BEGIN:VTIMEZONE
TZID:America/Detroit
TZURL:http://tzurl.org/zoneinfo/America/Detroit
X-LIC-LOCATION:America/Detroit
BEGIN:DAYLIGHT
TZOFFSETFROM:-0500
TZOFFSETTO:-0400
TZNAME:EDT
DTSTART:20070311T020000
RRULE:FREQ=YEARLY;BYMONTH=3;BYDAY=2SU
END:DAYLIGHT
BEGIN:STANDARD
TZOFFSETFROM:-0400
TZOFFSETTO:-0500
TZNAME:EST
DTSTART:20071104T020000
RRULE:FREQ=YEARLY;BYMONTH=11;BYDAY=1SU
END:STANDARD
END:VTIMEZONE
BEGIN:VEVENT
DTSTAMP:20101111T175629
DTSTART;TZID=America/Detroit:20100211T000000
SUMMARY:Exhibition:Exhibit of Recent Aquisitions
DESCRIPTION:This exhibit includes an extraordinarily wide variety of primary source material collected to support current and  future research.  Among the items on display are:  a watercolor “portrait” of a railroad bridge built in Prague in  1850\, original artwork by local artist Tom Pohrt for a children's book written by Justice Sandra Day O'Connor\, a  diary and photographs from a female UM student who hitchhiked from Ann Arbor to San Francisco in 1923\, a  Spanish text from 1693 for those studying to be soldiers\, and Dante's Divine Comedy with illustrations by  Salvador Dali.  \n\nNew archival collections with samples on display include the papers of film director Robert Altman and writers  Nicholas Delbanco and Richard Tillinghast\, as well as four separate women involved in radical causes such as  Clarence Darrow's 1907 defense of union leaders accused of murder and the ecological costs of technology.   This is the first opportunity for the public to see materials from the Altman Collection\, which is estimated to be  1\,000 linear feet in size and is now being sorted and processed for use.
UID:748-911427@events.umich.edu
URL:https://events.umich.edu/event/748
CLASS:PUBLIC
STATUS:CONFIRMED
CATEGORIES:visual arts
LOCATION:Hatcher Graduate Library - 7th Floor Special Collections Library
CONTACT:
END:VEVENT
BEGIN:VEVENT
DTSTAMP:20101111T175620
DTSTART;TZID=America/Detroit:20100211T000000
SUMMARY:Exhibition:Permanent Exhibits at the Exhibit Museum of Natural History
DESCRIPTION:The Hall of Evolution houses Michigan's largest display of prehistoric life. More than 600 million years of life on Earth are traced through fossils\, models and dioramas. The Michigan Wildlife Gallery has a large collection of native Great Lakes birds\, mammals\, reptiles\, and amphibians\, with taxidermy mounts\, habitat scenes\, and the largest mastodon trackway on display in the world. There are also displays about some of the environmental problems faced in this region today. The Anthropology Displays feature artifacts from human cultures around the world. The Geology Displays on the fourth floor offer a large selection of rocks\, minerals and gems. These displays are updated periodically. For more information go to www.lsa.umich.edu/exhibitmuseum/exhibits/permexhibits or call 734-764-0480.
UID:452-910588@events.umich.edu
URL:https://events.umich.edu/event/452
CLASS:PUBLIC
STATUS:CONFIRMED
CATEGORIES:
LOCATION:Ruthven Museums Building
CONTACT:
END:VEVENT
BEGIN:VEVENT
DTSTAMP:20101111T175759
DTSTART;TZID=America/Detroit:20100211T080000
DTEND;TZID=America/Detroit:20100211T170000
SUMMARY:Exhibition:History of Dentistry exhibits at the Sindecuse Museum of Dentistry
DESCRIPTION:Exhibits at the Sindecuse Museum of Dentistry include Dental Operatories of the 1860s to 1930s\, St. Apollonia-Patron Saint of Dentistry and more. Call 763-0767 or go to www.dent.umich.edu/museum for more information.
UID:3856-917699@events.umich.edu
URL:https://events.umich.edu/event/3856
CLASS:PUBLIC
STATUS:CONFIRMED
CATEGORIES:
LOCATION:Dental & W.K. Kellogg Institute
CONTACT:
END:VEVENT
BEGIN:VEVENT
DTSTAMP:20100111T160124
DTSTART;TZID=America/Detroit:20100211T080000
SUMMARY:Exhibition:Their Journey: Vietnamese in Michigan
DESCRIPTION:Imagine chaotically and permanently leaving your homeland for another country  and a completely different life! This exhibit includes photos from Vietnam and  Grand Rapids\, MI\, along with political\, cultural\, and personal perspectives of the  journey of Vietnamese immigrants to Michigan following the Vietnam War. It  augments the Great Michigan Read\, the Michigan Humanities Council's statewide  reading program\, and provides additional historical context to its book  selection\, \"Stealing Buddha's Dinner.\"\n\n\"Stealing Buddha's Dinner\" is a memoir chronicling author Bich Minh Nguyen's  migration from Vietnam in 1975 and her coming of age in Grand Rapids in the  1980s. Along the way\, she struggles to construct her own cultural identity from a  menagerie of uniquely American influences.\n\nThe University Library is one of only six sites chosen to host this exhibit.\n\nAccessible during library hours\; see http://www.lib.umich.edu/hatcher-graduate- library
UID:2556-920168@events.umich.edu
URL:https://events.umich.edu/event/2556
CLASS:PUBLIC
STATUS:CONFIRMED
CATEGORIES:multicultural
LOCATION:Hatcher Graduate Library - Room 100/Gallery
CONTACT:
END:VEVENT
BEGIN:VEVENT
DTSTAMP:20100329T161307
DTSTART;TZID=America/Detroit:20100211T083000
DTEND;TZID=America/Detroit:20100211T190000
SUMMARY:Exhibition:A History of the Bible from Ancient Papyri to King James
DESCRIPTION:This exhibit\, from the Special Collections Library\, shows a path of documents that  led to the creation of the 1611 King James Version of the Bible – from ancient  Egyptian manuscripts on papyrus to Medieval manuscripts to the printed book.\n\nThe earliest documents on display are Egyptian papyri\, including examples of a  census record from the year 119 and the oldest known copy of part of the New  Testament. Medieval manuscripts document the preservation of the text until the  invention of movable type printing by Gutenberg around 1450. The early printed  Bibles include versions in Latin and Greek\, and several that show the struggles  among various political factions and church reformers to control the translating of  the Scriptures into the language of the people. See the King James Bible of 1611  that became the accepted standard.\n\nFor Audubon Room hours\, see https://www.lib.umich.edu/audubon-room
UID:2220-918618@events.umich.edu
URL:https://events.umich.edu/event/2220
CLASS:PUBLIC
STATUS:CONFIRMED
CATEGORIES:visual arts
LOCATION:Hatcher Graduate Library - Audubon Room/First Floor
CONTACT:
END:VEVENT
BEGIN:VEVENT
DTSTAMP:20101111T175822
DTSTART;TZID=America/Detroit:20100211T090000
DTEND;TZID=America/Detroit:20100211T170000
SUMMARY:Exhibition:Exhibit: Santu Mofokeng's Chasing Shadows
DESCRIPTION:Santu Mofokeng\, one of South Africa's most prominent photographers\, began his  work as a documentarian of the anti-Apartheid struggle. Eventually deciding to  leave the field of straightforward photojournalism\, he focused instead on isolating  the simple gestures of everyday life in South African townships.  His work explores  landscape imbued with memory\, loss\, and spirituality\, and forces us to examine  any preconceived notion we have regarding exact locations of faith\, identity\, or  community. The photographs serve to “reclaim landscape\,” examining themes of  ownership\, and the relationship between the land\, power\, and money.  In his  extraordinary series Chasing Shadows\, displaced people reclaim their spirituality  and sustenance even in the midst of relentless transition.  His most recent urban  landscapes go beyond social and political commentary\, meditating on the profound  absurdity of living.  Billboards cruelly highlight the impoverishment of the citizenry  they importune.\n\nMofokeng has been the recipient of numerous awards.  In 1991\, he won the Ernest  Cole Scholarship to study at the International Center of Photography in New York.   He was also awarded the first Mother Jones Award for Africa in 1992\, and more  recently the Kunstlerhaus Worpswede Fellowship and DAAD Fellowship\, both in  Germany\, and was the Prince Claus Laureate for Visual Arts in 2009.
UID:2510-919203@events.umich.edu
URL:https://events.umich.edu/event/2510
CLASS:PUBLIC
STATUS:CONFIRMED
CATEGORIES:visual arts,multicultural
LOCATION:202 S. Thayer - #1010
CONTACT:
END:VEVENT
BEGIN:VEVENT
DTSTAMP:20090722T143534
DTSTART;TZID=America/Detroit:20100211T090000
DTEND;TZID=America/Detroit:20100211T170000
SUMMARY:Exhibition:Ida: Darwinius masillae
DESCRIPTION:\"Ida\,\" a new exhibit in the Exhibit Museum's Rotunda\, displays a high-resolution cast of an extremely rare  fossil discovered in 1983 near Messel\, Germany\, but only recently made available for study. The fossil has  proven to be a “link” between the prosimian and simian (\"anthropoid\") primate lineages. It has \"advanced\"  front teeth (incisors and canines) and second toes like those of monkeys\, and is broadly representative of what  human primate ancestors may have looked like during the Eocene epoch 47 million years ago.     Ida (prounded \"eeda\") is named after after the daughter of Dr JÃ¸rn Hurum\, the Norwegian vertebrate  paleontologist who secured one section of the fossil from an anonymous owner\, and led the research. Ida was  about eight months old\, or the equivalent of a six-year-old human.     Publication of a paper on the discovery was accompanied by a book\, The Link: Uncovering Our Earliest  Ancestors by Colin Tudge\, and a documentary shown on the History Channel (US)\, BBC One (UK)\,and various  stations in Germany and Norway.     U-M paleontologist Philip Gingerich and U-M anthropologist B. Holly Smith were two members of the \"dream  team\" invited to study Ida. The exhibit will be on display through May 2010.
UID:2124-918223@events.umich.edu
URL:https://events.umich.edu/event/2124
CLASS:PUBLIC
STATUS:CONFIRMED
CATEGORIES:welcome week,visual arts,multicultural
LOCATION:
CONTACT:
END:VEVENT
BEGIN:VEVENT
DTSTAMP:20101111T175600
DTSTART;TZID=America/Detroit:20100211T100000
DTEND;TZID=America/Detroit:20100211T170000
SUMMARY:Exhibition:Stearns Collection of Music
DESCRIPTION:The Stearns Collection at the School of Music\, Theatre & Dance is one of six major collections of musical instruments in North America. The 2\,500-piece collection is internationally known and is a resource for musical and cultural education.
UID:3790-909215@events.umich.edu
URL:https://events.umich.edu/event/3790
CLASS:PUBLIC
STATUS:CONFIRMED
CATEGORIES:
LOCATION:Earl V. Moore Building
CONTACT:
END:VEVENT
BEGIN:VEVENT
DTSTAMP:20101111T175820
DTSTART;TZID=America/Detroit:20100211T110000
DTEND;TZID=America/Detroit:20100211T130000
SUMMARY:Performance:Beats N' Eats
DESCRIPTION:Enjoy the relaxing sounds of talented U-M student performers over lunch! Beats N' Eats takes place every Thursday from 11a-1p in either the Union MUG or League Underground. Interested in performance opportunities? Contact University Unions Arts & Programs at uuap@umich.edu or 734-763-3202.
UID:2470-919143@events.umich.edu
URL:https://events.umich.edu/event/2470
CLASS:PUBLIC
STATUS:CONFIRMED
CATEGORIES:music
LOCATION:Michigan Union - MUG
CONTACT:
END:VEVENT
BEGIN:VEVENT
DTSTAMP:20091209T115516
DTSTART;TZID=America/Detroit:20100211T120000
DTEND;TZID=America/Detroit:20100211T130000
SUMMARY:Lecture / Discussion:Children's Ibasho and Adults' Mimamori:
DESCRIPTION:Sachiko Bamba\, Post Doctoral Research Associate\, Social Work\, University of Illinois  at Urbana-Champaign
UID:698-912377@events.umich.edu
URL:https://events.umich.edu/event/698
CLASS:PUBLIC
STATUS:CONFIRMED
CATEGORIES:multicultural
LOCATION:School of Social Work Building - 1636
CONTACT:
END:VEVENT
BEGIN:VEVENT
DTSTAMP:20091102T150050
DTSTART;TZID=America/Detroit:20100211T153000
DTEND;TZID=America/Detroit:20100211T173000
SUMMARY:Lecture / Discussion:Department of Astronomy Colloquia Series
DESCRIPTION:A weekly lecture series with Astronomy or Astrophysics related topics. Please see  department website for featured speaker and lecture topic. There will be a brief  reception with light refreshments preceding the lecture in room 845 Dennison from  3:30-4:00 pm.
UID:1689-915671@events.umich.edu
URL:https://events.umich.edu/event/1689
CLASS:PUBLIC
STATUS:CONFIRMED
CATEGORIES:
LOCATION:Weiser Hall - 807
CONTACT:
END:VEVENT
BEGIN:VEVENT
DTSTAMP:20101111T175708
DTSTART;TZID=America/Detroit:20100211T163000
DTEND;TZID=America/Detroit:20100211T180000
SUMMARY:Other:Opening Reception: Santu Mofokeng's Chasing Shadows
DESCRIPTION:Santu Mofokeng\, one of South Africa's most prominent photographers\, began his  work as a documentarian of the anti-Apartheid struggle. Eventually deciding to  leave the field of straightforward photojournalism\, he focused instead on isolating  the simple gestures of everyday life in South African townships.  His work explores  landscape imbued with memory\, loss\, and spirituality\, and forces us to examine  any preconceived notion we have regarding exact locations of faith\, identity\, or  community. The photographs serve to “reclaim landscape\,” examining themes of  ownership\, and the relationship between the land\, power\, and money.  In his  extraordinary series Chasing Shadows\, displaced people reclaim their spirituality  and sustenance even in the midst of relentless transition.  His most recent urban  landscapes go beyond social and political commentary\, meditating on the profound  absurdity of living.  Billboards cruelly highlight the impoverishment of the citizenry  they importune.\n\nMofokeng has been the recipient of numerous awards.  In 1991\, he won the Ernest  Cole Scholarship to study at the International Center of Photography in New York.   He was also awarded the first Mother Jones Award for Africa in 1992\, and more  recently the Kunstlerhaus Worpswede Fellowship and DAAD Fellowship\, both in  Germany\, and was the Prince Claus Laureate for Visual Arts in 2009.
UID:1338-914207@events.umich.edu
URL:https://events.umich.edu/event/1338
CLASS:PUBLIC
STATUS:CONFIRMED
CATEGORIES:visual arts,multicultural
LOCATION:202 S. Thayer - #1010
CONTACT:
END:VEVENT
BEGIN:VEVENT
DTSTAMP:20101111T175700
DTSTART;TZID=America/Detroit:20100211T170000
DTEND;TZID=America/Detroit:20100211T180000
SUMMARY:Presentation:John Burnside
DESCRIPTION:John Burnside has published eleven collections of poetry\, including Feast Days\,  winner of the Geoffrey Faber Memorial Prize\, The Asylum Dance\, winner of the  Whitbread Poetry Award and The Good Neighbour. His most recent collections are  Gift Songs and The Hunt in the Forest. He is also the author of a collection of short  stories\, Burning Elvis\, and seven novels\, including The Dumb House\, Living  Nowhere\, The Devil's Footprints and Glister. His memoir\, A Lie About My Father\, was  published in 2006 and was awarded the Saltire Book of the Year and the Scottish  Arts Council Non-Fiction Book of the Year awards. He is a Professor of English at the  University of St Andrews\, where he teaches American poetry\, literature and ecology\,  and creative writing.
UID:1034-913676@events.umich.edu
URL:https://events.umich.edu/event/1034
CLASS:PUBLIC
STATUS:CONFIRMED
CATEGORIES:literary arts
LOCATION:Museum of Art - Helmut Stern Auditorium
CONTACT:
END:VEVENT
BEGIN:VEVENT
DTSTAMP:20101111T175648
DTSTART;TZID=America/Detroit:20100211T180000
SUMMARY:Other:Studying in Israel and Models of Jewish Leadership
DESCRIPTION:Interested in studying in Israel after Michigan? Or\, want to do some Jewish learning with a Rabbi from Israel? Rabbi Karlinsky\, the dean of Darche Noam Institutions\, which runs learning programs for men and women in Jerusalem is coming to Hillel on Thursday February 11th. He will be eating dinner at Hillel at 6:00 for any students interested in chatting with him\, and will be giving a short shiur at 7:00 on the topic of \"Models of Jewish Leadership.\" Questions? Email yaeltm@umich.edu.
UID:977-912783@events.umich.edu
URL:https://events.umich.edu/event/977
CLASS:PUBLIC
STATUS:CONFIRMED
CATEGORIES:
LOCATION:Hillel (Mandell L Berman Center)
CONTACT:
END:VEVENT
BEGIN:VEVENT
DTSTAMP:20101111T175632
DTSTART;TZID=America/Detroit:20100211T183000
DTEND;TZID=America/Detroit:20100211T203000
SUMMARY:Workshop / Seminar:MOLS Backcountry Baking
DESCRIPTION:You never knew backcountry food could taste so good! Come prepared to whip up some  delicious treats with the help of yeast and some proven wilderness baking secrets. This clinic  seeks to demonstrate that you can in fact eat well in the backcountry\, and will help expand  your backcountry menu options through satisfying hands–on experience.
UID:422-911581@events.umich.edu
URL:https://events.umich.edu/event/422
CLASS:PUBLIC
STATUS:CONFIRMED
CATEGORIES:
LOCATION:
CONTACT:
END:VEVENT
BEGIN:VEVENT
DTSTAMP:20101111T175643
DTSTART;TZID=America/Detroit:20100211T190000
DTEND;TZID=America/Detroit:20100211T210000
SUMMARY:Meeting:MGender Discussion Group
DESCRIPTION:MGender is a six-week dialogue/discussion group offered during the fall and winter  terms about the multiple realities and possibilities surrounding gender identity and  gender expression. Through the use of conversation\, experiential learning\, and  other forms of expression\, we will share\, explore and challenge notions of gender.  It is our goal to create a climate of support and understanding for all participants in  order to engage in a deeper exploration and understanding of gender identity and  gender expression. This dialogue intends to provide a space for the celebration and  recognition of various forms of gender identity and gender expression. The  dialogues will include exercises\, various opportunities for personal expression\, and  interactive discussions in order to explore the construct of gender. The maximum  number of participants is limited to twelve. Participants must pre-register for the  dialogues and are expected to attend all sessions. The dialogues will be closed to  only the participants who attend the first dialogue. Participation is open to students\,  staff\, faculty\, and community members. Participation will be free of cost and  voluntary. Ground rules and expectations to guide our interactions will be created at  the beginning of the first session.\n\nIf you are interested in participating in this program please contact Timothy  Corvidae at corvidae@umich.edu.
UID:820-912574@events.umich.edu
URL:https://events.umich.edu/event/820
CLASS:PUBLIC
STATUS:CONFIRMED
CATEGORIES:
LOCATION:Michigan Union - 3200
CONTACT:
END:VEVENT
BEGIN:VEVENT
DTSTAMP:20101111T175611
DTSTART;TZID=America/Detroit:20100211T200000
SUMMARY:Performance:Kitty Donohoe
DESCRIPTION:The Michigan roots music of Detroit native Kitty Donohoe\, it's been said\, has a  luminous yet earthy sound. Kitty has a three-octave range and a haunting stage  presence that have consistently been gaining her new fans since the late 1980s.  Her latest album\, \"Northern Border\,\" features Canadian sounds and has earned  raves: Sing Out! calls her \"one of the rare singer-songwriters to sensuously weave  words and melody into a strong and mezmerizing fabric. Her melodies\, redolent  with Celtic flavors\, wrap themselves around her flowers of words.\" Well known to  Michigan audiences\, Kitty recently appeared at the Kennedy Center for the  Performing Arts in Washington and opened for Don McLean at the legendary  Birchmere club in Alexandria. She performed\"There Are No Words\,\" written on the  afternoon of September 11\, 2001\, at the dedication of the Pentagon's 9/11  memorial.
UID:100-909983@events.umich.edu
URL:https://events.umich.edu/event/100
CLASS:PUBLIC
STATUS:CONFIRMED
CATEGORIES:music
LOCATION:
CONTACT:
END:VEVENT
BEGIN:VEVENT
DTSTAMP:20100211T030003
DTSTART;TZID=America/Detroit:20100211T200000
SUMMARY:Other:Masters Recital: Christopher Turbessi\, collaborative piano
DESCRIPTION:PROGRAM:  Ravel - Sonata for violin and piano in G Major\; Beethoven - Sonata for cello and piano No. 3 in A Major\, Op. 69\; Schumann - Piano Quintet in E-flat Major\, Op. 44
UID:2588-919287@events.umich.edu
URL:https://events.umich.edu/event/2588
CLASS:PUBLIC
STATUS:CONFIRMED
CATEGORIES:music
LOCATION:Earl V. Moore Building - Britton Recital Hall
CONTACT:
END:VEVENT
BEGIN:VEVENT
DTSTAMP:20101111T175754
DTSTART;TZID=America/Detroit:20100211T203000
DTEND;TZID=America/Detroit:20100211T223000
SUMMARY:Performance:Jazz Jam
DESCRIPTION:Ever wish you could study to the soothing sounds of a live jazz quartet? Now you can! Come grab a seat\, a FREE cup of coffee\, and enjoy the jammin' sounds of student musicians from the Department of Jazz and Contemporary Improvisation. Play an instrument or sing? This is also an open jam session! Bring your instrument(s) of choice and sign up to get your turn playing alongside the house band--you call the tunes!
UID:2128-917187@events.umich.edu
URL:https://events.umich.edu/event/2128
CLASS:PUBLIC
STATUS:CONFIRMED
CATEGORIES:music
LOCATION:Pierpont Commons - Leonardo&#039;s (across from Quizno&#039;s)
CONTACT:
END:VEVENT
BEGIN:VEVENT
DTSTAMP:20101111T175746
DTSTART;TZID=America/Detroit:20100211T210000
DTEND;TZID=America/Detroit:20100211T230000
SUMMARY:Performance:Michigan Idol
DESCRIPTION:Tonight\, YOU DECIDE who will become the NEXT Michigan Idol! 12 finalists take the stage to vie for the 1st place $500 cash prize--and title of 2010 Michigan Idol--in front of friends and family. Even the audience can win\, as door prizes will be raffled off throughout the night. Student dance groups will perform during the intermission as audience votes are counted to determine the 1st\, 2nd\, and 3rd place winners. The finale takes place on Thursday\, February 11\, 2010 at 9pm in the Michigan League Ballroom. Come be a part of discovering U-M's next Michigan Idol.
UID:1823-916660@events.umich.edu
URL:https://events.umich.edu/event/1823
CLASS:PUBLIC
STATUS:CONFIRMED
CATEGORIES:music
LOCATION:Michigan League - Ballroom
CONTACT:
END:VEVENT
BEGIN:VEVENT
DTSTAMP:20101111T175705
DTSTART;TZID=America/Detroit:20100211T210000
SUMMARY:Performance:Penis Monologues
DESCRIPTION:
UID:1187-914025@events.umich.edu
URL:https://events.umich.edu/event/1187
CLASS:PUBLIC
STATUS:CONFIRMED
CATEGORIES:literary arts
LOCATION:Michigan Union - Pendleton Room
CONTACT:
END:VEVENT
END:VCALENDAR