BEGIN:VCALENDAR
VERSION:2.0
PRODID:-//UM//UM*Events//EN
CALSCALE:GREGORIAN
BEGIN:VTIMEZONE
TZID:America/Detroit
TZURL:http://tzurl.org/zoneinfo/America/Detroit
X-LIC-LOCATION:America/Detroit
BEGIN:DAYLIGHT
TZOFFSETFROM:-0500
TZOFFSETTO:-0400
TZNAME:EDT
DTSTART:20070311T020000
RRULE:FREQ=YEARLY;BYMONTH=3;BYDAY=2SU
END:DAYLIGHT
BEGIN:STANDARD
TZOFFSETFROM:-0400
TZOFFSETTO:-0500
TZNAME:EST
DTSTART:20071104T020000
RRULE:FREQ=YEARLY;BYMONTH=11;BYDAY=1SU
END:STANDARD
END:VTIMEZONE
BEGIN:VEVENT
DTSTAMP:20101111T175629
DTSTART;TZID=America/Detroit:20100214T000000
SUMMARY:Exhibition:Exhibit of Recent Aquisitions
DESCRIPTION:This exhibit includes an extraordinarily wide variety of primary source material collected to support current and  future research.  Among the items on display are:  a watercolor “portrait” of a railroad bridge built in Prague in  1850\, original artwork by local artist Tom Pohrt for a children's book written by Justice Sandra Day O'Connor\, a  diary and photographs from a female UM student who hitchhiked from Ann Arbor to San Francisco in 1923\, a  Spanish text from 1693 for those studying to be soldiers\, and Dante's Divine Comedy with illustrations by  Salvador Dali.  \n\nNew archival collections with samples on display include the papers of film director Robert Altman and writers  Nicholas Delbanco and Richard Tillinghast\, as well as four separate women involved in radical causes such as  Clarence Darrow's 1907 defense of union leaders accused of murder and the ecological costs of technology.   This is the first opportunity for the public to see materials from the Altman Collection\, which is estimated to be  1\,000 linear feet in size and is now being sorted and processed for use.
UID:748-911430@events.umich.edu
URL:https://events.umich.edu/event/748
CLASS:PUBLIC
STATUS:CONFIRMED
CATEGORIES:visual arts
LOCATION:Hatcher Graduate Library - 7th Floor Special Collections Library
CONTACT:
END:VEVENT
BEGIN:VEVENT
DTSTAMP:20101111T175620
DTSTART;TZID=America/Detroit:20100214T000000
SUMMARY:Exhibition:Permanent Exhibits at the Exhibit Museum of Natural History
DESCRIPTION:The Hall of Evolution houses Michigan's largest display of prehistoric life. More than 600 million years of life on Earth are traced through fossils\, models and dioramas. The Michigan Wildlife Gallery has a large collection of native Great Lakes birds\, mammals\, reptiles\, and amphibians\, with taxidermy mounts\, habitat scenes\, and the largest mastodon trackway on display in the world. There are also displays about some of the environmental problems faced in this region today. The Anthropology Displays feature artifacts from human cultures around the world. The Geology Displays on the fourth floor offer a large selection of rocks\, minerals and gems. These displays are updated periodically. For more information go to www.lsa.umich.edu/exhibitmuseum/exhibits/permexhibits or call 734-764-0480.
UID:452-910591@events.umich.edu
URL:https://events.umich.edu/event/452
CLASS:PUBLIC
STATUS:CONFIRMED
CATEGORIES:
LOCATION:Ruthven Museums Building
CONTACT:
END:VEVENT
BEGIN:VEVENT
DTSTAMP:20100111T160124
DTSTART;TZID=America/Detroit:20100214T080000
SUMMARY:Exhibition:Their Journey: Vietnamese in Michigan
DESCRIPTION:Imagine chaotically and permanently leaving your homeland for another country  and a completely different life! This exhibit includes photos from Vietnam and  Grand Rapids\, MI\, along with political\, cultural\, and personal perspectives of the  journey of Vietnamese immigrants to Michigan following the Vietnam War. It  augments the Great Michigan Read\, the Michigan Humanities Council's statewide  reading program\, and provides additional historical context to its book  selection\, \"Stealing Buddha's Dinner.\"\n\n\"Stealing Buddha's Dinner\" is a memoir chronicling author Bich Minh Nguyen's  migration from Vietnam in 1975 and her coming of age in Grand Rapids in the  1980s. Along the way\, she struggles to construct her own cultural identity from a  menagerie of uniquely American influences.\n\nThe University Library is one of only six sites chosen to host this exhibit.\n\nAccessible during library hours\; see http://www.lib.umich.edu/hatcher-graduate- library
UID:2556-920171@events.umich.edu
URL:https://events.umich.edu/event/2556
CLASS:PUBLIC
STATUS:CONFIRMED
CATEGORIES:multicultural
LOCATION:Hatcher Graduate Library - Room 100/Gallery
CONTACT:
END:VEVENT
BEGIN:VEVENT
DTSTAMP:20100329T161307
DTSTART;TZID=America/Detroit:20100214T083000
DTEND;TZID=America/Detroit:20100214T190000
SUMMARY:Exhibition:A History of the Bible from Ancient Papyri to King James
DESCRIPTION:This exhibit\, from the Special Collections Library\, shows a path of documents that  led to the creation of the 1611 King James Version of the Bible – from ancient  Egyptian manuscripts on papyrus to Medieval manuscripts to the printed book.\n\nThe earliest documents on display are Egyptian papyri\, including examples of a  census record from the year 119 and the oldest known copy of part of the New  Testament. Medieval manuscripts document the preservation of the text until the  invention of movable type printing by Gutenberg around 1450. The early printed  Bibles include versions in Latin and Greek\, and several that show the struggles  among various political factions and church reformers to control the translating of  the Scriptures into the language of the people. See the King James Bible of 1611  that became the accepted standard.\n\nFor Audubon Room hours\, see https://www.lib.umich.edu/audubon-room
UID:2220-918621@events.umich.edu
URL:https://events.umich.edu/event/2220
CLASS:PUBLIC
STATUS:CONFIRMED
CATEGORIES:visual arts
LOCATION:Hatcher Graduate Library - Audubon Room/First Floor
CONTACT:
END:VEVENT
BEGIN:VEVENT
DTSTAMP:20101111T175822
DTSTART;TZID=America/Detroit:20100214T090000
DTEND;TZID=America/Detroit:20100214T170000
SUMMARY:Exhibition:Exhibit: Santu Mofokeng's Chasing Shadows
DESCRIPTION:Santu Mofokeng\, one of South Africa's most prominent photographers\, began his  work as a documentarian of the anti-Apartheid struggle. Eventually deciding to  leave the field of straightforward photojournalism\, he focused instead on isolating  the simple gestures of everyday life in South African townships.  His work explores  landscape imbued with memory\, loss\, and spirituality\, and forces us to examine  any preconceived notion we have regarding exact locations of faith\, identity\, or  community. The photographs serve to “reclaim landscape\,” examining themes of  ownership\, and the relationship between the land\, power\, and money.  In his  extraordinary series Chasing Shadows\, displaced people reclaim their spirituality  and sustenance even in the midst of relentless transition.  His most recent urban  landscapes go beyond social and political commentary\, meditating on the profound  absurdity of living.  Billboards cruelly highlight the impoverishment of the citizenry  they importune.\n\nMofokeng has been the recipient of numerous awards.  In 1991\, he won the Ernest  Cole Scholarship to study at the International Center of Photography in New York.   He was also awarded the first Mother Jones Award for Africa in 1992\, and more  recently the Kunstlerhaus Worpswede Fellowship and DAAD Fellowship\, both in  Germany\, and was the Prince Claus Laureate for Visual Arts in 2009.
UID:2510-919206@events.umich.edu
URL:https://events.umich.edu/event/2510
CLASS:PUBLIC
STATUS:CONFIRMED
CATEGORIES:visual arts,multicultural
LOCATION:202 S. Thayer - #1010
CONTACT:
END:VEVENT
BEGIN:VEVENT
DTSTAMP:20090722T143534
DTSTART;TZID=America/Detroit:20100214T090000
DTEND;TZID=America/Detroit:20100214T170000
SUMMARY:Exhibition:Ida: Darwinius masillae
DESCRIPTION:\"Ida\,\" a new exhibit in the Exhibit Museum's Rotunda\, displays a high-resolution cast of an extremely rare  fossil discovered in 1983 near Messel\, Germany\, but only recently made available for study. The fossil has  proven to be a “link” between the prosimian and simian (\"anthropoid\") primate lineages. It has \"advanced\"  front teeth (incisors and canines) and second toes like those of monkeys\, and is broadly representative of what  human primate ancestors may have looked like during the Eocene epoch 47 million years ago.     Ida (prounded \"eeda\") is named after after the daughter of Dr JÃ¸rn Hurum\, the Norwegian vertebrate  paleontologist who secured one section of the fossil from an anonymous owner\, and led the research. Ida was  about eight months old\, or the equivalent of a six-year-old human.     Publication of a paper on the discovery was accompanied by a book\, The Link: Uncovering Our Earliest  Ancestors by Colin Tudge\, and a documentary shown on the History Channel (US)\, BBC One (UK)\,and various  stations in Germany and Norway.     U-M paleontologist Philip Gingerich and U-M anthropologist B. Holly Smith were two members of the \"dream  team\" invited to study Ida. The exhibit will be on display through May 2010.
UID:2124-918226@events.umich.edu
URL:https://events.umich.edu/event/2124
CLASS:PUBLIC
STATUS:CONFIRMED
CATEGORIES:welcome week,visual arts,multicultural
LOCATION:
CONTACT:
END:VEVENT
BEGIN:VEVENT
DTSTAMP:20100214T030003
DTSTART;TZID=America/Detroit:20100214T140000
SUMMARY:Other:Masters Recital:  Dane Crozier\, percussion
DESCRIPTION:PROGRAM:  Per NÃ¸rgÃ¥rd - I Ching\; Brahms - Intermezzo Op. 118\, No. 2\; Mellits - Red
UID:2177-917393@events.umich.edu
URL:https://events.umich.edu/event/2177
CLASS:PUBLIC
STATUS:CONFIRMED
CATEGORIES:music
LOCATION:Earl V. Moore Building - Britton Recital Hall
CONTACT:
END:VEVENT
BEGIN:VEVENT
DTSTAMP:20100214T030003
DTSTART;TZID=America/Detroit:20100214T170000
SUMMARY:Other:Senior Recital:  Samantha London\, piano
DESCRIPTION:PROGRAM:  Bach - Prelude and Fugue in C-Sharp Minor\, from the Well-Tempered Clavier\, Book I\; Brahms - Variations on a Theme by Robert Schumann\, Op. 9\; Beethoven - Sonata in F Minor\, Op. 57\, \"Appassionata\"\; Brahms - KlavierstÃ¼cke\, Op. 118
UID:558-911856@events.umich.edu
URL:https://events.umich.edu/event/558
CLASS:PUBLIC
STATUS:CONFIRMED
CATEGORIES:music
LOCATION:Earl V. Moore Building - Britton Recital Hall
CONTACT:
END:VEVENT
BEGIN:VEVENT
DTSTAMP:20101111T175638
DTSTART;TZID=America/Detroit:20100214T193000
DTEND;TZID=America/Detroit:20100214T223000
SUMMARY:Fair / Festival:2010 Chinese New Year Gala
DESCRIPTION:The great event will be held 7:30pm--10:30pm on Feb 14th (This Sunday\, yes it's also Valentine's Day!). Hosted by UM Chinese Students and Scholars Association (CSSA)\, CNYG is an annual event that attracts around 1000 people every year. It has been a great opportunity to celebrate Chinese New Year together!\n\nThis year\, twelve performances will be presented by a group of talented actors and actresses on and off campus. Performances will cover Chinese folk dancing\, Xiang sheng\, Skits (Xiao Pin)\, modern dancing\, singing and more!\n\nInvite all of your friends! Celebrate Chinese New Year together\, and bring your loved one for a unique Valentine's Day!
UID:625-912182@events.umich.edu
URL:https://events.umich.edu/event/625
CLASS:PUBLIC
STATUS:CONFIRMED
CATEGORIES:
LOCATION:Power Center for the Performing Arts
CONTACT:
END:VEVENT
BEGIN:VEVENT
DTSTAMP:20101111T175657
DTSTART;TZID=America/Detroit:20100214T193000
SUMMARY:Performance:Chinese New Year Gala
DESCRIPTION:Celebration of Chinese traditional new year.
UID:935-913490@events.umich.edu
URL:https://events.umich.edu/event/935
CLASS:PUBLIC
STATUS:CONFIRMED
CATEGORIES:visual arts,theater,music,multicultural,dance
LOCATION:Power Center for the Performing Arts
CONTACT:
END:VEVENT
BEGIN:VEVENT
DTSTAMP:20101111T175819
DTSTART;TZID=America/Detroit:20100214T193000
SUMMARY:Performance:My Folky Valentine w/ Annie & Rod Capps ETC
DESCRIPTION:
UID:2446-919113@events.umich.edu
URL:https://events.umich.edu/event/2446
CLASS:PUBLIC
STATUS:CONFIRMED
CATEGORIES:music
LOCATION:
CONTACT:
END:VEVENT
BEGIN:VEVENT
DTSTAMP:20100214T030003
DTSTART;TZID=America/Detroit:20100214T200000
SUMMARY:Other:Beethoven Piano Concerti - Concert 1
DESCRIPTION:Students of Christopher Harding and Kenneth Kiesler. Beethoven: Concerto for Piano and Orchestra No. 1 in C Major\, Op. 15 (Jonathan Cook\, piano\; Elim Chan\, conductor). Concerto for Piano and Orchestra No. 2 in B-Flat Major\, Op. 19\, Rondo for Piano and Orchestra in B-Flat Major WoO 6 (Nuri Oh\, piano\; Warren Puffer Jones\, conductor)
UID:1988-917966@events.umich.edu
URL:https://events.umich.edu/event/1988
CLASS:PUBLIC
STATUS:CONFIRMED
CATEGORIES:music
LOCATION:Earl V. Moore Building - Britton Recital Hall
CONTACT:
END:VEVENT
BEGIN:VEVENT
DTSTAMP:20100214T030003
DTSTART;TZID=America/Detroit:20100214T200000
SUMMARY:Other:SMTD at UMMA:  Everybody Loves Alma
DESCRIPTION:Chamber music in celebration of Alma Schindler Mahler Werfel\, the heart of a creative social network bridging disciplines\, religions\, and national boundaries which included Klimt and Kokoschka.  Works by Alma's lovers and friends\, including Gustav Mahler\, Alban Berg\, and Alexander Zemlinsky\; performances by SMTD faculty Steven Lusmann\, Martin Katz\, Logan Skelton\, Caroline Helton\, and others.
UID:792-913162@events.umich.edu
URL:https://events.umich.edu/event/792
CLASS:PUBLIC
STATUS:CONFIRMED
CATEGORIES:music
LOCATION:Museum of Art - Apse
CONTACT:
END:VEVENT
BEGIN:VEVENT
DTSTAMP:20100214T030003
DTSTART;TZID=America/Detroit:20100214T200000
SUMMARY:Other:Studio Recital:  The Beethoven Piano Concerti
DESCRIPTION:Students of Christopher Harding and Kenneth KeislerPROGRAM:  Piano Concerto No. 2 in B-flat Major\, Op. 19\; Piano Concerto No. 1 in C Major\, Op. 15
UID:2728-920447@events.umich.edu
URL:https://events.umich.edu/event/2728
CLASS:PUBLIC
STATUS:CONFIRMED
CATEGORIES:music
LOCATION:Earl V. Moore Building - Britton Recital Hall
CONTACT:
END:VEVENT
END:VCALENDAR